{"text_format":"1","workbook":"xlsx","n_sheets":3,"sheets":["XML a procesar","PROCESADOR","Resultado"],"not_rendered":{"charts":0,"images":0,"macros":1,"external_links":0,"defined_names":0,"comments":0,"pivot_tables":0},"unopened":[],"bounds":{"document_bytes":16777216,"sheet_cells":100000,"rows_first":2000,"rows_last":500,"rows_between":2000,"halvings":0,"cell_chars":16384,"cell_head_chars":4096},"cells_cut":0,"cells_raw":0,"read":"whole","date_system":"1900"}

{"sheet":"XML a procesar","index":0,"n_rows":0,"n_cols":0,"rows_kept":0,"cut":false,"hidden":false,"merged":[]}

{"sheet":"PROCESADOR","index":1,"n_rows":5001,"n_cols":41,"rows_kept":5001,"cut":false,"hidden":false,"merged":[[20,31,21,34],[18,21,18,38],[1,24,2,38],[18,19,18,20],[1,17,1,18],[11,17,11,18],[3,19,3,20],[12,19,12,20],[9,19,11,23],[9,29,11,38]]}
["XML A PROCESAR","Total de DOIs","<contrib>","Mail o <alt-text>","Saltear Mail contrib o alt-text","ELIMINA LINEAS DE Mail contrib Y <alt-text>","<aff>","Hacer lugar en <aff para Mail","Filas a saltear al hacer lugar","HACE LUGAR","AGREGA Mail","<page>","AGREGA PAGINACION FICTICIA Y las dos 1ras filas","</counts>","AGREGA <page-count count=\"02\"/> y FIN!!!","Filas no blanco pero sin <",null,null,null,null,null,null,null,null,null,null,null,null,null,null,null,null,null,null,null,null,null,null,null,null,"Final del XML corregido"]
[{"$f":"IF('XML a procesar'!A1>0,'XML a procesar'!A1,\"\")","v":""},{"$f":"IF(ISERROR(FIND(\"/doi.org/\",A2,1)),0,1)","v":0},0,{"$f":"IF(AND(C2>0,LEFT(A2,7)=\"<email>\",ISNUMBER(SEARCH(\"@\",A2,1))),C2,IF(LEFT(A2,10)=\"<alt-text>\",-1,0))","v":0},0,{"$f":"INDIRECT(ADDRESS(ROW()+INDIRECT(ADDRESS(ROW()+E2,5)),1))","v":""},0,0,{"$f":"INDIRECT(ADDRESS(ROW()-INDIRECT(ADDRESS(ROW()-H2,8)),8))","v":0},{"$f":"F2","v":""},{"$f":"A2","v":""},0,{"$f":"A2","v":""},0,{"$f":"IF(N2>-1,INDIRECT(ADDRESS(ROW(),13)),IF(N2<N1,CONCATENATE(\"<page-count count=\",CHAR(34),1+LARGE(N:N,1)-LARGE(N:N,2),CHAR(34),\"/>\"),INDIRECT(ADDRESS(ROW()-1,13))))","v":""},{"$f":"IF(MID('XML a procesar'!A1,1,1)=\"<\",0,1)","v":1},null,"RESUMEN DE DATOS",null,null,null,null,null,null,"← ATENCION: Abrir un archivo XML con LuXMeL puede tardar varios segundos según su tamaño y requiere utilizar el portapapeles por lo que su contenido se eliminará.",null,null,null,null,null,null,null,null,null,null,null,null,null,null,null,{"$f":"MATCH(\"</article>\",Resultado!A:A,0)","v":{"$error":"#N/A"}}]
[{"$f":"IF('XML a procesar'!A2>0,'XML a procesar'!A2,\"\")","v":""},{"$f":"IF(ISERROR(FIND(\"/doi.org/\",A3,1)),0,1)","v":0},{"$f":"IF(LEFT(A2,16)=\"<contrib contrib\",C2+1,IF(LEFT(A2,16)=\"</contrib-group>\",0,IF(LEFT(A2,10)=\"</contrib>\",C2,C2)))","v":0},{"$f":"IF(AND(C3>0,LEFT(A3,7)=\"<email>\",ISNUMBER(SEARCH(\"@\",A3,1))),C3,IF(LEFT(A3,10)=\"<alt-text>\",-1,0))","v":0},{"$f":"IF(D3=0,E2,E2+1)","v":0},{"$f":"INDIRECT(ADDRESS(ROW()+INDIRECT(ADDRESS(ROW()+E3,5)),1))","v":""},{"$f":"IF(LEFT(F3,7)=\"<aff id\",_xlfn.NUMBERVALUE(MID(F3,13,LEN(F3)-14)),IF(F3=\"</aff>\",G2+1,G2))","v":0},{"$f":"IF(AND(G2>0,G3>G2,NOT(ISERROR(MATCH(G2,D:D,0)))),H2+1,H2)","v":0},{"$f":"INDIRECT(ADDRESS(ROW()-INDIRECT(ADDRESS(ROW()-H3,8)),8))","v":0},{"$f":"IF(J2=\"Linea_para_MAIL_creada_por_LuXML\",\"</aff>\",IF(I3>INDIRECT(ADDRESS(ROW()-I3-1,8)),\"Linea_para_MAIL_creada_por_LuXML\",INDIRECT(ADDRESS(ROW()-I3,6))))","v":""},{"$f":"IF(J3=\"Linea_para_MAIL_creada_por_LuXML\",IF(ISERROR(MATCH(INDIRECT(ADDRESS(ROW()-G3,7)),D:D,0)),J3,INDIRECT(ADDRESS(MATCH(INDIRECT(ADDRESS(ROW()-G3,7)),D:D,0),1))),J3)","v":""},{"$f":"IF(OR(MID(K1,3,5)=\"page>\",MID(K2,3,5)=\"page>\"),L2,IF(OR(K2=\"<history>\",K3=\"<history>\"),L2+1,L2))","v":0},"<!DOCTYPE article PUBLIC \"-//NLM//DTD JATS (Z39.96) Journal Publishing DTD v1.0 20120330//EN\" \"http://jats.nlm.nih.gov/publishing/1.0/JATS-journalpublishing1.dtd\">",{"$f":"IF(N2=-1,-1,IF(M3=\"</counts>\",-1,IF(OR(LEFT(M3,7)=\"<fpage>\",LEFT(M3,7)=\"<lpage>\"),VALUE(MID(M3,8,LEN(M3)-15)),0)))","v":0},"<!DOCTYPE article PUBLIC \"-//NLM//DTD JATS (Z39.96) Journal Publishing DTD v1.0 20120330//EN\" \"http://jats.nlm.nih.gov/publishing/1.0/JATS-journalpublishing1.dtd\">",{"$f":"IF(ROW()<$S$4+2,IF('XML a procesar'!A2=\"\",P2,IF(MID('XML a procesar'!A2,1,1)=\"<\",P2,P2+1)),P2)","v":1},null,"FILAS MAXIMAS CORREGIDAS",{"$f":"COUNTA(B:B)-1","v":5000},null,null,null,null,null,null,null,null,null,null,null,null,null,null,null,null,null,null,null,null,null,"Nombre del archivo"]
[{"$f":"IF('XML a procesar'!A3>0,'XML a procesar'!A3,\"\")","v":""},0,{"$f":"IF(LEFT(A3,16)=\"<contrib contrib\",C3+1,IF(LEFT(A3,16)=\"</contrib-group>\",0,IF(LEFT(A3,10)=\"</contrib>\",C3,C3)))","v":0},{"$f":"IF(AND(C4>0,LEFT(A4,7)=\"<email>\",ISNUMBER(SEARCH(\"@\",A4,1))),C4,IF(LEFT(A4,10)=\"<alt-text>\",-1,0))","v":0},{"$f":"IF(D4=0,E3,E3+1)","v":0},{"$f":"INDIRECT(ADDRESS(ROW()+INDIRECT(ADDRESS(ROW()+E4,5)),1))","v":""},{"$f":"IF(LEFT(F4,7)=\"<aff id\",_xlfn.NUMBERVALUE(MID(F4,13,LEN(F4)-14)),IF(F4=\"</aff>\",G3+1,G3))","v":0},0,{"$f":"INDIRECT(ADDRESS(ROW()-INDIRECT(ADDRESS(ROW()-H4,8)),8))","v":0},{"$f":"IF(J3=\"Linea_para_MAIL_creada_por_LuXML\",\"</aff>\",IF(I4>INDIRECT(ADDRESS(ROW()-I4-1,8)),\"Linea_para_MAIL_creada_por_LuXML\",INDIRECT(ADDRESS(ROW()-I4,6))))","v":""},"",{"$f":"IF(OR(MID(K2,3,5)=\"page>\",MID(K3,3,5)=\"page>\"),L3,IF(OR(K3=\"<history>\",K4=\"<history>\"),L3+1,L3))","v":0},"<article xmlns:ali=\"http://www.niso.org/schemas/ali/1.0\" xmlns:xsi=\"http://www.w3.org/2001/XMLSchema-instance\" xmlns:xlink=\"http://www.w3.org/1999/xlink\" xmlns:mml=\"http://www.w3.org/1998/Math/MathML\" dtd-version=\"1.0\" specific-use=\"sps-1.8\" article-type=\"research-article\" xml:lang=\"es\">",{"$f":"IF(N3=-1,-1,IF(M4=\"</counts>\",-1,IF(OR(LEFT(M4,7)=\"<fpage>\",LEFT(M4,7)=\"<lpage>\"),VALUE(MID(M4,8,LEN(M4)-15)),0)))","v":0},"<article xmlns:ali=\"http://www.niso.org/schemas/ali/1.0\" xmlns:xsi=\"http://www.w3.org/2001/XMLSchema-instance\" xmlns:xlink=\"http://www.w3.org/1999/xlink\" xmlns:mml=\"http://www.w3.org/1998/Math/MathML\" dtd-version=\"1.0\" specific-use=\"sps-1.8\" article-type=\"research-article\" xml:lang=\"es\">",{"$f":"IF(ROW()<$S$4+2,IF('XML a procesar'!A3=\"\",P3,IF(MID('XML a procesar'!A3,1,1)=\"<\",P3,P3+1)),P3)","v":1},null,"FILAS TOTALES DEL XML",{"$f":"IF(ISERROR(MATCH(\"</article>\",'XML a procesar'!A:A,0)),0,MATCH(\"</article>\",'XML a procesar'!A:A,0))","v":0},"LINEAS"]
[{"$f":"IF('XML a procesar'!A4>0,'XML a procesar'!A4,\"\")","v":""},0,0,0,0,"",0,0,{"$f":"INDIRECT(ADDRESS(ROW()-INDIRECT(ADDRESS(ROW()-H5,8)),8))","v":0},"","",{"$f":"IF(OR(MID(K3,3,5)=\"page>\",MID(K4,3,5)=\"page>\"),L4,IF(OR(K4=\"<history>\",K5=\"<history>\"),L4+1,L4))","v":0},{"$f":"IF(L5>L4,IF(L5=1,CONCATENATE(\"<fpage>\",$S$10,\"</fpage>\"),CONCATENATE(\"<lpage>\",$S$10+1,\"</lpage>\")),IF(ISERROR(INDIRECT(ADDRESS(ROW()-L5,11),1)),\"\",INDIRECT(ADDRESS(ROW()-L5,11),1)))","v":""},0,"",{"$f":"IF(ROW()<$S$4+2,IF('XML a procesar'!A4=\"\",P4,IF(MID('XML a procesar'!A4,1,1)=\"<\",P4,P4+1)),P4)","v":1},null,"TOTAL DE AUTORES",{"$f":"MAX(C:C)","v":0},{"$f":"IF(ISERROR(MATCH(1,$C:$C,0)),\"\",MATCH(1,$C:$C,0)-2)","v":""},{"$f":"IF(ISERROR(MATCH(2,$C:$C,0)),\"\",MATCH(2,$C:$C,0)-2)","v":""},{"$f":"IF(ISERROR(MATCH(3,$C:$C,0)),\"\",MATCH(3,$C:$C,0)-2)","v":""},{"$f":"IF(ISERROR(MATCH(4,$C:$C,0)),\"\",MATCH(4,$C:$C,0)-2)","v":""},{"$f":"IF(ISERROR(MATCH(5,$C:$C,0)),\"\",MATCH(5,$C:$C,0)-2)","v":""},{"$f":"IF(ISERROR(MATCH(6,$C:$C,0)),\"\",MATCH(6,$C:$C,0)-2)","v":""},{"$f":"IF(ISERROR(MATCH(7,$C:$C,0)),\"\",MATCH(7,$C:$C,0)-2)","v":""},{"$f":"IF(ISERROR(MATCH(8,$C:$C,0)),\"\",MATCH(8,$C:$C,0)-2)","v":""},{"$f":"IF(ISERROR(MATCH(9,$C:$C,0)),\"\",MATCH(9,$C:$C,0)-2)","v":""},{"$f":"IF(ISERROR(MATCH(10,$C:$C,0)),\"\",MATCH(10,$C:$C,0)-2)","v":""},{"$f":"IF(ISERROR(MATCH(11,$C:$C,0)),\"\",MATCH(11,$C:$C,0)-2)","v":""},{"$f":"IF(ISERROR(MATCH(12,$C:$C,0)),\"\",MATCH(12,$C:$C,0)-2)","v":""},{"$f":"IF(ISERROR(MATCH(13,$C:$C,0)),\"\",MATCH(13,$C:$C,0)-2)","v":""},{"$f":"IF(ISERROR(MATCH(14,$C:$C,0)),\"\",MATCH(14,$C:$C,0)-2)","v":""},{"$f":"IF(ISERROR(MATCH(15,$C:$C,0)),\"\",MATCH(15,$C:$C,0)-2)","v":""},{"$f":"IF(ISERROR(MATCH(16,$C:$C,0)),\"\",MATCH(16,$C:$C,0)-2)","v":""},{"$f":"IF(ISERROR(MATCH(17,$C:$C,0)),\"\",MATCH(17,$C:$C,0)-2)","v":""},{"$f":"IF(ISERROR(MATCH(18,$C:$C,0)),\"\",MATCH(18,$C:$C,0)-2)","v":""},{"$f":"IF(ISERROR(MATCH(19,$C:$C,0)),\"\",MATCH(19,$C:$C,0)-2)","v":""},{"$f":"IF(ISERROR(MATCH(20,$C:$C,0)),\"\",MATCH(20,$C:$C,0)-2)","v":""}]
[{"$f":"IF('XML a procesar'!A5>0,'XML a procesar'!A5,\"\")","v":""},0,0,0,0,"",0,0,0,"","",{"$f":"IF(OR(MID(K4,3,5)=\"page>\",MID(K5,3,5)=\"page>\"),L5,IF(OR(K5=\"<history>\",K6=\"<history>\"),L5+1,L5))","v":0},{"$f":"IF(L6>L5,IF(L6=1,CONCATENATE(\"<fpage>\",$S$10,\"</fpage>\"),CONCATENATE(\"<lpage>\",$S$10+1,\"</lpage>\")),IF(ISERROR(INDIRECT(ADDRESS(ROW()-L6,11),1)),\"\",INDIRECT(ADDRESS(ROW()-L6,11),1)))","v":""},0,"",{"$f":"IF(ROW()<$S$4+2,IF('XML a procesar'!A5=\"\",P5,IF(MID('XML a procesar'!A5,1,1)=\"<\",P5,P5+1)),P5)","v":1},null,"IMÁGENES",{"$f":"COUNTIF(D:D,\"=-1\")","v":0},{"$f":"IF(ISERROR(MATCH(-1,$D:$D,0)),\"\",MATCH(-1,$D:$D,0)-1)","v":""},{"$f":"IF(ISERROR(MATCH(-1,INDIRECT(CONCATENATE(\"D\",T6+3,\":D\",$S$3),1),0)),\"\",MATCH(-1,INDIRECT(CONCATENATE(\"D\",T6+3,\":D\",$S$3),1),0)+1+T6)","v":""},{"$f":"IF(ISERROR(MATCH(-1,INDIRECT(CONCATENATE(\"D\",U6+3,\":D\",$S$3),1),0)),\"\",MATCH(-1,INDIRECT(CONCATENATE(\"D\",U6+3,\":D\",$S$3),1),0)+1+U6)","v":""},"","","","","","","","","","","","","","","","",""]
[{"$f":"IF('XML a procesar'!A6>0,'XML a procesar'!A6,\"\")","v":""},0,0,0,0,"",0,0,0,"","",0,{"$f":"IF(L7>L6,IF(L7=1,CONCATENATE(\"<fpage>\",$S$10,\"</fpage>\"),CONCATENATE(\"<lpage>\",$S$10+1,\"</lpage>\")),IF(ISERROR(INDIRECT(ADDRESS(ROW()-L7,11),1)),\"\",INDIRECT(ADDRESS(ROW()-L7,11),1)))","v":""},0,"",{"$f":"IF(ROW()<$S$4+2,IF('XML a procesar'!A6=\"\",P6,IF(MID('XML a procesar'!A6,1,1)=\"<\",P6,P6+1)),P6)","v":1},null,"SECCIONES SIN TIPIFICAR",{"$f":"COUNTIF(A:A,\"=<sec>\")","v":0},{"$f":"IF(ISERROR(MATCH(\"<sec>\",$A:$A,0)),\"\",MATCH(\"<sec>\",$A:$A,0)-1)","v":""},{"$f":"IF(ISERROR(MATCH(\"<sec>\",INDIRECT(CONCATENATE(\"A\",T7+3,\":A\",$S$3),1),0)),\"\",MATCH(\"<sec>\",INDIRECT(CONCATENATE(\"A\",T7+3,\":A\",$S$3),1),0)+1+T7)","v":""},{"$f":"IF(ISERROR(MATCH(\"<sec>\",INDIRECT(CONCATENATE(\"A\",U7+3,\":A\",$S$3),1),0)),\"\",MATCH(\"<sec>\",INDIRECT(CONCATENATE(\"A\",U7+3,\":A\",$S$3),1),0)+1+U7)","v":""},"","","","","","","","","","","","","","","","",""]
[{"$f":"IF('XML a procesar'!A7>0,'XML a procesar'!A7,\"\")","v":""},0,0,0,0,"",0,0,0,"","",0,"",0,"",{"$f":"IF(ROW()<$S$4+2,IF('XML a procesar'!A7=\"\",P7,IF(MID('XML a procesar'!A7,1,1)=\"<\",P7,P7+1)),P7)","v":1},null,"TOTAL DE DOIs",{"$f":"SUM(B:B)","v":0},{"$f":"IF(ISERROR(MATCH(1,$B:$B,0)),\"\",MATCH(1,$B:$B,0)-1)","v":""},{"$f":"IF(ISERROR(MATCH(1,INDIRECT(CONCATENATE(\"B\",T8+3,\":B\",$S$3),1),0)),\"\",MATCH(1,INDIRECT(CONCATENATE(\"B\",T8+3,\":B\",$S$3),1),0)+1+T8)","v":""},{"$f":"IF(ISERROR(MATCH(1,INDIRECT(CONCATENATE(\"B\",U8+3,\":B\",$S$3),1),0)),\"\",MATCH(1,INDIRECT(CONCATENATE(\"B\",U8+3,\":B\",$S$3),1),0)+1+U8)","v":""},"","","","","","","","","","","","","","","","",""]
[{"$f":"IF('XML a procesar'!A8>0,'XML a procesar'!A8,\"\")","v":""},0,0,0,0,"",0,0,0,"","",{"$f":"IF(OR(MID(K7,3,5)=\"page>\",MID(K8,3,5)=\"page>\"),L8,IF(OR(K8=\"<history>\",K9=\"<history>\"),L8+1,L8))","v":0},"",0,"",{"$f":"IF(ROW()<$S$4+2,IF('XML a procesar'!A8=\"\",P8,IF(MID('XML a procesar'!A8,1,1)=\"<\",P8,P8+1)),P8)","v":1},null,"CORRESPONDE PAG. FICTICIA",{"$f":"IF(SUM(L:L)>1,\"SI\",\"NO\")","v":"NO"}]
[{"$f":"IF('XML a procesar'!A9>0,'XML a procesar'!A9,\"\")","v":""},0,0,0,0,"",0,0,0,"","",0,"",0,"",{"$f":"IF(ROW()<$S$4+2,IF('XML a procesar'!A9=\"\",P9,IF(MID('XML a procesar'!A9,1,1)=\"<\",P9,P9+1)),P9)","v":1},null,"PAG. INICIAL FICTICIA",1," ← No olvide insertar una página inicial ficticia si el documento así lo requiere.",null,null,null,null,null,null,null,null,null," ← Es conveniente procesar el XML luego de cargarlo, al finalizar cualquier corrección y antes de guardarlo. Este proceso también puede llevar varios segundos."]
[{"$f":"IF('XML a procesar'!A10>0,'XML a procesar'!A10,\"\")","v":""},0,0,0,0,"",0,0,0,"","",0,"",0,"",{"$f":"IF(ROW()<$S$4+2,IF('XML a procesar'!A10=\"\",P10,IF(MID('XML a procesar'!A10,1,1)=\"<\",P10,P10+1)),P10)","v":1}]
[{"$f":"IF('XML a procesar'!A11>0,'XML a procesar'!A11,\"\")","v":""},0,0,0,0,"",0,0,0,"","",0,"",0,"",{"$f":"IF(ROW()<$S$4+2,IF('XML a procesar'!A11=\"\",P11,IF(MID('XML a procesar'!A11,1,1)=\"<\",P11,P11+1)),P11)","v":1},null,"CONTROL DE ERRORES"]
[{"$f":"IF('XML a procesar'!A12>0,'XML a procesar'!A12,\"\")","v":""},0,0,0,0,"",0,0,0,"","",0,"",0,"",{"$f":"IF(ROW()<$S$4+2,IF('XML a procesar'!A12=\"\",P12,IF(MID('XML a procesar'!A12,1,1)=\"<\",P12,P12+1)),P12)","v":1},null,"TABULACIONES",{"$f":"COUNTA('XML a procesar'!B:XFD)","v":0},"LINEAS"]
[{"$f":"IF('XML a procesar'!A13>0,'XML a procesar'!A13,\"\")","v":""},0,0,0,0,"",0,0,0,"","",0,"",0,"",{"$f":"IF(ROW()<$S$4+2,IF('XML a procesar'!A13=\"\",P13,IF(MID('XML a procesar'!A13,1,1)=\"<\",P13,P13+1)),P13)","v":1},null,"FILAS EN BLANCO",{"$f":"IF($S$4<1,0,COUNTBLANK(INDIRECT(CONCATENATE(\"'XML a procesar'!A1\",\":A\",$S$4),1)))","v":0},{"$f":"IF(ISERROR(MATCH(\"\",INDIRECT(CONCATENATE(\"A1\",\":A\",$S$4),1),0)),\"\",MATCH(\"\",INDIRECT(CONCATENATE(\"A1\",\":A\",$S$4),1),0)-1)","v":""},{"$f":"IF(ISERROR(MATCH(\"\",INDIRECT(CONCATENATE(\"A\",T14+2,\":A\",$S$4),1),0)),\"\",MATCH(\"\",INDIRECT(CONCATENATE(\"A\",T14+2,\":A\",$S$4),1),0)+T14)","v":""},{"$f":"IF(ISERROR(MATCH(\"\",INDIRECT(CONCATENATE(\"A\",U14+2,\":A\",$S$4),1),0)),\"\",MATCH(\"\",INDIRECT(CONCATENATE(\"A\",U14+2,\":A\",$S$4),1),0)+U14)","v":""},"","","","","","","","","","","","","","","","",""]
[{"$f":"IF('XML a procesar'!A14>0,'XML a procesar'!A14,\"\")","v":""},0,0,0,0,"",0,0,0,"","",0,"",0,"",{"$f":"IF(ROW()<$S$4+2,IF('XML a procesar'!A14=\"\",P14,IF(MID('XML a procesar'!A14,1,1)=\"<\",P14,P14+1)),P14)","v":1},null,"FILAS DUDOSAS",{"$f":"IF($S$4<1,0,LARGE(INDIRECT(CONCATENATE(\"P1\",\":P\",$S$4),1),1))","v":0},{"$f":"IF(ISERROR(MATCH(1,$P:$P,0)),\"\",MATCH(1,$P:$P,0)-1)","v":1},{"$f":"IF(ISERROR(MATCH(2,$P:$P,0)),\"\",MATCH(2,$P:$P,0)-1)","v":""},{"$f":"IF(ISERROR(MATCH(3,$P:$P,0)),\"\",MATCH(3,$P:$P,0)-1)","v":""},{"$f":"IF(ISERROR(MATCH(4,$P:$P,0)),\"\",MATCH(4,$P:$P,0)-1)","v":""},{"$f":"IF(ISERROR(MATCH(5,$P:$P,0)),\"\",MATCH(5,$P:$P,0)-1)","v":""},{"$f":"IF(ISERROR(MATCH(6,$P:$P,0)),\"\",MATCH(6,$P:$P,0)-1)","v":""},{"$f":"IF(ISERROR(MATCH(7,$P:$P,0)),\"\",MATCH(7,$P:$P,0)-1)","v":""},{"$f":"IF(ISERROR(MATCH(8,$P:$P,0)),\"\",MATCH(8,$P:$P,0)-1)","v":""},{"$f":"IF(ISERROR(MATCH(9,$P:$P,0)),\"\",MATCH(9,$P:$P,0)-1)","v":""},{"$f":"IF(ISERROR(MATCH(10,$P:$P,0)),\"\",MATCH(10,$P:$P,0)-1)","v":""},{"$f":"IF(ISERROR(MATCH(11,$P:$P,0)),\"\",MATCH(11,$P:$P,0)-1)","v":""},{"$f":"IF(ISERROR(MATCH(12,$P:$P,0)),\"\",MATCH(12,$P:$P,0)-1)","v":""},{"$f":"IF(ISERROR(MATCH(13,$P:$P,0)),\"\",MATCH(13,$P:$P,0)-1)","v":""},{"$f":"IF(ISERROR(MATCH(14,$P:$P,0)),\"\",MATCH(14,$P:$P,0)-1)","v":""},{"$f":"IF(ISERROR(MATCH(15,$P:$P,0)),\"\",MATCH(15,$P:$P,0)-1)","v":""},{"$f":"IF(ISERROR(MATCH(16,$P:$P,0)),\"\",MATCH(16,$P:$P,0)-1)","v":""},{"$f":"IF(ISERROR(MATCH(17,$P:$P,0)),\"\",MATCH(17,$P:$P,0)-1)","v":""},{"$f":"IF(ISERROR(MATCH(18,$P:$P,0)),\"\",MATCH(18,$P:$P,0)-1)","v":""},{"$f":"IF(ISERROR(MATCH(19,$P:$P,0)),\"\",MATCH(19,$P:$P,0)-1)","v":""},{"$f":"IF(ISERROR(MATCH(20,$P:$P,0)),\"\",MATCH(20,$P:$P,0)-1)","v":""}]
[{"$f":"IF('XML a procesar'!A15>0,'XML a procesar'!A15,\"\")","v":""},0,0,0,0,"",0,0,0,"","",0,"",0,"",{"$f":"IF(ROW()<$S$4+2,IF('XML a procesar'!A15=\"\",P15,IF(MID('XML a procesar'!A15,1,1)=\"<\",P15,P15+1)),P15)","v":1},null,"AUTORES SIN EMAIL en <contrib",{"$f":"LARGE(C:C,1)-COUNTIF(D:D,\">0\")","v":0},{"$f":"IF(ISERROR(MATCH(1,INDIRECT(CONCATENATE(\"D\",T5+1,\":\",\"D\",T5+1+COUNTIF(C:C,1)),1),0)),T5,\"\")","v":""},{"$f":"IF(ISERROR(MATCH(2,INDIRECT(CONCATENATE(\"D\",U5+1,\":\",\"D\",U5+1+COUNTIF(C:C,2)),1),0)),U5,\"\")","v":""},{"$f":"IF(ISERROR(MATCH(3,INDIRECT(CONCATENATE(\"D\",V5+1,\":\",\"D\",V5+1+COUNTIF(C:C,3)),1),0)),V5,\"\")","v":""},{"$f":"IF(ISERROR(MATCH(4,INDIRECT(CONCATENATE(\"D\",W5+1,\":\",\"D\",W5+1+COUNTIF(C:C,4)),1),0)),W5,\"\")","v":""},{"$f":"IF(ISERROR(MATCH(5,INDIRECT(CONCATENATE(\"D\",X5+1,\":\",\"D\",X5+1+COUNTIF(C:C,5)),1),0)),X5,\"\")","v":""},{"$f":"IF(ISERROR(MATCH(6,INDIRECT(CONCATENATE(\"D\",Y5+1,\":\",\"D\",Y5+1+COUNTIF(C:C,6)),1),0)),Y5,\"\")","v":""},{"$f":"IF(ISERROR(MATCH(7,INDIRECT(CONCATENATE(\"D\",Z5+1,\":\",\"D\",Z5+1+COUNTIF(C:C,7)),1),0)),Z5,\"\")","v":""},{"$f":"IF(ISERROR(MATCH(8,INDIRECT(CONCATENATE(\"D\",AA5+1,\":\",\"D\",AA5+1+COUNTIF(C:C,8)),1),0)),AA5,\"\")","v":""},{"$f":"IF(ISERROR(MATCH(9,INDIRECT(CONCATENATE(\"D\",AB5+1,\":\",\"D\",AB5+1+COUNTIF(C:C,9)),1),0)),AB5,\"\")","v":""},{"$f":"IF(ISERROR(MATCH(10,INDIRECT(CONCATENATE(\"D\",AC5+1,\":\",\"D\",AC5+1+COUNTIF(C:C,10)),1),0)),AC5,\"\")","v":""},{"$f":"IF(ISERROR(MATCH(11,INDIRECT(CONCATENATE(\"D\",AD5+1,\":\",\"D\",AD5+1+COUNTIF(C:C,11)),1),0)),AD5,\"\")","v":""},{"$f":"IF(ISERROR(MATCH(12,INDIRECT(CONCATENATE(\"D\",AE5+1,\":\",\"D\",AE5+1+COUNTIF(C:C,12)),1),0)),AE5,\"\")","v":""},{"$f":"IF(ISERROR(MATCH(13,INDIRECT(CONCATENATE(\"D\",AF5+1,\":\",\"D\",AF5+1+COUNTIF(C:C,13)),1),0)),AF5,\"\")","v":""},{"$f":"IF(ISERROR(MATCH(14,INDIRECT(CONCATENATE(\"D\",AG5+1,\":\",\"D\",AG5+1+COUNTIF(C:C,14)),1),0)),AG5,\"\")","v":""},{"$f":"IF(ISERROR(MATCH(15,INDIRECT(CONCATENATE(\"D\",AH5+1,\":\",\"D\",AH5+1+COUNTIF(C:C,15)),1),0)),AH5,\"\")","v":""},{"$f":"IF(ISERROR(MATCH(16,INDIRECT(CONCATENATE(\"D\",AI5+1,\":\",\"D\",AI5+1+COUNTIF(C:C,16)),1),0)),AI5,\"\")","v":""},{"$f":"IF(ISERROR(MATCH(17,INDIRECT(CONCATENATE(\"D\",AJ5+1,\":\",\"D\",AJ5+1+COUNTIF(C:C,17)),1),0)),AJ5,\"\")","v":""},{"$f":"IF(ISERROR(MATCH(18,INDIRECT(CONCATENATE(\"D\",AK5+1,\":\",\"D\",AK5+1+COUNTIF(C:C,18)),1),0)),AK5,\"\")","v":""},{"$f":"IF(ISERROR(MATCH(19,INDIRECT(CONCATENATE(\"D\",AL5+1,\":\",\"D\",AL5+1+COUNTIF(C:C,19)),1),0)),AL5,\"\")","v":""},{"$f":"IF(ISERROR(MATCH(20,INDIRECT(CONCATENATE(\"D\",AM5+1,\":\",\"D\",AM5+1+COUNTIF(C:C,20)),1),0)),AM5,\"\")","v":""}]
[{"$f":"IF('XML a procesar'!A16>0,'XML a procesar'!A16,\"\")","v":""},0,0,0,0,"",0,0,0,"","",0,"",0,"",{"$f":"IF(ROW()<$S$4+2,IF('XML a procesar'!A16=\"\",P16,IF(MID('XML a procesar'!A16,1,1)=\"<\",P16,P16+1)),P16)","v":1},null,"ERRORES EN EL PROCESAMIENTO",{"$f":"IF(OR(ISERROR(MATCH(\"</article>\",A:A,0)),ISERROR(MATCH(\"</article>\",F:F,0)),ISERROR(MATCH(\"</article>\",J:J,0)),ISERROR(MATCH(\"</article>\",K:K,0)),ISERROR(MATCH(\"</article>\",M:M,0)),ISERROR(MATCH(\"</article>\",O:O,0))),\"SI\",\"NO\")","v":"SI"},{"$f":"IF(ISERROR(MATCH(\"</article>\",A:A,0)),\"A\",\"\")","v":"A"},{"$f":"IF(ISERROR(MATCH(\"</article>\",F:F,0)),\"F\",\"\")","v":"F"},{"$f":"IF(ISERROR(MATCH(\"</article>\",J:J,0)),\"J\",\"\")","v":"J"},{"$f":"IF(ISERROR(MATCH(\"</article>\",K:K,0)),\"K\",\"\")","v":"K"},{"$f":"IF(ISERROR(MATCH(\"</article>\",M:M,0)),\"M\",\"\")","v":"M"},{"$f":"IF(ISERROR(MATCH(\"</article>\",O:O,0)),\"O\",\"\")","v":"O"}]
[{"$f":"IF('XML a procesar'!A17>0,'XML a procesar'!A17,\"\")","v":""},0,0,0,0,"",0,0,0,"","",0,"",0,"",{"$f":"IF(ROW()<$S$4+2,IF('XML a procesar'!A17=\"\",P17,IF(MID('XML a procesar'!A17,1,1)=\"<\",P17,P17+1)),P17)","v":1},null,"PROCESAMIENTO EXITOSO"]
[{"$f":"IF('XML a procesar'!A18>0,'XML a procesar'!A18,\"\")","v":""},0,0,0,0,"",0,0,0,"","",0,"",0,"",{"$f":"IF(ROW()<$S$4+2,IF('XML a procesar'!A18=\"\",P18,IF(MID('XML a procesar'!A18,1,1)=\"<\",P18,P18+1)),P18)","v":1},null,{"$f":"IF(S13>0,\"NO - TABULACIONES\",IF(MATCH(\"</article>\",Resultado!A:A,0)=(S4-S6+IF(S9=\"SI\",3,1)),CONCATENATE(\"SI - TOTAL DE FILAS: \",MATCH(\"</article>\",Resultado!A:A,0)),CONCATENATE(\"NO - ERROR EN \",(S4-S6+IF(S9=\"SI\",3,1))-MATCH(\"</article>\",Resultado!A:A,0),\" FILAS\")))","v":{"$error":"#N/A"}},null,"Editando:",null,{"$f":"IF(AO4>0,AO4,\"\")","v":""}]
[{"$f":"IF('XML a procesar'!A19>0,'XML a procesar'!A19,\"\")","v":""},0,0,0,0,"",0,0,0,"","",0,"",0,"",{"$f":"IF(ROW()<$S$4+2,IF('XML a procesar'!A19=\"\",P19,IF(MID('XML a procesar'!A19,1,1)=\"<\",P19,P19+1)),P19)","v":1}]
[{"$f":"IF('XML a procesar'!A20>0,'XML a procesar'!A20,\"\")","v":""},0,0,0,0,"",0,0,0,"","",0,"",0,"",{"$f":"IF(ROW()<$S$4+2,IF('XML a procesar'!A20=\"\",P20,IF(MID('XML a procesar'!A20,1,1)=\"<\",P20,P20+1)),P20)","v":1},null,"\u0082\u0081\u0083        LuXMeL v0.9.0.2      \u0082\u0081\u0083",null,null,null,null,null,null,null,null,null,null,null,null,null,"En caso de que →    sea necesario."]
[{"$f":"IF('XML a procesar'!A21>0,'XML a procesar'!A21,\"\")","v":""},0,0,0,0,"",0,0,0,"","",0,"",0,"",{"$f":"IF(ROW()<$S$4+2,IF('XML a procesar'!A21=\"\",P21,IF(MID('XML a procesar'!A21,1,1)=\"<\",P21,P21+1)),P21)","v":1}]
[{"$f":"IF('XML a procesar'!A22>0,'XML a procesar'!A22,\"\")","v":""},0,0,0,0,"",0,0,0,"","",0,"",0,"",{"$f":"IF(ROW()<$S$4+2,IF('XML a procesar'!A22=\"\",P22,IF(MID('XML a procesar'!A22,1,1)=\"<\",P22,P22+1)),P22)","v":1}]
[{"$f":"IF('XML a procesar'!A23>0,'XML a procesar'!A23,\"\")","v":""},0,0,0,0,"",0,0,0,"","",0,"",0,"",{"$f":"IF(ROW()<$S$4+2,IF('XML a procesar'!A23=\"\",P23,IF(MID('XML a procesar'!A23,1,1)=\"<\",P23,P23+1)),P23)","v":1}]
[{"$f":"IF('XML a procesar'!A24>0,'XML a procesar'!A24,\"\")","v":""},0,0,0,0,"",0,0,0,"","",0,"",0,"",{"$f":"IF(ROW()<$S$4+2,IF('XML a procesar'!A24=\"\",P24,IF(MID('XML a procesar'!A24,1,1)=\"<\",P24,P24+1)),P24)","v":1}]
[{"$f":"IF('XML a procesar'!A25>0,'XML a procesar'!A25,\"\")","v":""},0,0,0,0,"",0,0,0,"","",0,"",0,"",{"$f":"IF(ROW()<$S$4+2,IF('XML a procesar'!A25=\"\",P25,IF(MID('XML a procesar'!A25,1,1)=\"<\",P25,P25+1)),P25)","v":1}]
[{"$f":"IF('XML a procesar'!A26>0,'XML a procesar'!A26,\"\")","v":""},0,0,0,0,"",0,0,0,"","",0,"",0,"",{"$f":"IF(ROW()<$S$4+2,IF('XML a procesar'!A26=\"\",P26,IF(MID('XML a procesar'!A26,1,1)=\"<\",P26,P26+1)),P26)","v":1}]
[{"$f":"IF('XML a procesar'!A27>0,'XML a procesar'!A27,\"\")","v":""},0,0,0,0,"",0,0,0,"","",0,"",0,"",{"$f":"IF(ROW()<$S$4+2,IF('XML a procesar'!A27=\"\",P27,IF(MID('XML a procesar'!A27,1,1)=\"<\",P27,P27+1)),P27)","v":1}]
[{"$f":"IF('XML a procesar'!A28>0,'XML a procesar'!A28,\"\")","v":""},0,0,0,0,"",0,0,0,"","",0,"",0,"",{"$f":"IF(ROW()<$S$4+2,IF('XML a procesar'!A28=\"\",P28,IF(MID('XML a procesar'!A28,1,1)=\"<\",P28,P28+1)),P28)","v":1}]
[{"$f":"IF('XML a procesar'!A29>0,'XML a procesar'!A29,\"\")","v":""},0,0,0,0,"",0,0,0,"","",0,"",0,"",{"$f":"IF(ROW()<$S$4+2,IF('XML a procesar'!A29=\"\",P29,IF(MID('XML a procesar'!A29,1,1)=\"<\",P29,P29+1)),P29)","v":1}]
[{"$f":"IF('XML a procesar'!A30>0,'XML a procesar'!A30,\"\")","v":""},0,0,0,0,"",0,0,0,"","",0,"",0,"",{"$f":"IF(ROW()<$S$4+2,IF('XML a procesar'!A30=\"\",P30,IF(MID('XML a procesar'!A30,1,1)=\"<\",P30,P30+1)),P30)","v":1}]
[{"$f":"IF('XML a procesar'!A31>0,'XML a procesar'!A31,\"\")","v":""},0,0,0,0,"",0,0,0,"","",0,"",0,"",{"$f":"IF(ROW()<$S$4+2,IF('XML a procesar'!A31=\"\",P31,IF(MID('XML a procesar'!A31,1,1)=\"<\",P31,P31+1)),P31)","v":1}]
[{"$f":"IF('XML a procesar'!A32>0,'XML a procesar'!A32,\"\")","v":""},0,0,0,0,"",0,0,0,"","",0,"",0,"",{"$f":"IF(ROW()<$S$4+2,IF('XML a procesar'!A32=\"\",P32,IF(MID('XML a procesar'!A32,1,1)=\"<\",P32,P32+1)),P32)","v":1}]
[{"$f":"IF('XML a procesar'!A33>0,'XML a procesar'!A33,\"\")","v":""},0,0,0,0,"",0,0,0,"","",0,"",0,"",{"$f":"IF(ROW()<$S$4+2,IF('XML a procesar'!A33=\"\",P33,IF(MID('XML a procesar'!A33,1,1)=\"<\",P33,P33+1)),P33)","v":1}]
[{"$f":"IF('XML a procesar'!A34>0,'XML a procesar'!A34,\"\")","v":""},0,0,0,0,"",0,0,0,"","",0,"",0,"",{"$f":"IF(ROW()<$S$4+2,IF('XML a procesar'!A34=\"\",P34,IF(MID('XML a procesar'!A34,1,1)=\"<\",P34,P34+1)),P34)","v":1}]
[{"$f":"IF('XML a procesar'!A35>0,'XML a procesar'!A35,\"\")","v":""},0,0,0,0,"",0,0,0,"","",0,"",0,"",{"$f":"IF(ROW()<$S$4+2,IF('XML a procesar'!A35=\"\",P35,IF(MID('XML a procesar'!A35,1,1)=\"<\",P35,P35+1)),P35)","v":1}]
[{"$f":"IF('XML a procesar'!A36>0,'XML a procesar'!A36,\"\")","v":""},0,0,0,0,"",0,0,0,"","",0,"",0,"",{"$f":"IF(ROW()<$S$4+2,IF('XML a procesar'!A36=\"\",P36,IF(MID('XML a procesar'!A36,1,1)=\"<\",P36,P36+1)),P36)","v":1}]
[{"$f":"IF('XML a procesar'!A37>0,'XML a procesar'!A37,\"\")","v":""},0,0,0,0,"",0,0,0,"","",0,"",0,"",{"$f":"IF(ROW()<$S$4+2,IF('XML a procesar'!A37=\"\",P37,IF(MID('XML a procesar'!A37,1,1)=\"<\",P37,P37+1)),P37)","v":1}]
[{"$f":"IF('XML a procesar'!A38>0,'XML a procesar'!A38,\"\")","v":""},0,0,0,0,"",0,0,0,"","",0,"",0,"",{"$f":"IF(ROW()<$S$4+2,IF('XML a procesar'!A38=\"\",P38,IF(MID('XML a procesar'!A38,1,1)=\"<\",P38,P38+1)),P38)","v":1}]
[{"$f":"IF('XML a procesar'!A39>0,'XML a procesar'!A39,\"\")","v":""},0,0,0,0,"",0,0,0,"","",0,"",0,"",{"$f":"IF(ROW()<$S$4+2,IF('XML a procesar'!A39=\"\",P39,IF(MID('XML a procesar'!A39,1,1)=\"<\",P39,P39+1)),P39)","v":1}]
[{"$f":"IF('XML a procesar'!A40>0,'XML a procesar'!A40,\"\")","v":""},0,0,{"$f":"IF(AND(C41>0,LEFT(A41,7)=\"<email>\",ISNUMBER(SEARCH(\"@\",A41,1))),C41,IF(LEFT(A41,10)=\"<alt-text>\",-1,0))","v":0},0,"",0,0,0,"","",0,"",0,"",{"$f":"IF(ROW()<$S$4+2,IF('XML a procesar'!A40=\"\",P40,IF(MID('XML a procesar'!A40,1,1)=\"<\",P40,P40+1)),P40)","v":1}]
[{"$f":"IF('XML a procesar'!A41>0,'XML a procesar'!A41,\"\")","v":""},0,0,0,0,"",0,0,0,"","",0,"",0,"",{"$f":"IF(ROW()<$S$4+2,IF('XML a procesar'!A41=\"\",P41,IF(MID('XML a procesar'!A41,1,1)=\"<\",P41,P41+1)),P41)","v":1}]
[{"$f":"IF('XML a procesar'!A42>0,'XML a procesar'!A42,\"\")","v":""},0,0,0,0,"",0,0,0,"","",0,"",0,"",{"$f":"IF(ROW()<$S$4+2,IF('XML a procesar'!A42=\"\",P42,IF(MID('XML a procesar'!A42,1,1)=\"<\",P42,P42+1)),P42)","v":1}]
[{"$f":"IF('XML a procesar'!A43>0,'XML a procesar'!A43,\"\")","v":""},0,0,0,0,"",0,0,0,"","",0,"",0,"",{"$f":"IF(ROW()<$S$4+2,IF('XML a procesar'!A43=\"\",P43,IF(MID('XML a procesar'!A43,1,1)=\"<\",P43,P43+1)),P43)","v":1}]
[{"$f":"IF('XML a procesar'!A44>0,'XML a procesar'!A44,\"\")","v":""},0,0,0,0,"",0,0,0,"","",0,"",0,"",{"$f":"IF(ROW()<$S$4+2,IF('XML a procesar'!A44=\"\",P44,IF(MID('XML a procesar'!A44,1,1)=\"<\",P44,P44+1)),P44)","v":1}]
[{"$f":"IF('XML a procesar'!A45>0,'XML a procesar'!A45,\"\")","v":""},0,0,0,0,"",0,0,0,"","",0,"",0,"",{"$f":"IF(ROW()<$S$4+2,IF('XML a procesar'!A45=\"\",P45,IF(MID('XML a procesar'!A45,1,1)=\"<\",P45,P45+1)),P45)","v":1}]
[{"$f":"IF('XML a procesar'!A46>0,'XML a procesar'!A46,\"\")","v":""},0,0,0,0,"",0,0,0,"","",0,"",0,"",{"$f":"IF(ROW()<$S$4+2,IF('XML a procesar'!A46=\"\",P46,IF(MID('XML a procesar'!A46,1,1)=\"<\",P46,P46+1)),P46)","v":1}]
[{"$f":"IF('XML a procesar'!A47>0,'XML a procesar'!A47,\"\")","v":""},0,0,0,0,{"$f":"INDIRECT(ADDRESS(ROW()+INDIRECT(ADDRESS(ROW()+E48,5)),1))","v":""},0,0,0,"","",0,"",0,"",{"$f":"IF(ROW()<$S$4+2,IF('XML a procesar'!A47=\"\",P47,IF(MID('XML a procesar'!A47,1,1)=\"<\",P47,P47+1)),P47)","v":1}]
[{"$f":"IF('XML a procesar'!A48>0,'XML a procesar'!A48,\"\")","v":""},0,0,0,0,"",0,0,0,"","",{"$f":"IF(OR(MID(K47,3,5)=\"page>\",MID(K48,3,5)=\"page>\"),L48,IF(OR(K48=\"<history>\",K49=\"<history>\"),L48+1,L48))","v":0},"",0,"",{"$f":"IF(ROW()<$S$4+2,IF('XML a procesar'!A48=\"\",P48,IF(MID('XML a procesar'!A48,1,1)=\"<\",P48,P48+1)),P48)","v":1}]
[{"$f":"IF('XML a procesar'!A49>0,'XML a procesar'!A49,\"\")","v":""},0,0,0,0,"",0,0,0,"","",0,"",0,"",{"$f":"IF(ROW()<$S$4+2,IF('XML a procesar'!A49=\"\",P49,IF(MID('XML a procesar'!A49,1,1)=\"<\",P49,P49+1)),P49)","v":1}]
[{"$f":"IF('XML a procesar'!A50>0,'XML a procesar'!A50,\"\")","v":""},0,0,0,0,"",0,0,0,"","",0,"",0,"",{"$f":"IF(ROW()<$S$4+2,IF('XML a procesar'!A50=\"\",P50,IF(MID('XML a procesar'!A50,1,1)=\"<\",P50,P50+1)),P50)","v":1}]
[{"$f":"IF('XML a procesar'!A51>0,'XML a procesar'!A51,\"\")","v":""},0,0,0,0,"",0,0,0,"","",0,"",0,"",{"$f":"IF(ROW()<$S$4+2,IF('XML a procesar'!A51=\"\",P51,IF(MID('XML a procesar'!A51,1,1)=\"<\",P51,P51+1)),P51)","v":1}]
[{"$f":"IF('XML a procesar'!A52>0,'XML a procesar'!A52,\"\")","v":""},0,0,0,0,"",0,0,0,"","",0,"",0,"",{"$f":"IF(ROW()<$S$4+2,IF('XML a procesar'!A52=\"\",P52,IF(MID('XML a procesar'!A52,1,1)=\"<\",P52,P52+1)),P52)","v":1}]
[{"$f":"IF('XML a procesar'!A53>0,'XML a procesar'!A53,\"\")","v":""},0,0,0,0,"",0,0,0,"","",0,"",0,"",{"$f":"IF(ROW()<$S$4+2,IF('XML a procesar'!A53=\"\",P53,IF(MID('XML a procesar'!A53,1,1)=\"<\",P53,P53+1)),P53)","v":1}]
[{"$f":"IF('XML a procesar'!A54>0,'XML a procesar'!A54,\"\")","v":""},0,0,0,0,"",0,0,0,"","",0,"",0,"",{"$f":"IF(ROW()<$S$4+2,IF('XML a procesar'!A54=\"\",P54,IF(MID('XML a procesar'!A54,1,1)=\"<\",P54,P54+1)),P54)","v":1}]
[{"$f":"IF('XML a procesar'!A55>0,'XML a procesar'!A55,\"\")","v":""},0,0,0,0,"",0,0,0,"","",{"$f":"IF(OR(MID(K54,3,5)=\"page>\",MID(K55,3,5)=\"page>\"),L55,IF(OR(K55=\"<history>\",K56=\"<history>\"),L55+1,L55))","v":0},"",0,"",{"$f":"IF(ROW()<$S$4+2,IF('XML a procesar'!A55=\"\",P55,IF(MID('XML a procesar'!A55,1,1)=\"<\",P55,P55+1)),P55)","v":1}]
[{"$f":"IF('XML a procesar'!A56>0,'XML a procesar'!A56,\"\")","v":""},0,0,0,0,"",0,0,0,"","",0,"",0,"",{"$f":"IF(ROW()<$S$4+2,IF('XML a procesar'!A56=\"\",P56,IF(MID('XML a procesar'!A56,1,1)=\"<\",P56,P56+1)),P56)","v":1}]
[{"$f":"IF('XML a procesar'!A57>0,'XML a procesar'!A57,\"\")","v":""},0,0,0,0,"",0,0,0,"","",0,"",0,"",{"$f":"IF(ROW()<$S$4+2,IF('XML a procesar'!A57=\"\",P57,IF(MID('XML a procesar'!A57,1,1)=\"<\",P57,P57+1)),P57)","v":1}]
[{"$f":"IF('XML a procesar'!A58>0,'XML a procesar'!A58,\"\")","v":""},0,0,0,0,"",0,0,0,"","",0,"",0,"",{"$f":"IF(ROW()<$S$4+2,IF('XML a procesar'!A58=\"\",P58,IF(MID('XML a procesar'!A58,1,1)=\"<\",P58,P58+1)),P58)","v":1}]
[{"$f":"IF('XML a procesar'!A59>0,'XML a procesar'!A59,\"\")","v":""},0,0,0,0,"",0,0,0,"","",0,"",0,"",{"$f":"IF(ROW()<$S$4+2,IF('XML a procesar'!A59=\"\",P59,IF(MID('XML a procesar'!A59,1,1)=\"<\",P59,P59+1)),P59)","v":1}]
[{"$f":"IF('XML a procesar'!A60>0,'XML a procesar'!A60,\"\")","v":""},0,0,0,0,"",0,0,0,"","",0,"",0,"",{"$f":"IF(ROW()<$S$4+2,IF('XML a procesar'!A60=\"\",P60,IF(MID('XML a procesar'!A60,1,1)=\"<\",P60,P60+1)),P60)","v":1}]
[{"$f":"IF('XML a procesar'!A61>0,'XML a procesar'!A61,\"\")","v":""},0,0,0,0,"",0,0,0,"","",0,"",0,"",{"$f":"IF(ROW()<$S$4+2,IF('XML a procesar'!A61=\"\",P61,IF(MID('XML a procesar'!A61,1,1)=\"<\",P61,P61+1)),P61)","v":1}]
[{"$f":"IF('XML a procesar'!A62>0,'XML a procesar'!A62,\"\")","v":""},0,0,0,0,"",0,0,0,"","",0,"",0,"",{"$f":"IF(ROW()<$S$4+2,IF('XML a procesar'!A62=\"\",P62,IF(MID('XML a procesar'!A62,1,1)=\"<\",P62,P62+1)),P62)","v":1}]
[{"$f":"IF('XML a procesar'!A63>0,'XML a procesar'!A63,\"\")","v":""},0,0,0,0,"",0,0,0,"","",0,"",0,"",{"$f":"IF(ROW()<$S$4+2,IF('XML a procesar'!A63=\"\",P63,IF(MID('XML a procesar'!A63,1,1)=\"<\",P63,P63+1)),P63)","v":1}]
[{"$f":"IF('XML a procesar'!A64>0,'XML a procesar'!A64,\"\")","v":""},0,0,{"$f":"IF(AND(C65>0,LEFT(A65,7)=\"<email>\",ISNUMBER(SEARCH(\"@\",A65,1))),C65,IF(LEFT(A65,10)=\"<alt-text>\",-1,0))","v":0},0,"",0,0,0,"","",0,"",0,"",{"$f":"IF(ROW()<$S$4+2,IF('XML a procesar'!A64=\"\",P64,IF(MID('XML a procesar'!A64,1,1)=\"<\",P64,P64+1)),P64)","v":1}]
[{"$f":"IF('XML a procesar'!A65>0,'XML a procesar'!A65,\"\")","v":""},0,0,0,0,"",0,0,0,"","",0,"",0,{"$f":"IF(N66>-1,INDIRECT(ADDRESS(ROW(),13)),IF(N66<N65,CONCATENATE(\"<page-count count=\",CHAR(34),1+LARGE(N:N,1)-LARGE(N:N,2),CHAR(34),\"/>\"),INDIRECT(ADDRESS(ROW()-1,13))))","v":""},{"$f":"IF(ROW()<$S$4+2,IF('XML a procesar'!A65=\"\",P65,IF(MID('XML a procesar'!A65,1,1)=\"<\",P65,P65+1)),P65)","v":1}]
[{"$f":"IF('XML a procesar'!A66>0,'XML a procesar'!A66,\"\")","v":""},{"$f":"IF(ISERROR(FIND(\"/doi.org/\",A67,1)),0,1)","v":0},0,{"$f":"IF(AND(C67>0,LEFT(A67,7)=\"<email>\",ISNUMBER(SEARCH(\"@\",A67,1))),C67,IF(LEFT(A67,10)=\"<alt-text>\",-1,0))","v":0},0,{"$f":"INDIRECT(ADDRESS(ROW()+INDIRECT(ADDRESS(ROW()+E67,5)),1))","v":""},0,{"$f":"IF(AND(G66>0,G67>G66,NOT(ISERROR(MATCH(G66,D:D,0)))),H66+1,H66)","v":0},0,"",{"$f":"IF(J67=\"Linea_para_MAIL_creada_por_LuXML\",IF(ISERROR(MATCH(INDIRECT(ADDRESS(ROW()-G67,7)),D:D,0)),J67,INDIRECT(ADDRESS(MATCH(INDIRECT(ADDRESS(ROW()-G67,7)),D:D,0),1))),J67)","v":""},0,"",0,"",{"$f":"IF(ROW()<$S$4+2,IF('XML a procesar'!A66=\"\",P66,IF(MID('XML a procesar'!A66,1,1)=\"<\",P66,P66+1)),P66)","v":1}]
[{"$f":"IF('XML a procesar'!A67>0,'XML a procesar'!A67,\"\")","v":""},0,{"$f":"IF(LEFT(A67,16)=\"<contrib contrib\",C67+1,IF(LEFT(A67,16)=\"</contrib-group>\",0,IF(LEFT(A67,10)=\"</contrib>\",C67,C67)))","v":0},0,{"$f":"IF(D68=0,E67,E67+1)","v":0},"",{"$f":"IF(LEFT(F68,7)=\"<aff id\",_xlfn.NUMBERVALUE(MID(F68,13,LEN(F68)-14)),IF(F68=\"</aff>\",G67+1,G67))","v":0},0,{"$f":"INDIRECT(ADDRESS(ROW()-INDIRECT(ADDRESS(ROW()-H68,8)),8))","v":0},{"$f":"IF(J67=\"Linea_para_MAIL_creada_por_LuXML\",\"</aff>\",IF(I68>INDIRECT(ADDRESS(ROW()-I68-1,8)),\"Linea_para_MAIL_creada_por_LuXML\",INDIRECT(ADDRESS(ROW()-I68,6))))","v":""},"",{"$f":"IF(OR(MID(K66,3,5)=\"page>\",MID(K67,3,5)=\"page>\"),L67,IF(OR(K67=\"<history>\",K68=\"<history>\"),L67+1,L67))","v":0},"",{"$f":"IF(N67=-1,-1,IF(M68=\"</counts>\",-1,IF(OR(LEFT(M68,7)=\"<fpage>\",LEFT(M68,7)=\"<lpage>\"),VALUE(MID(M68,8,LEN(M68)-15)),0)))","v":0},"",{"$f":"IF(ROW()<$S$4+2,IF('XML a procesar'!A67=\"\",P67,IF(MID('XML a procesar'!A67,1,1)=\"<\",P67,P67+1)),P67)","v":1}]
[{"$f":"IF('XML a procesar'!A68>0,'XML a procesar'!A68,\"\")","v":""},0,0,0,0,"",0,0,0,"","",0,"",0,"",{"$f":"IF(ROW()<$S$4+2,IF('XML a procesar'!A68=\"\",P68,IF(MID('XML a procesar'!A68,1,1)=\"<\",P68,P68+1)),P68)","v":1}]
[{"$f":"IF('XML a procesar'!A69>0,'XML a procesar'!A69,\"\")","v":""},0,0,0,0,"",0,0,0,"","",0,{"$f":"IF(L70>L69,IF(L70=1,CONCATENATE(\"<fpage>\",$S$10,\"</fpage>\"),CONCATENATE(\"<lpage>\",$S$10+1,\"</lpage>\")),IF(ISERROR(INDIRECT(ADDRESS(ROW()-L70,11),1)),\"\",INDIRECT(ADDRESS(ROW()-L70,11),1)))","v":""},0,"",{"$f":"IF(ROW()<$S$4+2,IF('XML a procesar'!A69=\"\",P69,IF(MID('XML a procesar'!A69,1,1)=\"<\",P69,P69+1)),P69)","v":1}]
[{"$f":"IF('XML a procesar'!A70>0,'XML a procesar'!A70,\"\")","v":""},0,0,0,0,"",0,0,0,"","",0,"",0,"",{"$f":"IF(ROW()<$S$4+2,IF('XML a procesar'!A70=\"\",P70,IF(MID('XML a procesar'!A70,1,1)=\"<\",P70,P70+1)),P70)","v":1}]
[{"$f":"IF('XML a procesar'!A71>0,'XML a procesar'!A71,\"\")","v":""},0,0,0,0,"",0,0,0,"","",0,"",0,"",{"$f":"IF(ROW()<$S$4+2,IF('XML a procesar'!A71=\"\",P71,IF(MID('XML a procesar'!A71,1,1)=\"<\",P71,P71+1)),P71)","v":1}]
[{"$f":"IF('XML a procesar'!A72>0,'XML a procesar'!A72,\"\")","v":""},0,0,0,0,"",0,0,0,"","",0,"",0,"",{"$f":"IF(ROW()<$S$4+2,IF('XML a procesar'!A72=\"\",P72,IF(MID('XML a procesar'!A72,1,1)=\"<\",P72,P72+1)),P72)","v":1}]
[{"$f":"IF('XML a procesar'!A73>0,'XML a procesar'!A73,\"\")","v":""},0,0,0,0,"",0,0,0,"","",0,"",0,"",{"$f":"IF(ROW()<$S$4+2,IF('XML a procesar'!A73=\"\",P73,IF(MID('XML a procesar'!A73,1,1)=\"<\",P73,P73+1)),P73)","v":1}]
[{"$f":"IF('XML a procesar'!A74>0,'XML a procesar'!A74,\"\")","v":""},0,0,0,0,"",0,0,0,"","",0,"",0,"",{"$f":"IF(ROW()<$S$4+2,IF('XML a procesar'!A74=\"\",P74,IF(MID('XML a procesar'!A74,1,1)=\"<\",P74,P74+1)),P74)","v":1}]
[{"$f":"IF('XML a procesar'!A75>0,'XML a procesar'!A75,\"\")","v":""},0,0,0,0,"",0,0,0,"","",0,"",0,"",{"$f":"IF(ROW()<$S$4+2,IF('XML a procesar'!A75=\"\",P75,IF(MID('XML a procesar'!A75,1,1)=\"<\",P75,P75+1)),P75)","v":1}]
[{"$f":"IF('XML a procesar'!A76>0,'XML a procesar'!A76,\"\")","v":""},0,0,0,0,"",0,0,0,"","",0,"",0,"",{"$f":"IF(ROW()<$S$4+2,IF('XML a procesar'!A76=\"\",P76,IF(MID('XML a procesar'!A76,1,1)=\"<\",P76,P76+1)),P76)","v":1}]
[{"$f":"IF('XML a procesar'!A77>0,'XML a procesar'!A77,\"\")","v":""},0,0,0,0,"",0,0,0,"","",0,"",0,"",{"$f":"IF(ROW()<$S$4+2,IF('XML a procesar'!A77=\"\",P77,IF(MID('XML a procesar'!A77,1,1)=\"<\",P77,P77+1)),P77)","v":1}]
[{"$f":"IF('XML a procesar'!A78>0,'XML a procesar'!A78,\"\")","v":""},0,0,0,0,"",0,0,0,"","",0,"",0,"",{"$f":"IF(ROW()<$S$4+2,IF('XML a procesar'!A78=\"\",P78,IF(MID('XML a procesar'!A78,1,1)=\"<\",P78,P78+1)),P78)","v":1}]
[{"$f":"IF('XML a procesar'!A79>0,'XML a procesar'!A79,\"\")","v":""},0,0,0,0,"",0,0,0,"","",0,"",0,"",{"$f":"IF(ROW()<$S$4+2,IF('XML a procesar'!A79=\"\",P79,IF(MID('XML a procesar'!A79,1,1)=\"<\",P79,P79+1)),P79)","v":1}]
[{"$f":"IF('XML a procesar'!A80>0,'XML a procesar'!A80,\"\")","v":""},0,0,0,0,"",0,0,0,"","",0,"",0,"",{"$f":"IF(ROW()<$S$4+2,IF('XML a procesar'!A80=\"\",P80,IF(MID('XML a procesar'!A80,1,1)=\"<\",P80,P80+1)),P80)","v":1}]
[{"$f":"IF('XML a procesar'!A81>0,'XML a procesar'!A81,\"\")","v":""},0,0,0,0,"",0,0,0,"","",0,"",0,"",{"$f":"IF(ROW()<$S$4+2,IF('XML a procesar'!A81=\"\",P81,IF(MID('XML a procesar'!A81,1,1)=\"<\",P81,P81+1)),P81)","v":1}]
[{"$f":"IF('XML a procesar'!A82>0,'XML a procesar'!A82,\"\")","v":""},0,0,0,0,"",0,0,0,"","",0,"",0,"",{"$f":"IF(ROW()<$S$4+2,IF('XML a procesar'!A82=\"\",P82,IF(MID('XML a procesar'!A82,1,1)=\"<\",P82,P82+1)),P82)","v":1}]
[{"$f":"IF('XML a procesar'!A83>0,'XML a procesar'!A83,\"\")","v":""},0,0,0,0,"",0,0,0,"","",0,"",0,"",{"$f":"IF(ROW()<$S$4+2,IF('XML a procesar'!A83=\"\",P83,IF(MID('XML a procesar'!A83,1,1)=\"<\",P83,P83+1)),P83)","v":1}]
[{"$f":"IF('XML a procesar'!A84>0,'XML a procesar'!A84,\"\")","v":""},0,0,0,0,"",0,0,0,"","",{"$f":"IF(OR(MID(K83,3,5)=\"page>\",MID(K84,3,5)=\"page>\"),L84,IF(OR(K84=\"<history>\",K85=\"<history>\"),L84+1,L84))","v":0},"",0,"",{"$f":"IF(ROW()<$S$4+2,IF('XML a procesar'!A84=\"\",P84,IF(MID('XML a procesar'!A84,1,1)=\"<\",P84,P84+1)),P84)","v":1}]
[{"$f":"IF('XML a procesar'!A85>0,'XML a procesar'!A85,\"\")","v":""},0,0,0,0,"",0,0,0,"","",0,"",0,"",{"$f":"IF(ROW()<$S$4+2,IF('XML a procesar'!A85=\"\",P85,IF(MID('XML a procesar'!A85,1,1)=\"<\",P85,P85+1)),P85)","v":1}]
[{"$f":"IF('XML a procesar'!A86>0,'XML a procesar'!A86,\"\")","v":""},0,0,0,0,"",0,0,0,"","",0,"",0,"",{"$f":"IF(ROW()<$S$4+2,IF('XML a procesar'!A86=\"\",P86,IF(MID('XML a procesar'!A86,1,1)=\"<\",P86,P86+1)),P86)","v":1}]
[{"$f":"IF('XML a procesar'!A87>0,'XML a procesar'!A87,\"\")","v":""},0,0,0,0,"",0,0,0,"","",0,"",0,"",{"$f":"IF(ROW()<$S$4+2,IF('XML a procesar'!A87=\"\",P87,IF(MID('XML a procesar'!A87,1,1)=\"<\",P87,P87+1)),P87)","v":1}]
[{"$f":"IF('XML a procesar'!A88>0,'XML a procesar'!A88,\"\")","v":""},0,0,0,0,"",0,0,0,"","",0,"",0,"",{"$f":"IF(ROW()<$S$4+2,IF('XML a procesar'!A88=\"\",P88,IF(MID('XML a procesar'!A88,1,1)=\"<\",P88,P88+1)),P88)","v":1}]
[{"$f":"IF('XML a procesar'!A89>0,'XML a procesar'!A89,\"\")","v":""},0,0,0,0,"",0,0,0,"","",0,"",0,"",{"$f":"IF(ROW()<$S$4+2,IF('XML a procesar'!A89=\"\",P89,IF(MID('XML a procesar'!A89,1,1)=\"<\",P89,P89+1)),P89)","v":1}]
[{"$f":"IF('XML a procesar'!A90>0,'XML a procesar'!A90,\"\")","v":""},0,0,0,0,"",0,0,0,"","",0,"",0,"",{"$f":"IF(ROW()<$S$4+2,IF('XML a procesar'!A90=\"\",P90,IF(MID('XML a procesar'!A90,1,1)=\"<\",P90,P90+1)),P90)","v":1}]
[{"$f":"IF('XML a procesar'!A91>0,'XML a procesar'!A91,\"\")","v":""},0,0,0,0,"",0,0,0,"","",0,"",0,"",{"$f":"IF(ROW()<$S$4+2,IF('XML a procesar'!A91=\"\",P91,IF(MID('XML a procesar'!A91,1,1)=\"<\",P91,P91+1)),P91)","v":1}]
[{"$f":"IF('XML a procesar'!A92>0,'XML a procesar'!A92,\"\")","v":""},0,0,0,0,"",0,0,0,"","",0,"",0,"",{"$f":"IF(ROW()<$S$4+2,IF('XML a procesar'!A92=\"\",P92,IF(MID('XML a procesar'!A92,1,1)=\"<\",P92,P92+1)),P92)","v":1}]
[{"$f":"IF('XML a procesar'!A93>0,'XML a procesar'!A93,\"\")","v":""},0,0,0,0,"",0,0,0,"","",0,"",0,"",{"$f":"IF(ROW()<$S$4+2,IF('XML a procesar'!A93=\"\",P93,IF(MID('XML a procesar'!A93,1,1)=\"<\",P93,P93+1)),P93)","v":1}]
[{"$f":"IF('XML a procesar'!A94>0,'XML a procesar'!A94,\"\")","v":""},0,0,0,0,"",0,0,0,"","",0,"",0,"",{"$f":"IF(ROW()<$S$4+2,IF('XML a procesar'!A94=\"\",P94,IF(MID('XML a procesar'!A94,1,1)=\"<\",P94,P94+1)),P94)","v":1}]
[{"$f":"IF('XML a procesar'!A95>0,'XML a procesar'!A95,\"\")","v":""},0,0,0,0,"",0,0,0,"","",0,"",0,"",{"$f":"IF(ROW()<$S$4+2,IF('XML a procesar'!A95=\"\",P95,IF(MID('XML a procesar'!A95,1,1)=\"<\",P95,P95+1)),P95)","v":1}]
[{"$f":"IF('XML a procesar'!A96>0,'XML a procesar'!A96,\"\")","v":""},0,0,0,0,"",0,0,0,"","",0,"",0,"",{"$f":"IF(ROW()<$S$4+2,IF('XML a procesar'!A96=\"\",P96,IF(MID('XML a procesar'!A96,1,1)=\"<\",P96,P96+1)),P96)","v":1}]
[{"$f":"IF('XML a procesar'!A97>0,'XML a procesar'!A97,\"\")","v":""},0,0,0,0,"",0,0,0,"","",0,"",0,"",{"$f":"IF(ROW()<$S$4+2,IF('XML a procesar'!A97=\"\",P97,IF(MID('XML a procesar'!A97,1,1)=\"<\",P97,P97+1)),P97)","v":1}]
[{"$f":"IF('XML a procesar'!A98>0,'XML a procesar'!A98,\"\")","v":""},0,0,0,0,"",0,0,0,"","",0,"",0,"",{"$f":"IF(ROW()<$S$4+2,IF('XML a procesar'!A98=\"\",P98,IF(MID('XML a procesar'!A98,1,1)=\"<\",P98,P98+1)),P98)","v":1}]
[{"$f":"IF('XML a procesar'!A99>0,'XML a procesar'!A99,\"\")","v":""},0,0,0,0,"",0,0,0,"","",0,"",0,"",{"$f":"IF(ROW()<$S$4+2,IF('XML a procesar'!A99=\"\",P99,IF(MID('XML a procesar'!A99,1,1)=\"<\",P99,P99+1)),P99)","v":1}]
[{"$f":"IF('XML a procesar'!A100>0,'XML a procesar'!A100,\"\")","v":""},0,0,0,0,"",0,0,0,"","",0,"",0,"",{"$f":"IF(ROW()<$S$4+2,IF('XML a procesar'!A100=\"\",P100,IF(MID('XML a procesar'!A100,1,1)=\"<\",P100,P100+1)),P100)","v":1}]
[{"$f":"IF('XML a procesar'!A101>0,'XML a procesar'!A101,\"\")","v":""},0,0,0,0,"",0,0,0,"","",0,"",0,"",{"$f":"IF(ROW()<$S$4+2,IF('XML a procesar'!A101=\"\",P101,IF(MID('XML a procesar'!A101,1,1)=\"<\",P101,P101+1)),P101)","v":1}]
[{"$f":"IF('XML a procesar'!A102>0,'XML a procesar'!A102,\"\")","v":""},0,0,0,0,"",0,0,0,"","",0,"",0,"",{"$f":"IF(ROW()<$S$4+2,IF('XML a procesar'!A102=\"\",P102,IF(MID('XML a procesar'!A102,1,1)=\"<\",P102,P102+1)),P102)","v":1}]
[{"$f":"IF('XML a procesar'!A103>0,'XML a procesar'!A103,\"\")","v":""},0,0,0,0,"",0,0,0,"","",0,"",0,"",{"$f":"IF(ROW()<$S$4+2,IF('XML a procesar'!A103=\"\",P103,IF(MID('XML a procesar'!A103,1,1)=\"<\",P103,P103+1)),P103)","v":1}]
[{"$f":"IF('XML a procesar'!A104>0,'XML a procesar'!A104,\"\")","v":""},0,0,0,0,"",0,0,0,"","",0,"",0,"",{"$f":"IF(ROW()<$S$4+2,IF('XML a procesar'!A104=\"\",P104,IF(MID('XML a procesar'!A104,1,1)=\"<\",P104,P104+1)),P104)","v":1}]
[{"$f":"IF('XML a procesar'!A105>0,'XML a procesar'!A105,\"\")","v":""},0,0,0,0,"",0,0,0,"","",0,"",0,"",{"$f":"IF(ROW()<$S$4+2,IF('XML a procesar'!A105=\"\",P105,IF(MID('XML a procesar'!A105,1,1)=\"<\",P105,P105+1)),P105)","v":1}]
[{"$f":"IF('XML a procesar'!A106>0,'XML a procesar'!A106,\"\")","v":""},0,0,0,0,"",0,0,0,"","",0,"",0,"",{"$f":"IF(ROW()<$S$4+2,IF('XML a procesar'!A106=\"\",P106,IF(MID('XML a procesar'!A106,1,1)=\"<\",P106,P106+1)),P106)","v":1}]
[{"$f":"IF('XML a procesar'!A107>0,'XML a procesar'!A107,\"\")","v":""},0,0,0,0,"",0,0,0,"","",0,"",0,"",{"$f":"IF(ROW()<$S$4+2,IF('XML a procesar'!A107=\"\",P107,IF(MID('XML a procesar'!A107,1,1)=\"<\",P107,P107+1)),P107)","v":1}]
[{"$f":"IF('XML a procesar'!A108>0,'XML a procesar'!A108,\"\")","v":""},0,0,0,0,"",0,0,0,"","",0,"",0,"",{"$f":"IF(ROW()<$S$4+2,IF('XML a procesar'!A108=\"\",P108,IF(MID('XML a procesar'!A108,1,1)=\"<\",P108,P108+1)),P108)","v":1}]
[{"$f":"IF('XML a procesar'!A109>0,'XML a procesar'!A109,\"\")","v":""},0,0,0,0,"",0,0,0,"","",0,"",0,"",{"$f":"IF(ROW()<$S$4+2,IF('XML a procesar'!A109=\"\",P109,IF(MID('XML a procesar'!A109,1,1)=\"<\",P109,P109+1)),P109)","v":1}]
[{"$f":"IF('XML a procesar'!A110>0,'XML a procesar'!A110,\"\")","v":""},0,0,0,0,"",0,0,0,"","",0,"",0,"",{"$f":"IF(ROW()<$S$4+2,IF('XML a procesar'!A110=\"\",P110,IF(MID('XML a procesar'!A110,1,1)=\"<\",P110,P110+1)),P110)","v":1}]
[{"$f":"IF('XML a procesar'!A111>0,'XML a procesar'!A111,\"\")","v":""},0,0,0,0,"",0,0,0,"","",0,"",0,"",{"$f":"IF(ROW()<$S$4+2,IF('XML a procesar'!A111=\"\",P111,IF(MID('XML a procesar'!A111,1,1)=\"<\",P111,P111+1)),P111)","v":1}]
[{"$f":"IF('XML a procesar'!A112>0,'XML a procesar'!A112,\"\")","v":""},0,0,0,0,"",0,0,0,"","",0,"",0,"",{"$f":"IF(ROW()<$S$4+2,IF('XML a procesar'!A112=\"\",P112,IF(MID('XML a procesar'!A112,1,1)=\"<\",P112,P112+1)),P112)","v":1}]
[{"$f":"IF('XML a procesar'!A113>0,'XML a procesar'!A113,\"\")","v":""},0,0,0,0,"",0,0,0,"","",0,"",0,"",{"$f":"IF(ROW()<$S$4+2,IF('XML a procesar'!A113=\"\",P113,IF(MID('XML a procesar'!A113,1,1)=\"<\",P113,P113+1)),P113)","v":1}]
[{"$f":"IF('XML a procesar'!A114>0,'XML a procesar'!A114,\"\")","v":""},0,0,0,0,"",0,0,0,"","",0,"",0,"",{"$f":"IF(ROW()<$S$4+2,IF('XML a procesar'!A114=\"\",P114,IF(MID('XML a procesar'!A114,1,1)=\"<\",P114,P114+1)),P114)","v":1}]
[{"$f":"IF('XML a procesar'!A115>0,'XML a procesar'!A115,\"\")","v":""},0,0,0,0,"",0,0,0,"","",0,"",0,"",{"$f":"IF(ROW()<$S$4+2,IF('XML a procesar'!A115=\"\",P115,IF(MID('XML a procesar'!A115,1,1)=\"<\",P115,P115+1)),P115)","v":1}]
[{"$f":"IF('XML a procesar'!A116>0,'XML a procesar'!A116,\"\")","v":""},0,0,0,0,"",0,0,0,"","",0,"",0,"",{"$f":"IF(ROW()<$S$4+2,IF('XML a procesar'!A116=\"\",P116,IF(MID('XML a procesar'!A116,1,1)=\"<\",P116,P116+1)),P116)","v":1}]
[{"$f":"IF('XML a procesar'!A117>0,'XML a procesar'!A117,\"\")","v":""},0,0,0,0,"",0,0,0,"","",0,"",0,"",{"$f":"IF(ROW()<$S$4+2,IF('XML a procesar'!A117=\"\",P117,IF(MID('XML a procesar'!A117,1,1)=\"<\",P117,P117+1)),P117)","v":1}]
[{"$f":"IF('XML a procesar'!A118>0,'XML a procesar'!A118,\"\")","v":""},0,0,0,0,"",0,0,0,"","",0,"",0,"",{"$f":"IF(ROW()<$S$4+2,IF('XML a procesar'!A118=\"\",P118,IF(MID('XML a procesar'!A118,1,1)=\"<\",P118,P118+1)),P118)","v":1}]
[{"$f":"IF('XML a procesar'!A119>0,'XML a procesar'!A119,\"\")","v":""},0,0,0,0,"",0,0,0,"","",0,"",0,"",{"$f":"IF(ROW()<$S$4+2,IF('XML a procesar'!A119=\"\",P119,IF(MID('XML a procesar'!A119,1,1)=\"<\",P119,P119+1)),P119)","v":1}]
[{"$f":"IF('XML a procesar'!A120>0,'XML a procesar'!A120,\"\")","v":""},0,0,0,0,"",0,0,0,"","",0,"",0,"",{"$f":"IF(ROW()<$S$4+2,IF('XML a procesar'!A120=\"\",P120,IF(MID('XML a procesar'!A120,1,1)=\"<\",P120,P120+1)),P120)","v":1}]
[{"$f":"IF('XML a procesar'!A121>0,'XML a procesar'!A121,\"\")","v":""},0,0,0,0,"",0,0,0,"","",0,"",0,"",{"$f":"IF(ROW()<$S$4+2,IF('XML a procesar'!A121=\"\",P121,IF(MID('XML a procesar'!A121,1,1)=\"<\",P121,P121+1)),P121)","v":1}]
[{"$f":"IF('XML a procesar'!A122>0,'XML a procesar'!A122,\"\")","v":""},0,0,0,0,"",0,0,0,"","",0,"",0,"",{"$f":"IF(ROW()<$S$4+2,IF('XML a procesar'!A122=\"\",P122,IF(MID('XML a procesar'!A122,1,1)=\"<\",P122,P122+1)),P122)","v":1}]
[{"$f":"IF('XML a procesar'!A123>0,'XML a procesar'!A123,\"\")","v":""},0,0,0,0,"",0,0,0,"","",0,"",0,"",{"$f":"IF(ROW()<$S$4+2,IF('XML a procesar'!A123=\"\",P123,IF(MID('XML a procesar'!A123,1,1)=\"<\",P123,P123+1)),P123)","v":1}]
[{"$f":"IF('XML a procesar'!A124>0,'XML a procesar'!A124,\"\")","v":""},0,0,0,0,"",0,0,0,"","",0,"",0,"",{"$f":"IF(ROW()<$S$4+2,IF('XML a procesar'!A124=\"\",P124,IF(MID('XML a procesar'!A124,1,1)=\"<\",P124,P124+1)),P124)","v":1}]
[{"$f":"IF('XML a procesar'!A125>0,'XML a procesar'!A125,\"\")","v":""},0,0,0,0,"",0,0,0,"","",0,"",0,"",{"$f":"IF(ROW()<$S$4+2,IF('XML a procesar'!A125=\"\",P125,IF(MID('XML a procesar'!A125,1,1)=\"<\",P125,P125+1)),P125)","v":1}]
[{"$f":"IF('XML a procesar'!A126>0,'XML a procesar'!A126,\"\")","v":""},0,0,0,0,"",0,0,0,"","",0,"",0,"",{"$f":"IF(ROW()<$S$4+2,IF('XML a procesar'!A126=\"\",P126,IF(MID('XML a procesar'!A126,1,1)=\"<\",P126,P126+1)),P126)","v":1}]
[{"$f":"IF('XML a procesar'!A127>0,'XML a procesar'!A127,\"\")","v":""},0,0,0,0,"",0,0,0,"","",0,"",0,"",{"$f":"IF(ROW()<$S$4+2,IF('XML a procesar'!A127=\"\",P127,IF(MID('XML a procesar'!A127,1,1)=\"<\",P127,P127+1)),P127)","v":1}]
[{"$f":"IF('XML a procesar'!A128>0,'XML a procesar'!A128,\"\")","v":""},0,0,0,0,"",0,0,0,"","",0,"",0,"",{"$f":"IF(ROW()<$S$4+2,IF('XML a procesar'!A128=\"\",P128,IF(MID('XML a procesar'!A128,1,1)=\"<\",P128,P128+1)),P128)","v":1}]
[{"$f":"IF('XML a procesar'!A129>0,'XML a procesar'!A129,\"\")","v":""},0,0,0,0,"",0,0,0,"","",0,"",0,{"$f":"IF(N130>-1,INDIRECT(ADDRESS(ROW(),13)),IF(N130<N129,CONCATENATE(\"<page-count count=\",CHAR(34),1+LARGE(N:N,1)-LARGE(N:N,2),CHAR(34),\"/>\"),INDIRECT(ADDRESS(ROW()-1,13))))","v":""},{"$f":"IF(ROW()<$S$4+2,IF('XML a procesar'!A129=\"\",P129,IF(MID('XML a procesar'!A129,1,1)=\"<\",P129,P129+1)),P129)","v":1}]
[{"$f":"IF('XML a procesar'!A130>0,'XML a procesar'!A130,\"\")","v":""},{"$f":"IF(ISERROR(FIND(\"/doi.org/\",A131,1)),0,1)","v":0},0,{"$f":"IF(AND(C131>0,LEFT(A131,7)=\"<email>\",ISNUMBER(SEARCH(\"@\",A131,1))),C131,IF(LEFT(A131,10)=\"<alt-text>\",-1,0))","v":0},0,{"$f":"INDIRECT(ADDRESS(ROW()+INDIRECT(ADDRESS(ROW()+E131,5)),1))","v":""},0,{"$f":"IF(AND(G130>0,G131>G130,NOT(ISERROR(MATCH(G130,D:D,0)))),H130+1,H130)","v":0},0,"",{"$f":"IF(J131=\"Linea_para_MAIL_creada_por_LuXML\",IF(ISERROR(MATCH(INDIRECT(ADDRESS(ROW()-G131,7)),D:D,0)),J131,INDIRECT(ADDRESS(MATCH(INDIRECT(ADDRESS(ROW()-G131,7)),D:D,0),1))),J131)","v":""},0,"",0,"",{"$f":"IF(ROW()<$S$4+2,IF('XML a procesar'!A130=\"\",P130,IF(MID('XML a procesar'!A130,1,1)=\"<\",P130,P130+1)),P130)","v":1}]
[{"$f":"IF('XML a procesar'!A131>0,'XML a procesar'!A131,\"\")","v":""},0,{"$f":"IF(LEFT(A131,16)=\"<contrib contrib\",C131+1,IF(LEFT(A131,16)=\"</contrib-group>\",0,IF(LEFT(A131,10)=\"</contrib>\",C131,C131)))","v":0},0,{"$f":"IF(D132=0,E131,E131+1)","v":0},"",{"$f":"IF(LEFT(F132,7)=\"<aff id\",_xlfn.NUMBERVALUE(MID(F132,13,LEN(F132)-14)),IF(F132=\"</aff>\",G131+1,G131))","v":0},0,{"$f":"INDIRECT(ADDRESS(ROW()-INDIRECT(ADDRESS(ROW()-H132,8)),8))","v":0},{"$f":"IF(J131=\"Linea_para_MAIL_creada_por_LuXML\",\"</aff>\",IF(I132>INDIRECT(ADDRESS(ROW()-I132-1,8)),\"Linea_para_MAIL_creada_por_LuXML\",INDIRECT(ADDRESS(ROW()-I132,6))))","v":""},"",{"$f":"IF(OR(MID(K130,3,5)=\"page>\",MID(K131,3,5)=\"page>\"),L131,IF(OR(K131=\"<history>\",K132=\"<history>\"),L131+1,L131))","v":0},"",{"$f":"IF(N131=-1,-1,IF(M132=\"</counts>\",-1,IF(OR(LEFT(M132,7)=\"<fpage>\",LEFT(M132,7)=\"<lpage>\"),VALUE(MID(M132,8,LEN(M132)-15)),0)))","v":0},"",{"$f":"IF(ROW()<$S$4+2,IF('XML a procesar'!A131=\"\",P131,IF(MID('XML a procesar'!A131,1,1)=\"<\",P131,P131+1)),P131)","v":1}]
[{"$f":"IF('XML a procesar'!A132>0,'XML a procesar'!A132,\"\")","v":""},0,0,0,0,"",0,0,0,"","",0,"",0,"",{"$f":"IF(ROW()<$S$4+2,IF('XML a procesar'!A132=\"\",P132,IF(MID('XML a procesar'!A132,1,1)=\"<\",P132,P132+1)),P132)","v":1}]
[{"$f":"IF('XML a procesar'!A133>0,'XML a procesar'!A133,\"\")","v":""},0,0,0,0,"",0,0,0,"","",0,{"$f":"IF(L134>L133,IF(L134=1,CONCATENATE(\"<fpage>\",$S$10,\"</fpage>\"),CONCATENATE(\"<lpage>\",$S$10+1,\"</lpage>\")),IF(ISERROR(INDIRECT(ADDRESS(ROW()-L134,11),1)),\"\",INDIRECT(ADDRESS(ROW()-L134,11),1)))","v":""},0,"",{"$f":"IF(ROW()<$S$4+2,IF('XML a procesar'!A133=\"\",P133,IF(MID('XML a procesar'!A133,1,1)=\"<\",P133,P133+1)),P133)","v":1}]
[{"$f":"IF('XML a procesar'!A134>0,'XML a procesar'!A134,\"\")","v":""},0,0,0,0,"",0,0,0,"","",0,"",0,"",{"$f":"IF(ROW()<$S$4+2,IF('XML a procesar'!A134=\"\",P134,IF(MID('XML a procesar'!A134,1,1)=\"<\",P134,P134+1)),P134)","v":1}]
[{"$f":"IF('XML a procesar'!A135>0,'XML a procesar'!A135,\"\")","v":""},0,0,0,0,"",0,0,0,"","",0,"",0,"",{"$f":"IF(ROW()<$S$4+2,IF('XML a procesar'!A135=\"\",P135,IF(MID('XML a procesar'!A135,1,1)=\"<\",P135,P135+1)),P135)","v":1}]
[{"$f":"IF('XML a procesar'!A136>0,'XML a procesar'!A136,\"\")","v":""},0,0,0,0,"",0,0,0,"","",0,"",0,"",{"$f":"IF(ROW()<$S$4+2,IF('XML a procesar'!A136=\"\",P136,IF(MID('XML a procesar'!A136,1,1)=\"<\",P136,P136+1)),P136)","v":1}]
[{"$f":"IF('XML a procesar'!A137>0,'XML a procesar'!A137,\"\")","v":""},0,0,0,0,"",0,0,0,"","",0,"",0,"",{"$f":"IF(ROW()<$S$4+2,IF('XML a procesar'!A137=\"\",P137,IF(MID('XML a procesar'!A137,1,1)=\"<\",P137,P137+1)),P137)","v":1}]
[{"$f":"IF('XML a procesar'!A138>0,'XML a procesar'!A138,\"\")","v":""},0,0,0,0,"",0,0,0,"","",0,"",0,"",{"$f":"IF(ROW()<$S$4+2,IF('XML a procesar'!A138=\"\",P138,IF(MID('XML a procesar'!A138,1,1)=\"<\",P138,P138+1)),P138)","v":1}]
[{"$f":"IF('XML a procesar'!A139>0,'XML a procesar'!A139,\"\")","v":""},0,0,0,0,"",0,0,0,"","",0,"",0,"",{"$f":"IF(ROW()<$S$4+2,IF('XML a procesar'!A139=\"\",P139,IF(MID('XML a procesar'!A139,1,1)=\"<\",P139,P139+1)),P139)","v":1}]
[{"$f":"IF('XML a procesar'!A140>0,'XML a procesar'!A140,\"\")","v":""},0,0,0,0,"",0,0,0,"","",0,"",0,"",{"$f":"IF(ROW()<$S$4+2,IF('XML a procesar'!A140=\"\",P140,IF(MID('XML a procesar'!A140,1,1)=\"<\",P140,P140+1)),P140)","v":1}]
[{"$f":"IF('XML a procesar'!A141>0,'XML a procesar'!A141,\"\")","v":""},0,0,0,0,"",0,0,0,"","",0,"",0,"",{"$f":"IF(ROW()<$S$4+2,IF('XML a procesar'!A141=\"\",P141,IF(MID('XML a procesar'!A141,1,1)=\"<\",P141,P141+1)),P141)","v":1}]
[{"$f":"IF('XML a procesar'!A142>0,'XML a procesar'!A142,\"\")","v":""},0,0,0,0,"",0,0,0,"","",0,"",0,"",{"$f":"IF(ROW()<$S$4+2,IF('XML a procesar'!A142=\"\",P142,IF(MID('XML a procesar'!A142,1,1)=\"<\",P142,P142+1)),P142)","v":1}]
[{"$f":"IF('XML a procesar'!A143>0,'XML a procesar'!A143,\"\")","v":""},0,0,0,0,"",0,0,0,"","",0,"",0,"",{"$f":"IF(ROW()<$S$4+2,IF('XML a procesar'!A143=\"\",P143,IF(MID('XML a procesar'!A143,1,1)=\"<\",P143,P143+1)),P143)","v":1}]
[{"$f":"IF('XML a procesar'!A144>0,'XML a procesar'!A144,\"\")","v":""},0,0,0,0,"",0,0,0,"","",0,"",0,"",{"$f":"IF(ROW()<$S$4+2,IF('XML a procesar'!A144=\"\",P144,IF(MID('XML a procesar'!A144,1,1)=\"<\",P144,P144+1)),P144)","v":1}]
[{"$f":"IF('XML a procesar'!A145>0,'XML a procesar'!A145,\"\")","v":""},0,0,0,0,"",0,0,0,"","",0,"",0,"",{"$f":"IF(ROW()<$S$4+2,IF('XML a procesar'!A145=\"\",P145,IF(MID('XML a procesar'!A145,1,1)=\"<\",P145,P145+1)),P145)","v":1}]
[{"$f":"IF('XML a procesar'!A146>0,'XML a procesar'!A146,\"\")","v":""},0,0,0,0,"",0,0,0,"","",0,"",0,"",{"$f":"IF(ROW()<$S$4+2,IF('XML a procesar'!A146=\"\",P146,IF(MID('XML a procesar'!A146,1,1)=\"<\",P146,P146+1)),P146)","v":1}]
[{"$f":"IF('XML a procesar'!A147>0,'XML a procesar'!A147,\"\")","v":""},0,0,0,0,"",0,0,0,"","",0,"",0,"",{"$f":"IF(ROW()<$S$4+2,IF('XML a procesar'!A147=\"\",P147,IF(MID('XML a procesar'!A147,1,1)=\"<\",P147,P147+1)),P147)","v":1}]
[{"$f":"IF('XML a procesar'!A148>0,'XML a procesar'!A148,\"\")","v":""},0,0,0,0,"",0,0,0,"","",0,"",0,"",{"$f":"IF(ROW()<$S$4+2,IF('XML a procesar'!A148=\"\",P148,IF(MID('XML a procesar'!A148,1,1)=\"<\",P148,P148+1)),P148)","v":1}]
[{"$f":"IF('XML a procesar'!A149>0,'XML a procesar'!A149,\"\")","v":""},0,0,0,0,"",0,0,0,"","",0,"",0,"",{"$f":"IF(ROW()<$S$4+2,IF('XML a procesar'!A149=\"\",P149,IF(MID('XML a procesar'!A149,1,1)=\"<\",P149,P149+1)),P149)","v":1}]
[{"$f":"IF('XML a procesar'!A150>0,'XML a procesar'!A150,\"\")","v":""},0,0,0,0,"",0,0,0,"","",0,"",0,"",{"$f":"IF(ROW()<$S$4+2,IF('XML a procesar'!A150=\"\",P150,IF(MID('XML a procesar'!A150,1,1)=\"<\",P150,P150+1)),P150)","v":1}]
[{"$f":"IF('XML a procesar'!A151>0,'XML a procesar'!A151,\"\")","v":""},0,0,0,0,"",0,0,0,"","",0,"",0,"",{"$f":"IF(ROW()<$S$4+2,IF('XML a procesar'!A151=\"\",P151,IF(MID('XML a procesar'!A151,1,1)=\"<\",P151,P151+1)),P151)","v":1}]
[{"$f":"IF('XML a procesar'!A152>0,'XML a procesar'!A152,\"\")","v":""},0,0,0,0,"",0,0,0,"","",0,"",0,"",{"$f":"IF(ROW()<$S$4+2,IF('XML a procesar'!A152=\"\",P152,IF(MID('XML a procesar'!A152,1,1)=\"<\",P152,P152+1)),P152)","v":1}]
[{"$f":"IF('XML a procesar'!A153>0,'XML a procesar'!A153,\"\")","v":""},0,0,0,0,"",0,0,0,"","",0,"",0,"",{"$f":"IF(ROW()<$S$4+2,IF('XML a procesar'!A153=\"\",P153,IF(MID('XML a procesar'!A153,1,1)=\"<\",P153,P153+1)),P153)","v":1}]
[{"$f":"IF('XML a procesar'!A154>0,'XML a procesar'!A154,\"\")","v":""},0,0,0,0,"",0,0,0,"","",0,"",0,"",{"$f":"IF(ROW()<$S$4+2,IF('XML a procesar'!A154=\"\",P154,IF(MID('XML a procesar'!A154,1,1)=\"<\",P154,P154+1)),P154)","v":1}]
[{"$f":"IF('XML a procesar'!A155>0,'XML a procesar'!A155,\"\")","v":""},0,0,0,0,"",0,0,0,"","",0,"",0,"",{"$f":"IF(ROW()<$S$4+2,IF('XML a procesar'!A155=\"\",P155,IF(MID('XML a procesar'!A155,1,1)=\"<\",P155,P155+1)),P155)","v":1}]
[{"$f":"IF('XML a procesar'!A156>0,'XML a procesar'!A156,\"\")","v":""},0,0,0,0,"",0,0,0,"","",0,"",0,"",{"$f":"IF(ROW()<$S$4+2,IF('XML a procesar'!A156=\"\",P156,IF(MID('XML a procesar'!A156,1,1)=\"<\",P156,P156+1)),P156)","v":1}]
[{"$f":"IF('XML a procesar'!A157>0,'XML a procesar'!A157,\"\")","v":""},0,0,0,0,"",0,0,0,"","",0,"",0,"",{"$f":"IF(ROW()<$S$4+2,IF('XML a procesar'!A157=\"\",P157,IF(MID('XML a procesar'!A157,1,1)=\"<\",P157,P157+1)),P157)","v":1}]
[{"$f":"IF('XML a procesar'!A158>0,'XML a procesar'!A158,\"\")","v":""},0,0,0,0,"",0,0,0,"","",0,"",0,"",{"$f":"IF(ROW()<$S$4+2,IF('XML a procesar'!A158=\"\",P158,IF(MID('XML a procesar'!A158,1,1)=\"<\",P158,P158+1)),P158)","v":1}]
[{"$f":"IF('XML a procesar'!A159>0,'XML a procesar'!A159,\"\")","v":""},0,0,0,0,"",0,0,0,"","",0,"",0,"",{"$f":"IF(ROW()<$S$4+2,IF('XML a procesar'!A159=\"\",P159,IF(MID('XML a procesar'!A159,1,1)=\"<\",P159,P159+1)),P159)","v":1}]
[{"$f":"IF('XML a procesar'!A160>0,'XML a procesar'!A160,\"\")","v":""},0,0,0,0,"",0,0,0,"","",0,"",0,"",{"$f":"IF(ROW()<$S$4+2,IF('XML a procesar'!A160=\"\",P160,IF(MID('XML a procesar'!A160,1,1)=\"<\",P160,P160+1)),P160)","v":1}]
[{"$f":"IF('XML a procesar'!A161>0,'XML a procesar'!A161,\"\")","v":""},0,0,0,0,"",0,0,0,"","",0,"",0,"",{"$f":"IF(ROW()<$S$4+2,IF('XML a procesar'!A161=\"\",P161,IF(MID('XML a procesar'!A161,1,1)=\"<\",P161,P161+1)),P161)","v":1}]
[{"$f":"IF('XML a procesar'!A162>0,'XML a procesar'!A162,\"\")","v":""},0,0,0,0,"",0,0,0,"","",0,"",0,"",{"$f":"IF(ROW()<$S$4+2,IF('XML a procesar'!A162=\"\",P162,IF(MID('XML a procesar'!A162,1,1)=\"<\",P162,P162+1)),P162)","v":1}]
[{"$f":"IF('XML a procesar'!A163>0,'XML a procesar'!A163,\"\")","v":""},0,0,0,0,"",0,0,0,"","",0,"",0,"",{"$f":"IF(ROW()<$S$4+2,IF('XML a procesar'!A163=\"\",P163,IF(MID('XML a procesar'!A163,1,1)=\"<\",P163,P163+1)),P163)","v":1}]
[{"$f":"IF('XML a procesar'!A164>0,'XML a procesar'!A164,\"\")","v":""},0,0,0,0,"",0,0,0,"","",0,"",0,"",{"$f":"IF(ROW()<$S$4+2,IF('XML a procesar'!A164=\"\",P164,IF(MID('XML a procesar'!A164,1,1)=\"<\",P164,P164+1)),P164)","v":1}]
[{"$f":"IF('XML a procesar'!A165>0,'XML a procesar'!A165,\"\")","v":""},0,0,0,0,"",0,0,0,"","",0,"",0,"",{"$f":"IF(ROW()<$S$4+2,IF('XML a procesar'!A165=\"\",P165,IF(MID('XML a procesar'!A165,1,1)=\"<\",P165,P165+1)),P165)","v":1}]
[{"$f":"IF('XML a procesar'!A166>0,'XML a procesar'!A166,\"\")","v":""},0,0,0,0,"",0,0,0,"","",0,"",0,"",{"$f":"IF(ROW()<$S$4+2,IF('XML a procesar'!A166=\"\",P166,IF(MID('XML a procesar'!A166,1,1)=\"<\",P166,P166+1)),P166)","v":1}]
[{"$f":"IF('XML a procesar'!A167>0,'XML a procesar'!A167,\"\")","v":""},0,0,0,0,"",0,0,0,"","",0,"",0,"",{"$f":"IF(ROW()<$S$4+2,IF('XML a procesar'!A167=\"\",P167,IF(MID('XML a procesar'!A167,1,1)=\"<\",P167,P167+1)),P167)","v":1}]
[{"$f":"IF('XML a procesar'!A168>0,'XML a procesar'!A168,\"\")","v":""},0,0,0,0,"",0,0,0,"","",0,"",0,"",{"$f":"IF(ROW()<$S$4+2,IF('XML a procesar'!A168=\"\",P168,IF(MID('XML a procesar'!A168,1,1)=\"<\",P168,P168+1)),P168)","v":1}]
[{"$f":"IF('XML a procesar'!A169>0,'XML a procesar'!A169,\"\")","v":""},0,0,0,0,"",0,0,0,"","",0,"",0,"",{"$f":"IF(ROW()<$S$4+2,IF('XML a procesar'!A169=\"\",P169,IF(MID('XML a procesar'!A169,1,1)=\"<\",P169,P169+1)),P169)","v":1}]
[{"$f":"IF('XML a procesar'!A170>0,'XML a procesar'!A170,\"\")","v":""},0,0,0,0,"",0,0,0,"","",0,"",0,"",{"$f":"IF(ROW()<$S$4+2,IF('XML a procesar'!A170=\"\",P170,IF(MID('XML a procesar'!A170,1,1)=\"<\",P170,P170+1)),P170)","v":1}]
[{"$f":"IF('XML a procesar'!A171>0,'XML a procesar'!A171,\"\")","v":""},0,0,0,0,"",0,0,0,"","",0,"",0,"",{"$f":"IF(ROW()<$S$4+2,IF('XML a procesar'!A171=\"\",P171,IF(MID('XML a procesar'!A171,1,1)=\"<\",P171,P171+1)),P171)","v":1}]
[{"$f":"IF('XML a procesar'!A172>0,'XML a procesar'!A172,\"\")","v":""},0,0,0,0,"",0,0,0,"","",0,"",0,"",{"$f":"IF(ROW()<$S$4+2,IF('XML a procesar'!A172=\"\",P172,IF(MID('XML a procesar'!A172,1,1)=\"<\",P172,P172+1)),P172)","v":1}]
[{"$f":"IF('XML a procesar'!A173>0,'XML a procesar'!A173,\"\")","v":""},0,0,0,0,"",0,0,0,"","",0,"",0,"",{"$f":"IF(ROW()<$S$4+2,IF('XML a procesar'!A173=\"\",P173,IF(MID('XML a procesar'!A173,1,1)=\"<\",P173,P173+1)),P173)","v":1}]
[{"$f":"IF('XML a procesar'!A174>0,'XML a procesar'!A174,\"\")","v":""},0,0,0,0,"",0,0,0,"","",0,"",0,"",{"$f":"IF(ROW()<$S$4+2,IF('XML a procesar'!A174=\"\",P174,IF(MID('XML a procesar'!A174,1,1)=\"<\",P174,P174+1)),P174)","v":1}]
[{"$f":"IF('XML a procesar'!A175>0,'XML a procesar'!A175,\"\")","v":""},0,0,0,0,"",0,0,0,"","",0,"",0,"",{"$f":"IF(ROW()<$S$4+2,IF('XML a procesar'!A175=\"\",P175,IF(MID('XML a procesar'!A175,1,1)=\"<\",P175,P175+1)),P175)","v":1}]
[{"$f":"IF('XML a procesar'!A176>0,'XML a procesar'!A176,\"\")","v":""},0,0,0,0,"",0,0,0,"","",0,"",0,"",{"$f":"IF(ROW()<$S$4+2,IF('XML a procesar'!A176=\"\",P176,IF(MID('XML a procesar'!A176,1,1)=\"<\",P176,P176+1)),P176)","v":1}]
[{"$f":"IF('XML a procesar'!A177>0,'XML a procesar'!A177,\"\")","v":""},0,0,0,0,"",0,0,0,"","",0,"",0,"",{"$f":"IF(ROW()<$S$4+2,IF('XML a procesar'!A177=\"\",P177,IF(MID('XML a procesar'!A177,1,1)=\"<\",P177,P177+1)),P177)","v":1}]
[{"$f":"IF('XML a procesar'!A178>0,'XML a procesar'!A178,\"\")","v":""},0,0,0,0,"",0,0,0,"","",0,"",0,"",{"$f":"IF(ROW()<$S$4+2,IF('XML a procesar'!A178=\"\",P178,IF(MID('XML a procesar'!A178,1,1)=\"<\",P178,P178+1)),P178)","v":1}]
[{"$f":"IF('XML a procesar'!A179>0,'XML a procesar'!A179,\"\")","v":""},0,0,0,0,"",0,0,0,"","",0,"",0,"",{"$f":"IF(ROW()<$S$4+2,IF('XML a procesar'!A179=\"\",P179,IF(MID('XML a procesar'!A179,1,1)=\"<\",P179,P179+1)),P179)","v":1}]
[{"$f":"IF('XML a procesar'!A180>0,'XML a procesar'!A180,\"\")","v":""},0,0,0,0,"",0,0,0,"","",0,"",0,"",{"$f":"IF(ROW()<$S$4+2,IF('XML a procesar'!A180=\"\",P180,IF(MID('XML a procesar'!A180,1,1)=\"<\",P180,P180+1)),P180)","v":1}]
[{"$f":"IF('XML a procesar'!A181>0,'XML a procesar'!A181,\"\")","v":""},0,0,0,0,"",0,0,0,"","",0,"",0,"",{"$f":"IF(ROW()<$S$4+2,IF('XML a procesar'!A181=\"\",P181,IF(MID('XML a procesar'!A181,1,1)=\"<\",P181,P181+1)),P181)","v":1}]
[{"$f":"IF('XML a procesar'!A182>0,'XML a procesar'!A182,\"\")","v":""},0,0,0,0,"",0,0,0,"","",0,"",0,"",{"$f":"IF(ROW()<$S$4+2,IF('XML a procesar'!A182=\"\",P182,IF(MID('XML a procesar'!A182,1,1)=\"<\",P182,P182+1)),P182)","v":1}]
[{"$f":"IF('XML a procesar'!A183>0,'XML a procesar'!A183,\"\")","v":""},0,0,0,0,"",0,0,0,"","",0,"",0,"",{"$f":"IF(ROW()<$S$4+2,IF('XML a procesar'!A183=\"\",P183,IF(MID('XML a procesar'!A183,1,1)=\"<\",P183,P183+1)),P183)","v":1}]
[{"$f":"IF('XML a procesar'!A184>0,'XML a procesar'!A184,\"\")","v":""},0,0,0,0,"",0,0,0,"","",0,"",0,"",{"$f":"IF(ROW()<$S$4+2,IF('XML a procesar'!A184=\"\",P184,IF(MID('XML a procesar'!A184,1,1)=\"<\",P184,P184+1)),P184)","v":1}]
[{"$f":"IF('XML a procesar'!A185>0,'XML a procesar'!A185,\"\")","v":""},0,0,0,0,"",0,0,0,"","",0,"",0,"",{"$f":"IF(ROW()<$S$4+2,IF('XML a procesar'!A185=\"\",P185,IF(MID('XML a procesar'!A185,1,1)=\"<\",P185,P185+1)),P185)","v":1}]
[{"$f":"IF('XML a procesar'!A186>0,'XML a procesar'!A186,\"\")","v":""},0,0,0,0,"",0,0,0,"","",0,"",0,"",{"$f":"IF(ROW()<$S$4+2,IF('XML a procesar'!A186=\"\",P186,IF(MID('XML a procesar'!A186,1,1)=\"<\",P186,P186+1)),P186)","v":1}]
[{"$f":"IF('XML a procesar'!A187>0,'XML a procesar'!A187,\"\")","v":""},0,0,0,0,"",0,0,0,"","",0,"",0,"",{"$f":"IF(ROW()<$S$4+2,IF('XML a procesar'!A187=\"\",P187,IF(MID('XML a procesar'!A187,1,1)=\"<\",P187,P187+1)),P187)","v":1}]
[{"$f":"IF('XML a procesar'!A188>0,'XML a procesar'!A188,\"\")","v":""},0,0,0,0,"",0,0,0,"","",0,"",0,"",{"$f":"IF(ROW()<$S$4+2,IF('XML a procesar'!A188=\"\",P188,IF(MID('XML a procesar'!A188,1,1)=\"<\",P188,P188+1)),P188)","v":1}]
[{"$f":"IF('XML a procesar'!A189>0,'XML a procesar'!A189,\"\")","v":""},0,0,0,0,"",0,0,0,"","",0,"",0,"",{"$f":"IF(ROW()<$S$4+2,IF('XML a procesar'!A189=\"\",P189,IF(MID('XML a procesar'!A189,1,1)=\"<\",P189,P189+1)),P189)","v":1}]
[{"$f":"IF('XML a procesar'!A190>0,'XML a procesar'!A190,\"\")","v":""},0,0,0,0,"",0,0,0,"","",0,"",0,"",{"$f":"IF(ROW()<$S$4+2,IF('XML a procesar'!A190=\"\",P190,IF(MID('XML a procesar'!A190,1,1)=\"<\",P190,P190+1)),P190)","v":1}]
[{"$f":"IF('XML a procesar'!A191>0,'XML a procesar'!A191,\"\")","v":""},0,0,0,0,"",0,0,0,"","",0,"",0,"",{"$f":"IF(ROW()<$S$4+2,IF('XML a procesar'!A191=\"\",P191,IF(MID('XML a procesar'!A191,1,1)=\"<\",P191,P191+1)),P191)","v":1}]
[{"$f":"IF('XML a procesar'!A192>0,'XML a procesar'!A192,\"\")","v":""},0,0,0,0,"",0,0,0,"","",0,"",0,"",{"$f":"IF(ROW()<$S$4+2,IF('XML a procesar'!A192=\"\",P192,IF(MID('XML a procesar'!A192,1,1)=\"<\",P192,P192+1)),P192)","v":1}]
[{"$f":"IF('XML a procesar'!A193>0,'XML a procesar'!A193,\"\")","v":""},0,0,0,0,"",0,0,0,"","",0,"",0,{"$f":"IF(N194>-1,INDIRECT(ADDRESS(ROW(),13)),IF(N194<N193,CONCATENATE(\"<page-count count=\",CHAR(34),1+LARGE(N:N,1)-LARGE(N:N,2),CHAR(34),\"/>\"),INDIRECT(ADDRESS(ROW()-1,13))))","v":""},{"$f":"IF(ROW()<$S$4+2,IF('XML a procesar'!A193=\"\",P193,IF(MID('XML a procesar'!A193,1,1)=\"<\",P193,P193+1)),P193)","v":1}]
[{"$f":"IF('XML a procesar'!A194>0,'XML a procesar'!A194,\"\")","v":""},{"$f":"IF(ISERROR(FIND(\"/doi.org/\",A195,1)),0,1)","v":0},0,{"$f":"IF(AND(C195>0,LEFT(A195,7)=\"<email>\",ISNUMBER(SEARCH(\"@\",A195,1))),C195,IF(LEFT(A195,10)=\"<alt-text>\",-1,0))","v":0},0,{"$f":"INDIRECT(ADDRESS(ROW()+INDIRECT(ADDRESS(ROW()+E195,5)),1))","v":""},0,{"$f":"IF(AND(G194>0,G195>G194,NOT(ISERROR(MATCH(G194,D:D,0)))),H194+1,H194)","v":0},0,"",{"$f":"IF(J195=\"Linea_para_MAIL_creada_por_LuXML\",IF(ISERROR(MATCH(INDIRECT(ADDRESS(ROW()-G195,7)),D:D,0)),J195,INDIRECT(ADDRESS(MATCH(INDIRECT(ADDRESS(ROW()-G195,7)),D:D,0),1))),J195)","v":""},0,"",0,"",{"$f":"IF(ROW()<$S$4+2,IF('XML a procesar'!A194=\"\",P194,IF(MID('XML a procesar'!A194,1,1)=\"<\",P194,P194+1)),P194)","v":1}]
[{"$f":"IF('XML a procesar'!A195>0,'XML a procesar'!A195,\"\")","v":""},0,{"$f":"IF(LEFT(A195,16)=\"<contrib contrib\",C195+1,IF(LEFT(A195,16)=\"</contrib-group>\",0,IF(LEFT(A195,10)=\"</contrib>\",C195,C195)))","v":0},0,{"$f":"IF(D196=0,E195,E195+1)","v":0},"",{"$f":"IF(LEFT(F196,7)=\"<aff id\",_xlfn.NUMBERVALUE(MID(F196,13,LEN(F196)-14)),IF(F196=\"</aff>\",G195+1,G195))","v":0},0,{"$f":"INDIRECT(ADDRESS(ROW()-INDIRECT(ADDRESS(ROW()-H196,8)),8))","v":0},{"$f":"IF(J195=\"Linea_para_MAIL_creada_por_LuXML\",\"</aff>\",IF(I196>INDIRECT(ADDRESS(ROW()-I196-1,8)),\"Linea_para_MAIL_creada_por_LuXML\",INDIRECT(ADDRESS(ROW()-I196,6))))","v":""},"",{"$f":"IF(OR(MID(K194,3,5)=\"page>\",MID(K195,3,5)=\"page>\"),L195,IF(OR(K195=\"<history>\",K196=\"<history>\"),L195+1,L195))","v":0},"",{"$f":"IF(N195=-1,-1,IF(M196=\"</counts>\",-1,IF(OR(LEFT(M196,7)=\"<fpage>\",LEFT(M196,7)=\"<lpage>\"),VALUE(MID(M196,8,LEN(M196)-15)),0)))","v":0},"",{"$f":"IF(ROW()<$S$4+2,IF('XML a procesar'!A195=\"\",P195,IF(MID('XML a procesar'!A195,1,1)=\"<\",P195,P195+1)),P195)","v":1}]
[{"$f":"IF('XML a procesar'!A196>0,'XML a procesar'!A196,\"\")","v":""},0,0,0,0,"",0,0,0,"","",0,"",0,"",{"$f":"IF(ROW()<$S$4+2,IF('XML a procesar'!A196=\"\",P196,IF(MID('XML a procesar'!A196,1,1)=\"<\",P196,P196+1)),P196)","v":1}]
[{"$f":"IF('XML a procesar'!A197>0,'XML a procesar'!A197,\"\")","v":""},0,0,0,0,"",0,0,0,"","",0,{"$f":"IF(L198>L197,IF(L198=1,CONCATENATE(\"<fpage>\",$S$10,\"</fpage>\"),CONCATENATE(\"<lpage>\",$S$10+1,\"</lpage>\")),IF(ISERROR(INDIRECT(ADDRESS(ROW()-L198,11),1)),\"\",INDIRECT(ADDRESS(ROW()-L198,11),1)))","v":""},0,"",{"$f":"IF(ROW()<$S$4+2,IF('XML a procesar'!A197=\"\",P197,IF(MID('XML a procesar'!A197,1,1)=\"<\",P197,P197+1)),P197)","v":1}]
[{"$f":"IF('XML a procesar'!A198>0,'XML a procesar'!A198,\"\")","v":""},0,0,0,0,"",0,0,0,"","",0,"",0,"",{"$f":"IF(ROW()<$S$4+2,IF('XML a procesar'!A198=\"\",P198,IF(MID('XML a procesar'!A198,1,1)=\"<\",P198,P198+1)),P198)","v":1}]
[{"$f":"IF('XML a procesar'!A199>0,'XML a procesar'!A199,\"\")","v":""},0,0,0,0,"",0,0,0,"","",0,"",0,"",{"$f":"IF(ROW()<$S$4+2,IF('XML a procesar'!A199=\"\",P199,IF(MID('XML a procesar'!A199,1,1)=\"<\",P199,P199+1)),P199)","v":1}]
[{"$f":"IF('XML a procesar'!A200>0,'XML a procesar'!A200,\"\")","v":""},0,0,0,0,"",0,0,0,"","",0,"",0,"",{"$f":"IF(ROW()<$S$4+2,IF('XML a procesar'!A200=\"\",P200,IF(MID('XML a procesar'!A200,1,1)=\"<\",P200,P200+1)),P200)","v":1}]
[{"$f":"IF('XML a procesar'!A201>0,'XML a procesar'!A201,\"\")","v":""},0,0,0,0,"",0,0,0,"","",0,"",0,"",{"$f":"IF(ROW()<$S$4+2,IF('XML a procesar'!A201=\"\",P201,IF(MID('XML a procesar'!A201,1,1)=\"<\",P201,P201+1)),P201)","v":1}]
[{"$f":"IF('XML a procesar'!A202>0,'XML a procesar'!A202,\"\")","v":""},0,0,0,0,"",0,0,0,"","",0,"",0,"",{"$f":"IF(ROW()<$S$4+2,IF('XML a procesar'!A202=\"\",P202,IF(MID('XML a procesar'!A202,1,1)=\"<\",P202,P202+1)),P202)","v":1}]
[{"$f":"IF('XML a procesar'!A203>0,'XML a procesar'!A203,\"\")","v":""},0,0,0,0,"",0,0,0,"","",0,"",0,"",{"$f":"IF(ROW()<$S$4+2,IF('XML a procesar'!A203=\"\",P203,IF(MID('XML a procesar'!A203,1,1)=\"<\",P203,P203+1)),P203)","v":1}]
[{"$f":"IF('XML a procesar'!A204>0,'XML a procesar'!A204,\"\")","v":""},0,0,0,0,"",0,0,0,"","",0,"",0,"",{"$f":"IF(ROW()<$S$4+2,IF('XML a procesar'!A204=\"\",P204,IF(MID('XML a procesar'!A204,1,1)=\"<\",P204,P204+1)),P204)","v":1}]
[{"$f":"IF('XML a procesar'!A205>0,'XML a procesar'!A205,\"\")","v":""},0,0,0,0,"",0,0,0,"","",0,"",0,"",{"$f":"IF(ROW()<$S$4+2,IF('XML a procesar'!A205=\"\",P205,IF(MID('XML a procesar'!A205,1,1)=\"<\",P205,P205+1)),P205)","v":1}]
[{"$f":"IF('XML a procesar'!A206>0,'XML a procesar'!A206,\"\")","v":""},0,0,0,0,"",0,0,0,"","",0,"",0,"",{"$f":"IF(ROW()<$S$4+2,IF('XML a procesar'!A206=\"\",P206,IF(MID('XML a procesar'!A206,1,1)=\"<\",P206,P206+1)),P206)","v":1}]
[{"$f":"IF('XML a procesar'!A207>0,'XML a procesar'!A207,\"\")","v":""},0,0,0,0,"",0,0,0,"","",0,"",0,"",{"$f":"IF(ROW()<$S$4+2,IF('XML a procesar'!A207=\"\",P207,IF(MID('XML a procesar'!A207,1,1)=\"<\",P207,P207+1)),P207)","v":1}]
[{"$f":"IF('XML a procesar'!A208>0,'XML a procesar'!A208,\"\")","v":""},0,0,0,0,"",0,0,0,"","",0,"",0,"",{"$f":"IF(ROW()<$S$4+2,IF('XML a procesar'!A208=\"\",P208,IF(MID('XML a procesar'!A208,1,1)=\"<\",P208,P208+1)),P208)","v":1}]
[{"$f":"IF('XML a procesar'!A209>0,'XML a procesar'!A209,\"\")","v":""},0,0,0,0,"",0,0,0,"","",0,"",0,"",{"$f":"IF(ROW()<$S$4+2,IF('XML a procesar'!A209=\"\",P209,IF(MID('XML a procesar'!A209,1,1)=\"<\",P209,P209+1)),P209)","v":1}]
[{"$f":"IF('XML a procesar'!A210>0,'XML a procesar'!A210,\"\")","v":""},0,0,0,0,"",0,0,0,"","",0,"",0,"",{"$f":"IF(ROW()<$S$4+2,IF('XML a procesar'!A210=\"\",P210,IF(MID('XML a procesar'!A210,1,1)=\"<\",P210,P210+1)),P210)","v":1}]
[{"$f":"IF('XML a procesar'!A211>0,'XML a procesar'!A211,\"\")","v":""},0,0,0,0,"",0,0,0,"","",0,"",0,"",{"$f":"IF(ROW()<$S$4+2,IF('XML a procesar'!A211=\"\",P211,IF(MID('XML a procesar'!A211,1,1)=\"<\",P211,P211+1)),P211)","v":1}]
[{"$f":"IF('XML a procesar'!A212>0,'XML a procesar'!A212,\"\")","v":""},0,0,0,0,"",0,0,0,"","",0,"",0,"",{"$f":"IF(ROW()<$S$4+2,IF('XML a procesar'!A212=\"\",P212,IF(MID('XML a procesar'!A212,1,1)=\"<\",P212,P212+1)),P212)","v":1}]
[{"$f":"IF('XML a procesar'!A213>0,'XML a procesar'!A213,\"\")","v":""},0,0,0,0,"",0,0,0,"","",0,"",0,"",{"$f":"IF(ROW()<$S$4+2,IF('XML a procesar'!A213=\"\",P213,IF(MID('XML a procesar'!A213,1,1)=\"<\",P213,P213+1)),P213)","v":1}]
[{"$f":"IF('XML a procesar'!A214>0,'XML a procesar'!A214,\"\")","v":""},0,0,0,0,"",0,0,0,"","",0,"",0,"",{"$f":"IF(ROW()<$S$4+2,IF('XML a procesar'!A214=\"\",P214,IF(MID('XML a procesar'!A214,1,1)=\"<\",P214,P214+1)),P214)","v":1}]
[{"$f":"IF('XML a procesar'!A215>0,'XML a procesar'!A215,\"\")","v":""},0,0,0,0,"",0,0,0,"","",0,"",0,"",{"$f":"IF(ROW()<$S$4+2,IF('XML a procesar'!A215=\"\",P215,IF(MID('XML a procesar'!A215,1,1)=\"<\",P215,P215+1)),P215)","v":1}]
[{"$f":"IF('XML a procesar'!A216>0,'XML a procesar'!A216,\"\")","v":""},0,0,0,0,"",0,0,0,"","",0,"",0,"",{"$f":"IF(ROW()<$S$4+2,IF('XML a procesar'!A216=\"\",P216,IF(MID('XML a procesar'!A216,1,1)=\"<\",P216,P216+1)),P216)","v":1}]
[{"$f":"IF('XML a procesar'!A217>0,'XML a procesar'!A217,\"\")","v":""},0,0,0,0,"",0,0,0,"","",0,"",0,"",{"$f":"IF(ROW()<$S$4+2,IF('XML a procesar'!A217=\"\",P217,IF(MID('XML a procesar'!A217,1,1)=\"<\",P217,P217+1)),P217)","v":1}]
[{"$f":"IF('XML a procesar'!A218>0,'XML a procesar'!A218,\"\")","v":""},0,0,0,0,"",0,0,0,"","",0,"",0,"",{"$f":"IF(ROW()<$S$4+2,IF('XML a procesar'!A218=\"\",P218,IF(MID('XML a procesar'!A218,1,1)=\"<\",P218,P218+1)),P218)","v":1}]
[{"$f":"IF('XML a procesar'!A219>0,'XML a procesar'!A219,\"\")","v":""},0,0,0,0,"",0,0,0,"","",0,"",0,"",{"$f":"IF(ROW()<$S$4+2,IF('XML a procesar'!A219=\"\",P219,IF(MID('XML a procesar'!A219,1,1)=\"<\",P219,P219+1)),P219)","v":1}]
[{"$f":"IF('XML a procesar'!A220>0,'XML a procesar'!A220,\"\")","v":""},0,0,0,0,"",0,0,0,"","",0,"",0,"",{"$f":"IF(ROW()<$S$4+2,IF('XML a procesar'!A220=\"\",P220,IF(MID('XML a procesar'!A220,1,1)=\"<\",P220,P220+1)),P220)","v":1}]
[{"$f":"IF('XML a procesar'!A221>0,'XML a procesar'!A221,\"\")","v":""},0,0,0,0,"",0,0,0,"","",0,"",0,"",{"$f":"IF(ROW()<$S$4+2,IF('XML a procesar'!A221=\"\",P221,IF(MID('XML a procesar'!A221,1,1)=\"<\",P221,P221+1)),P221)","v":1}]
[{"$f":"IF('XML a procesar'!A222>0,'XML a procesar'!A222,\"\")","v":""},0,0,0,0,"",0,0,0,"","",0,"",0,"",{"$f":"IF(ROW()<$S$4+2,IF('XML a procesar'!A222=\"\",P222,IF(MID('XML a procesar'!A222,1,1)=\"<\",P222,P222+1)),P222)","v":1}]
[{"$f":"IF('XML a procesar'!A223>0,'XML a procesar'!A223,\"\")","v":""},0,0,0,0,"",0,0,0,"","",0,"",0,"",{"$f":"IF(ROW()<$S$4+2,IF('XML a procesar'!A223=\"\",P223,IF(MID('XML a procesar'!A223,1,1)=\"<\",P223,P223+1)),P223)","v":1}]
[{"$f":"IF('XML a procesar'!A224>0,'XML a procesar'!A224,\"\")","v":""},0,0,0,0,"",0,0,0,"","",0,"",0,"",{"$f":"IF(ROW()<$S$4+2,IF('XML a procesar'!A224=\"\",P224,IF(MID('XML a procesar'!A224,1,1)=\"<\",P224,P224+1)),P224)","v":1}]
[{"$f":"IF('XML a procesar'!A225>0,'XML a procesar'!A225,\"\")","v":""},0,0,0,0,"",0,0,0,"","",0,"",0,"",{"$f":"IF(ROW()<$S$4+2,IF('XML a procesar'!A225=\"\",P225,IF(MID('XML a procesar'!A225,1,1)=\"<\",P225,P225+1)),P225)","v":1}]
[{"$f":"IF('XML a procesar'!A226>0,'XML a procesar'!A226,\"\")","v":""},0,0,0,0,"",0,0,0,"","",0,"",0,"",{"$f":"IF(ROW()<$S$4+2,IF('XML a procesar'!A226=\"\",P226,IF(MID('XML a procesar'!A226,1,1)=\"<\",P226,P226+1)),P226)","v":1}]
[{"$f":"IF('XML a procesar'!A227>0,'XML a procesar'!A227,\"\")","v":""},0,0,0,0,"",0,0,0,"","",0,"",0,"",{"$f":"IF(ROW()<$S$4+2,IF('XML a procesar'!A227=\"\",P227,IF(MID('XML a procesar'!A227,1,1)=\"<\",P227,P227+1)),P227)","v":1}]
[{"$f":"IF('XML a procesar'!A228>0,'XML a procesar'!A228,\"\")","v":""},0,0,0,0,"",0,0,0,"","",0,"",0,"",{"$f":"IF(ROW()<$S$4+2,IF('XML a procesar'!A228=\"\",P228,IF(MID('XML a procesar'!A228,1,1)=\"<\",P228,P228+1)),P228)","v":1}]
[{"$f":"IF('XML a procesar'!A229>0,'XML a procesar'!A229,\"\")","v":""},0,0,0,0,"",0,0,0,"","",0,"",0,"",{"$f":"IF(ROW()<$S$4+2,IF('XML a procesar'!A229=\"\",P229,IF(MID('XML a procesar'!A229,1,1)=\"<\",P229,P229+1)),P229)","v":1}]
[{"$f":"IF('XML a procesar'!A230>0,'XML a procesar'!A230,\"\")","v":""},0,0,0,0,"",0,0,0,"","",0,"",0,"",{"$f":"IF(ROW()<$S$4+2,IF('XML a procesar'!A230=\"\",P230,IF(MID('XML a procesar'!A230,1,1)=\"<\",P230,P230+1)),P230)","v":1}]
[{"$f":"IF('XML a procesar'!A231>0,'XML a procesar'!A231,\"\")","v":""},0,0,0,0,"",0,0,0,"","",0,"",0,"",{"$f":"IF(ROW()<$S$4+2,IF('XML a procesar'!A231=\"\",P231,IF(MID('XML a procesar'!A231,1,1)=\"<\",P231,P231+1)),P231)","v":1}]
[{"$f":"IF('XML a procesar'!A232>0,'XML a procesar'!A232,\"\")","v":""},0,0,0,0,"",0,0,0,"","",0,"",0,"",{"$f":"IF(ROW()<$S$4+2,IF('XML a procesar'!A232=\"\",P232,IF(MID('XML a procesar'!A232,1,1)=\"<\",P232,P232+1)),P232)","v":1}]
[{"$f":"IF('XML a procesar'!A233>0,'XML a procesar'!A233,\"\")","v":""},0,0,0,0,"",0,0,0,"","",0,"",0,"",{"$f":"IF(ROW()<$S$4+2,IF('XML a procesar'!A233=\"\",P233,IF(MID('XML a procesar'!A233,1,1)=\"<\",P233,P233+1)),P233)","v":1}]
[{"$f":"IF('XML a procesar'!A234>0,'XML a procesar'!A234,\"\")","v":""},0,0,0,0,"",0,0,0,"","",0,"",0,"",{"$f":"IF(ROW()<$S$4+2,IF('XML a procesar'!A234=\"\",P234,IF(MID('XML a procesar'!A234,1,1)=\"<\",P234,P234+1)),P234)","v":1}]
[{"$f":"IF('XML a procesar'!A235>0,'XML a procesar'!A235,\"\")","v":""},0,0,0,0,"",0,0,0,"","",0,"",0,"",{"$f":"IF(ROW()<$S$4+2,IF('XML a procesar'!A235=\"\",P235,IF(MID('XML a procesar'!A235,1,1)=\"<\",P235,P235+1)),P235)","v":1}]
[{"$f":"IF('XML a procesar'!A236>0,'XML a procesar'!A236,\"\")","v":""},0,0,0,0,"",0,0,0,"","",0,"",0,"",{"$f":"IF(ROW()<$S$4+2,IF('XML a procesar'!A236=\"\",P236,IF(MID('XML a procesar'!A236,1,1)=\"<\",P236,P236+1)),P236)","v":1}]
[{"$f":"IF('XML a procesar'!A237>0,'XML a procesar'!A237,\"\")","v":""},0,0,0,0,"",0,0,0,"","",0,"",0,"",{"$f":"IF(ROW()<$S$4+2,IF('XML a procesar'!A237=\"\",P237,IF(MID('XML a procesar'!A237,1,1)=\"<\",P237,P237+1)),P237)","v":1}]
[{"$f":"IF('XML a procesar'!A238>0,'XML a procesar'!A238,\"\")","v":""},0,0,0,0,"",0,0,0,"","",0,"",0,"",{"$f":"IF(ROW()<$S$4+2,IF('XML a procesar'!A238=\"\",P238,IF(MID('XML a procesar'!A238,1,1)=\"<\",P238,P238+1)),P238)","v":1}]
[{"$f":"IF('XML a procesar'!A239>0,'XML a procesar'!A239,\"\")","v":""},0,0,0,0,"",0,0,0,"","",0,"",0,"",{"$f":"IF(ROW()<$S$4+2,IF('XML a procesar'!A239=\"\",P239,IF(MID('XML a procesar'!A239,1,1)=\"<\",P239,P239+1)),P239)","v":1}]
[{"$f":"IF('XML a procesar'!A240>0,'XML a procesar'!A240,\"\")","v":""},0,0,0,0,"",0,0,0,"","",0,"",0,"",{"$f":"IF(ROW()<$S$4+2,IF('XML a procesar'!A240=\"\",P240,IF(MID('XML a procesar'!A240,1,1)=\"<\",P240,P240+1)),P240)","v":1}]
[{"$f":"IF('XML a procesar'!A241>0,'XML a procesar'!A241,\"\")","v":""},0,0,0,0,"",0,0,0,"","",0,"",0,"",{"$f":"IF(ROW()<$S$4+2,IF('XML a procesar'!A241=\"\",P241,IF(MID('XML a procesar'!A241,1,1)=\"<\",P241,P241+1)),P241)","v":1}]
[{"$f":"IF('XML a procesar'!A242>0,'XML a procesar'!A242,\"\")","v":""},0,0,0,0,"",0,0,0,"","",0,"",0,"",{"$f":"IF(ROW()<$S$4+2,IF('XML a procesar'!A242=\"\",P242,IF(MID('XML a procesar'!A242,1,1)=\"<\",P242,P242+1)),P242)","v":1}]
[{"$f":"IF('XML a procesar'!A243>0,'XML a procesar'!A243,\"\")","v":""},0,0,0,0,"",0,0,0,"","",0,"",0,"",{"$f":"IF(ROW()<$S$4+2,IF('XML a procesar'!A243=\"\",P243,IF(MID('XML a procesar'!A243,1,1)=\"<\",P243,P243+1)),P243)","v":1}]
[{"$f":"IF('XML a procesar'!A244>0,'XML a procesar'!A244,\"\")","v":""},0,0,0,0,"",0,0,0,"","",0,"",0,"",{"$f":"IF(ROW()<$S$4+2,IF('XML a procesar'!A244=\"\",P244,IF(MID('XML a procesar'!A244,1,1)=\"<\",P244,P244+1)),P244)","v":1}]
[{"$f":"IF('XML a procesar'!A245>0,'XML a procesar'!A245,\"\")","v":""},0,0,0,0,"",0,0,0,"","",0,"",0,"",{"$f":"IF(ROW()<$S$4+2,IF('XML a procesar'!A245=\"\",P245,IF(MID('XML a procesar'!A245,1,1)=\"<\",P245,P245+1)),P245)","v":1}]
[{"$f":"IF('XML a procesar'!A246>0,'XML a procesar'!A246,\"\")","v":""},0,0,0,0,"",0,0,0,"","",0,"",0,"",{"$f":"IF(ROW()<$S$4+2,IF('XML a procesar'!A246=\"\",P246,IF(MID('XML a procesar'!A246,1,1)=\"<\",P246,P246+1)),P246)","v":1}]
[{"$f":"IF('XML a procesar'!A247>0,'XML a procesar'!A247,\"\")","v":""},0,0,0,0,"",0,0,0,"","",0,"",0,"",{"$f":"IF(ROW()<$S$4+2,IF('XML a procesar'!A247=\"\",P247,IF(MID('XML a procesar'!A247,1,1)=\"<\",P247,P247+1)),P247)","v":1}]
[{"$f":"IF('XML a procesar'!A248>0,'XML a procesar'!A248,\"\")","v":""},0,0,0,0,"",0,0,0,"","",0,"",0,"",{"$f":"IF(ROW()<$S$4+2,IF('XML a procesar'!A248=\"\",P248,IF(MID('XML a procesar'!A248,1,1)=\"<\",P248,P248+1)),P248)","v":1}]
[{"$f":"IF('XML a procesar'!A249>0,'XML a procesar'!A249,\"\")","v":""},0,0,0,0,"",0,0,0,"","",0,"",0,"",{"$f":"IF(ROW()<$S$4+2,IF('XML a procesar'!A249=\"\",P249,IF(MID('XML a procesar'!A249,1,1)=\"<\",P249,P249+1)),P249)","v":1}]
[{"$f":"IF('XML a procesar'!A250>0,'XML a procesar'!A250,\"\")","v":""},0,0,0,0,"",0,0,0,"","",0,"",0,"",{"$f":"IF(ROW()<$S$4+2,IF('XML a procesar'!A250=\"\",P250,IF(MID('XML a procesar'!A250,1,1)=\"<\",P250,P250+1)),P250)","v":1}]
[{"$f":"IF('XML a procesar'!A251>0,'XML a procesar'!A251,\"\")","v":""},0,0,0,0,"",0,0,0,"","",0,"",0,"",{"$f":"IF(ROW()<$S$4+2,IF('XML a procesar'!A251=\"\",P251,IF(MID('XML a procesar'!A251,1,1)=\"<\",P251,P251+1)),P251)","v":1}]
[{"$f":"IF('XML a procesar'!A252>0,'XML a procesar'!A252,\"\")","v":""},0,0,0,0,"",0,0,0,"","",0,"",0,"",{"$f":"IF(ROW()<$S$4+2,IF('XML a procesar'!A252=\"\",P252,IF(MID('XML a procesar'!A252,1,1)=\"<\",P252,P252+1)),P252)","v":1}]
[{"$f":"IF('XML a procesar'!A253>0,'XML a procesar'!A253,\"\")","v":""},0,0,0,0,"",0,0,0,"","",0,"",0,"",{"$f":"IF(ROW()<$S$4+2,IF('XML a procesar'!A253=\"\",P253,IF(MID('XML a procesar'!A253,1,1)=\"<\",P253,P253+1)),P253)","v":1}]
[{"$f":"IF('XML a procesar'!A254>0,'XML a procesar'!A254,\"\")","v":""},0,0,0,0,"",0,0,0,"","",0,"",0,"",{"$f":"IF(ROW()<$S$4+2,IF('XML a procesar'!A254=\"\",P254,IF(MID('XML a procesar'!A254,1,1)=\"<\",P254,P254+1)),P254)","v":1}]
[{"$f":"IF('XML a procesar'!A255>0,'XML a procesar'!A255,\"\")","v":""},0,0,0,0,"",0,0,0,"","",0,"",0,"",{"$f":"IF(ROW()<$S$4+2,IF('XML a procesar'!A255=\"\",P255,IF(MID('XML a procesar'!A255,1,1)=\"<\",P255,P255+1)),P255)","v":1}]
[{"$f":"IF('XML a procesar'!A256>0,'XML a procesar'!A256,\"\")","v":""},0,0,0,0,"",0,0,0,"","",0,"",0,"",{"$f":"IF(ROW()<$S$4+2,IF('XML a procesar'!A256=\"\",P256,IF(MID('XML a procesar'!A256,1,1)=\"<\",P256,P256+1)),P256)","v":1}]
[{"$f":"IF('XML a procesar'!A257>0,'XML a procesar'!A257,\"\")","v":""},0,0,0,0,"",0,0,0,"","",0,"",0,{"$f":"IF(N258>-1,INDIRECT(ADDRESS(ROW(),13)),IF(N258<N257,CONCATENATE(\"<page-count count=\",CHAR(34),1+LARGE(N:N,1)-LARGE(N:N,2),CHAR(34),\"/>\"),INDIRECT(ADDRESS(ROW()-1,13))))","v":""},{"$f":"IF(ROW()<$S$4+2,IF('XML a procesar'!A257=\"\",P257,IF(MID('XML a procesar'!A257,1,1)=\"<\",P257,P257+1)),P257)","v":1}]
[{"$f":"IF('XML a procesar'!A258>0,'XML a procesar'!A258,\"\")","v":""},{"$f":"IF(ISERROR(FIND(\"/doi.org/\",A259,1)),0,1)","v":0},0,{"$f":"IF(AND(C259>0,LEFT(A259,7)=\"<email>\",ISNUMBER(SEARCH(\"@\",A259,1))),C259,IF(LEFT(A259,10)=\"<alt-text>\",-1,0))","v":0},0,{"$f":"INDIRECT(ADDRESS(ROW()+INDIRECT(ADDRESS(ROW()+E259,5)),1))","v":""},0,{"$f":"IF(AND(G258>0,G259>G258,NOT(ISERROR(MATCH(G258,D:D,0)))),H258+1,H258)","v":0},0,"",{"$f":"IF(J259=\"Linea_para_MAIL_creada_por_LuXML\",IF(ISERROR(MATCH(INDIRECT(ADDRESS(ROW()-G259,7)),D:D,0)),J259,INDIRECT(ADDRESS(MATCH(INDIRECT(ADDRESS(ROW()-G259,7)),D:D,0),1))),J259)","v":""},0,"",0,"",{"$f":"IF(ROW()<$S$4+2,IF('XML a procesar'!A258=\"\",P258,IF(MID('XML a procesar'!A258,1,1)=\"<\",P258,P258+1)),P258)","v":1}]
[{"$f":"IF('XML a procesar'!A259>0,'XML a procesar'!A259,\"\")","v":""},0,{"$f":"IF(LEFT(A259,16)=\"<contrib contrib\",C259+1,IF(LEFT(A259,16)=\"</contrib-group>\",0,IF(LEFT(A259,10)=\"</contrib>\",C259,C259)))","v":0},0,{"$f":"IF(D260=0,E259,E259+1)","v":0},"",{"$f":"IF(LEFT(F260,7)=\"<aff id\",_xlfn.NUMBERVALUE(MID(F260,13,LEN(F260)-14)),IF(F260=\"</aff>\",G259+1,G259))","v":0},0,{"$f":"INDIRECT(ADDRESS(ROW()-INDIRECT(ADDRESS(ROW()-H260,8)),8))","v":0},{"$f":"IF(J259=\"Linea_para_MAIL_creada_por_LuXML\",\"</aff>\",IF(I260>INDIRECT(ADDRESS(ROW()-I260-1,8)),\"Linea_para_MAIL_creada_por_LuXML\",INDIRECT(ADDRESS(ROW()-I260,6))))","v":""},"",{"$f":"IF(OR(MID(K258,3,5)=\"page>\",MID(K259,3,5)=\"page>\"),L259,IF(OR(K259=\"<history>\",K260=\"<history>\"),L259+1,L259))","v":0},"",{"$f":"IF(N259=-1,-1,IF(M260=\"</counts>\",-1,IF(OR(LEFT(M260,7)=\"<fpage>\",LEFT(M260,7)=\"<lpage>\"),VALUE(MID(M260,8,LEN(M260)-15)),0)))","v":0},"",{"$f":"IF(ROW()<$S$4+2,IF('XML a procesar'!A259=\"\",P259,IF(MID('XML a procesar'!A259,1,1)=\"<\",P259,P259+1)),P259)","v":1}]
[{"$f":"IF('XML a procesar'!A260>0,'XML a procesar'!A260,\"\")","v":""},0,0,0,0,"",0,0,0,"","",0,"",0,"",{"$f":"IF(ROW()<$S$4+2,IF('XML a procesar'!A260=\"\",P260,IF(MID('XML a procesar'!A260,1,1)=\"<\",P260,P260+1)),P260)","v":1}]
[{"$f":"IF('XML a procesar'!A261>0,'XML a procesar'!A261,\"\")","v":""},0,0,0,0,"",0,0,0,"","",0,{"$f":"IF(L262>L261,IF(L262=1,CONCATENATE(\"<fpage>\",$S$10,\"</fpage>\"),CONCATENATE(\"<lpage>\",$S$10+1,\"</lpage>\")),IF(ISERROR(INDIRECT(ADDRESS(ROW()-L262,11),1)),\"\",INDIRECT(ADDRESS(ROW()-L262,11),1)))","v":""},0,"",{"$f":"IF(ROW()<$S$4+2,IF('XML a procesar'!A261=\"\",P261,IF(MID('XML a procesar'!A261,1,1)=\"<\",P261,P261+1)),P261)","v":1}]
[{"$f":"IF('XML a procesar'!A262>0,'XML a procesar'!A262,\"\")","v":""},0,0,0,0,"",0,0,0,"","",0,"",0,"",{"$f":"IF(ROW()<$S$4+2,IF('XML a procesar'!A262=\"\",P262,IF(MID('XML a procesar'!A262,1,1)=\"<\",P262,P262+1)),P262)","v":1}]
[{"$f":"IF('XML a procesar'!A263>0,'XML a procesar'!A263,\"\")","v":""},0,0,0,0,"",0,0,0,"","",0,"",0,"",{"$f":"IF(ROW()<$S$4+2,IF('XML a procesar'!A263=\"\",P263,IF(MID('XML a procesar'!A263,1,1)=\"<\",P263,P263+1)),P263)","v":1}]
[{"$f":"IF('XML a procesar'!A264>0,'XML a procesar'!A264,\"\")","v":""},0,0,0,0,"",0,0,0,"","",0,"",0,"",{"$f":"IF(ROW()<$S$4+2,IF('XML a procesar'!A264=\"\",P264,IF(MID('XML a procesar'!A264,1,1)=\"<\",P264,P264+1)),P264)","v":1}]
[{"$f":"IF('XML a procesar'!A265>0,'XML a procesar'!A265,\"\")","v":""},0,0,0,0,"",0,0,0,"","",0,"",0,"",{"$f":"IF(ROW()<$S$4+2,IF('XML a procesar'!A265=\"\",P265,IF(MID('XML a procesar'!A265,1,1)=\"<\",P265,P265+1)),P265)","v":1}]
[{"$f":"IF('XML a procesar'!A266>0,'XML a procesar'!A266,\"\")","v":""},0,0,0,0,"",0,0,0,"","",0,"",0,"",{"$f":"IF(ROW()<$S$4+2,IF('XML a procesar'!A266=\"\",P266,IF(MID('XML a procesar'!A266,1,1)=\"<\",P266,P266+1)),P266)","v":1}]
[{"$f":"IF('XML a procesar'!A267>0,'XML a procesar'!A267,\"\")","v":""},0,0,0,0,"",0,0,0,"","",0,"",0,"",{"$f":"IF(ROW()<$S$4+2,IF('XML a procesar'!A267=\"\",P267,IF(MID('XML a procesar'!A267,1,1)=\"<\",P267,P267+1)),P267)","v":1}]
[{"$f":"IF('XML a procesar'!A268>0,'XML a procesar'!A268,\"\")","v":""},0,0,0,0,"",0,0,0,"","",0,"",0,"",{"$f":"IF(ROW()<$S$4+2,IF('XML a procesar'!A268=\"\",P268,IF(MID('XML a procesar'!A268,1,1)=\"<\",P268,P268+1)),P268)","v":1}]
[{"$f":"IF('XML a procesar'!A269>0,'XML a procesar'!A269,\"\")","v":""},0,0,0,0,"",0,0,0,"","",0,"",0,"",{"$f":"IF(ROW()<$S$4+2,IF('XML a procesar'!A269=\"\",P269,IF(MID('XML a procesar'!A269,1,1)=\"<\",P269,P269+1)),P269)","v":1}]
[{"$f":"IF('XML a procesar'!A270>0,'XML a procesar'!A270,\"\")","v":""},0,0,0,0,"",0,0,0,"","",0,"",0,"",{"$f":"IF(ROW()<$S$4+2,IF('XML a procesar'!A270=\"\",P270,IF(MID('XML a procesar'!A270,1,1)=\"<\",P270,P270+1)),P270)","v":1}]
[{"$f":"IF('XML a procesar'!A271>0,'XML a procesar'!A271,\"\")","v":""},0,0,0,0,"",0,0,0,"","",0,"",0,"",{"$f":"IF(ROW()<$S$4+2,IF('XML a procesar'!A271=\"\",P271,IF(MID('XML a procesar'!A271,1,1)=\"<\",P271,P271+1)),P271)","v":1}]
[{"$f":"IF('XML a procesar'!A272>0,'XML a procesar'!A272,\"\")","v":""},0,0,0,0,"",0,0,0,"","",0,"",0,"",{"$f":"IF(ROW()<$S$4+2,IF('XML a procesar'!A272=\"\",P272,IF(MID('XML a procesar'!A272,1,1)=\"<\",P272,P272+1)),P272)","v":1}]
[{"$f":"IF('XML a procesar'!A273>0,'XML a procesar'!A273,\"\")","v":""},0,0,0,0,"",0,0,0,"","",0,"",0,"",{"$f":"IF(ROW()<$S$4+2,IF('XML a procesar'!A273=\"\",P273,IF(MID('XML a procesar'!A273,1,1)=\"<\",P273,P273+1)),P273)","v":1}]
[{"$f":"IF('XML a procesar'!A274>0,'XML a procesar'!A274,\"\")","v":""},0,0,0,0,"",0,0,0,"","",0,"",0,"",{"$f":"IF(ROW()<$S$4+2,IF('XML a procesar'!A274=\"\",P274,IF(MID('XML a procesar'!A274,1,1)=\"<\",P274,P274+1)),P274)","v":1}]
[{"$f":"IF('XML a procesar'!A275>0,'XML a procesar'!A275,\"\")","v":""},0,0,0,0,"",0,0,0,"","",0,"",0,"",{"$f":"IF(ROW()<$S$4+2,IF('XML a procesar'!A275=\"\",P275,IF(MID('XML a procesar'!A275,1,1)=\"<\",P275,P275+1)),P275)","v":1}]
[{"$f":"IF('XML a procesar'!A276>0,'XML a procesar'!A276,\"\")","v":""},0,0,0,0,"",0,0,0,"","",0,"",0,"",{"$f":"IF(ROW()<$S$4+2,IF('XML a procesar'!A276=\"\",P276,IF(MID('XML a procesar'!A276,1,1)=\"<\",P276,P276+1)),P276)","v":1}]
[{"$f":"IF('XML a procesar'!A277>0,'XML a procesar'!A277,\"\")","v":""},0,0,0,0,"",0,0,0,"","",0,"",0,"",{"$f":"IF(ROW()<$S$4+2,IF('XML a procesar'!A277=\"\",P277,IF(MID('XML a procesar'!A277,1,1)=\"<\",P277,P277+1)),P277)","v":1}]
[{"$f":"IF('XML a procesar'!A278>0,'XML a procesar'!A278,\"\")","v":""},0,0,0,0,"",0,0,0,"","",0,"",0,"",{"$f":"IF(ROW()<$S$4+2,IF('XML a procesar'!A278=\"\",P278,IF(MID('XML a procesar'!A278,1,1)=\"<\",P278,P278+1)),P278)","v":1}]
[{"$f":"IF('XML a procesar'!A279>0,'XML a procesar'!A279,\"\")","v":""},0,0,0,0,"",0,0,0,"","",0,"",0,"",{"$f":"IF(ROW()<$S$4+2,IF('XML a procesar'!A279=\"\",P279,IF(MID('XML a procesar'!A279,1,1)=\"<\",P279,P279+1)),P279)","v":1}]
[{"$f":"IF('XML a procesar'!A280>0,'XML a procesar'!A280,\"\")","v":""},0,0,0,0,"",0,0,0,"","",0,"",0,"",{"$f":"IF(ROW()<$S$4+2,IF('XML a procesar'!A280=\"\",P280,IF(MID('XML a procesar'!A280,1,1)=\"<\",P280,P280+1)),P280)","v":1}]
[{"$f":"IF('XML a procesar'!A281>0,'XML a procesar'!A281,\"\")","v":""},0,0,0,0,"",0,0,0,"","",0,"",0,"",{"$f":"IF(ROW()<$S$4+2,IF('XML a procesar'!A281=\"\",P281,IF(MID('XML a procesar'!A281,1,1)=\"<\",P281,P281+1)),P281)","v":1}]
[{"$f":"IF('XML a procesar'!A282>0,'XML a procesar'!A282,\"\")","v":""},0,0,0,0,"",0,0,0,"","",0,"",0,"",{"$f":"IF(ROW()<$S$4+2,IF('XML a procesar'!A282=\"\",P282,IF(MID('XML a procesar'!A282,1,1)=\"<\",P282,P282+1)),P282)","v":1}]
[{"$f":"IF('XML a procesar'!A283>0,'XML a procesar'!A283,\"\")","v":""},0,0,0,0,"",0,0,0,"","",0,"",0,"",{"$f":"IF(ROW()<$S$4+2,IF('XML a procesar'!A283=\"\",P283,IF(MID('XML a procesar'!A283,1,1)=\"<\",P283,P283+1)),P283)","v":1}]
[{"$f":"IF('XML a procesar'!A284>0,'XML a procesar'!A284,\"\")","v":""},0,0,0,0,"",0,0,0,"","",0,"",0,"",{"$f":"IF(ROW()<$S$4+2,IF('XML a procesar'!A284=\"\",P284,IF(MID('XML a procesar'!A284,1,1)=\"<\",P284,P284+1)),P284)","v":1}]
[{"$f":"IF('XML a procesar'!A285>0,'XML a procesar'!A285,\"\")","v":""},0,0,0,0,"",0,0,0,"","",0,"",0,"",{"$f":"IF(ROW()<$S$4+2,IF('XML a procesar'!A285=\"\",P285,IF(MID('XML a procesar'!A285,1,1)=\"<\",P285,P285+1)),P285)","v":1}]
[{"$f":"IF('XML a procesar'!A286>0,'XML a procesar'!A286,\"\")","v":""},0,0,0,0,"",0,0,0,"","",0,"",0,"",{"$f":"IF(ROW()<$S$4+2,IF('XML a procesar'!A286=\"\",P286,IF(MID('XML a procesar'!A286,1,1)=\"<\",P286,P286+1)),P286)","v":1}]
[{"$f":"IF('XML a procesar'!A287>0,'XML a procesar'!A287,\"\")","v":""},0,0,0,0,"",0,0,0,"","",0,"",0,"",{"$f":"IF(ROW()<$S$4+2,IF('XML a procesar'!A287=\"\",P287,IF(MID('XML a procesar'!A287,1,1)=\"<\",P287,P287+1)),P287)","v":1}]
[{"$f":"IF('XML a procesar'!A288>0,'XML a procesar'!A288,\"\")","v":""},0,0,0,0,"",0,0,0,"","",0,"",0,"",{"$f":"IF(ROW()<$S$4+2,IF('XML a procesar'!A288=\"\",P288,IF(MID('XML a procesar'!A288,1,1)=\"<\",P288,P288+1)),P288)","v":1}]
[{"$f":"IF('XML a procesar'!A289>0,'XML a procesar'!A289,\"\")","v":""},0,0,0,0,"",0,0,0,"","",0,"",0,"",{"$f":"IF(ROW()<$S$4+2,IF('XML a procesar'!A289=\"\",P289,IF(MID('XML a procesar'!A289,1,1)=\"<\",P289,P289+1)),P289)","v":1}]
[{"$f":"IF('XML a procesar'!A290>0,'XML a procesar'!A290,\"\")","v":""},0,0,0,0,"",0,0,0,"","",0,"",0,"",{"$f":"IF(ROW()<$S$4+2,IF('XML a procesar'!A290=\"\",P290,IF(MID('XML a procesar'!A290,1,1)=\"<\",P290,P290+1)),P290)","v":1}]
[{"$f":"IF('XML a procesar'!A291>0,'XML a procesar'!A291,\"\")","v":""},0,0,0,0,"",0,0,0,"","",0,"",0,"",{"$f":"IF(ROW()<$S$4+2,IF('XML a procesar'!A291=\"\",P291,IF(MID('XML a procesar'!A291,1,1)=\"<\",P291,P291+1)),P291)","v":1}]
[{"$f":"IF('XML a procesar'!A292>0,'XML a procesar'!A292,\"\")","v":""},0,0,0,0,"",0,0,0,"","",0,"",0,"",{"$f":"IF(ROW()<$S$4+2,IF('XML a procesar'!A292=\"\",P292,IF(MID('XML a procesar'!A292,1,1)=\"<\",P292,P292+1)),P292)","v":1}]
[{"$f":"IF('XML a procesar'!A293>0,'XML a procesar'!A293,\"\")","v":""},0,0,0,0,"",0,0,0,"","",0,"",0,"",{"$f":"IF(ROW()<$S$4+2,IF('XML a procesar'!A293=\"\",P293,IF(MID('XML a procesar'!A293,1,1)=\"<\",P293,P293+1)),P293)","v":1}]
[{"$f":"IF('XML a procesar'!A294>0,'XML a procesar'!A294,\"\")","v":""},0,0,0,0,"",0,0,0,"","",0,"",0,"",{"$f":"IF(ROW()<$S$4+2,IF('XML a procesar'!A294=\"\",P294,IF(MID('XML a procesar'!A294,1,1)=\"<\",P294,P294+1)),P294)","v":1}]
[{"$f":"IF('XML a procesar'!A295>0,'XML a procesar'!A295,\"\")","v":""},0,0,0,0,"",0,0,0,"","",0,"",0,"",{"$f":"IF(ROW()<$S$4+2,IF('XML a procesar'!A295=\"\",P295,IF(MID('XML a procesar'!A295,1,1)=\"<\",P295,P295+1)),P295)","v":1}]
[{"$f":"IF('XML a procesar'!A296>0,'XML a procesar'!A296,\"\")","v":""},0,0,0,0,"",0,0,0,"","",0,"",0,"",{"$f":"IF(ROW()<$S$4+2,IF('XML a procesar'!A296=\"\",P296,IF(MID('XML a procesar'!A296,1,1)=\"<\",P296,P296+1)),P296)","v":1}]
[{"$f":"IF('XML a procesar'!A297>0,'XML a procesar'!A297,\"\")","v":""},0,0,0,0,"",0,0,0,"","",0,"",0,"",{"$f":"IF(ROW()<$S$4+2,IF('XML a procesar'!A297=\"\",P297,IF(MID('XML a procesar'!A297,1,1)=\"<\",P297,P297+1)),P297)","v":1}]
[{"$f":"IF('XML a procesar'!A298>0,'XML a procesar'!A298,\"\")","v":""},0,0,0,0,"",0,0,0,"","",0,"",0,"",{"$f":"IF(ROW()<$S$4+2,IF('XML a procesar'!A298=\"\",P298,IF(MID('XML a procesar'!A298,1,1)=\"<\",P298,P298+1)),P298)","v":1}]
[{"$f":"IF('XML a procesar'!A299>0,'XML a procesar'!A299,\"\")","v":""},0,0,0,0,"",0,0,0,"","",0,"",0,"",{"$f":"IF(ROW()<$S$4+2,IF('XML a procesar'!A299=\"\",P299,IF(MID('XML a procesar'!A299,1,1)=\"<\",P299,P299+1)),P299)","v":1}]
[{"$f":"IF('XML a procesar'!A300>0,'XML a procesar'!A300,\"\")","v":""},0,0,0,0,"",0,0,0,"","",0,"",0,"",{"$f":"IF(ROW()<$S$4+2,IF('XML a procesar'!A300=\"\",P300,IF(MID('XML a procesar'!A300,1,1)=\"<\",P300,P300+1)),P300)","v":1}]
[{"$f":"IF('XML a procesar'!A301>0,'XML a procesar'!A301,\"\")","v":""},0,0,0,0,"",0,0,0,"","",0,"",0,"",{"$f":"IF(ROW()<$S$4+2,IF('XML a procesar'!A301=\"\",P301,IF(MID('XML a procesar'!A301,1,1)=\"<\",P301,P301+1)),P301)","v":1}]
[{"$f":"IF('XML a procesar'!A302>0,'XML a procesar'!A302,\"\")","v":""},0,0,0,0,"",0,0,0,"","",0,"",0,"",{"$f":"IF(ROW()<$S$4+2,IF('XML a procesar'!A302=\"\",P302,IF(MID('XML a procesar'!A302,1,1)=\"<\",P302,P302+1)),P302)","v":1}]
[{"$f":"IF('XML a procesar'!A303>0,'XML a procesar'!A303,\"\")","v":""},0,0,0,0,"",0,0,0,"","",0,"",0,"",{"$f":"IF(ROW()<$S$4+2,IF('XML a procesar'!A303=\"\",P303,IF(MID('XML a procesar'!A303,1,1)=\"<\",P303,P303+1)),P303)","v":1}]
[{"$f":"IF('XML a procesar'!A304>0,'XML a procesar'!A304,\"\")","v":""},0,0,0,0,"",0,0,0,"","",0,"",0,"",{"$f":"IF(ROW()<$S$4+2,IF('XML a procesar'!A304=\"\",P304,IF(MID('XML a procesar'!A304,1,1)=\"<\",P304,P304+1)),P304)","v":1}]
[{"$f":"IF('XML a procesar'!A305>0,'XML a procesar'!A305,\"\")","v":""},0,0,0,0,"",0,0,0,"","",0,"",0,"",{"$f":"IF(ROW()<$S$4+2,IF('XML a procesar'!A305=\"\",P305,IF(MID('XML a procesar'!A305,1,1)=\"<\",P305,P305+1)),P305)","v":1}]
[{"$f":"IF('XML a procesar'!A306>0,'XML a procesar'!A306,\"\")","v":""},0,0,0,0,"",0,0,0,"","",0,"",0,"",{"$f":"IF(ROW()<$S$4+2,IF('XML a procesar'!A306=\"\",P306,IF(MID('XML a procesar'!A306,1,1)=\"<\",P306,P306+1)),P306)","v":1}]
[{"$f":"IF('XML a procesar'!A307>0,'XML a procesar'!A307,\"\")","v":""},0,0,0,0,"",0,0,0,"","",0,"",0,"",{"$f":"IF(ROW()<$S$4+2,IF('XML a procesar'!A307=\"\",P307,IF(MID('XML a procesar'!A307,1,1)=\"<\",P307,P307+1)),P307)","v":1}]
[{"$f":"IF('XML a procesar'!A308>0,'XML a procesar'!A308,\"\")","v":""},0,0,0,0,"",0,0,0,"","",0,"",0,"",{"$f":"IF(ROW()<$S$4+2,IF('XML a procesar'!A308=\"\",P308,IF(MID('XML a procesar'!A308,1,1)=\"<\",P308,P308+1)),P308)","v":1}]
[{"$f":"IF('XML a procesar'!A309>0,'XML a procesar'!A309,\"\")","v":""},0,0,0,0,"",0,0,0,"","",0,"",0,"",{"$f":"IF(ROW()<$S$4+2,IF('XML a procesar'!A309=\"\",P309,IF(MID('XML a procesar'!A309,1,1)=\"<\",P309,P309+1)),P309)","v":1}]
[{"$f":"IF('XML a procesar'!A310>0,'XML a procesar'!A310,\"\")","v":""},0,0,0,0,"",0,0,0,"","",0,"",0,"",{"$f":"IF(ROW()<$S$4+2,IF('XML a procesar'!A310=\"\",P310,IF(MID('XML a procesar'!A310,1,1)=\"<\",P310,P310+1)),P310)","v":1}]
[{"$f":"IF('XML a procesar'!A311>0,'XML a procesar'!A311,\"\")","v":""},0,0,0,0,"",0,0,0,"","",0,"",0,"",{"$f":"IF(ROW()<$S$4+2,IF('XML a procesar'!A311=\"\",P311,IF(MID('XML a procesar'!A311,1,1)=\"<\",P311,P311+1)),P311)","v":1}]
[{"$f":"IF('XML a procesar'!A312>0,'XML a procesar'!A312,\"\")","v":""},0,0,0,0,"",0,0,0,"","",0,"",0,"",{"$f":"IF(ROW()<$S$4+2,IF('XML a procesar'!A312=\"\",P312,IF(MID('XML a procesar'!A312,1,1)=\"<\",P312,P312+1)),P312)","v":1}]
[{"$f":"IF('XML a procesar'!A313>0,'XML a procesar'!A313,\"\")","v":""},0,0,0,0,"",0,0,0,"","",0,"",0,"",{"$f":"IF(ROW()<$S$4+2,IF('XML a procesar'!A313=\"\",P313,IF(MID('XML a procesar'!A313,1,1)=\"<\",P313,P313+1)),P313)","v":1}]
[{"$f":"IF('XML a procesar'!A314>0,'XML a procesar'!A314,\"\")","v":""},0,0,0,0,"",0,0,0,"","",0,"",0,"",{"$f":"IF(ROW()<$S$4+2,IF('XML a procesar'!A314=\"\",P314,IF(MID('XML a procesar'!A314,1,1)=\"<\",P314,P314+1)),P314)","v":1}]
[{"$f":"IF('XML a procesar'!A315>0,'XML a procesar'!A315,\"\")","v":""},0,0,0,0,"",0,0,0,"","",0,"",0,"",{"$f":"IF(ROW()<$S$4+2,IF('XML a procesar'!A315=\"\",P315,IF(MID('XML a procesar'!A315,1,1)=\"<\",P315,P315+1)),P315)","v":1}]
[{"$f":"IF('XML a procesar'!A316>0,'XML a procesar'!A316,\"\")","v":""},0,0,0,0,"",0,0,0,"","",0,"",0,"",{"$f":"IF(ROW()<$S$4+2,IF('XML a procesar'!A316=\"\",P316,IF(MID('XML a procesar'!A316,1,1)=\"<\",P316,P316+1)),P316)","v":1}]
[{"$f":"IF('XML a procesar'!A317>0,'XML a procesar'!A317,\"\")","v":""},0,0,0,0,"",0,0,0,"","",0,"",0,"",{"$f":"IF(ROW()<$S$4+2,IF('XML a procesar'!A317=\"\",P317,IF(MID('XML a procesar'!A317,1,1)=\"<\",P317,P317+1)),P317)","v":1}]
[{"$f":"IF('XML a procesar'!A318>0,'XML a procesar'!A318,\"\")","v":""},0,0,0,0,"",0,0,0,"","",0,"",0,"",{"$f":"IF(ROW()<$S$4+2,IF('XML a procesar'!A318=\"\",P318,IF(MID('XML a procesar'!A318,1,1)=\"<\",P318,P318+1)),P318)","v":1}]
[{"$f":"IF('XML a procesar'!A319>0,'XML a procesar'!A319,\"\")","v":""},0,0,0,0,"",0,0,0,"","",0,"",0,"",{"$f":"IF(ROW()<$S$4+2,IF('XML a procesar'!A319=\"\",P319,IF(MID('XML a procesar'!A319,1,1)=\"<\",P319,P319+1)),P319)","v":1}]
[{"$f":"IF('XML a procesar'!A320>0,'XML a procesar'!A320,\"\")","v":""},0,0,0,0,"",0,0,0,"","",0,"",0,"",{"$f":"IF(ROW()<$S$4+2,IF('XML a procesar'!A320=\"\",P320,IF(MID('XML a procesar'!A320,1,1)=\"<\",P320,P320+1)),P320)","v":1}]
[{"$f":"IF('XML a procesar'!A321>0,'XML a procesar'!A321,\"\")","v":""},0,0,0,0,"",0,0,0,"","",0,"",0,{"$f":"IF(N322>-1,INDIRECT(ADDRESS(ROW(),13)),IF(N322<N321,CONCATENATE(\"<page-count count=\",CHAR(34),1+LARGE(N:N,1)-LARGE(N:N,2),CHAR(34),\"/>\"),INDIRECT(ADDRESS(ROW()-1,13))))","v":""},{"$f":"IF(ROW()<$S$4+2,IF('XML a procesar'!A321=\"\",P321,IF(MID('XML a procesar'!A321,1,1)=\"<\",P321,P321+1)),P321)","v":1}]
[{"$f":"IF('XML a procesar'!A322>0,'XML a procesar'!A322,\"\")","v":""},{"$f":"IF(ISERROR(FIND(\"/doi.org/\",A323,1)),0,1)","v":0},0,{"$f":"IF(AND(C323>0,LEFT(A323,7)=\"<email>\",ISNUMBER(SEARCH(\"@\",A323,1))),C323,IF(LEFT(A323,10)=\"<alt-text>\",-1,0))","v":0},0,{"$f":"INDIRECT(ADDRESS(ROW()+INDIRECT(ADDRESS(ROW()+E323,5)),1))","v":""},0,{"$f":"IF(AND(G322>0,G323>G322,NOT(ISERROR(MATCH(G322,D:D,0)))),H322+1,H322)","v":0},0,"",{"$f":"IF(J323=\"Linea_para_MAIL_creada_por_LuXML\",IF(ISERROR(MATCH(INDIRECT(ADDRESS(ROW()-G323,7)),D:D,0)),J323,INDIRECT(ADDRESS(MATCH(INDIRECT(ADDRESS(ROW()-G323,7)),D:D,0),1))),J323)","v":""},0,"",0,"",{"$f":"IF(ROW()<$S$4+2,IF('XML a procesar'!A322=\"\",P322,IF(MID('XML a procesar'!A322,1,1)=\"<\",P322,P322+1)),P322)","v":1}]
[{"$f":"IF('XML a procesar'!A323>0,'XML a procesar'!A323,\"\")","v":""},0,{"$f":"IF(LEFT(A323,16)=\"<contrib contrib\",C323+1,IF(LEFT(A323,16)=\"</contrib-group>\",0,IF(LEFT(A323,10)=\"</contrib>\",C323,C323)))","v":0},0,{"$f":"IF(D324=0,E323,E323+1)","v":0},"",{"$f":"IF(LEFT(F324,7)=\"<aff id\",_xlfn.NUMBERVALUE(MID(F324,13,LEN(F324)-14)),IF(F324=\"</aff>\",G323+1,G323))","v":0},0,{"$f":"INDIRECT(ADDRESS(ROW()-INDIRECT(ADDRESS(ROW()-H324,8)),8))","v":0},{"$f":"IF(J323=\"Linea_para_MAIL_creada_por_LuXML\",\"</aff>\",IF(I324>INDIRECT(ADDRESS(ROW()-I324-1,8)),\"Linea_para_MAIL_creada_por_LuXML\",INDIRECT(ADDRESS(ROW()-I324,6))))","v":""},"",{"$f":"IF(OR(MID(K322,3,5)=\"page>\",MID(K323,3,5)=\"page>\"),L323,IF(OR(K323=\"<history>\",K324=\"<history>\"),L323+1,L323))","v":0},"",{"$f":"IF(N323=-1,-1,IF(M324=\"</counts>\",-1,IF(OR(LEFT(M324,7)=\"<fpage>\",LEFT(M324,7)=\"<lpage>\"),VALUE(MID(M324,8,LEN(M324)-15)),0)))","v":0},"",{"$f":"IF(ROW()<$S$4+2,IF('XML a procesar'!A323=\"\",P323,IF(MID('XML a procesar'!A323,1,1)=\"<\",P323,P323+1)),P323)","v":1}]
[{"$f":"IF('XML a procesar'!A324>0,'XML a procesar'!A324,\"\")","v":""},0,0,0,0,"",0,0,0,"","",0,"",0,"",{"$f":"IF(ROW()<$S$4+2,IF('XML a procesar'!A324=\"\",P324,IF(MID('XML a procesar'!A324,1,1)=\"<\",P324,P324+1)),P324)","v":1}]
[{"$f":"IF('XML a procesar'!A325>0,'XML a procesar'!A325,\"\")","v":""},0,0,0,0,"",0,0,0,"","",0,{"$f":"IF(L326>L325,IF(L326=1,CONCATENATE(\"<fpage>\",$S$10,\"</fpage>\"),CONCATENATE(\"<lpage>\",$S$10+1,\"</lpage>\")),IF(ISERROR(INDIRECT(ADDRESS(ROW()-L326,11),1)),\"\",INDIRECT(ADDRESS(ROW()-L326,11),1)))","v":""},0,"",{"$f":"IF(ROW()<$S$4+2,IF('XML a procesar'!A325=\"\",P325,IF(MID('XML a procesar'!A325,1,1)=\"<\",P325,P325+1)),P325)","v":1}]
[{"$f":"IF('XML a procesar'!A326>0,'XML a procesar'!A326,\"\")","v":""},0,0,0,0,"",0,0,0,"","",0,"",0,"",{"$f":"IF(ROW()<$S$4+2,IF('XML a procesar'!A326=\"\",P326,IF(MID('XML a procesar'!A326,1,1)=\"<\",P326,P326+1)),P326)","v":1}]
[{"$f":"IF('XML a procesar'!A327>0,'XML a procesar'!A327,\"\")","v":""},0,0,0,0,"",0,0,0,"","",0,"",0,"",{"$f":"IF(ROW()<$S$4+2,IF('XML a procesar'!A327=\"\",P327,IF(MID('XML a procesar'!A327,1,1)=\"<\",P327,P327+1)),P327)","v":1}]
[{"$f":"IF('XML a procesar'!A328>0,'XML a procesar'!A328,\"\")","v":""},0,0,0,0,"",0,0,0,"","",0,"",0,"",{"$f":"IF(ROW()<$S$4+2,IF('XML a procesar'!A328=\"\",P328,IF(MID('XML a procesar'!A328,1,1)=\"<\",P328,P328+1)),P328)","v":1}]
[{"$f":"IF('XML a procesar'!A329>0,'XML a procesar'!A329,\"\")","v":""},0,0,0,0,"",0,0,0,"","",0,"",0,"",{"$f":"IF(ROW()<$S$4+2,IF('XML a procesar'!A329=\"\",P329,IF(MID('XML a procesar'!A329,1,1)=\"<\",P329,P329+1)),P329)","v":1}]
[{"$f":"IF('XML a procesar'!A330>0,'XML a procesar'!A330,\"\")","v":""},0,0,0,0,"",0,0,0,"","",0,"",0,"",{"$f":"IF(ROW()<$S$4+2,IF('XML a procesar'!A330=\"\",P330,IF(MID('XML a procesar'!A330,1,1)=\"<\",P330,P330+1)),P330)","v":1}]
[{"$f":"IF('XML a procesar'!A331>0,'XML a procesar'!A331,\"\")","v":""},0,0,0,0,"",0,0,0,"","",0,"",0,"",{"$f":"IF(ROW()<$S$4+2,IF('XML a procesar'!A331=\"\",P331,IF(MID('XML a procesar'!A331,1,1)=\"<\",P331,P331+1)),P331)","v":1}]
[{"$f":"IF('XML a procesar'!A332>0,'XML a procesar'!A332,\"\")","v":""},0,0,0,0,"",0,0,0,"","",0,"",0,"",{"$f":"IF(ROW()<$S$4+2,IF('XML a procesar'!A332=\"\",P332,IF(MID('XML a procesar'!A332,1,1)=\"<\",P332,P332+1)),P332)","v":1}]
[{"$f":"IF('XML a procesar'!A333>0,'XML a procesar'!A333,\"\")","v":""},0,0,0,0,"",0,0,0,"","",0,"",0,"",{"$f":"IF(ROW()<$S$4+2,IF('XML a procesar'!A333=\"\",P333,IF(MID('XML a procesar'!A333,1,1)=\"<\",P333,P333+1)),P333)","v":1}]
[{"$f":"IF('XML a procesar'!A334>0,'XML a procesar'!A334,\"\")","v":""},0,0,0,0,"",0,0,0,"","",0,"",0,"",{"$f":"IF(ROW()<$S$4+2,IF('XML a procesar'!A334=\"\",P334,IF(MID('XML a procesar'!A334,1,1)=\"<\",P334,P334+1)),P334)","v":1}]
[{"$f":"IF('XML a procesar'!A335>0,'XML a procesar'!A335,\"\")","v":""},0,0,0,0,"",0,0,0,"","",0,"",0,"",{"$f":"IF(ROW()<$S$4+2,IF('XML a procesar'!A335=\"\",P335,IF(MID('XML a procesar'!A335,1,1)=\"<\",P335,P335+1)),P335)","v":1}]
[{"$f":"IF('XML a procesar'!A336>0,'XML a procesar'!A336,\"\")","v":""},0,0,0,0,"",0,0,0,"","",0,"",0,"",{"$f":"IF(ROW()<$S$4+2,IF('XML a procesar'!A336=\"\",P336,IF(MID('XML a procesar'!A336,1,1)=\"<\",P336,P336+1)),P336)","v":1}]
[{"$f":"IF('XML a procesar'!A337>0,'XML a procesar'!A337,\"\")","v":""},0,0,0,0,"",0,0,0,"","",0,"",0,"",{"$f":"IF(ROW()<$S$4+2,IF('XML a procesar'!A337=\"\",P337,IF(MID('XML a procesar'!A337,1,1)=\"<\",P337,P337+1)),P337)","v":1}]
[{"$f":"IF('XML a procesar'!A338>0,'XML a procesar'!A338,\"\")","v":""},0,0,0,0,"",0,0,0,"","",0,"",0,"",{"$f":"IF(ROW()<$S$4+2,IF('XML a procesar'!A338=\"\",P338,IF(MID('XML a procesar'!A338,1,1)=\"<\",P338,P338+1)),P338)","v":1}]
[{"$f":"IF('XML a procesar'!A339>0,'XML a procesar'!A339,\"\")","v":""},0,0,0,0,"",0,0,0,"","",0,"",0,"",{"$f":"IF(ROW()<$S$4+2,IF('XML a procesar'!A339=\"\",P339,IF(MID('XML a procesar'!A339,1,1)=\"<\",P339,P339+1)),P339)","v":1}]
[{"$f":"IF('XML a procesar'!A340>0,'XML a procesar'!A340,\"\")","v":""},0,0,0,0,"",0,0,0,"","",0,"",0,"",{"$f":"IF(ROW()<$S$4+2,IF('XML a procesar'!A340=\"\",P340,IF(MID('XML a procesar'!A340,1,1)=\"<\",P340,P340+1)),P340)","v":1}]
[{"$f":"IF('XML a procesar'!A341>0,'XML a procesar'!A341,\"\")","v":""},0,0,0,0,"",0,0,0,"","",0,"",0,"",{"$f":"IF(ROW()<$S$4+2,IF('XML a procesar'!A341=\"\",P341,IF(MID('XML a procesar'!A341,1,1)=\"<\",P341,P341+1)),P341)","v":1}]
[{"$f":"IF('XML a procesar'!A342>0,'XML a procesar'!A342,\"\")","v":""},0,0,0,0,"",0,0,0,"","",0,"",0,"",{"$f":"IF(ROW()<$S$4+2,IF('XML a procesar'!A342=\"\",P342,IF(MID('XML a procesar'!A342,1,1)=\"<\",P342,P342+1)),P342)","v":1}]
[{"$f":"IF('XML a procesar'!A343>0,'XML a procesar'!A343,\"\")","v":""},0,0,0,0,"",0,0,0,"","",0,"",0,"",{"$f":"IF(ROW()<$S$4+2,IF('XML a procesar'!A343=\"\",P343,IF(MID('XML a procesar'!A343,1,1)=\"<\",P343,P343+1)),P343)","v":1}]
[{"$f":"IF('XML a procesar'!A344>0,'XML a procesar'!A344,\"\")","v":""},0,0,0,0,"",0,0,0,"","",0,"",0,"",{"$f":"IF(ROW()<$S$4+2,IF('XML a procesar'!A344=\"\",P344,IF(MID('XML a procesar'!A344,1,1)=\"<\",P344,P344+1)),P344)","v":1}]
[{"$f":"IF('XML a procesar'!A345>0,'XML a procesar'!A345,\"\")","v":""},0,0,0,0,"",0,0,0,"","",0,"",0,"",{"$f":"IF(ROW()<$S$4+2,IF('XML a procesar'!A345=\"\",P345,IF(MID('XML a procesar'!A345,1,1)=\"<\",P345,P345+1)),P345)","v":1}]
[{"$f":"IF('XML a procesar'!A346>0,'XML a procesar'!A346,\"\")","v":""},0,0,0,0,"",0,0,0,"","",0,"",0,"",{"$f":"IF(ROW()<$S$4+2,IF('XML a procesar'!A346=\"\",P346,IF(MID('XML a procesar'!A346,1,1)=\"<\",P346,P346+1)),P346)","v":1}]
[{"$f":"IF('XML a procesar'!A347>0,'XML a procesar'!A347,\"\")","v":""},0,0,0,0,"",0,0,0,"","",0,"",0,"",{"$f":"IF(ROW()<$S$4+2,IF('XML a procesar'!A347=\"\",P347,IF(MID('XML a procesar'!A347,1,1)=\"<\",P347,P347+1)),P347)","v":1}]
[{"$f":"IF('XML a procesar'!A348>0,'XML a procesar'!A348,\"\")","v":""},0,0,0,0,"",0,0,0,"","",0,"",0,"",{"$f":"IF(ROW()<$S$4+2,IF('XML a procesar'!A348=\"\",P348,IF(MID('XML a procesar'!A348,1,1)=\"<\",P348,P348+1)),P348)","v":1}]
[{"$f":"IF('XML a procesar'!A349>0,'XML a procesar'!A349,\"\")","v":""},0,0,0,0,"",0,0,0,"","",0,"",0,"",{"$f":"IF(ROW()<$S$4+2,IF('XML a procesar'!A349=\"\",P349,IF(MID('XML a procesar'!A349,1,1)=\"<\",P349,P349+1)),P349)","v":1}]
[{"$f":"IF('XML a procesar'!A350>0,'XML a procesar'!A350,\"\")","v":""},0,0,0,0,"",0,0,0,"","",0,"",0,"",{"$f":"IF(ROW()<$S$4+2,IF('XML a procesar'!A350=\"\",P350,IF(MID('XML a procesar'!A350,1,1)=\"<\",P350,P350+1)),P350)","v":1}]
[{"$f":"IF('XML a procesar'!A351>0,'XML a procesar'!A351,\"\")","v":""},0,0,0,0,"",0,0,0,"","",0,"",0,"",{"$f":"IF(ROW()<$S$4+2,IF('XML a procesar'!A351=\"\",P351,IF(MID('XML a procesar'!A351,1,1)=\"<\",P351,P351+1)),P351)","v":1}]
[{"$f":"IF('XML a procesar'!A352>0,'XML a procesar'!A352,\"\")","v":""},0,0,0,0,"",0,0,0,"","",0,"",0,"",{"$f":"IF(ROW()<$S$4+2,IF('XML a procesar'!A352=\"\",P352,IF(MID('XML a procesar'!A352,1,1)=\"<\",P352,P352+1)),P352)","v":1}]
[{"$f":"IF('XML a procesar'!A353>0,'XML a procesar'!A353,\"\")","v":""},0,0,0,0,"",0,0,0,"","",0,"",0,"",{"$f":"IF(ROW()<$S$4+2,IF('XML a procesar'!A353=\"\",P353,IF(MID('XML a procesar'!A353,1,1)=\"<\",P353,P353+1)),P353)","v":1}]
[{"$f":"IF('XML a procesar'!A354>0,'XML a procesar'!A354,\"\")","v":""},0,0,0,0,"",0,0,0,"","",0,"",0,"",{"$f":"IF(ROW()<$S$4+2,IF('XML a procesar'!A354=\"\",P354,IF(MID('XML a procesar'!A354,1,1)=\"<\",P354,P354+1)),P354)","v":1}]
[{"$f":"IF('XML a procesar'!A355>0,'XML a procesar'!A355,\"\")","v":""},0,0,0,0,"",0,0,0,"","",0,"",0,"",{"$f":"IF(ROW()<$S$4+2,IF('XML a procesar'!A355=\"\",P355,IF(MID('XML a procesar'!A355,1,1)=\"<\",P355,P355+1)),P355)","v":1}]
[{"$f":"IF('XML a procesar'!A356>0,'XML a procesar'!A356,\"\")","v":""},0,0,0,0,"",0,0,0,"","",0,"",0,"",{"$f":"IF(ROW()<$S$4+2,IF('XML a procesar'!A356=\"\",P356,IF(MID('XML a procesar'!A356,1,1)=\"<\",P356,P356+1)),P356)","v":1}]
[{"$f":"IF('XML a procesar'!A357>0,'XML a procesar'!A357,\"\")","v":""},0,0,0,0,"",0,0,0,"","",0,"",0,"",{"$f":"IF(ROW()<$S$4+2,IF('XML a procesar'!A357=\"\",P357,IF(MID('XML a procesar'!A357,1,1)=\"<\",P357,P357+1)),P357)","v":1}]
[{"$f":"IF('XML a procesar'!A358>0,'XML a procesar'!A358,\"\")","v":""},0,0,0,0,"",0,0,0,"","",0,"",0,"",{"$f":"IF(ROW()<$S$4+2,IF('XML a procesar'!A358=\"\",P358,IF(MID('XML a procesar'!A358,1,1)=\"<\",P358,P358+1)),P358)","v":1}]
[{"$f":"IF('XML a procesar'!A359>0,'XML a procesar'!A359,\"\")","v":""},0,0,0,0,"",0,0,0,"","",0,"",0,"",{"$f":"IF(ROW()<$S$4+2,IF('XML a procesar'!A359=\"\",P359,IF(MID('XML a procesar'!A359,1,1)=\"<\",P359,P359+1)),P359)","v":1}]
[{"$f":"IF('XML a procesar'!A360>0,'XML a procesar'!A360,\"\")","v":""},0,0,0,0,"",0,0,0,"","",0,"",0,"",{"$f":"IF(ROW()<$S$4+2,IF('XML a procesar'!A360=\"\",P360,IF(MID('XML a procesar'!A360,1,1)=\"<\",P360,P360+1)),P360)","v":1}]
[{"$f":"IF('XML a procesar'!A361>0,'XML a procesar'!A361,\"\")","v":""},0,0,0,0,"",0,0,0,"","",0,"",0,"",{"$f":"IF(ROW()<$S$4+2,IF('XML a procesar'!A361=\"\",P361,IF(MID('XML a procesar'!A361,1,1)=\"<\",P361,P361+1)),P361)","v":1}]
[{"$f":"IF('XML a procesar'!A362>0,'XML a procesar'!A362,\"\")","v":""},0,0,0,0,"",0,0,0,"","",0,"",0,"",{"$f":"IF(ROW()<$S$4+2,IF('XML a procesar'!A362=\"\",P362,IF(MID('XML a procesar'!A362,1,1)=\"<\",P362,P362+1)),P362)","v":1}]
[{"$f":"IF('XML a procesar'!A363>0,'XML a procesar'!A363,\"\")","v":""},0,0,0,0,"",0,0,0,"","",0,"",0,"",{"$f":"IF(ROW()<$S$4+2,IF('XML a procesar'!A363=\"\",P363,IF(MID('XML a procesar'!A363,1,1)=\"<\",P363,P363+1)),P363)","v":1}]
[{"$f":"IF('XML a procesar'!A364>0,'XML a procesar'!A364,\"\")","v":""},0,0,0,0,"",0,0,0,"","",0,"",0,"",{"$f":"IF(ROW()<$S$4+2,IF('XML a procesar'!A364=\"\",P364,IF(MID('XML a procesar'!A364,1,1)=\"<\",P364,P364+1)),P364)","v":1}]
[{"$f":"IF('XML a procesar'!A365>0,'XML a procesar'!A365,\"\")","v":""},0,0,0,0,"",0,0,0,"","",0,"",0,"",{"$f":"IF(ROW()<$S$4+2,IF('XML a procesar'!A365=\"\",P365,IF(MID('XML a procesar'!A365,1,1)=\"<\",P365,P365+1)),P365)","v":1}]
[{"$f":"IF('XML a procesar'!A366>0,'XML a procesar'!A366,\"\")","v":""},0,0,0,0,"",0,0,0,"","",0,"",0,"",{"$f":"IF(ROW()<$S$4+2,IF('XML a procesar'!A366=\"\",P366,IF(MID('XML a procesar'!A366,1,1)=\"<\",P366,P366+1)),P366)","v":1}]
[{"$f":"IF('XML a procesar'!A367>0,'XML a procesar'!A367,\"\")","v":""},0,0,0,0,"",0,0,0,"","",0,"",0,"",{"$f":"IF(ROW()<$S$4+2,IF('XML a procesar'!A367=\"\",P367,IF(MID('XML a procesar'!A367,1,1)=\"<\",P367,P367+1)),P367)","v":1}]
[{"$f":"IF('XML a procesar'!A368>0,'XML a procesar'!A368,\"\")","v":""},0,0,0,0,"",0,0,0,"","",0,"",0,"",{"$f":"IF(ROW()<$S$4+2,IF('XML a procesar'!A368=\"\",P368,IF(MID('XML a procesar'!A368,1,1)=\"<\",P368,P368+1)),P368)","v":1}]
[{"$f":"IF('XML a procesar'!A369>0,'XML a procesar'!A369,\"\")","v":""},0,0,0,0,"",0,0,0,"","",0,"",0,"",{"$f":"IF(ROW()<$S$4+2,IF('XML a procesar'!A369=\"\",P369,IF(MID('XML a procesar'!A369,1,1)=\"<\",P369,P369+1)),P369)","v":1}]
[{"$f":"IF('XML a procesar'!A370>0,'XML a procesar'!A370,\"\")","v":""},0,0,0,0,"",0,0,0,"","",0,"",0,"",{"$f":"IF(ROW()<$S$4+2,IF('XML a procesar'!A370=\"\",P370,IF(MID('XML a procesar'!A370,1,1)=\"<\",P370,P370+1)),P370)","v":1}]
[{"$f":"IF('XML a procesar'!A371>0,'XML a procesar'!A371,\"\")","v":""},0,0,0,0,"",0,0,0,"","",0,"",0,"",{"$f":"IF(ROW()<$S$4+2,IF('XML a procesar'!A371=\"\",P371,IF(MID('XML a procesar'!A371,1,1)=\"<\",P371,P371+1)),P371)","v":1}]
[{"$f":"IF('XML a procesar'!A372>0,'XML a procesar'!A372,\"\")","v":""},0,0,0,0,"",0,0,0,"","",0,"",0,"",{"$f":"IF(ROW()<$S$4+2,IF('XML a procesar'!A372=\"\",P372,IF(MID('XML a procesar'!A372,1,1)=\"<\",P372,P372+1)),P372)","v":1}]
[{"$f":"IF('XML a procesar'!A373>0,'XML a procesar'!A373,\"\")","v":""},0,0,0,0,"",0,0,0,"","",0,"",0,"",{"$f":"IF(ROW()<$S$4+2,IF('XML a procesar'!A373=\"\",P373,IF(MID('XML a procesar'!A373,1,1)=\"<\",P373,P373+1)),P373)","v":1}]
[{"$f":"IF('XML a procesar'!A374>0,'XML a procesar'!A374,\"\")","v":""},0,0,0,0,"",0,0,0,"","",0,"",0,"",{"$f":"IF(ROW()<$S$4+2,IF('XML a procesar'!A374=\"\",P374,IF(MID('XML a procesar'!A374,1,1)=\"<\",P374,P374+1)),P374)","v":1}]
[{"$f":"IF('XML a procesar'!A375>0,'XML a procesar'!A375,\"\")","v":""},0,0,0,0,"",0,0,0,"","",0,"",0,"",{"$f":"IF(ROW()<$S$4+2,IF('XML a procesar'!A375=\"\",P375,IF(MID('XML a procesar'!A375,1,1)=\"<\",P375,P375+1)),P375)","v":1}]
[{"$f":"IF('XML a procesar'!A376>0,'XML a procesar'!A376,\"\")","v":""},0,0,0,0,"",0,0,0,"","",0,"",0,"",{"$f":"IF(ROW()<$S$4+2,IF('XML a procesar'!A376=\"\",P376,IF(MID('XML a procesar'!A376,1,1)=\"<\",P376,P376+1)),P376)","v":1}]
[{"$f":"IF('XML a procesar'!A377>0,'XML a procesar'!A377,\"\")","v":""},0,0,0,0,"",0,0,0,"","",0,"",0,"",{"$f":"IF(ROW()<$S$4+2,IF('XML a procesar'!A377=\"\",P377,IF(MID('XML a procesar'!A377,1,1)=\"<\",P377,P377+1)),P377)","v":1}]
[{"$f":"IF('XML a procesar'!A378>0,'XML a procesar'!A378,\"\")","v":""},0,0,0,0,"",0,0,0,"","",0,"",0,"",{"$f":"IF(ROW()<$S$4+2,IF('XML a procesar'!A378=\"\",P378,IF(MID('XML a procesar'!A378,1,1)=\"<\",P378,P378+1)),P378)","v":1}]
[{"$f":"IF('XML a procesar'!A379>0,'XML a procesar'!A379,\"\")","v":""},0,0,0,0,"",0,0,0,"","",0,"",0,"",{"$f":"IF(ROW()<$S$4+2,IF('XML a procesar'!A379=\"\",P379,IF(MID('XML a procesar'!A379,1,1)=\"<\",P379,P379+1)),P379)","v":1}]
[{"$f":"IF('XML a procesar'!A380>0,'XML a procesar'!A380,\"\")","v":""},0,0,0,0,"",0,0,0,"","",0,"",0,"",{"$f":"IF(ROW()<$S$4+2,IF('XML a procesar'!A380=\"\",P380,IF(MID('XML a procesar'!A380,1,1)=\"<\",P380,P380+1)),P380)","v":1}]
[{"$f":"IF('XML a procesar'!A381>0,'XML a procesar'!A381,\"\")","v":""},0,0,0,0,"",0,0,0,"","",0,"",0,"",{"$f":"IF(ROW()<$S$4+2,IF('XML a procesar'!A381=\"\",P381,IF(MID('XML a procesar'!A381,1,1)=\"<\",P381,P381+1)),P381)","v":1}]
[{"$f":"IF('XML a procesar'!A382>0,'XML a procesar'!A382,\"\")","v":""},0,0,0,0,"",0,0,0,"","",0,"",0,"",{"$f":"IF(ROW()<$S$4+2,IF('XML a procesar'!A382=\"\",P382,IF(MID('XML a procesar'!A382,1,1)=\"<\",P382,P382+1)),P382)","v":1}]
[{"$f":"IF('XML a procesar'!A383>0,'XML a procesar'!A383,\"\")","v":""},0,0,0,0,"",0,0,0,"","",0,"",0,"",{"$f":"IF(ROW()<$S$4+2,IF('XML a procesar'!A383=\"\",P383,IF(MID('XML a procesar'!A383,1,1)=\"<\",P383,P383+1)),P383)","v":1}]
[{"$f":"IF('XML a procesar'!A384>0,'XML a procesar'!A384,\"\")","v":""},0,0,0,0,"",0,0,0,"","",0,"",0,"",{"$f":"IF(ROW()<$S$4+2,IF('XML a procesar'!A384=\"\",P384,IF(MID('XML a procesar'!A384,1,1)=\"<\",P384,P384+1)),P384)","v":1}]
[{"$f":"IF('XML a procesar'!A385>0,'XML a procesar'!A385,\"\")","v":""},0,0,0,0,"",0,0,0,"","",0,"",0,{"$f":"IF(N386>-1,INDIRECT(ADDRESS(ROW(),13)),IF(N386<N385,CONCATENATE(\"<page-count count=\",CHAR(34),1+LARGE(N:N,1)-LARGE(N:N,2),CHAR(34),\"/>\"),INDIRECT(ADDRESS(ROW()-1,13))))","v":""},{"$f":"IF(ROW()<$S$4+2,IF('XML a procesar'!A385=\"\",P385,IF(MID('XML a procesar'!A385,1,1)=\"<\",P385,P385+1)),P385)","v":1}]
[{"$f":"IF('XML a procesar'!A386>0,'XML a procesar'!A386,\"\")","v":""},{"$f":"IF(ISERROR(FIND(\"/doi.org/\",A387,1)),0,1)","v":0},0,{"$f":"IF(AND(C387>0,LEFT(A387,7)=\"<email>\",ISNUMBER(SEARCH(\"@\",A387,1))),C387,IF(LEFT(A387,10)=\"<alt-text>\",-1,0))","v":0},0,{"$f":"INDIRECT(ADDRESS(ROW()+INDIRECT(ADDRESS(ROW()+E387,5)),1))","v":""},0,{"$f":"IF(AND(G386>0,G387>G386,NOT(ISERROR(MATCH(G386,D:D,0)))),H386+1,H386)","v":0},0,"",{"$f":"IF(J387=\"Linea_para_MAIL_creada_por_LuXML\",IF(ISERROR(MATCH(INDIRECT(ADDRESS(ROW()-G387,7)),D:D,0)),J387,INDIRECT(ADDRESS(MATCH(INDIRECT(ADDRESS(ROW()-G387,7)),D:D,0),1))),J387)","v":""},0,"",0,"",{"$f":"IF(ROW()<$S$4+2,IF('XML a procesar'!A386=\"\",P386,IF(MID('XML a procesar'!A386,1,1)=\"<\",P386,P386+1)),P386)","v":1}]
[{"$f":"IF('XML a procesar'!A387>0,'XML a procesar'!A387,\"\")","v":""},0,{"$f":"IF(LEFT(A387,16)=\"<contrib contrib\",C387+1,IF(LEFT(A387,16)=\"</contrib-group>\",0,IF(LEFT(A387,10)=\"</contrib>\",C387,C387)))","v":0},0,{"$f":"IF(D388=0,E387,E387+1)","v":0},"",{"$f":"IF(LEFT(F388,7)=\"<aff id\",_xlfn.NUMBERVALUE(MID(F388,13,LEN(F388)-14)),IF(F388=\"</aff>\",G387+1,G387))","v":0},0,{"$f":"INDIRECT(ADDRESS(ROW()-INDIRECT(ADDRESS(ROW()-H388,8)),8))","v":0},{"$f":"IF(J387=\"Linea_para_MAIL_creada_por_LuXML\",\"</aff>\",IF(I388>INDIRECT(ADDRESS(ROW()-I388-1,8)),\"Linea_para_MAIL_creada_por_LuXML\",INDIRECT(ADDRESS(ROW()-I388,6))))","v":""},"",{"$f":"IF(OR(MID(K386,3,5)=\"page>\",MID(K387,3,5)=\"page>\"),L387,IF(OR(K387=\"<history>\",K388=\"<history>\"),L387+1,L387))","v":0},"",{"$f":"IF(N387=-1,-1,IF(M388=\"</counts>\",-1,IF(OR(LEFT(M388,7)=\"<fpage>\",LEFT(M388,7)=\"<lpage>\"),VALUE(MID(M388,8,LEN(M388)-15)),0)))","v":0},"",{"$f":"IF(ROW()<$S$4+2,IF('XML a procesar'!A387=\"\",P387,IF(MID('XML a procesar'!A387,1,1)=\"<\",P387,P387+1)),P387)","v":1}]
[{"$f":"IF('XML a procesar'!A388>0,'XML a procesar'!A388,\"\")","v":""},0,0,0,0,"",0,0,0,"","",0,"",0,"",{"$f":"IF(ROW()<$S$4+2,IF('XML a procesar'!A388=\"\",P388,IF(MID('XML a procesar'!A388,1,1)=\"<\",P388,P388+1)),P388)","v":1}]
[{"$f":"IF('XML a procesar'!A389>0,'XML a procesar'!A389,\"\")","v":""},0,0,0,0,"",0,0,0,"","",0,{"$f":"IF(L390>L389,IF(L390=1,CONCATENATE(\"<fpage>\",$S$10,\"</fpage>\"),CONCATENATE(\"<lpage>\",$S$10+1,\"</lpage>\")),IF(ISERROR(INDIRECT(ADDRESS(ROW()-L390,11),1)),\"\",INDIRECT(ADDRESS(ROW()-L390,11),1)))","v":""},0,"",{"$f":"IF(ROW()<$S$4+2,IF('XML a procesar'!A389=\"\",P389,IF(MID('XML a procesar'!A389,1,1)=\"<\",P389,P389+1)),P389)","v":1}]
[{"$f":"IF('XML a procesar'!A390>0,'XML a procesar'!A390,\"\")","v":""},0,0,0,0,"",0,0,0,"","",0,"",0,"",{"$f":"IF(ROW()<$S$4+2,IF('XML a procesar'!A390=\"\",P390,IF(MID('XML a procesar'!A390,1,1)=\"<\",P390,P390+1)),P390)","v":1}]
[{"$f":"IF('XML a procesar'!A391>0,'XML a procesar'!A391,\"\")","v":""},0,0,0,0,"",0,0,0,"","",0,"",0,"",{"$f":"IF(ROW()<$S$4+2,IF('XML a procesar'!A391=\"\",P391,IF(MID('XML a procesar'!A391,1,1)=\"<\",P391,P391+1)),P391)","v":1}]
[{"$f":"IF('XML a procesar'!A392>0,'XML a procesar'!A392,\"\")","v":""},0,0,0,0,"",0,0,0,"","",0,"",0,"",{"$f":"IF(ROW()<$S$4+2,IF('XML a procesar'!A392=\"\",P392,IF(MID('XML a procesar'!A392,1,1)=\"<\",P392,P392+1)),P392)","v":1}]
[{"$f":"IF('XML a procesar'!A393>0,'XML a procesar'!A393,\"\")","v":""},0,0,0,0,"",0,0,0,"","",0,"",0,"",{"$f":"IF(ROW()<$S$4+2,IF('XML a procesar'!A393=\"\",P393,IF(MID('XML a procesar'!A393,1,1)=\"<\",P393,P393+1)),P393)","v":1}]
[{"$f":"IF('XML a procesar'!A394>0,'XML a procesar'!A394,\"\")","v":""},0,0,0,0,"",0,0,0,"","",0,"",0,"",{"$f":"IF(ROW()<$S$4+2,IF('XML a procesar'!A394=\"\",P394,IF(MID('XML a procesar'!A394,1,1)=\"<\",P394,P394+1)),P394)","v":1}]
[{"$f":"IF('XML a procesar'!A395>0,'XML a procesar'!A395,\"\")","v":""},0,0,0,0,"",0,0,0,"","",0,"",0,"",{"$f":"IF(ROW()<$S$4+2,IF('XML a procesar'!A395=\"\",P395,IF(MID('XML a procesar'!A395,1,1)=\"<\",P395,P395+1)),P395)","v":1}]
[{"$f":"IF('XML a procesar'!A396>0,'XML a procesar'!A396,\"\")","v":""},0,0,0,0,"",0,0,0,"","",0,"",0,"",{"$f":"IF(ROW()<$S$4+2,IF('XML a procesar'!A396=\"\",P396,IF(MID('XML a procesar'!A396,1,1)=\"<\",P396,P396+1)),P396)","v":1}]
[{"$f":"IF('XML a procesar'!A397>0,'XML a procesar'!A397,\"\")","v":""},0,0,0,0,"",0,0,0,"","",0,"",0,"",{"$f":"IF(ROW()<$S$4+2,IF('XML a procesar'!A397=\"\",P397,IF(MID('XML a procesar'!A397,1,1)=\"<\",P397,P397+1)),P397)","v":1}]
[{"$f":"IF('XML a procesar'!A398>0,'XML a procesar'!A398,\"\")","v":""},0,0,0,0,"",0,0,0,"","",0,"",0,"",{"$f":"IF(ROW()<$S$4+2,IF('XML a procesar'!A398=\"\",P398,IF(MID('XML a procesar'!A398,1,1)=\"<\",P398,P398+1)),P398)","v":1}]
[{"$f":"IF('XML a procesar'!A399>0,'XML a procesar'!A399,\"\")","v":""},0,0,0,0,"",0,0,0,"","",0,"",0,"",{"$f":"IF(ROW()<$S$4+2,IF('XML a procesar'!A399=\"\",P399,IF(MID('XML a procesar'!A399,1,1)=\"<\",P399,P399+1)),P399)","v":1}]
[{"$f":"IF('XML a procesar'!A400>0,'XML a procesar'!A400,\"\")","v":""},0,0,0,0,"",0,0,0,"","",0,"",0,"",{"$f":"IF(ROW()<$S$4+2,IF('XML a procesar'!A400=\"\",P400,IF(MID('XML a procesar'!A400,1,1)=\"<\",P400,P400+1)),P400)","v":1}]
[{"$f":"IF('XML a procesar'!A401>0,'XML a procesar'!A401,\"\")","v":""},0,0,0,0,"",0,0,0,"","",0,"",0,"",{"$f":"IF(ROW()<$S$4+2,IF('XML a procesar'!A401=\"\",P401,IF(MID('XML a procesar'!A401,1,1)=\"<\",P401,P401+1)),P401)","v":1}]
[{"$f":"IF('XML a procesar'!A402>0,'XML a procesar'!A402,\"\")","v":""},0,0,0,0,"",0,0,0,"","",0,"",0,"",{"$f":"IF(ROW()<$S$4+2,IF('XML a procesar'!A402=\"\",P402,IF(MID('XML a procesar'!A402,1,1)=\"<\",P402,P402+1)),P402)","v":1}]
[{"$f":"IF('XML a procesar'!A403>0,'XML a procesar'!A403,\"\")","v":""},0,0,0,0,"",0,0,0,"","",0,"",0,"",{"$f":"IF(ROW()<$S$4+2,IF('XML a procesar'!A403=\"\",P403,IF(MID('XML a procesar'!A403,1,1)=\"<\",P403,P403+1)),P403)","v":1}]
[{"$f":"IF('XML a procesar'!A404>0,'XML a procesar'!A404,\"\")","v":""},0,0,0,0,"",0,0,0,"","",0,"",0,"",{"$f":"IF(ROW()<$S$4+2,IF('XML a procesar'!A404=\"\",P404,IF(MID('XML a procesar'!A404,1,1)=\"<\",P404,P404+1)),P404)","v":1}]
[{"$f":"IF('XML a procesar'!A405>0,'XML a procesar'!A405,\"\")","v":""},0,0,0,0,"",0,0,0,"","",0,"",0,"",{"$f":"IF(ROW()<$S$4+2,IF('XML a procesar'!A405=\"\",P405,IF(MID('XML a procesar'!A405,1,1)=\"<\",P405,P405+1)),P405)","v":1}]
[{"$f":"IF('XML a procesar'!A406>0,'XML a procesar'!A406,\"\")","v":""},0,0,0,0,"",0,0,0,"","",0,"",0,"",{"$f":"IF(ROW()<$S$4+2,IF('XML a procesar'!A406=\"\",P406,IF(MID('XML a procesar'!A406,1,1)=\"<\",P406,P406+1)),P406)","v":1}]
[{"$f":"IF('XML a procesar'!A407>0,'XML a procesar'!A407,\"\")","v":""},0,0,0,0,"",0,0,0,"","",0,"",0,"",{"$f":"IF(ROW()<$S$4+2,IF('XML a procesar'!A407=\"\",P407,IF(MID('XML a procesar'!A407,1,1)=\"<\",P407,P407+1)),P407)","v":1}]
[{"$f":"IF('XML a procesar'!A408>0,'XML a procesar'!A408,\"\")","v":""},0,0,0,0,"",0,0,0,"","",0,"",0,"",{"$f":"IF(ROW()<$S$4+2,IF('XML a procesar'!A408=\"\",P408,IF(MID('XML a procesar'!A408,1,1)=\"<\",P408,P408+1)),P408)","v":1}]
[{"$f":"IF('XML a procesar'!A409>0,'XML a procesar'!A409,\"\")","v":""},0,0,0,0,"",0,0,0,"","",0,"",0,"",{"$f":"IF(ROW()<$S$4+2,IF('XML a procesar'!A409=\"\",P409,IF(MID('XML a procesar'!A409,1,1)=\"<\",P409,P409+1)),P409)","v":1}]
[{"$f":"IF('XML a procesar'!A410>0,'XML a procesar'!A410,\"\")","v":""},0,0,0,0,"",0,0,0,"","",0,"",0,"",{"$f":"IF(ROW()<$S$4+2,IF('XML a procesar'!A410=\"\",P410,IF(MID('XML a procesar'!A410,1,1)=\"<\",P410,P410+1)),P410)","v":1}]
[{"$f":"IF('XML a procesar'!A411>0,'XML a procesar'!A411,\"\")","v":""},0,0,0,0,"",0,0,0,"","",0,"",0,"",{"$f":"IF(ROW()<$S$4+2,IF('XML a procesar'!A411=\"\",P411,IF(MID('XML a procesar'!A411,1,1)=\"<\",P411,P411+1)),P411)","v":1}]
[{"$f":"IF('XML a procesar'!A412>0,'XML a procesar'!A412,\"\")","v":""},0,0,0,0,"",0,0,0,"","",0,"",0,"",{"$f":"IF(ROW()<$S$4+2,IF('XML a procesar'!A412=\"\",P412,IF(MID('XML a procesar'!A412,1,1)=\"<\",P412,P412+1)),P412)","v":1}]
[{"$f":"IF('XML a procesar'!A413>0,'XML a procesar'!A413,\"\")","v":""},0,0,0,0,"",0,0,0,"","",0,"",0,"",{"$f":"IF(ROW()<$S$4+2,IF('XML a procesar'!A413=\"\",P413,IF(MID('XML a procesar'!A413,1,1)=\"<\",P413,P413+1)),P413)","v":1}]
[{"$f":"IF('XML a procesar'!A414>0,'XML a procesar'!A414,\"\")","v":""},0,0,0,0,"",0,0,0,"","",0,"",0,"",{"$f":"IF(ROW()<$S$4+2,IF('XML a procesar'!A414=\"\",P414,IF(MID('XML a procesar'!A414,1,1)=\"<\",P414,P414+1)),P414)","v":1}]
[{"$f":"IF('XML a procesar'!A415>0,'XML a procesar'!A415,\"\")","v":""},0,0,0,0,"",0,0,0,"","",0,"",0,"",{"$f":"IF(ROW()<$S$4+2,IF('XML a procesar'!A415=\"\",P415,IF(MID('XML a procesar'!A415,1,1)=\"<\",P415,P415+1)),P415)","v":1}]
[{"$f":"IF('XML a procesar'!A416>0,'XML a procesar'!A416,\"\")","v":""},0,0,0,0,"",0,0,0,"","",0,"",0,"",{"$f":"IF(ROW()<$S$4+2,IF('XML a procesar'!A416=\"\",P416,IF(MID('XML a procesar'!A416,1,1)=\"<\",P416,P416+1)),P416)","v":1}]
[{"$f":"IF('XML a procesar'!A417>0,'XML a procesar'!A417,\"\")","v":""},0,0,0,0,"",0,0,0,"","",0,"",0,"",{"$f":"IF(ROW()<$S$4+2,IF('XML a procesar'!A417=\"\",P417,IF(MID('XML a procesar'!A417,1,1)=\"<\",P417,P417+1)),P417)","v":1}]
[{"$f":"IF('XML a procesar'!A418>0,'XML a procesar'!A418,\"\")","v":""},0,0,0,0,"",0,0,0,"","",0,"",0,"",{"$f":"IF(ROW()<$S$4+2,IF('XML a procesar'!A418=\"\",P418,IF(MID('XML a procesar'!A418,1,1)=\"<\",P418,P418+1)),P418)","v":1}]
[{"$f":"IF('XML a procesar'!A419>0,'XML a procesar'!A419,\"\")","v":""},0,0,0,0,"",0,0,0,"","",0,"",0,"",{"$f":"IF(ROW()<$S$4+2,IF('XML a procesar'!A419=\"\",P419,IF(MID('XML a procesar'!A419,1,1)=\"<\",P419,P419+1)),P419)","v":1}]
[{"$f":"IF('XML a procesar'!A420>0,'XML a procesar'!A420,\"\")","v":""},0,0,0,0,"",0,0,0,"","",0,"",0,"",{"$f":"IF(ROW()<$S$4+2,IF('XML a procesar'!A420=\"\",P420,IF(MID('XML a procesar'!A420,1,1)=\"<\",P420,P420+1)),P420)","v":1}]
[{"$f":"IF('XML a procesar'!A421>0,'XML a procesar'!A421,\"\")","v":""},0,0,0,0,"",0,0,0,"","",0,"",0,"",{"$f":"IF(ROW()<$S$4+2,IF('XML a procesar'!A421=\"\",P421,IF(MID('XML a procesar'!A421,1,1)=\"<\",P421,P421+1)),P421)","v":1}]
[{"$f":"IF('XML a procesar'!A422>0,'XML a procesar'!A422,\"\")","v":""},0,0,0,0,"",0,0,0,"","",0,"",0,"",{"$f":"IF(ROW()<$S$4+2,IF('XML a procesar'!A422=\"\",P422,IF(MID('XML a procesar'!A422,1,1)=\"<\",P422,P422+1)),P422)","v":1}]
[{"$f":"IF('XML a procesar'!A423>0,'XML a procesar'!A423,\"\")","v":""},0,0,0,0,"",0,0,0,"","",0,"",0,"",{"$f":"IF(ROW()<$S$4+2,IF('XML a procesar'!A423=\"\",P423,IF(MID('XML a procesar'!A423,1,1)=\"<\",P423,P423+1)),P423)","v":1}]
[{"$f":"IF('XML a procesar'!A424>0,'XML a procesar'!A424,\"\")","v":""},0,0,0,0,"",0,0,0,"","",0,"",0,"",{"$f":"IF(ROW()<$S$4+2,IF('XML a procesar'!A424=\"\",P424,IF(MID('XML a procesar'!A424,1,1)=\"<\",P424,P424+1)),P424)","v":1}]
[{"$f":"IF('XML a procesar'!A425>0,'XML a procesar'!A425,\"\")","v":""},0,0,0,0,"",0,0,0,"","",0,"",0,"",{"$f":"IF(ROW()<$S$4+2,IF('XML a procesar'!A425=\"\",P425,IF(MID('XML a procesar'!A425,1,1)=\"<\",P425,P425+1)),P425)","v":1}]
[{"$f":"IF('XML a procesar'!A426>0,'XML a procesar'!A426,\"\")","v":""},0,0,0,0,"",0,0,0,"","",0,"",0,"",{"$f":"IF(ROW()<$S$4+2,IF('XML a procesar'!A426=\"\",P426,IF(MID('XML a procesar'!A426,1,1)=\"<\",P426,P426+1)),P426)","v":1}]
[{"$f":"IF('XML a procesar'!A427>0,'XML a procesar'!A427,\"\")","v":""},0,0,0,0,"",0,0,0,"","",0,"",0,"",{"$f":"IF(ROW()<$S$4+2,IF('XML a procesar'!A427=\"\",P427,IF(MID('XML a procesar'!A427,1,1)=\"<\",P427,P427+1)),P427)","v":1}]
[{"$f":"IF('XML a procesar'!A428>0,'XML a procesar'!A428,\"\")","v":""},0,0,0,0,"",0,0,0,"","",0,"",0,"",{"$f":"IF(ROW()<$S$4+2,IF('XML a procesar'!A428=\"\",P428,IF(MID('XML a procesar'!A428,1,1)=\"<\",P428,P428+1)),P428)","v":1}]
[{"$f":"IF('XML a procesar'!A429>0,'XML a procesar'!A429,\"\")","v":""},0,0,0,0,"",0,0,0,"","",0,"",0,"",{"$f":"IF(ROW()<$S$4+2,IF('XML a procesar'!A429=\"\",P429,IF(MID('XML a procesar'!A429,1,1)=\"<\",P429,P429+1)),P429)","v":1}]
[{"$f":"IF('XML a procesar'!A430>0,'XML a procesar'!A430,\"\")","v":""},0,0,0,0,"",0,0,0,"","",0,"",0,"",{"$f":"IF(ROW()<$S$4+2,IF('XML a procesar'!A430=\"\",P430,IF(MID('XML a procesar'!A430,1,1)=\"<\",P430,P430+1)),P430)","v":1}]
[{"$f":"IF('XML a procesar'!A431>0,'XML a procesar'!A431,\"\")","v":""},0,0,0,0,"",0,0,0,"","",0,"",0,"",{"$f":"IF(ROW()<$S$4+2,IF('XML a procesar'!A431=\"\",P431,IF(MID('XML a procesar'!A431,1,1)=\"<\",P431,P431+1)),P431)","v":1}]
[{"$f":"IF('XML a procesar'!A432>0,'XML a procesar'!A432,\"\")","v":""},0,0,0,0,"",0,0,0,"","",0,"",0,"",{"$f":"IF(ROW()<$S$4+2,IF('XML a procesar'!A432=\"\",P432,IF(MID('XML a procesar'!A432,1,1)=\"<\",P432,P432+1)),P432)","v":1}]
[{"$f":"IF('XML a procesar'!A433>0,'XML a procesar'!A433,\"\")","v":""},0,0,0,0,"",0,0,0,"","",0,"",0,"",{"$f":"IF(ROW()<$S$4+2,IF('XML a procesar'!A433=\"\",P433,IF(MID('XML a procesar'!A433,1,1)=\"<\",P433,P433+1)),P433)","v":1}]
[{"$f":"IF('XML a procesar'!A434>0,'XML a procesar'!A434,\"\")","v":""},0,0,0,0,"",0,0,0,"","",0,"",0,"",{"$f":"IF(ROW()<$S$4+2,IF('XML a procesar'!A434=\"\",P434,IF(MID('XML a procesar'!A434,1,1)=\"<\",P434,P434+1)),P434)","v":1}]
[{"$f":"IF('XML a procesar'!A435>0,'XML a procesar'!A435,\"\")","v":""},0,0,0,0,"",0,0,0,"","",0,"",0,"",{"$f":"IF(ROW()<$S$4+2,IF('XML a procesar'!A435=\"\",P435,IF(MID('XML a procesar'!A435,1,1)=\"<\",P435,P435+1)),P435)","v":1}]
[{"$f":"IF('XML a procesar'!A436>0,'XML a procesar'!A436,\"\")","v":""},0,0,0,0,"",0,0,0,"","",0,"",0,"",{"$f":"IF(ROW()<$S$4+2,IF('XML a procesar'!A436=\"\",P436,IF(MID('XML a procesar'!A436,1,1)=\"<\",P436,P436+1)),P436)","v":1}]
[{"$f":"IF('XML a procesar'!A437>0,'XML a procesar'!A437,\"\")","v":""},0,0,0,0,"",0,0,0,"","",0,"",0,"",{"$f":"IF(ROW()<$S$4+2,IF('XML a procesar'!A437=\"\",P437,IF(MID('XML a procesar'!A437,1,1)=\"<\",P437,P437+1)),P437)","v":1}]
[{"$f":"IF('XML a procesar'!A438>0,'XML a procesar'!A438,\"\")","v":""},0,0,0,0,"",0,0,0,"","",0,"",0,"",{"$f":"IF(ROW()<$S$4+2,IF('XML a procesar'!A438=\"\",P438,IF(MID('XML a procesar'!A438,1,1)=\"<\",P438,P438+1)),P438)","v":1}]
[{"$f":"IF('XML a procesar'!A439>0,'XML a procesar'!A439,\"\")","v":""},0,0,0,0,"",0,0,0,"","",0,"",0,"",{"$f":"IF(ROW()<$S$4+2,IF('XML a procesar'!A439=\"\",P439,IF(MID('XML a procesar'!A439,1,1)=\"<\",P439,P439+1)),P439)","v":1}]
[{"$f":"IF('XML a procesar'!A440>0,'XML a procesar'!A440,\"\")","v":""},0,0,0,0,"",0,0,0,"","",0,"",0,"",{"$f":"IF(ROW()<$S$4+2,IF('XML a procesar'!A440=\"\",P440,IF(MID('XML a procesar'!A440,1,1)=\"<\",P440,P440+1)),P440)","v":1}]
[{"$f":"IF('XML a procesar'!A441>0,'XML a procesar'!A441,\"\")","v":""},0,0,0,0,"",0,0,0,"","",0,"",0,"",{"$f":"IF(ROW()<$S$4+2,IF('XML a procesar'!A441=\"\",P441,IF(MID('XML a procesar'!A441,1,1)=\"<\",P441,P441+1)),P441)","v":1}]
[{"$f":"IF('XML a procesar'!A442>0,'XML a procesar'!A442,\"\")","v":""},0,0,0,0,"",0,0,0,"","",0,"",0,"",{"$f":"IF(ROW()<$S$4+2,IF('XML a procesar'!A442=\"\",P442,IF(MID('XML a procesar'!A442,1,1)=\"<\",P442,P442+1)),P442)","v":1}]
[{"$f":"IF('XML a procesar'!A443>0,'XML a procesar'!A443,\"\")","v":""},0,0,0,0,"",0,0,0,"","",0,"",0,"",{"$f":"IF(ROW()<$S$4+2,IF('XML a procesar'!A443=\"\",P443,IF(MID('XML a procesar'!A443,1,1)=\"<\",P443,P443+1)),P443)","v":1}]
[{"$f":"IF('XML a procesar'!A444>0,'XML a procesar'!A444,\"\")","v":""},0,0,0,0,"",0,0,0,"","",0,"",0,"",{"$f":"IF(ROW()<$S$4+2,IF('XML a procesar'!A444=\"\",P444,IF(MID('XML a procesar'!A444,1,1)=\"<\",P444,P444+1)),P444)","v":1}]
[{"$f":"IF('XML a procesar'!A445>0,'XML a procesar'!A445,\"\")","v":""},0,0,0,0,"",0,0,0,"","",0,"",0,"",{"$f":"IF(ROW()<$S$4+2,IF('XML a procesar'!A445=\"\",P445,IF(MID('XML a procesar'!A445,1,1)=\"<\",P445,P445+1)),P445)","v":1}]
[{"$f":"IF('XML a procesar'!A446>0,'XML a procesar'!A446,\"\")","v":""},0,0,0,0,"",0,0,0,"","",0,"",0,"",{"$f":"IF(ROW()<$S$4+2,IF('XML a procesar'!A446=\"\",P446,IF(MID('XML a procesar'!A446,1,1)=\"<\",P446,P446+1)),P446)","v":1}]
[{"$f":"IF('XML a procesar'!A447>0,'XML a procesar'!A447,\"\")","v":""},0,0,0,0,"",0,0,0,"","",0,"",0,"",{"$f":"IF(ROW()<$S$4+2,IF('XML a procesar'!A447=\"\",P447,IF(MID('XML a procesar'!A447,1,1)=\"<\",P447,P447+1)),P447)","v":1}]
[{"$f":"IF('XML a procesar'!A448>0,'XML a procesar'!A448,\"\")","v":""},0,0,0,0,"",0,0,0,"","",0,"",0,"",{"$f":"IF(ROW()<$S$4+2,IF('XML a procesar'!A448=\"\",P448,IF(MID('XML a procesar'!A448,1,1)=\"<\",P448,P448+1)),P448)","v":1}]
[{"$f":"IF('XML a procesar'!A449>0,'XML a procesar'!A449,\"\")","v":""},0,0,0,0,"",0,0,0,"","",0,"",0,{"$f":"IF(N450>-1,INDIRECT(ADDRESS(ROW(),13)),IF(N450<N449,CONCATENATE(\"<page-count count=\",CHAR(34),1+LARGE(N:N,1)-LARGE(N:N,2),CHAR(34),\"/>\"),INDIRECT(ADDRESS(ROW()-1,13))))","v":""},{"$f":"IF(ROW()<$S$4+2,IF('XML a procesar'!A449=\"\",P449,IF(MID('XML a procesar'!A449,1,1)=\"<\",P449,P449+1)),P449)","v":1}]
[{"$f":"IF('XML a procesar'!A450>0,'XML a procesar'!A450,\"\")","v":""},{"$f":"IF(ISERROR(FIND(\"/doi.org/\",A451,1)),0,1)","v":0},0,{"$f":"IF(AND(C451>0,LEFT(A451,7)=\"<email>\",ISNUMBER(SEARCH(\"@\",A451,1))),C451,IF(LEFT(A451,10)=\"<alt-text>\",-1,0))","v":0},0,{"$f":"INDIRECT(ADDRESS(ROW()+INDIRECT(ADDRESS(ROW()+E451,5)),1))","v":""},0,{"$f":"IF(AND(G450>0,G451>G450,NOT(ISERROR(MATCH(G450,D:D,0)))),H450+1,H450)","v":0},0,"",{"$f":"IF(J451=\"Linea_para_MAIL_creada_por_LuXML\",IF(ISERROR(MATCH(INDIRECT(ADDRESS(ROW()-G451,7)),D:D,0)),J451,INDIRECT(ADDRESS(MATCH(INDIRECT(ADDRESS(ROW()-G451,7)),D:D,0),1))),J451)","v":""},0,"",0,"",{"$f":"IF(ROW()<$S$4+2,IF('XML a procesar'!A450=\"\",P450,IF(MID('XML a procesar'!A450,1,1)=\"<\",P450,P450+1)),P450)","v":1}]
[{"$f":"IF('XML a procesar'!A451>0,'XML a procesar'!A451,\"\")","v":""},0,{"$f":"IF(LEFT(A451,16)=\"<contrib contrib\",C451+1,IF(LEFT(A451,16)=\"</contrib-group>\",0,IF(LEFT(A451,10)=\"</contrib>\",C451,C451)))","v":0},0,{"$f":"IF(D452=0,E451,E451+1)","v":0},"",{"$f":"IF(LEFT(F452,7)=\"<aff id\",_xlfn.NUMBERVALUE(MID(F452,13,LEN(F452)-14)),IF(F452=\"</aff>\",G451+1,G451))","v":0},0,{"$f":"INDIRECT(ADDRESS(ROW()-INDIRECT(ADDRESS(ROW()-H452,8)),8))","v":0},{"$f":"IF(J451=\"Linea_para_MAIL_creada_por_LuXML\",\"</aff>\",IF(I452>INDIRECT(ADDRESS(ROW()-I452-1,8)),\"Linea_para_MAIL_creada_por_LuXML\",INDIRECT(ADDRESS(ROW()-I452,6))))","v":""},"",{"$f":"IF(OR(MID(K450,3,5)=\"page>\",MID(K451,3,5)=\"page>\"),L451,IF(OR(K451=\"<history>\",K452=\"<history>\"),L451+1,L451))","v":0},"",{"$f":"IF(N451=-1,-1,IF(M452=\"</counts>\",-1,IF(OR(LEFT(M452,7)=\"<fpage>\",LEFT(M452,7)=\"<lpage>\"),VALUE(MID(M452,8,LEN(M452)-15)),0)))","v":0},"",{"$f":"IF(ROW()<$S$4+2,IF('XML a procesar'!A451=\"\",P451,IF(MID('XML a procesar'!A451,1,1)=\"<\",P451,P451+1)),P451)","v":1}]
[{"$f":"IF('XML a procesar'!A452>0,'XML a procesar'!A452,\"\")","v":""},0,0,0,0,"",0,0,0,"","",0,"",0,"",{"$f":"IF(ROW()<$S$4+2,IF('XML a procesar'!A452=\"\",P452,IF(MID('XML a procesar'!A452,1,1)=\"<\",P452,P452+1)),P452)","v":1}]
[{"$f":"IF('XML a procesar'!A453>0,'XML a procesar'!A453,\"\")","v":""},0,0,0,0,"",0,0,0,"","",0,{"$f":"IF(L454>L453,IF(L454=1,CONCATENATE(\"<fpage>\",$S$10,\"</fpage>\"),CONCATENATE(\"<lpage>\",$S$10+1,\"</lpage>\")),IF(ISERROR(INDIRECT(ADDRESS(ROW()-L454,11),1)),\"\",INDIRECT(ADDRESS(ROW()-L454,11),1)))","v":""},0,"",{"$f":"IF(ROW()<$S$4+2,IF('XML a procesar'!A453=\"\",P453,IF(MID('XML a procesar'!A453,1,1)=\"<\",P453,P453+1)),P453)","v":1}]
[{"$f":"IF('XML a procesar'!A454>0,'XML a procesar'!A454,\"\")","v":""},0,0,0,0,"",0,0,0,"","",0,"",0,"",{"$f":"IF(ROW()<$S$4+2,IF('XML a procesar'!A454=\"\",P454,IF(MID('XML a procesar'!A454,1,1)=\"<\",P454,P454+1)),P454)","v":1}]
[{"$f":"IF('XML a procesar'!A455>0,'XML a procesar'!A455,\"\")","v":""},0,0,0,0,"",0,0,0,"","",0,"",0,"",{"$f":"IF(ROW()<$S$4+2,IF('XML a procesar'!A455=\"\",P455,IF(MID('XML a procesar'!A455,1,1)=\"<\",P455,P455+1)),P455)","v":1}]
[{"$f":"IF('XML a procesar'!A456>0,'XML a procesar'!A456,\"\")","v":""},0,0,0,0,"",0,0,0,"","",0,"",0,"",{"$f":"IF(ROW()<$S$4+2,IF('XML a procesar'!A456=\"\",P456,IF(MID('XML a procesar'!A456,1,1)=\"<\",P456,P456+1)),P456)","v":1}]
[{"$f":"IF('XML a procesar'!A457>0,'XML a procesar'!A457,\"\")","v":""},0,0,0,0,"",0,0,0,"","",0,"",0,"",{"$f":"IF(ROW()<$S$4+2,IF('XML a procesar'!A457=\"\",P457,IF(MID('XML a procesar'!A457,1,1)=\"<\",P457,P457+1)),P457)","v":1}]
[{"$f":"IF('XML a procesar'!A458>0,'XML a procesar'!A458,\"\")","v":""},0,0,0,0,"",0,0,0,"","",0,"",0,"",{"$f":"IF(ROW()<$S$4+2,IF('XML a procesar'!A458=\"\",P458,IF(MID('XML a procesar'!A458,1,1)=\"<\",P458,P458+1)),P458)","v":1}]
[{"$f":"IF('XML a procesar'!A459>0,'XML a procesar'!A459,\"\")","v":""},0,0,0,0,"",0,0,0,"","",0,"",0,"",{"$f":"IF(ROW()<$S$4+2,IF('XML a procesar'!A459=\"\",P459,IF(MID('XML a procesar'!A459,1,1)=\"<\",P459,P459+1)),P459)","v":1}]
[{"$f":"IF('XML a procesar'!A460>0,'XML a procesar'!A460,\"\")","v":""},0,0,0,0,"",0,0,0,"","",0,"",0,"",{"$f":"IF(ROW()<$S$4+2,IF('XML a procesar'!A460=\"\",P460,IF(MID('XML a procesar'!A460,1,1)=\"<\",P460,P460+1)),P460)","v":1}]
[{"$f":"IF('XML a procesar'!A461>0,'XML a procesar'!A461,\"\")","v":""},0,0,0,0,"",0,0,0,"","",0,"",0,"",{"$f":"IF(ROW()<$S$4+2,IF('XML a procesar'!A461=\"\",P461,IF(MID('XML a procesar'!A461,1,1)=\"<\",P461,P461+1)),P461)","v":1}]
[{"$f":"IF('XML a procesar'!A462>0,'XML a procesar'!A462,\"\")","v":""},0,0,0,0,"",0,0,0,"","",0,"",0,"",{"$f":"IF(ROW()<$S$4+2,IF('XML a procesar'!A462=\"\",P462,IF(MID('XML a procesar'!A462,1,1)=\"<\",P462,P462+1)),P462)","v":1}]
[{"$f":"IF('XML a procesar'!A463>0,'XML a procesar'!A463,\"\")","v":""},{"$f":"IF(ISERROR(FIND(\"/doi.org/\",A464,1)),0,1)","v":0},0,0,0,"",0,0,0,"","",0,"",0,"",{"$f":"IF(ROW()<$S$4+2,IF('XML a procesar'!A463=\"\",P463,IF(MID('XML a procesar'!A463,1,1)=\"<\",P463,P463+1)),P463)","v":1}]
[{"$f":"IF('XML a procesar'!A464>0,'XML a procesar'!A464,\"\")","v":""},0,0,0,0,"",0,0,0,"","",0,"",0,"",{"$f":"IF(ROW()<$S$4+2,IF('XML a procesar'!A464=\"\",P464,IF(MID('XML a procesar'!A464,1,1)=\"<\",P464,P464+1)),P464)","v":1}]
[{"$f":"IF('XML a procesar'!A465>0,'XML a procesar'!A465,\"\")","v":""},0,0,0,0,"",0,0,0,"","",0,"",0,"",{"$f":"IF(ROW()<$S$4+2,IF('XML a procesar'!A465=\"\",P465,IF(MID('XML a procesar'!A465,1,1)=\"<\",P465,P465+1)),P465)","v":1}]
[{"$f":"IF('XML a procesar'!A466>0,'XML a procesar'!A466,\"\")","v":""},0,0,0,0,"",0,0,0,"","",0,"",0,"",{"$f":"IF(ROW()<$S$4+2,IF('XML a procesar'!A466=\"\",P466,IF(MID('XML a procesar'!A466,1,1)=\"<\",P466,P466+1)),P466)","v":1}]
[{"$f":"IF('XML a procesar'!A467>0,'XML a procesar'!A467,\"\")","v":""},0,0,0,0,"",0,0,0,"","",0,"",0,"",{"$f":"IF(ROW()<$S$4+2,IF('XML a procesar'!A467=\"\",P467,IF(MID('XML a procesar'!A467,1,1)=\"<\",P467,P467+1)),P467)","v":1}]
[{"$f":"IF('XML a procesar'!A468>0,'XML a procesar'!A468,\"\")","v":""},0,0,0,0,"",0,0,0,"","",0,"",0,"",{"$f":"IF(ROW()<$S$4+2,IF('XML a procesar'!A468=\"\",P468,IF(MID('XML a procesar'!A468,1,1)=\"<\",P468,P468+1)),P468)","v":1}]
[{"$f":"IF('XML a procesar'!A469>0,'XML a procesar'!A469,\"\")","v":""},0,0,0,0,"",0,0,0,"","",0,"",0,"",{"$f":"IF(ROW()<$S$4+2,IF('XML a procesar'!A469=\"\",P469,IF(MID('XML a procesar'!A469,1,1)=\"<\",P469,P469+1)),P469)","v":1}]
[{"$f":"IF('XML a procesar'!A470>0,'XML a procesar'!A470,\"\")","v":""},0,0,0,0,"",0,0,0,"","",0,"",0,"",{"$f":"IF(ROW()<$S$4+2,IF('XML a procesar'!A470=\"\",P470,IF(MID('XML a procesar'!A470,1,1)=\"<\",P470,P470+1)),P470)","v":1}]
[{"$f":"IF('XML a procesar'!A471>0,'XML a procesar'!A471,\"\")","v":""},0,0,0,0,"",0,0,0,"","",0,"",0,"",{"$f":"IF(ROW()<$S$4+2,IF('XML a procesar'!A471=\"\",P471,IF(MID('XML a procesar'!A471,1,1)=\"<\",P471,P471+1)),P471)","v":1}]
[{"$f":"IF('XML a procesar'!A472>0,'XML a procesar'!A472,\"\")","v":""},0,0,0,0,"",0,0,0,"","",0,"",0,"",{"$f":"IF(ROW()<$S$4+2,IF('XML a procesar'!A472=\"\",P472,IF(MID('XML a procesar'!A472,1,1)=\"<\",P472,P472+1)),P472)","v":1}]
[{"$f":"IF('XML a procesar'!A473>0,'XML a procesar'!A473,\"\")","v":""},0,0,0,0,"",0,0,0,"","",0,"",0,"",{"$f":"IF(ROW()<$S$4+2,IF('XML a procesar'!A473=\"\",P473,IF(MID('XML a procesar'!A473,1,1)=\"<\",P473,P473+1)),P473)","v":1}]
[{"$f":"IF('XML a procesar'!A474>0,'XML a procesar'!A474,\"\")","v":""},0,0,0,0,"",0,0,0,"","",0,"",0,"",{"$f":"IF(ROW()<$S$4+2,IF('XML a procesar'!A474=\"\",P474,IF(MID('XML a procesar'!A474,1,1)=\"<\",P474,P474+1)),P474)","v":1}]
[{"$f":"IF('XML a procesar'!A475>0,'XML a procesar'!A475,\"\")","v":""},0,0,0,0,"",0,0,0,"","",0,"",0,"",{"$f":"IF(ROW()<$S$4+2,IF('XML a procesar'!A475=\"\",P475,IF(MID('XML a procesar'!A475,1,1)=\"<\",P475,P475+1)),P475)","v":1}]
[{"$f":"IF('XML a procesar'!A476>0,'XML a procesar'!A476,\"\")","v":""},0,0,0,0,"",0,0,0,"","",0,"",0,"",{"$f":"IF(ROW()<$S$4+2,IF('XML a procesar'!A476=\"\",P476,IF(MID('XML a procesar'!A476,1,1)=\"<\",P476,P476+1)),P476)","v":1}]
[{"$f":"IF('XML a procesar'!A477>0,'XML a procesar'!A477,\"\")","v":""},0,0,0,0,"",0,0,0,"","",0,"",0,"",{"$f":"IF(ROW()<$S$4+2,IF('XML a procesar'!A477=\"\",P477,IF(MID('XML a procesar'!A477,1,1)=\"<\",P477,P477+1)),P477)","v":1}]
[{"$f":"IF('XML a procesar'!A478>0,'XML a procesar'!A478,\"\")","v":""},0,0,0,0,"",0,0,0,"","",0,"",0,"",{"$f":"IF(ROW()<$S$4+2,IF('XML a procesar'!A478=\"\",P478,IF(MID('XML a procesar'!A478,1,1)=\"<\",P478,P478+1)),P478)","v":1}]
[{"$f":"IF('XML a procesar'!A479>0,'XML a procesar'!A479,\"\")","v":""},0,0,0,0,"",0,0,0,"","",0,"",0,"",{"$f":"IF(ROW()<$S$4+2,IF('XML a procesar'!A479=\"\",P479,IF(MID('XML a procesar'!A479,1,1)=\"<\",P479,P479+1)),P479)","v":1}]
[{"$f":"IF('XML a procesar'!A480>0,'XML a procesar'!A480,\"\")","v":""},0,0,0,0,"",0,0,0,"","",0,"",0,"",{"$f":"IF(ROW()<$S$4+2,IF('XML a procesar'!A480=\"\",P480,IF(MID('XML a procesar'!A480,1,1)=\"<\",P480,P480+1)),P480)","v":1}]
[{"$f":"IF('XML a procesar'!A481>0,'XML a procesar'!A481,\"\")","v":""},0,0,0,0,"",0,0,0,"","",0,"",0,"",{"$f":"IF(ROW()<$S$4+2,IF('XML a procesar'!A481=\"\",P481,IF(MID('XML a procesar'!A481,1,1)=\"<\",P481,P481+1)),P481)","v":1}]
[{"$f":"IF('XML a procesar'!A482>0,'XML a procesar'!A482,\"\")","v":""},0,0,0,0,"",0,0,0,"","",0,"",0,"",{"$f":"IF(ROW()<$S$4+2,IF('XML a procesar'!A482=\"\",P482,IF(MID('XML a procesar'!A482,1,1)=\"<\",P482,P482+1)),P482)","v":1}]
[{"$f":"IF('XML a procesar'!A483>0,'XML a procesar'!A483,\"\")","v":""},0,0,0,0,"",0,0,0,"","",0,"",0,"",{"$f":"IF(ROW()<$S$4+2,IF('XML a procesar'!A483=\"\",P483,IF(MID('XML a procesar'!A483,1,1)=\"<\",P483,P483+1)),P483)","v":1}]
[{"$f":"IF('XML a procesar'!A484>0,'XML a procesar'!A484,\"\")","v":""},0,0,0,0,"",0,0,0,"","",0,"",0,"",{"$f":"IF(ROW()<$S$4+2,IF('XML a procesar'!A484=\"\",P484,IF(MID('XML a procesar'!A484,1,1)=\"<\",P484,P484+1)),P484)","v":1}]
[{"$f":"IF('XML a procesar'!A485>0,'XML a procesar'!A485,\"\")","v":""},0,0,0,0,"",0,0,0,"","",0,"",0,"",{"$f":"IF(ROW()<$S$4+2,IF('XML a procesar'!A485=\"\",P485,IF(MID('XML a procesar'!A485,1,1)=\"<\",P485,P485+1)),P485)","v":1}]
[{"$f":"IF('XML a procesar'!A486>0,'XML a procesar'!A486,\"\")","v":""},0,0,0,0,"",0,0,0,"","",0,"",0,"",{"$f":"IF(ROW()<$S$4+2,IF('XML a procesar'!A486=\"\",P486,IF(MID('XML a procesar'!A486,1,1)=\"<\",P486,P486+1)),P486)","v":1}]
[{"$f":"IF('XML a procesar'!A487>0,'XML a procesar'!A487,\"\")","v":""},0,0,0,0,"",0,0,0,"","",0,"",0,"",{"$f":"IF(ROW()<$S$4+2,IF('XML a procesar'!A487=\"\",P487,IF(MID('XML a procesar'!A487,1,1)=\"<\",P487,P487+1)),P487)","v":1}]
[{"$f":"IF('XML a procesar'!A488>0,'XML a procesar'!A488,\"\")","v":""},0,0,0,0,"",0,0,0,"","",0,"",0,"",{"$f":"IF(ROW()<$S$4+2,IF('XML a procesar'!A488=\"\",P488,IF(MID('XML a procesar'!A488,1,1)=\"<\",P488,P488+1)),P488)","v":1}]
[{"$f":"IF('XML a procesar'!A489>0,'XML a procesar'!A489,\"\")","v":""},0,0,0,0,"",0,0,0,"","",0,"",0,"",{"$f":"IF(ROW()<$S$4+2,IF('XML a procesar'!A489=\"\",P489,IF(MID('XML a procesar'!A489,1,1)=\"<\",P489,P489+1)),P489)","v":1}]
[{"$f":"IF('XML a procesar'!A490>0,'XML a procesar'!A490,\"\")","v":""},0,0,0,0,"",0,0,0,"","",0,"",0,"",{"$f":"IF(ROW()<$S$4+2,IF('XML a procesar'!A490=\"\",P490,IF(MID('XML a procesar'!A490,1,1)=\"<\",P490,P490+1)),P490)","v":1}]
[{"$f":"IF('XML a procesar'!A491>0,'XML a procesar'!A491,\"\")","v":""},0,0,0,0,"",0,0,0,"","",0,"",0,"",{"$f":"IF(ROW()<$S$4+2,IF('XML a procesar'!A491=\"\",P491,IF(MID('XML a procesar'!A491,1,1)=\"<\",P491,P491+1)),P491)","v":1}]
[{"$f":"IF('XML a procesar'!A492>0,'XML a procesar'!A492,\"\")","v":""},0,0,0,0,"",0,0,0,"","",0,"",0,"",{"$f":"IF(ROW()<$S$4+2,IF('XML a procesar'!A492=\"\",P492,IF(MID('XML a procesar'!A492,1,1)=\"<\",P492,P492+1)),P492)","v":1}]
[{"$f":"IF('XML a procesar'!A493>0,'XML a procesar'!A493,\"\")","v":""},0,0,0,0,"",0,0,0,"","",0,"",0,"",{"$f":"IF(ROW()<$S$4+2,IF('XML a procesar'!A493=\"\",P493,IF(MID('XML a procesar'!A493,1,1)=\"<\",P493,P493+1)),P493)","v":1}]
[{"$f":"IF('XML a procesar'!A494>0,'XML a procesar'!A494,\"\")","v":""},0,0,0,0,"",0,0,0,"","",0,"",0,"",{"$f":"IF(ROW()<$S$4+2,IF('XML a procesar'!A494=\"\",P494,IF(MID('XML a procesar'!A494,1,1)=\"<\",P494,P494+1)),P494)","v":1}]
[{"$f":"IF('XML a procesar'!A495>0,'XML a procesar'!A495,\"\")","v":""},0,0,0,0,"",0,0,0,"","",0,"",0,"",{"$f":"IF(ROW()<$S$4+2,IF('XML a procesar'!A495=\"\",P495,IF(MID('XML a procesar'!A495,1,1)=\"<\",P495,P495+1)),P495)","v":1}]
[{"$f":"IF('XML a procesar'!A496>0,'XML a procesar'!A496,\"\")","v":""},0,0,0,0,"",0,0,0,"","",0,"",0,"",{"$f":"IF(ROW()<$S$4+2,IF('XML a procesar'!A496=\"\",P496,IF(MID('XML a procesar'!A496,1,1)=\"<\",P496,P496+1)),P496)","v":1}]
[{"$f":"IF('XML a procesar'!A497>0,'XML a procesar'!A497,\"\")","v":""},0,0,0,0,"",0,0,0,"","",0,"",0,"",{"$f":"IF(ROW()<$S$4+2,IF('XML a procesar'!A497=\"\",P497,IF(MID('XML a procesar'!A497,1,1)=\"<\",P497,P497+1)),P497)","v":1}]
[{"$f":"IF('XML a procesar'!A498>0,'XML a procesar'!A498,\"\")","v":""},0,0,0,0,"",0,0,0,"","",0,"",0,"",{"$f":"IF(ROW()<$S$4+2,IF('XML a procesar'!A498=\"\",P498,IF(MID('XML a procesar'!A498,1,1)=\"<\",P498,P498+1)),P498)","v":1}]
[{"$f":"IF('XML a procesar'!A499>0,'XML a procesar'!A499,\"\")","v":""},0,0,0,0,"",0,0,0,"","",0,"",0,"",{"$f":"IF(ROW()<$S$4+2,IF('XML a procesar'!A499=\"\",P499,IF(MID('XML a procesar'!A499,1,1)=\"<\",P499,P499+1)),P499)","v":1}]
[{"$f":"IF('XML a procesar'!A500>0,'XML a procesar'!A500,\"\")","v":""},0,0,0,0,"",0,0,0,"","",0,"",0,"",{"$f":"IF(ROW()<$S$4+2,IF('XML a procesar'!A500=\"\",P500,IF(MID('XML a procesar'!A500,1,1)=\"<\",P500,P500+1)),P500)","v":1}]
[{"$f":"IF('XML a procesar'!A501>0,'XML a procesar'!A501,\"\")","v":""},0,0,0,0,"",0,0,0,"","",0,"",0,"",{"$f":"IF(ROW()<$S$4+2,IF('XML a procesar'!A501=\"\",P501,IF(MID('XML a procesar'!A501,1,1)=\"<\",P501,P501+1)),P501)","v":1}]
[{"$f":"IF('XML a procesar'!A502>0,'XML a procesar'!A502,\"\")","v":""},0,0,0,0,"",0,0,0,"","",0,"",0,"",{"$f":"IF(ROW()<$S$4+2,IF('XML a procesar'!A502=\"\",P502,IF(MID('XML a procesar'!A502,1,1)=\"<\",P502,P502+1)),P502)","v":1}]
[{"$f":"IF('XML a procesar'!A503>0,'XML a procesar'!A503,\"\")","v":""},0,0,0,0,"",0,0,0,"","",0,"",0,"",{"$f":"IF(ROW()<$S$4+2,IF('XML a procesar'!A503=\"\",P503,IF(MID('XML a procesar'!A503,1,1)=\"<\",P503,P503+1)),P503)","v":1}]
[{"$f":"IF('XML a procesar'!A504>0,'XML a procesar'!A504,\"\")","v":""},0,0,0,0,"",0,0,0,"","",0,"",0,"",{"$f":"IF(ROW()<$S$4+2,IF('XML a procesar'!A504=\"\",P504,IF(MID('XML a procesar'!A504,1,1)=\"<\",P504,P504+1)),P504)","v":1}]
[{"$f":"IF('XML a procesar'!A505>0,'XML a procesar'!A505,\"\")","v":""},0,0,0,0,"",0,0,0,"","",0,"",0,"",{"$f":"IF(ROW()<$S$4+2,IF('XML a procesar'!A505=\"\",P505,IF(MID('XML a procesar'!A505,1,1)=\"<\",P505,P505+1)),P505)","v":1}]
[{"$f":"IF('XML a procesar'!A506>0,'XML a procesar'!A506,\"\")","v":""},0,0,0,0,"",0,0,0,"","",0,"",0,"",{"$f":"IF(ROW()<$S$4+2,IF('XML a procesar'!A506=\"\",P506,IF(MID('XML a procesar'!A506,1,1)=\"<\",P506,P506+1)),P506)","v":1}]
[{"$f":"IF('XML a procesar'!A507>0,'XML a procesar'!A507,\"\")","v":""},0,0,0,0,"",0,0,0,"","",0,"",0,"",{"$f":"IF(ROW()<$S$4+2,IF('XML a procesar'!A507=\"\",P507,IF(MID('XML a procesar'!A507,1,1)=\"<\",P507,P507+1)),P507)","v":1}]
[{"$f":"IF('XML a procesar'!A508>0,'XML a procesar'!A508,\"\")","v":""},0,0,0,0,"",0,0,0,"","",0,"",0,"",{"$f":"IF(ROW()<$S$4+2,IF('XML a procesar'!A508=\"\",P508,IF(MID('XML a procesar'!A508,1,1)=\"<\",P508,P508+1)),P508)","v":1}]
[{"$f":"IF('XML a procesar'!A509>0,'XML a procesar'!A509,\"\")","v":""},0,0,0,0,"",0,0,0,"","",0,"",0,"",{"$f":"IF(ROW()<$S$4+2,IF('XML a procesar'!A509=\"\",P509,IF(MID('XML a procesar'!A509,1,1)=\"<\",P509,P509+1)),P509)","v":1}]
[{"$f":"IF('XML a procesar'!A510>0,'XML a procesar'!A510,\"\")","v":""},0,0,0,0,"",0,0,0,"","",0,"",0,"",{"$f":"IF(ROW()<$S$4+2,IF('XML a procesar'!A510=\"\",P510,IF(MID('XML a procesar'!A510,1,1)=\"<\",P510,P510+1)),P510)","v":1}]
[{"$f":"IF('XML a procesar'!A511>0,'XML a procesar'!A511,\"\")","v":""},0,0,0,0,"",0,0,0,"","",0,"",0,"",{"$f":"IF(ROW()<$S$4+2,IF('XML a procesar'!A511=\"\",P511,IF(MID('XML a procesar'!A511,1,1)=\"<\",P511,P511+1)),P511)","v":1}]
[{"$f":"IF('XML a procesar'!A512>0,'XML a procesar'!A512,\"\")","v":""},0,0,0,0,"",0,0,0,"","",0,"",0,"",{"$f":"IF(ROW()<$S$4+2,IF('XML a procesar'!A512=\"\",P512,IF(MID('XML a procesar'!A512,1,1)=\"<\",P512,P512+1)),P512)","v":1}]
[{"$f":"IF('XML a procesar'!A513>0,'XML a procesar'!A513,\"\")","v":""},0,0,0,0,"",0,0,0,"","",0,"",0,{"$f":"IF(N514>-1,INDIRECT(ADDRESS(ROW(),13)),IF(N514<N513,CONCATENATE(\"<page-count count=\",CHAR(34),1+LARGE(N:N,1)-LARGE(N:N,2),CHAR(34),\"/>\"),INDIRECT(ADDRESS(ROW()-1,13))))","v":""},{"$f":"IF(ROW()<$S$4+2,IF('XML a procesar'!A513=\"\",P513,IF(MID('XML a procesar'!A513,1,1)=\"<\",P513,P513+1)),P513)","v":1}]
[{"$f":"IF('XML a procesar'!A514>0,'XML a procesar'!A514,\"\")","v":""},{"$f":"IF(ISERROR(FIND(\"/doi.org/\",A515,1)),0,1)","v":0},0,{"$f":"IF(AND(C515>0,LEFT(A515,7)=\"<email>\",ISNUMBER(SEARCH(\"@\",A515,1))),C515,IF(LEFT(A515,10)=\"<alt-text>\",-1,0))","v":0},0,{"$f":"INDIRECT(ADDRESS(ROW()+INDIRECT(ADDRESS(ROW()+E515,5)),1))","v":""},0,{"$f":"IF(AND(G514>0,G515>G514,NOT(ISERROR(MATCH(G514,D:D,0)))),H514+1,H514)","v":0},0,"",{"$f":"IF(J515=\"Linea_para_MAIL_creada_por_LuXML\",IF(ISERROR(MATCH(INDIRECT(ADDRESS(ROW()-G515,7)),D:D,0)),J515,INDIRECT(ADDRESS(MATCH(INDIRECT(ADDRESS(ROW()-G515,7)),D:D,0),1))),J515)","v":""},0,"",0,"",{"$f":"IF(ROW()<$S$4+2,IF('XML a procesar'!A514=\"\",P514,IF(MID('XML a procesar'!A514,1,1)=\"<\",P514,P514+1)),P514)","v":1}]
[{"$f":"IF('XML a procesar'!A515>0,'XML a procesar'!A515,\"\")","v":""},0,{"$f":"IF(LEFT(A515,16)=\"<contrib contrib\",C515+1,IF(LEFT(A515,16)=\"</contrib-group>\",0,IF(LEFT(A515,10)=\"</contrib>\",C515,C515)))","v":0},0,{"$f":"IF(D516=0,E515,E515+1)","v":0},"",{"$f":"IF(LEFT(F516,7)=\"<aff id\",_xlfn.NUMBERVALUE(MID(F516,13,LEN(F516)-14)),IF(F516=\"</aff>\",G515+1,G515))","v":0},0,{"$f":"INDIRECT(ADDRESS(ROW()-INDIRECT(ADDRESS(ROW()-H516,8)),8))","v":0},{"$f":"IF(J515=\"Linea_para_MAIL_creada_por_LuXML\",\"</aff>\",IF(I516>INDIRECT(ADDRESS(ROW()-I516-1,8)),\"Linea_para_MAIL_creada_por_LuXML\",INDIRECT(ADDRESS(ROW()-I516,6))))","v":""},"",{"$f":"IF(OR(MID(K514,3,5)=\"page>\",MID(K515,3,5)=\"page>\"),L515,IF(OR(K515=\"<history>\",K516=\"<history>\"),L515+1,L515))","v":0},"",{"$f":"IF(N515=-1,-1,IF(M516=\"</counts>\",-1,IF(OR(LEFT(M516,7)=\"<fpage>\",LEFT(M516,7)=\"<lpage>\"),VALUE(MID(M516,8,LEN(M516)-15)),0)))","v":0},"",{"$f":"IF(ROW()<$S$4+2,IF('XML a procesar'!A515=\"\",P515,IF(MID('XML a procesar'!A515,1,1)=\"<\",P515,P515+1)),P515)","v":1}]
[{"$f":"IF('XML a procesar'!A516>0,'XML a procesar'!A516,\"\")","v":""},0,0,0,0,"",0,0,0,"","",0,"",0,"",{"$f":"IF(ROW()<$S$4+2,IF('XML a procesar'!A516=\"\",P516,IF(MID('XML a procesar'!A516,1,1)=\"<\",P516,P516+1)),P516)","v":1}]
[{"$f":"IF('XML a procesar'!A517>0,'XML a procesar'!A517,\"\")","v":""},0,0,0,0,"",0,0,0,"","",0,{"$f":"IF(L518>L517,IF(L518=1,CONCATENATE(\"<fpage>\",$S$10,\"</fpage>\"),CONCATENATE(\"<lpage>\",$S$10+1,\"</lpage>\")),IF(ISERROR(INDIRECT(ADDRESS(ROW()-L518,11),1)),\"\",INDIRECT(ADDRESS(ROW()-L518,11),1)))","v":""},0,"",{"$f":"IF(ROW()<$S$4+2,IF('XML a procesar'!A517=\"\",P517,IF(MID('XML a procesar'!A517,1,1)=\"<\",P517,P517+1)),P517)","v":1}]
[{"$f":"IF('XML a procesar'!A518>0,'XML a procesar'!A518,\"\")","v":""},0,0,0,0,"",0,0,0,"","",0,"",0,"",{"$f":"IF(ROW()<$S$4+2,IF('XML a procesar'!A518=\"\",P518,IF(MID('XML a procesar'!A518,1,1)=\"<\",P518,P518+1)),P518)","v":1}]
[{"$f":"IF('XML a procesar'!A519>0,'XML a procesar'!A519,\"\")","v":""},0,0,0,0,"",0,0,0,"","",0,"",0,"",{"$f":"IF(ROW()<$S$4+2,IF('XML a procesar'!A519=\"\",P519,IF(MID('XML a procesar'!A519,1,1)=\"<\",P519,P519+1)),P519)","v":1}]
[{"$f":"IF('XML a procesar'!A520>0,'XML a procesar'!A520,\"\")","v":""},0,0,0,0,"",0,0,0,"","",0,"",0,"",{"$f":"IF(ROW()<$S$4+2,IF('XML a procesar'!A520=\"\",P520,IF(MID('XML a procesar'!A520,1,1)=\"<\",P520,P520+1)),P520)","v":1}]
[{"$f":"IF('XML a procesar'!A521>0,'XML a procesar'!A521,\"\")","v":""},0,0,0,0,"",0,0,0,"","",0,"",0,"",{"$f":"IF(ROW()<$S$4+2,IF('XML a procesar'!A521=\"\",P521,IF(MID('XML a procesar'!A521,1,1)=\"<\",P521,P521+1)),P521)","v":1}]
[{"$f":"IF('XML a procesar'!A522>0,'XML a procesar'!A522,\"\")","v":""},0,0,0,0,"",0,0,0,"","",0,"",0,"",{"$f":"IF(ROW()<$S$4+2,IF('XML a procesar'!A522=\"\",P522,IF(MID('XML a procesar'!A522,1,1)=\"<\",P522,P522+1)),P522)","v":1}]
[{"$f":"IF('XML a procesar'!A523>0,'XML a procesar'!A523,\"\")","v":""},0,0,0,0,"",0,0,0,"","",0,"",0,"",{"$f":"IF(ROW()<$S$4+2,IF('XML a procesar'!A523=\"\",P523,IF(MID('XML a procesar'!A523,1,1)=\"<\",P523,P523+1)),P523)","v":1}]
[{"$f":"IF('XML a procesar'!A524>0,'XML a procesar'!A524,\"\")","v":""},0,0,0,0,"",0,0,0,"","",0,"",0,"",{"$f":"IF(ROW()<$S$4+2,IF('XML a procesar'!A524=\"\",P524,IF(MID('XML a procesar'!A524,1,1)=\"<\",P524,P524+1)),P524)","v":1}]
[{"$f":"IF('XML a procesar'!A525>0,'XML a procesar'!A525,\"\")","v":""},0,0,0,0,"",0,0,0,"","",0,"",0,"",{"$f":"IF(ROW()<$S$4+2,IF('XML a procesar'!A525=\"\",P525,IF(MID('XML a procesar'!A525,1,1)=\"<\",P525,P525+1)),P525)","v":1}]
[{"$f":"IF('XML a procesar'!A526>0,'XML a procesar'!A526,\"\")","v":""},0,0,0,0,"",0,0,0,"","",0,"",0,"",{"$f":"IF(ROW()<$S$4+2,IF('XML a procesar'!A526=\"\",P526,IF(MID('XML a procesar'!A526,1,1)=\"<\",P526,P526+1)),P526)","v":1}]
[{"$f":"IF('XML a procesar'!A527>0,'XML a procesar'!A527,\"\")","v":""},0,0,0,0,"",0,0,0,"","",0,"",0,"",{"$f":"IF(ROW()<$S$4+2,IF('XML a procesar'!A527=\"\",P527,IF(MID('XML a procesar'!A527,1,1)=\"<\",P527,P527+1)),P527)","v":1}]
[{"$f":"IF('XML a procesar'!A528>0,'XML a procesar'!A528,\"\")","v":""},0,0,0,0,"",0,0,0,"","",0,"",0,"",{"$f":"IF(ROW()<$S$4+2,IF('XML a procesar'!A528=\"\",P528,IF(MID('XML a procesar'!A528,1,1)=\"<\",P528,P528+1)),P528)","v":1}]
[{"$f":"IF('XML a procesar'!A529>0,'XML a procesar'!A529,\"\")","v":""},0,0,0,0,"",0,0,0,"","",0,"",0,"",{"$f":"IF(ROW()<$S$4+2,IF('XML a procesar'!A529=\"\",P529,IF(MID('XML a procesar'!A529,1,1)=\"<\",P529,P529+1)),P529)","v":1}]
[{"$f":"IF('XML a procesar'!A530>0,'XML a procesar'!A530,\"\")","v":""},0,0,0,0,"",0,0,0,"","",0,"",0,"",{"$f":"IF(ROW()<$S$4+2,IF('XML a procesar'!A530=\"\",P530,IF(MID('XML a procesar'!A530,1,1)=\"<\",P530,P530+1)),P530)","v":1}]
[{"$f":"IF('XML a procesar'!A531>0,'XML a procesar'!A531,\"\")","v":""},0,0,0,0,"",0,0,0,"","",0,"",0,"",{"$f":"IF(ROW()<$S$4+2,IF('XML a procesar'!A531=\"\",P531,IF(MID('XML a procesar'!A531,1,1)=\"<\",P531,P531+1)),P531)","v":1}]
[{"$f":"IF('XML a procesar'!A532>0,'XML a procesar'!A532,\"\")","v":""},0,0,0,0,"",0,0,0,"","",0,"",0,"",{"$f":"IF(ROW()<$S$4+2,IF('XML a procesar'!A532=\"\",P532,IF(MID('XML a procesar'!A532,1,1)=\"<\",P532,P532+1)),P532)","v":1}]
[{"$f":"IF('XML a procesar'!A533>0,'XML a procesar'!A533,\"\")","v":""},0,0,0,0,"",0,0,0,"","",0,"",0,"",{"$f":"IF(ROW()<$S$4+2,IF('XML a procesar'!A533=\"\",P533,IF(MID('XML a procesar'!A533,1,1)=\"<\",P533,P533+1)),P533)","v":1}]
[{"$f":"IF('XML a procesar'!A534>0,'XML a procesar'!A534,\"\")","v":""},0,0,0,0,"",0,0,0,"","",0,"",0,"",{"$f":"IF(ROW()<$S$4+2,IF('XML a procesar'!A534=\"\",P534,IF(MID('XML a procesar'!A534,1,1)=\"<\",P534,P534+1)),P534)","v":1}]
[{"$f":"IF('XML a procesar'!A535>0,'XML a procesar'!A535,\"\")","v":""},0,0,0,0,"",0,0,0,"","",0,"",0,"",{"$f":"IF(ROW()<$S$4+2,IF('XML a procesar'!A535=\"\",P535,IF(MID('XML a procesar'!A535,1,1)=\"<\",P535,P535+1)),P535)","v":1}]
[{"$f":"IF('XML a procesar'!A536>0,'XML a procesar'!A536,\"\")","v":""},0,0,0,0,"",0,0,0,"","",0,"",0,"",{"$f":"IF(ROW()<$S$4+2,IF('XML a procesar'!A536=\"\",P536,IF(MID('XML a procesar'!A536,1,1)=\"<\",P536,P536+1)),P536)","v":1}]
[{"$f":"IF('XML a procesar'!A537>0,'XML a procesar'!A537,\"\")","v":""},0,0,0,0,"",0,0,0,"","",0,"",0,"",{"$f":"IF(ROW()<$S$4+2,IF('XML a procesar'!A537=\"\",P537,IF(MID('XML a procesar'!A537,1,1)=\"<\",P537,P537+1)),P537)","v":1}]
[{"$f":"IF('XML a procesar'!A538>0,'XML a procesar'!A538,\"\")","v":""},0,0,0,0,"",0,0,0,"","",0,"",0,"",{"$f":"IF(ROW()<$S$4+2,IF('XML a procesar'!A538=\"\",P538,IF(MID('XML a procesar'!A538,1,1)=\"<\",P538,P538+1)),P538)","v":1}]
[{"$f":"IF('XML a procesar'!A539>0,'XML a procesar'!A539,\"\")","v":""},0,0,0,0,"",0,0,0,"","",0,"",0,"",{"$f":"IF(ROW()<$S$4+2,IF('XML a procesar'!A539=\"\",P539,IF(MID('XML a procesar'!A539,1,1)=\"<\",P539,P539+1)),P539)","v":1}]
[{"$f":"IF('XML a procesar'!A540>0,'XML a procesar'!A540,\"\")","v":""},0,0,0,0,"",0,0,0,"","",0,"",0,"",{"$f":"IF(ROW()<$S$4+2,IF('XML a procesar'!A540=\"\",P540,IF(MID('XML a procesar'!A540,1,1)=\"<\",P540,P540+1)),P540)","v":1}]
[{"$f":"IF('XML a procesar'!A541>0,'XML a procesar'!A541,\"\")","v":""},0,0,0,0,"",0,0,0,"","",0,"",0,"",{"$f":"IF(ROW()<$S$4+2,IF('XML a procesar'!A541=\"\",P541,IF(MID('XML a procesar'!A541,1,1)=\"<\",P541,P541+1)),P541)","v":1}]
[{"$f":"IF('XML a procesar'!A542>0,'XML a procesar'!A542,\"\")","v":""},0,0,0,0,"",0,0,0,"","",0,"",0,"",{"$f":"IF(ROW()<$S$4+2,IF('XML a procesar'!A542=\"\",P542,IF(MID('XML a procesar'!A542,1,1)=\"<\",P542,P542+1)),P542)","v":1}]
[{"$f":"IF('XML a procesar'!A543>0,'XML a procesar'!A543,\"\")","v":""},0,0,0,0,"",0,0,0,"","",0,"",0,"",{"$f":"IF(ROW()<$S$4+2,IF('XML a procesar'!A543=\"\",P543,IF(MID('XML a procesar'!A543,1,1)=\"<\",P543,P543+1)),P543)","v":1}]
[{"$f":"IF('XML a procesar'!A544>0,'XML a procesar'!A544,\"\")","v":""},0,0,0,0,"",0,0,0,"","",0,"",0,"",{"$f":"IF(ROW()<$S$4+2,IF('XML a procesar'!A544=\"\",P544,IF(MID('XML a procesar'!A544,1,1)=\"<\",P544,P544+1)),P544)","v":1}]
[{"$f":"IF('XML a procesar'!A545>0,'XML a procesar'!A545,\"\")","v":""},0,0,0,0,"",0,0,0,"","",0,"",0,"",{"$f":"IF(ROW()<$S$4+2,IF('XML a procesar'!A545=\"\",P545,IF(MID('XML a procesar'!A545,1,1)=\"<\",P545,P545+1)),P545)","v":1}]
[{"$f":"IF('XML a procesar'!A546>0,'XML a procesar'!A546,\"\")","v":""},0,0,0,0,"",0,0,0,"","",0,"",0,"",{"$f":"IF(ROW()<$S$4+2,IF('XML a procesar'!A546=\"\",P546,IF(MID('XML a procesar'!A546,1,1)=\"<\",P546,P546+1)),P546)","v":1}]
[{"$f":"IF('XML a procesar'!A547>0,'XML a procesar'!A547,\"\")","v":""},0,0,0,0,"",0,0,0,"","",0,"",0,"",{"$f":"IF(ROW()<$S$4+2,IF('XML a procesar'!A547=\"\",P547,IF(MID('XML a procesar'!A547,1,1)=\"<\",P547,P547+1)),P547)","v":1}]
[{"$f":"IF('XML a procesar'!A548>0,'XML a procesar'!A548,\"\")","v":""},0,0,0,0,"",0,0,0,"","",0,"",0,"",{"$f":"IF(ROW()<$S$4+2,IF('XML a procesar'!A548=\"\",P548,IF(MID('XML a procesar'!A548,1,1)=\"<\",P548,P548+1)),P548)","v":1}]
[{"$f":"IF('XML a procesar'!A549>0,'XML a procesar'!A549,\"\")","v":""},0,0,0,0,"",0,0,0,"","",0,"",0,"",{"$f":"IF(ROW()<$S$4+2,IF('XML a procesar'!A549=\"\",P549,IF(MID('XML a procesar'!A549,1,1)=\"<\",P549,P549+1)),P549)","v":1}]
[{"$f":"IF('XML a procesar'!A550>0,'XML a procesar'!A550,\"\")","v":""},0,0,0,0,"",0,0,0,"","",0,"",0,"",{"$f":"IF(ROW()<$S$4+2,IF('XML a procesar'!A550=\"\",P550,IF(MID('XML a procesar'!A550,1,1)=\"<\",P550,P550+1)),P550)","v":1}]
[{"$f":"IF('XML a procesar'!A551>0,'XML a procesar'!A551,\"\")","v":""},0,0,0,0,"",0,0,0,"","",0,"",0,"",{"$f":"IF(ROW()<$S$4+2,IF('XML a procesar'!A551=\"\",P551,IF(MID('XML a procesar'!A551,1,1)=\"<\",P551,P551+1)),P551)","v":1}]
[{"$f":"IF('XML a procesar'!A552>0,'XML a procesar'!A552,\"\")","v":""},0,0,0,0,"",0,0,0,"","",0,"",0,"",{"$f":"IF(ROW()<$S$4+2,IF('XML a procesar'!A552=\"\",P552,IF(MID('XML a procesar'!A552,1,1)=\"<\",P552,P552+1)),P552)","v":1}]
[{"$f":"IF('XML a procesar'!A553>0,'XML a procesar'!A553,\"\")","v":""},0,0,0,0,"",0,0,0,"","",0,"",0,"",{"$f":"IF(ROW()<$S$4+2,IF('XML a procesar'!A553=\"\",P553,IF(MID('XML a procesar'!A553,1,1)=\"<\",P553,P553+1)),P553)","v":1}]
[{"$f":"IF('XML a procesar'!A554>0,'XML a procesar'!A554,\"\")","v":""},0,0,0,0,"",0,0,0,"","",0,"",0,"",{"$f":"IF(ROW()<$S$4+2,IF('XML a procesar'!A554=\"\",P554,IF(MID('XML a procesar'!A554,1,1)=\"<\",P554,P554+1)),P554)","v":1}]
[{"$f":"IF('XML a procesar'!A555>0,'XML a procesar'!A555,\"\")","v":""},0,0,0,0,"",0,0,0,"","",0,"",0,"",{"$f":"IF(ROW()<$S$4+2,IF('XML a procesar'!A555=\"\",P555,IF(MID('XML a procesar'!A555,1,1)=\"<\",P555,P555+1)),P555)","v":1}]
[{"$f":"IF('XML a procesar'!A556>0,'XML a procesar'!A556,\"\")","v":""},0,0,0,0,"",0,0,0,"","",0,"",0,"",{"$f":"IF(ROW()<$S$4+2,IF('XML a procesar'!A556=\"\",P556,IF(MID('XML a procesar'!A556,1,1)=\"<\",P556,P556+1)),P556)","v":1}]
[{"$f":"IF('XML a procesar'!A557>0,'XML a procesar'!A557,\"\")","v":""},0,0,0,0,"",0,0,0,"","",0,"",0,"",{"$f":"IF(ROW()<$S$4+2,IF('XML a procesar'!A557=\"\",P557,IF(MID('XML a procesar'!A557,1,1)=\"<\",P557,P557+1)),P557)","v":1}]
[{"$f":"IF('XML a procesar'!A558>0,'XML a procesar'!A558,\"\")","v":""},0,0,0,0,"",0,0,0,"","",0,"",0,"",{"$f":"IF(ROW()<$S$4+2,IF('XML a procesar'!A558=\"\",P558,IF(MID('XML a procesar'!A558,1,1)=\"<\",P558,P558+1)),P558)","v":1}]
[{"$f":"IF('XML a procesar'!A559>0,'XML a procesar'!A559,\"\")","v":""},0,0,0,0,"",0,0,0,"","",0,"",0,"",{"$f":"IF(ROW()<$S$4+2,IF('XML a procesar'!A559=\"\",P559,IF(MID('XML a procesar'!A559,1,1)=\"<\",P559,P559+1)),P559)","v":1}]
[{"$f":"IF('XML a procesar'!A560>0,'XML a procesar'!A560,\"\")","v":""},0,0,0,0,"",0,0,0,"","",0,"",0,"",{"$f":"IF(ROW()<$S$4+2,IF('XML a procesar'!A560=\"\",P560,IF(MID('XML a procesar'!A560,1,1)=\"<\",P560,P560+1)),P560)","v":1}]
[{"$f":"IF('XML a procesar'!A561>0,'XML a procesar'!A561,\"\")","v":""},0,0,0,0,"",0,0,0,"","",0,"",0,"",{"$f":"IF(ROW()<$S$4+2,IF('XML a procesar'!A561=\"\",P561,IF(MID('XML a procesar'!A561,1,1)=\"<\",P561,P561+1)),P561)","v":1}]
[{"$f":"IF('XML a procesar'!A562>0,'XML a procesar'!A562,\"\")","v":""},0,0,0,0,"",0,0,0,"","",0,"",0,"",{"$f":"IF(ROW()<$S$4+2,IF('XML a procesar'!A562=\"\",P562,IF(MID('XML a procesar'!A562,1,1)=\"<\",P562,P562+1)),P562)","v":1}]
[{"$f":"IF('XML a procesar'!A563>0,'XML a procesar'!A563,\"\")","v":""},0,0,0,0,"",0,0,0,"","",0,"",0,"",{"$f":"IF(ROW()<$S$4+2,IF('XML a procesar'!A563=\"\",P563,IF(MID('XML a procesar'!A563,1,1)=\"<\",P563,P563+1)),P563)","v":1}]
[{"$f":"IF('XML a procesar'!A564>0,'XML a procesar'!A564,\"\")","v":""},0,0,0,0,"",0,0,0,"","",0,"",0,"",{"$f":"IF(ROW()<$S$4+2,IF('XML a procesar'!A564=\"\",P564,IF(MID('XML a procesar'!A564,1,1)=\"<\",P564,P564+1)),P564)","v":1}]
[{"$f":"IF('XML a procesar'!A565>0,'XML a procesar'!A565,\"\")","v":""},0,0,0,0,"",0,0,0,"","",0,"",0,"",{"$f":"IF(ROW()<$S$4+2,IF('XML a procesar'!A565=\"\",P565,IF(MID('XML a procesar'!A565,1,1)=\"<\",P565,P565+1)),P565)","v":1}]
[{"$f":"IF('XML a procesar'!A566>0,'XML a procesar'!A566,\"\")","v":""},0,0,0,0,"",0,0,0,"","",0,"",0,"",{"$f":"IF(ROW()<$S$4+2,IF('XML a procesar'!A566=\"\",P566,IF(MID('XML a procesar'!A566,1,1)=\"<\",P566,P566+1)),P566)","v":1}]
[{"$f":"IF('XML a procesar'!A567>0,'XML a procesar'!A567,\"\")","v":""},0,0,0,0,"",0,0,0,"","",0,"",0,"",{"$f":"IF(ROW()<$S$4+2,IF('XML a procesar'!A567=\"\",P567,IF(MID('XML a procesar'!A567,1,1)=\"<\",P567,P567+1)),P567)","v":1}]
[{"$f":"IF('XML a procesar'!A568>0,'XML a procesar'!A568,\"\")","v":""},0,0,0,0,"",0,0,0,"","",0,"",0,"",{"$f":"IF(ROW()<$S$4+2,IF('XML a procesar'!A568=\"\",P568,IF(MID('XML a procesar'!A568,1,1)=\"<\",P568,P568+1)),P568)","v":1}]
[{"$f":"IF('XML a procesar'!A569>0,'XML a procesar'!A569,\"\")","v":""},0,0,0,0,"",0,0,0,"","",0,"",0,"",{"$f":"IF(ROW()<$S$4+2,IF('XML a procesar'!A569=\"\",P569,IF(MID('XML a procesar'!A569,1,1)=\"<\",P569,P569+1)),P569)","v":1}]
[{"$f":"IF('XML a procesar'!A570>0,'XML a procesar'!A570,\"\")","v":""},0,0,0,0,"",0,0,0,"","",0,"",0,"",{"$f":"IF(ROW()<$S$4+2,IF('XML a procesar'!A570=\"\",P570,IF(MID('XML a procesar'!A570,1,1)=\"<\",P570,P570+1)),P570)","v":1}]
[{"$f":"IF('XML a procesar'!A571>0,'XML a procesar'!A571,\"\")","v":""},0,0,0,0,"",0,0,0,"","",0,"",0,"",{"$f":"IF(ROW()<$S$4+2,IF('XML a procesar'!A571=\"\",P571,IF(MID('XML a procesar'!A571,1,1)=\"<\",P571,P571+1)),P571)","v":1}]
[{"$f":"IF('XML a procesar'!A572>0,'XML a procesar'!A572,\"\")","v":""},0,0,0,0,"",0,0,0,"","",0,"",0,"",{"$f":"IF(ROW()<$S$4+2,IF('XML a procesar'!A572=\"\",P572,IF(MID('XML a procesar'!A572,1,1)=\"<\",P572,P572+1)),P572)","v":1}]
[{"$f":"IF('XML a procesar'!A573>0,'XML a procesar'!A573,\"\")","v":""},0,0,0,0,"",0,0,0,"","",0,"",0,"",{"$f":"IF(ROW()<$S$4+2,IF('XML a procesar'!A573=\"\",P573,IF(MID('XML a procesar'!A573,1,1)=\"<\",P573,P573+1)),P573)","v":1}]
[{"$f":"IF('XML a procesar'!A574>0,'XML a procesar'!A574,\"\")","v":""},0,0,0,0,"",0,0,0,"","",0,"",0,"",{"$f":"IF(ROW()<$S$4+2,IF('XML a procesar'!A574=\"\",P574,IF(MID('XML a procesar'!A574,1,1)=\"<\",P574,P574+1)),P574)","v":1}]
[{"$f":"IF('XML a procesar'!A575>0,'XML a procesar'!A575,\"\")","v":""},0,0,0,0,"",0,0,0,"","",0,"",0,"",{"$f":"IF(ROW()<$S$4+2,IF('XML a procesar'!A575=\"\",P575,IF(MID('XML a procesar'!A575,1,1)=\"<\",P575,P575+1)),P575)","v":1}]
[{"$f":"IF('XML a procesar'!A576>0,'XML a procesar'!A576,\"\")","v":""},0,0,0,0,"",0,0,0,"","",0,"",0,"",{"$f":"IF(ROW()<$S$4+2,IF('XML a procesar'!A576=\"\",P576,IF(MID('XML a procesar'!A576,1,1)=\"<\",P576,P576+1)),P576)","v":1}]
[{"$f":"IF('XML a procesar'!A577>0,'XML a procesar'!A577,\"\")","v":""},0,0,0,0,"",0,0,0,"","",0,"",0,{"$f":"IF(N578>-1,INDIRECT(ADDRESS(ROW(),13)),IF(N578<N577,CONCATENATE(\"<page-count count=\",CHAR(34),1+LARGE(N:N,1)-LARGE(N:N,2),CHAR(34),\"/>\"),INDIRECT(ADDRESS(ROW()-1,13))))","v":""},{"$f":"IF(ROW()<$S$4+2,IF('XML a procesar'!A577=\"\",P577,IF(MID('XML a procesar'!A577,1,1)=\"<\",P577,P577+1)),P577)","v":1}]
[{"$f":"IF('XML a procesar'!A578>0,'XML a procesar'!A578,\"\")","v":""},{"$f":"IF(ISERROR(FIND(\"/doi.org/\",A579,1)),0,1)","v":0},0,{"$f":"IF(AND(C579>0,LEFT(A579,7)=\"<email>\",ISNUMBER(SEARCH(\"@\",A579,1))),C579,IF(LEFT(A579,10)=\"<alt-text>\",-1,0))","v":0},0,{"$f":"INDIRECT(ADDRESS(ROW()+INDIRECT(ADDRESS(ROW()+E579,5)),1))","v":""},0,{"$f":"IF(AND(G578>0,G579>G578,NOT(ISERROR(MATCH(G578,D:D,0)))),H578+1,H578)","v":0},0,"",{"$f":"IF(J579=\"Linea_para_MAIL_creada_por_LuXML\",IF(ISERROR(MATCH(INDIRECT(ADDRESS(ROW()-G579,7)),D:D,0)),J579,INDIRECT(ADDRESS(MATCH(INDIRECT(ADDRESS(ROW()-G579,7)),D:D,0),1))),J579)","v":""},0,"",0,"",{"$f":"IF(ROW()<$S$4+2,IF('XML a procesar'!A578=\"\",P578,IF(MID('XML a procesar'!A578,1,1)=\"<\",P578,P578+1)),P578)","v":1}]
[{"$f":"IF('XML a procesar'!A579>0,'XML a procesar'!A579,\"\")","v":""},0,{"$f":"IF(LEFT(A579,16)=\"<contrib contrib\",C579+1,IF(LEFT(A579,16)=\"</contrib-group>\",0,IF(LEFT(A579,10)=\"</contrib>\",C579,C579)))","v":0},0,{"$f":"IF(D580=0,E579,E579+1)","v":0},"",{"$f":"IF(LEFT(F580,7)=\"<aff id\",_xlfn.NUMBERVALUE(MID(F580,13,LEN(F580)-14)),IF(F580=\"</aff>\",G579+1,G579))","v":0},0,{"$f":"INDIRECT(ADDRESS(ROW()-INDIRECT(ADDRESS(ROW()-H580,8)),8))","v":0},{"$f":"IF(J579=\"Linea_para_MAIL_creada_por_LuXML\",\"</aff>\",IF(I580>INDIRECT(ADDRESS(ROW()-I580-1,8)),\"Linea_para_MAIL_creada_por_LuXML\",INDIRECT(ADDRESS(ROW()-I580,6))))","v":""},"",{"$f":"IF(OR(MID(K578,3,5)=\"page>\",MID(K579,3,5)=\"page>\"),L579,IF(OR(K579=\"<history>\",K580=\"<history>\"),L579+1,L579))","v":0},"",{"$f":"IF(N579=-1,-1,IF(M580=\"</counts>\",-1,IF(OR(LEFT(M580,7)=\"<fpage>\",LEFT(M580,7)=\"<lpage>\"),VALUE(MID(M580,8,LEN(M580)-15)),0)))","v":0},"",{"$f":"IF(ROW()<$S$4+2,IF('XML a procesar'!A579=\"\",P579,IF(MID('XML a procesar'!A579,1,1)=\"<\",P579,P579+1)),P579)","v":1}]
[{"$f":"IF('XML a procesar'!A580>0,'XML a procesar'!A580,\"\")","v":""},0,0,0,0,"",0,0,0,"","",0,"",0,"",{"$f":"IF(ROW()<$S$4+2,IF('XML a procesar'!A580=\"\",P580,IF(MID('XML a procesar'!A580,1,1)=\"<\",P580,P580+1)),P580)","v":1}]
[{"$f":"IF('XML a procesar'!A581>0,'XML a procesar'!A581,\"\")","v":""},0,0,0,0,"",0,0,0,"","",0,{"$f":"IF(L582>L581,IF(L582=1,CONCATENATE(\"<fpage>\",$S$10,\"</fpage>\"),CONCATENATE(\"<lpage>\",$S$10+1,\"</lpage>\")),IF(ISERROR(INDIRECT(ADDRESS(ROW()-L582,11),1)),\"\",INDIRECT(ADDRESS(ROW()-L582,11),1)))","v":""},0,"",{"$f":"IF(ROW()<$S$4+2,IF('XML a procesar'!A581=\"\",P581,IF(MID('XML a procesar'!A581,1,1)=\"<\",P581,P581+1)),P581)","v":1}]
[{"$f":"IF('XML a procesar'!A582>0,'XML a procesar'!A582,\"\")","v":""},0,0,0,0,"",0,0,0,"","",0,"",0,"",{"$f":"IF(ROW()<$S$4+2,IF('XML a procesar'!A582=\"\",P582,IF(MID('XML a procesar'!A582,1,1)=\"<\",P582,P582+1)),P582)","v":1}]
[{"$f":"IF('XML a procesar'!A583>0,'XML a procesar'!A583,\"\")","v":""},0,0,0,0,"",0,0,0,"","",0,"",0,"",{"$f":"IF(ROW()<$S$4+2,IF('XML a procesar'!A583=\"\",P583,IF(MID('XML a procesar'!A583,1,1)=\"<\",P583,P583+1)),P583)","v":1}]
[{"$f":"IF('XML a procesar'!A584>0,'XML a procesar'!A584,\"\")","v":""},0,0,0,0,"",0,0,0,"","",0,"",0,"",{"$f":"IF(ROW()<$S$4+2,IF('XML a procesar'!A584=\"\",P584,IF(MID('XML a procesar'!A584,1,1)=\"<\",P584,P584+1)),P584)","v":1}]
[{"$f":"IF('XML a procesar'!A585>0,'XML a procesar'!A585,\"\")","v":""},0,0,0,0,"",0,0,0,"","",0,"",0,"",{"$f":"IF(ROW()<$S$4+2,IF('XML a procesar'!A585=\"\",P585,IF(MID('XML a procesar'!A585,1,1)=\"<\",P585,P585+1)),P585)","v":1}]
[{"$f":"IF('XML a procesar'!A586>0,'XML a procesar'!A586,\"\")","v":""},0,0,0,0,"",0,0,0,"","",0,"",0,"",{"$f":"IF(ROW()<$S$4+2,IF('XML a procesar'!A586=\"\",P586,IF(MID('XML a procesar'!A586,1,1)=\"<\",P586,P586+1)),P586)","v":1}]
[{"$f":"IF('XML a procesar'!A587>0,'XML a procesar'!A587,\"\")","v":""},0,0,0,0,"",0,0,0,"","",0,"",0,"",{"$f":"IF(ROW()<$S$4+2,IF('XML a procesar'!A587=\"\",P587,IF(MID('XML a procesar'!A587,1,1)=\"<\",P587,P587+1)),P587)","v":1}]
[{"$f":"IF('XML a procesar'!A588>0,'XML a procesar'!A588,\"\")","v":""},0,0,0,0,"",0,0,0,"","",0,"",0,"",{"$f":"IF(ROW()<$S$4+2,IF('XML a procesar'!A588=\"\",P588,IF(MID('XML a procesar'!A588,1,1)=\"<\",P588,P588+1)),P588)","v":1}]
[{"$f":"IF('XML a procesar'!A589>0,'XML a procesar'!A589,\"\")","v":""},0,0,0,0,"",0,0,0,"","",0,"",0,"",{"$f":"IF(ROW()<$S$4+2,IF('XML a procesar'!A589=\"\",P589,IF(MID('XML a procesar'!A589,1,1)=\"<\",P589,P589+1)),P589)","v":1}]
[{"$f":"IF('XML a procesar'!A590>0,'XML a procesar'!A590,\"\")","v":""},0,0,0,0,"",0,0,0,"","",0,"",0,"",{"$f":"IF(ROW()<$S$4+2,IF('XML a procesar'!A590=\"\",P590,IF(MID('XML a procesar'!A590,1,1)=\"<\",P590,P590+1)),P590)","v":1}]
[{"$f":"IF('XML a procesar'!A591>0,'XML a procesar'!A591,\"\")","v":""},0,0,0,0,"",0,0,0,"","",0,"",0,"",{"$f":"IF(ROW()<$S$4+2,IF('XML a procesar'!A591=\"\",P591,IF(MID('XML a procesar'!A591,1,1)=\"<\",P591,P591+1)),P591)","v":1}]
[{"$f":"IF('XML a procesar'!A592>0,'XML a procesar'!A592,\"\")","v":""},0,0,0,0,"",0,0,0,"","",0,"",0,"",{"$f":"IF(ROW()<$S$4+2,IF('XML a procesar'!A592=\"\",P592,IF(MID('XML a procesar'!A592,1,1)=\"<\",P592,P592+1)),P592)","v":1}]
[{"$f":"IF('XML a procesar'!A593>0,'XML a procesar'!A593,\"\")","v":""},0,0,0,0,"",0,0,0,"","",0,"",0,"",{"$f":"IF(ROW()<$S$4+2,IF('XML a procesar'!A593=\"\",P593,IF(MID('XML a procesar'!A593,1,1)=\"<\",P593,P593+1)),P593)","v":1}]
[{"$f":"IF('XML a procesar'!A594>0,'XML a procesar'!A594,\"\")","v":""},0,0,0,0,"",0,0,0,"","",0,"",0,"",{"$f":"IF(ROW()<$S$4+2,IF('XML a procesar'!A594=\"\",P594,IF(MID('XML a procesar'!A594,1,1)=\"<\",P594,P594+1)),P594)","v":1}]
[{"$f":"IF('XML a procesar'!A595>0,'XML a procesar'!A595,\"\")","v":""},0,0,0,0,"",0,0,0,"","",0,"",0,"",{"$f":"IF(ROW()<$S$4+2,IF('XML a procesar'!A595=\"\",P595,IF(MID('XML a procesar'!A595,1,1)=\"<\",P595,P595+1)),P595)","v":1}]
[{"$f":"IF('XML a procesar'!A596>0,'XML a procesar'!A596,\"\")","v":""},0,0,0,0,"",0,0,0,"","",0,"",0,"",{"$f":"IF(ROW()<$S$4+2,IF('XML a procesar'!A596=\"\",P596,IF(MID('XML a procesar'!A596,1,1)=\"<\",P596,P596+1)),P596)","v":1}]
[{"$f":"IF('XML a procesar'!A597>0,'XML a procesar'!A597,\"\")","v":""},0,0,0,0,"",0,0,0,"","",0,"",0,"",{"$f":"IF(ROW()<$S$4+2,IF('XML a procesar'!A597=\"\",P597,IF(MID('XML a procesar'!A597,1,1)=\"<\",P597,P597+1)),P597)","v":1}]
[{"$f":"IF('XML a procesar'!A598>0,'XML a procesar'!A598,\"\")","v":""},0,0,0,0,"",0,0,0,"","",0,"",0,"",{"$f":"IF(ROW()<$S$4+2,IF('XML a procesar'!A598=\"\",P598,IF(MID('XML a procesar'!A598,1,1)=\"<\",P598,P598+1)),P598)","v":1}]
[{"$f":"IF('XML a procesar'!A599>0,'XML a procesar'!A599,\"\")","v":""},0,0,0,0,"",0,0,0,"","",0,"",0,"",{"$f":"IF(ROW()<$S$4+2,IF('XML a procesar'!A599=\"\",P599,IF(MID('XML a procesar'!A599,1,1)=\"<\",P599,P599+1)),P599)","v":1}]
[{"$f":"IF('XML a procesar'!A600>0,'XML a procesar'!A600,\"\")","v":""},0,0,0,0,"",0,0,0,"","",0,"",0,"",{"$f":"IF(ROW()<$S$4+2,IF('XML a procesar'!A600=\"\",P600,IF(MID('XML a procesar'!A600,1,1)=\"<\",P600,P600+1)),P600)","v":1}]
[{"$f":"IF('XML a procesar'!A601>0,'XML a procesar'!A601,\"\")","v":""},0,0,0,0,"",0,0,0,"","",0,"",0,"",{"$f":"IF(ROW()<$S$4+2,IF('XML a procesar'!A601=\"\",P601,IF(MID('XML a procesar'!A601,1,1)=\"<\",P601,P601+1)),P601)","v":1}]
[{"$f":"IF('XML a procesar'!A602>0,'XML a procesar'!A602,\"\")","v":""},0,0,0,0,"",0,0,0,"","",0,"",0,"",{"$f":"IF(ROW()<$S$4+2,IF('XML a procesar'!A602=\"\",P602,IF(MID('XML a procesar'!A602,1,1)=\"<\",P602,P602+1)),P602)","v":1}]
[{"$f":"IF('XML a procesar'!A603>0,'XML a procesar'!A603,\"\")","v":""},0,0,0,0,"",0,0,0,"","",0,"",0,"",{"$f":"IF(ROW()<$S$4+2,IF('XML a procesar'!A603=\"\",P603,IF(MID('XML a procesar'!A603,1,1)=\"<\",P603,P603+1)),P603)","v":1}]
[{"$f":"IF('XML a procesar'!A604>0,'XML a procesar'!A604,\"\")","v":""},0,0,0,0,"",0,0,0,"","",0,"",0,"",{"$f":"IF(ROW()<$S$4+2,IF('XML a procesar'!A604=\"\",P604,IF(MID('XML a procesar'!A604,1,1)=\"<\",P604,P604+1)),P604)","v":1}]
[{"$f":"IF('XML a procesar'!A605>0,'XML a procesar'!A605,\"\")","v":""},0,0,0,0,"",0,0,0,"","",0,"",0,"",{"$f":"IF(ROW()<$S$4+2,IF('XML a procesar'!A605=\"\",P605,IF(MID('XML a procesar'!A605,1,1)=\"<\",P605,P605+1)),P605)","v":1}]
[{"$f":"IF('XML a procesar'!A606>0,'XML a procesar'!A606,\"\")","v":""},0,0,0,0,"",0,0,0,"","",0,"",0,"",{"$f":"IF(ROW()<$S$4+2,IF('XML a procesar'!A606=\"\",P606,IF(MID('XML a procesar'!A606,1,1)=\"<\",P606,P606+1)),P606)","v":1}]
[{"$f":"IF('XML a procesar'!A607>0,'XML a procesar'!A607,\"\")","v":""},0,0,0,0,"",0,0,0,"","",0,"",0,"",{"$f":"IF(ROW()<$S$4+2,IF('XML a procesar'!A607=\"\",P607,IF(MID('XML a procesar'!A607,1,1)=\"<\",P607,P607+1)),P607)","v":1}]
[{"$f":"IF('XML a procesar'!A608>0,'XML a procesar'!A608,\"\")","v":""},0,0,0,0,"",0,0,0,"","",0,"",0,"",{"$f":"IF(ROW()<$S$4+2,IF('XML a procesar'!A608=\"\",P608,IF(MID('XML a procesar'!A608,1,1)=\"<\",P608,P608+1)),P608)","v":1}]
[{"$f":"IF('XML a procesar'!A609>0,'XML a procesar'!A609,\"\")","v":""},0,0,0,0,"",0,0,0,"","",0,"",0,"",{"$f":"IF(ROW()<$S$4+2,IF('XML a procesar'!A609=\"\",P609,IF(MID('XML a procesar'!A609,1,1)=\"<\",P609,P609+1)),P609)","v":1}]
[{"$f":"IF('XML a procesar'!A610>0,'XML a procesar'!A610,\"\")","v":""},0,0,0,0,"",0,0,0,"","",0,"",0,"",{"$f":"IF(ROW()<$S$4+2,IF('XML a procesar'!A610=\"\",P610,IF(MID('XML a procesar'!A610,1,1)=\"<\",P610,P610+1)),P610)","v":1}]
[{"$f":"IF('XML a procesar'!A611>0,'XML a procesar'!A611,\"\")","v":""},0,0,0,0,"",0,0,0,"","",0,"",0,"",{"$f":"IF(ROW()<$S$4+2,IF('XML a procesar'!A611=\"\",P611,IF(MID('XML a procesar'!A611,1,1)=\"<\",P611,P611+1)),P611)","v":1}]
[{"$f":"IF('XML a procesar'!A612>0,'XML a procesar'!A612,\"\")","v":""},0,0,0,0,"",0,0,0,"","",0,"",0,"",{"$f":"IF(ROW()<$S$4+2,IF('XML a procesar'!A612=\"\",P612,IF(MID('XML a procesar'!A612,1,1)=\"<\",P612,P612+1)),P612)","v":1}]
[{"$f":"IF('XML a procesar'!A613>0,'XML a procesar'!A613,\"\")","v":""},0,0,0,0,"",0,0,0,"","",0,"",0,"",{"$f":"IF(ROW()<$S$4+2,IF('XML a procesar'!A613=\"\",P613,IF(MID('XML a procesar'!A613,1,1)=\"<\",P613,P613+1)),P613)","v":1}]
[{"$f":"IF('XML a procesar'!A614>0,'XML a procesar'!A614,\"\")","v":""},0,0,0,0,"",0,0,0,"","",0,"",0,"",{"$f":"IF(ROW()<$S$4+2,IF('XML a procesar'!A614=\"\",P614,IF(MID('XML a procesar'!A614,1,1)=\"<\",P614,P614+1)),P614)","v":1}]
[{"$f":"IF('XML a procesar'!A615>0,'XML a procesar'!A615,\"\")","v":""},0,0,0,0,"",0,0,0,"","",0,"",0,"",{"$f":"IF(ROW()<$S$4+2,IF('XML a procesar'!A615=\"\",P615,IF(MID('XML a procesar'!A615,1,1)=\"<\",P615,P615+1)),P615)","v":1}]
[{"$f":"IF('XML a procesar'!A616>0,'XML a procesar'!A616,\"\")","v":""},0,0,0,0,"",0,0,0,"","",0,"",0,"",{"$f":"IF(ROW()<$S$4+2,IF('XML a procesar'!A616=\"\",P616,IF(MID('XML a procesar'!A616,1,1)=\"<\",P616,P616+1)),P616)","v":1}]
[{"$f":"IF('XML a procesar'!A617>0,'XML a procesar'!A617,\"\")","v":""},0,0,0,0,"",0,0,0,"","",0,"",0,"",{"$f":"IF(ROW()<$S$4+2,IF('XML a procesar'!A617=\"\",P617,IF(MID('XML a procesar'!A617,1,1)=\"<\",P617,P617+1)),P617)","v":1}]
[{"$f":"IF('XML a procesar'!A618>0,'XML a procesar'!A618,\"\")","v":""},0,0,0,0,"",0,0,0,"","",0,"",0,"",{"$f":"IF(ROW()<$S$4+2,IF('XML a procesar'!A618=\"\",P618,IF(MID('XML a procesar'!A618,1,1)=\"<\",P618,P618+1)),P618)","v":1}]
[{"$f":"IF('XML a procesar'!A619>0,'XML a procesar'!A619,\"\")","v":""},0,0,0,0,"",0,0,0,"","",0,"",0,"",{"$f":"IF(ROW()<$S$4+2,IF('XML a procesar'!A619=\"\",P619,IF(MID('XML a procesar'!A619,1,1)=\"<\",P619,P619+1)),P619)","v":1}]
[{"$f":"IF('XML a procesar'!A620>0,'XML a procesar'!A620,\"\")","v":""},0,0,0,0,"",0,0,0,"","",0,"",0,"",{"$f":"IF(ROW()<$S$4+2,IF('XML a procesar'!A620=\"\",P620,IF(MID('XML a procesar'!A620,1,1)=\"<\",P620,P620+1)),P620)","v":1}]
[{"$f":"IF('XML a procesar'!A621>0,'XML a procesar'!A621,\"\")","v":""},0,0,0,0,"",0,0,0,"","",0,"",0,"",{"$f":"IF(ROW()<$S$4+2,IF('XML a procesar'!A621=\"\",P621,IF(MID('XML a procesar'!A621,1,1)=\"<\",P621,P621+1)),P621)","v":1}]
[{"$f":"IF('XML a procesar'!A622>0,'XML a procesar'!A622,\"\")","v":""},0,0,0,0,"",0,0,0,"","",0,"",0,"",{"$f":"IF(ROW()<$S$4+2,IF('XML a procesar'!A622=\"\",P622,IF(MID('XML a procesar'!A622,1,1)=\"<\",P622,P622+1)),P622)","v":1}]
[{"$f":"IF('XML a procesar'!A623>0,'XML a procesar'!A623,\"\")","v":""},0,0,0,0,"",0,0,0,"","",0,"",0,"",{"$f":"IF(ROW()<$S$4+2,IF('XML a procesar'!A623=\"\",P623,IF(MID('XML a procesar'!A623,1,1)=\"<\",P623,P623+1)),P623)","v":1}]
[{"$f":"IF('XML a procesar'!A624>0,'XML a procesar'!A624,\"\")","v":""},0,0,0,0,"",0,0,0,"","",0,"",0,"",{"$f":"IF(ROW()<$S$4+2,IF('XML a procesar'!A624=\"\",P624,IF(MID('XML a procesar'!A624,1,1)=\"<\",P624,P624+1)),P624)","v":1}]
[{"$f":"IF('XML a procesar'!A625>0,'XML a procesar'!A625,\"\")","v":""},0,0,0,0,"",0,0,0,"","",0,"",0,"",{"$f":"IF(ROW()<$S$4+2,IF('XML a procesar'!A625=\"\",P625,IF(MID('XML a procesar'!A625,1,1)=\"<\",P625,P625+1)),P625)","v":1}]
[{"$f":"IF('XML a procesar'!A626>0,'XML a procesar'!A626,\"\")","v":""},0,0,0,0,"",0,0,0,"","",0,"",0,"",{"$f":"IF(ROW()<$S$4+2,IF('XML a procesar'!A626=\"\",P626,IF(MID('XML a procesar'!A626,1,1)=\"<\",P626,P626+1)),P626)","v":1}]
[{"$f":"IF('XML a procesar'!A627>0,'XML a procesar'!A627,\"\")","v":""},0,0,0,0,"",0,0,0,"","",0,"",0,"",{"$f":"IF(ROW()<$S$4+2,IF('XML a procesar'!A627=\"\",P627,IF(MID('XML a procesar'!A627,1,1)=\"<\",P627,P627+1)),P627)","v":1}]
[{"$f":"IF('XML a procesar'!A628>0,'XML a procesar'!A628,\"\")","v":""},0,0,0,0,"",0,0,0,"","",0,"",0,"",{"$f":"IF(ROW()<$S$4+2,IF('XML a procesar'!A628=\"\",P628,IF(MID('XML a procesar'!A628,1,1)=\"<\",P628,P628+1)),P628)","v":1}]
[{"$f":"IF('XML a procesar'!A629>0,'XML a procesar'!A629,\"\")","v":""},0,0,0,0,"",0,0,0,"","",0,"",0,"",{"$f":"IF(ROW()<$S$4+2,IF('XML a procesar'!A629=\"\",P629,IF(MID('XML a procesar'!A629,1,1)=\"<\",P629,P629+1)),P629)","v":1}]
[{"$f":"IF('XML a procesar'!A630>0,'XML a procesar'!A630,\"\")","v":""},0,0,0,0,"",0,0,0,"","",0,"",0,"",{"$f":"IF(ROW()<$S$4+2,IF('XML a procesar'!A630=\"\",P630,IF(MID('XML a procesar'!A630,1,1)=\"<\",P630,P630+1)),P630)","v":1}]
[{"$f":"IF('XML a procesar'!A631>0,'XML a procesar'!A631,\"\")","v":""},0,0,0,0,"",0,0,0,"","",0,"",0,"",{"$f":"IF(ROW()<$S$4+2,IF('XML a procesar'!A631=\"\",P631,IF(MID('XML a procesar'!A631,1,1)=\"<\",P631,P631+1)),P631)","v":1}]
[{"$f":"IF('XML a procesar'!A632>0,'XML a procesar'!A632,\"\")","v":""},0,0,0,0,"",0,0,0,"","",0,"",0,"",{"$f":"IF(ROW()<$S$4+2,IF('XML a procesar'!A632=\"\",P632,IF(MID('XML a procesar'!A632,1,1)=\"<\",P632,P632+1)),P632)","v":1}]
[{"$f":"IF('XML a procesar'!A633>0,'XML a procesar'!A633,\"\")","v":""},0,0,0,0,"",0,0,0,"","",0,"",0,"",{"$f":"IF(ROW()<$S$4+2,IF('XML a procesar'!A633=\"\",P633,IF(MID('XML a procesar'!A633,1,1)=\"<\",P633,P633+1)),P633)","v":1}]
[{"$f":"IF('XML a procesar'!A634>0,'XML a procesar'!A634,\"\")","v":""},0,0,0,0,"",0,0,0,"","",0,"",0,"",{"$f":"IF(ROW()<$S$4+2,IF('XML a procesar'!A634=\"\",P634,IF(MID('XML a procesar'!A634,1,1)=\"<\",P634,P634+1)),P634)","v":1}]
[{"$f":"IF('XML a procesar'!A635>0,'XML a procesar'!A635,\"\")","v":""},0,0,0,0,"",0,0,0,"","",0,"",0,"",{"$f":"IF(ROW()<$S$4+2,IF('XML a procesar'!A635=\"\",P635,IF(MID('XML a procesar'!A635,1,1)=\"<\",P635,P635+1)),P635)","v":1}]
[{"$f":"IF('XML a procesar'!A636>0,'XML a procesar'!A636,\"\")","v":""},0,0,0,0,"",0,0,0,"","",0,"",0,"",{"$f":"IF(ROW()<$S$4+2,IF('XML a procesar'!A636=\"\",P636,IF(MID('XML a procesar'!A636,1,1)=\"<\",P636,P636+1)),P636)","v":1}]
[{"$f":"IF('XML a procesar'!A637>0,'XML a procesar'!A637,\"\")","v":""},0,0,0,0,"",0,0,0,"","",0,"",0,"",{"$f":"IF(ROW()<$S$4+2,IF('XML a procesar'!A637=\"\",P637,IF(MID('XML a procesar'!A637,1,1)=\"<\",P637,P637+1)),P637)","v":1}]
[{"$f":"IF('XML a procesar'!A638>0,'XML a procesar'!A638,\"\")","v":""},0,0,0,0,"",0,0,0,"","",0,"",0,"",{"$f":"IF(ROW()<$S$4+2,IF('XML a procesar'!A638=\"\",P638,IF(MID('XML a procesar'!A638,1,1)=\"<\",P638,P638+1)),P638)","v":1}]
[{"$f":"IF('XML a procesar'!A639>0,'XML a procesar'!A639,\"\")","v":""},0,0,0,0,"",0,0,0,"","",0,"",0,"",{"$f":"IF(ROW()<$S$4+2,IF('XML a procesar'!A639=\"\",P639,IF(MID('XML a procesar'!A639,1,1)=\"<\",P639,P639+1)),P639)","v":1}]
[{"$f":"IF('XML a procesar'!A640>0,'XML a procesar'!A640,\"\")","v":""},0,0,0,0,"",0,0,0,"","",0,"",0,"",{"$f":"IF(ROW()<$S$4+2,IF('XML a procesar'!A640=\"\",P640,IF(MID('XML a procesar'!A640,1,1)=\"<\",P640,P640+1)),P640)","v":1}]
[{"$f":"IF('XML a procesar'!A641>0,'XML a procesar'!A641,\"\")","v":""},0,0,0,0,"",0,0,0,"","",0,"",0,{"$f":"IF(N642>-1,INDIRECT(ADDRESS(ROW(),13)),IF(N642<N641,CONCATENATE(\"<page-count count=\",CHAR(34),1+LARGE(N:N,1)-LARGE(N:N,2),CHAR(34),\"/>\"),INDIRECT(ADDRESS(ROW()-1,13))))","v":""},{"$f":"IF(ROW()<$S$4+2,IF('XML a procesar'!A641=\"\",P641,IF(MID('XML a procesar'!A641,1,1)=\"<\",P641,P641+1)),P641)","v":1}]
[{"$f":"IF('XML a procesar'!A642>0,'XML a procesar'!A642,\"\")","v":""},{"$f":"IF(ISERROR(FIND(\"/doi.org/\",A643,1)),0,1)","v":0},0,{"$f":"IF(AND(C643>0,LEFT(A643,7)=\"<email>\",ISNUMBER(SEARCH(\"@\",A643,1))),C643,IF(LEFT(A643,10)=\"<alt-text>\",-1,0))","v":0},0,{"$f":"INDIRECT(ADDRESS(ROW()+INDIRECT(ADDRESS(ROW()+E643,5)),1))","v":""},0,{"$f":"IF(AND(G642>0,G643>G642,NOT(ISERROR(MATCH(G642,D:D,0)))),H642+1,H642)","v":0},0,"",{"$f":"IF(J643=\"Linea_para_MAIL_creada_por_LuXML\",IF(ISERROR(MATCH(INDIRECT(ADDRESS(ROW()-G643,7)),D:D,0)),J643,INDIRECT(ADDRESS(MATCH(INDIRECT(ADDRESS(ROW()-G643,7)),D:D,0),1))),J643)","v":""},0,"",0,"",{"$f":"IF(ROW()<$S$4+2,IF('XML a procesar'!A642=\"\",P642,IF(MID('XML a procesar'!A642,1,1)=\"<\",P642,P642+1)),P642)","v":1}]
[{"$f":"IF('XML a procesar'!A643>0,'XML a procesar'!A643,\"\")","v":""},0,{"$f":"IF(LEFT(A643,16)=\"<contrib contrib\",C643+1,IF(LEFT(A643,16)=\"</contrib-group>\",0,IF(LEFT(A643,10)=\"</contrib>\",C643,C643)))","v":0},0,{"$f":"IF(D644=0,E643,E643+1)","v":0},"",{"$f":"IF(LEFT(F644,7)=\"<aff id\",_xlfn.NUMBERVALUE(MID(F644,13,LEN(F644)-14)),IF(F644=\"</aff>\",G643+1,G643))","v":0},0,{"$f":"INDIRECT(ADDRESS(ROW()-INDIRECT(ADDRESS(ROW()-H644,8)),8))","v":0},{"$f":"IF(J643=\"Linea_para_MAIL_creada_por_LuXML\",\"</aff>\",IF(I644>INDIRECT(ADDRESS(ROW()-I644-1,8)),\"Linea_para_MAIL_creada_por_LuXML\",INDIRECT(ADDRESS(ROW()-I644,6))))","v":""},"",{"$f":"IF(OR(MID(K642,3,5)=\"page>\",MID(K643,3,5)=\"page>\"),L643,IF(OR(K643=\"<history>\",K644=\"<history>\"),L643+1,L643))","v":0},"",{"$f":"IF(N643=-1,-1,IF(M644=\"</counts>\",-1,IF(OR(LEFT(M644,7)=\"<fpage>\",LEFT(M644,7)=\"<lpage>\"),VALUE(MID(M644,8,LEN(M644)-15)),0)))","v":0},"",{"$f":"IF(ROW()<$S$4+2,IF('XML a procesar'!A643=\"\",P643,IF(MID('XML a procesar'!A643,1,1)=\"<\",P643,P643+1)),P643)","v":1}]
[{"$f":"IF('XML a procesar'!A644>0,'XML a procesar'!A644,\"\")","v":""},0,0,0,0,"",0,0,0,"","",0,"",0,"",{"$f":"IF(ROW()<$S$4+2,IF('XML a procesar'!A644=\"\",P644,IF(MID('XML a procesar'!A644,1,1)=\"<\",P644,P644+1)),P644)","v":1}]
[{"$f":"IF('XML a procesar'!A645>0,'XML a procesar'!A645,\"\")","v":""},0,0,0,0,"",0,0,0,"","",0,{"$f":"IF(L646>L645,IF(L646=1,CONCATENATE(\"<fpage>\",$S$10,\"</fpage>\"),CONCATENATE(\"<lpage>\",$S$10+1,\"</lpage>\")),IF(ISERROR(INDIRECT(ADDRESS(ROW()-L646,11),1)),\"\",INDIRECT(ADDRESS(ROW()-L646,11),1)))","v":""},0,"",{"$f":"IF(ROW()<$S$4+2,IF('XML a procesar'!A645=\"\",P645,IF(MID('XML a procesar'!A645,1,1)=\"<\",P645,P645+1)),P645)","v":1}]
[{"$f":"IF('XML a procesar'!A646>0,'XML a procesar'!A646,\"\")","v":""},0,0,0,0,"",0,0,0,"","",0,"",0,"",{"$f":"IF(ROW()<$S$4+2,IF('XML a procesar'!A646=\"\",P646,IF(MID('XML a procesar'!A646,1,1)=\"<\",P646,P646+1)),P646)","v":1}]
[{"$f":"IF('XML a procesar'!A647>0,'XML a procesar'!A647,\"\")","v":""},0,0,0,0,"",0,0,0,"","",0,"",0,"",{"$f":"IF(ROW()<$S$4+2,IF('XML a procesar'!A647=\"\",P647,IF(MID('XML a procesar'!A647,1,1)=\"<\",P647,P647+1)),P647)","v":1}]
[{"$f":"IF('XML a procesar'!A648>0,'XML a procesar'!A648,\"\")","v":""},0,0,0,0,"",0,0,0,"","",0,"",0,"",{"$f":"IF(ROW()<$S$4+2,IF('XML a procesar'!A648=\"\",P648,IF(MID('XML a procesar'!A648,1,1)=\"<\",P648,P648+1)),P648)","v":1}]
[{"$f":"IF('XML a procesar'!A649>0,'XML a procesar'!A649,\"\")","v":""},0,0,0,0,"",0,0,0,"","",0,"",0,"",{"$f":"IF(ROW()<$S$4+2,IF('XML a procesar'!A649=\"\",P649,IF(MID('XML a procesar'!A649,1,1)=\"<\",P649,P649+1)),P649)","v":1}]
[{"$f":"IF('XML a procesar'!A650>0,'XML a procesar'!A650,\"\")","v":""},0,0,0,0,"",0,0,0,"","",0,"",0,"",{"$f":"IF(ROW()<$S$4+2,IF('XML a procesar'!A650=\"\",P650,IF(MID('XML a procesar'!A650,1,1)=\"<\",P650,P650+1)),P650)","v":1}]
[{"$f":"IF('XML a procesar'!A651>0,'XML a procesar'!A651,\"\")","v":""},0,0,0,0,"",0,0,0,"","",0,"",0,"",{"$f":"IF(ROW()<$S$4+2,IF('XML a procesar'!A651=\"\",P651,IF(MID('XML a procesar'!A651,1,1)=\"<\",P651,P651+1)),P651)","v":1}]
[{"$f":"IF('XML a procesar'!A652>0,'XML a procesar'!A652,\"\")","v":""},0,0,0,0,"",0,0,0,"","",0,"",0,"",{"$f":"IF(ROW()<$S$4+2,IF('XML a procesar'!A652=\"\",P652,IF(MID('XML a procesar'!A652,1,1)=\"<\",P652,P652+1)),P652)","v":1}]
[{"$f":"IF('XML a procesar'!A653>0,'XML a procesar'!A653,\"\")","v":""},0,0,0,0,"",0,0,0,"","",0,"",0,"",{"$f":"IF(ROW()<$S$4+2,IF('XML a procesar'!A653=\"\",P653,IF(MID('XML a procesar'!A653,1,1)=\"<\",P653,P653+1)),P653)","v":1}]
[{"$f":"IF('XML a procesar'!A654>0,'XML a procesar'!A654,\"\")","v":""},0,0,0,0,"",0,0,0,"","",0,"",0,"",{"$f":"IF(ROW()<$S$4+2,IF('XML a procesar'!A654=\"\",P654,IF(MID('XML a procesar'!A654,1,1)=\"<\",P654,P654+1)),P654)","v":1}]
[{"$f":"IF('XML a procesar'!A655>0,'XML a procesar'!A655,\"\")","v":""},0,0,0,0,"",0,0,0,"","",0,"",0,"",{"$f":"IF(ROW()<$S$4+2,IF('XML a procesar'!A655=\"\",P655,IF(MID('XML a procesar'!A655,1,1)=\"<\",P655,P655+1)),P655)","v":1}]
[{"$f":"IF('XML a procesar'!A656>0,'XML a procesar'!A656,\"\")","v":""},0,0,0,0,"",0,0,0,"","",0,"",0,"",{"$f":"IF(ROW()<$S$4+2,IF('XML a procesar'!A656=\"\",P656,IF(MID('XML a procesar'!A656,1,1)=\"<\",P656,P656+1)),P656)","v":1}]
[{"$f":"IF('XML a procesar'!A657>0,'XML a procesar'!A657,\"\")","v":""},0,0,0,0,"",0,0,0,"","",0,"",0,"",{"$f":"IF(ROW()<$S$4+2,IF('XML a procesar'!A657=\"\",P657,IF(MID('XML a procesar'!A657,1,1)=\"<\",P657,P657+1)),P657)","v":1}]
[{"$f":"IF('XML a procesar'!A658>0,'XML a procesar'!A658,\"\")","v":""},0,0,0,0,"",0,0,0,"","",0,"",0,"",{"$f":"IF(ROW()<$S$4+2,IF('XML a procesar'!A658=\"\",P658,IF(MID('XML a procesar'!A658,1,1)=\"<\",P658,P658+1)),P658)","v":1}]
[{"$f":"IF('XML a procesar'!A659>0,'XML a procesar'!A659,\"\")","v":""},0,0,0,0,"",0,0,0,"","",0,"",0,"",{"$f":"IF(ROW()<$S$4+2,IF('XML a procesar'!A659=\"\",P659,IF(MID('XML a procesar'!A659,1,1)=\"<\",P659,P659+1)),P659)","v":1}]
[{"$f":"IF('XML a procesar'!A660>0,'XML a procesar'!A660,\"\")","v":""},0,0,0,0,"",0,0,0,"","",0,"",0,"",{"$f":"IF(ROW()<$S$4+2,IF('XML a procesar'!A660=\"\",P660,IF(MID('XML a procesar'!A660,1,1)=\"<\",P660,P660+1)),P660)","v":1}]
[{"$f":"IF('XML a procesar'!A661>0,'XML a procesar'!A661,\"\")","v":""},0,0,0,0,"",0,0,0,"","",0,"",0,"",{"$f":"IF(ROW()<$S$4+2,IF('XML a procesar'!A661=\"\",P661,IF(MID('XML a procesar'!A661,1,1)=\"<\",P661,P661+1)),P661)","v":1}]
[{"$f":"IF('XML a procesar'!A662>0,'XML a procesar'!A662,\"\")","v":""},0,0,0,0,"",0,0,0,"","",0,"",0,"",{"$f":"IF(ROW()<$S$4+2,IF('XML a procesar'!A662=\"\",P662,IF(MID('XML a procesar'!A662,1,1)=\"<\",P662,P662+1)),P662)","v":1}]
[{"$f":"IF('XML a procesar'!A663>0,'XML a procesar'!A663,\"\")","v":""},0,0,0,0,"",0,0,0,"","",0,"",0,"",{"$f":"IF(ROW()<$S$4+2,IF('XML a procesar'!A663=\"\",P663,IF(MID('XML a procesar'!A663,1,1)=\"<\",P663,P663+1)),P663)","v":1}]
[{"$f":"IF('XML a procesar'!A664>0,'XML a procesar'!A664,\"\")","v":""},0,0,0,0,"",0,0,0,"","",0,"",0,"",{"$f":"IF(ROW()<$S$4+2,IF('XML a procesar'!A664=\"\",P664,IF(MID('XML a procesar'!A664,1,1)=\"<\",P664,P664+1)),P664)","v":1}]
[{"$f":"IF('XML a procesar'!A665>0,'XML a procesar'!A665,\"\")","v":""},0,0,0,0,"",0,0,0,"","",0,"",0,"",{"$f":"IF(ROW()<$S$4+2,IF('XML a procesar'!A665=\"\",P665,IF(MID('XML a procesar'!A665,1,1)=\"<\",P665,P665+1)),P665)","v":1}]
[{"$f":"IF('XML a procesar'!A666>0,'XML a procesar'!A666,\"\")","v":""},0,0,0,0,"",0,0,0,"","",0,"",0,"",{"$f":"IF(ROW()<$S$4+2,IF('XML a procesar'!A666=\"\",P666,IF(MID('XML a procesar'!A666,1,1)=\"<\",P666,P666+1)),P666)","v":1}]
[{"$f":"IF('XML a procesar'!A667>0,'XML a procesar'!A667,\"\")","v":""},0,0,0,0,"",0,0,0,"","",0,"",0,"",{"$f":"IF(ROW()<$S$4+2,IF('XML a procesar'!A667=\"\",P667,IF(MID('XML a procesar'!A667,1,1)=\"<\",P667,P667+1)),P667)","v":1}]
[{"$f":"IF('XML a procesar'!A668>0,'XML a procesar'!A668,\"\")","v":""},0,0,0,0,"",0,0,0,"","",0,"",0,"",{"$f":"IF(ROW()<$S$4+2,IF('XML a procesar'!A668=\"\",P668,IF(MID('XML a procesar'!A668,1,1)=\"<\",P668,P668+1)),P668)","v":1}]
[{"$f":"IF('XML a procesar'!A669>0,'XML a procesar'!A669,\"\")","v":""},0,0,0,0,"",0,0,0,"","",0,"",0,"",{"$f":"IF(ROW()<$S$4+2,IF('XML a procesar'!A669=\"\",P669,IF(MID('XML a procesar'!A669,1,1)=\"<\",P669,P669+1)),P669)","v":1}]
[{"$f":"IF('XML a procesar'!A670>0,'XML a procesar'!A670,\"\")","v":""},0,0,0,0,"",0,0,0,"","",0,"",0,"",{"$f":"IF(ROW()<$S$4+2,IF('XML a procesar'!A670=\"\",P670,IF(MID('XML a procesar'!A670,1,1)=\"<\",P670,P670+1)),P670)","v":1}]
[{"$f":"IF('XML a procesar'!A671>0,'XML a procesar'!A671,\"\")","v":""},0,0,0,0,"",0,0,0,"","",0,"",0,"",{"$f":"IF(ROW()<$S$4+2,IF('XML a procesar'!A671=\"\",P671,IF(MID('XML a procesar'!A671,1,1)=\"<\",P671,P671+1)),P671)","v":1}]
[{"$f":"IF('XML a procesar'!A672>0,'XML a procesar'!A672,\"\")","v":""},0,0,0,0,"",0,0,0,"","",0,"",0,"",{"$f":"IF(ROW()<$S$4+2,IF('XML a procesar'!A672=\"\",P672,IF(MID('XML a procesar'!A672,1,1)=\"<\",P672,P672+1)),P672)","v":1}]
[{"$f":"IF('XML a procesar'!A673>0,'XML a procesar'!A673,\"\")","v":""},0,0,0,0,"",0,0,0,"","",0,"",0,"",{"$f":"IF(ROW()<$S$4+2,IF('XML a procesar'!A673=\"\",P673,IF(MID('XML a procesar'!A673,1,1)=\"<\",P673,P673+1)),P673)","v":1}]
[{"$f":"IF('XML a procesar'!A674>0,'XML a procesar'!A674,\"\")","v":""},0,0,0,0,"",0,0,0,"","",0,"",0,"",{"$f":"IF(ROW()<$S$4+2,IF('XML a procesar'!A674=\"\",P674,IF(MID('XML a procesar'!A674,1,1)=\"<\",P674,P674+1)),P674)","v":1}]
[{"$f":"IF('XML a procesar'!A675>0,'XML a procesar'!A675,\"\")","v":""},0,0,0,0,"",0,0,0,"","",0,"",0,"",{"$f":"IF(ROW()<$S$4+2,IF('XML a procesar'!A675=\"\",P675,IF(MID('XML a procesar'!A675,1,1)=\"<\",P675,P675+1)),P675)","v":1}]
[{"$f":"IF('XML a procesar'!A676>0,'XML a procesar'!A676,\"\")","v":""},0,0,0,0,"",0,0,0,"","",0,"",0,"",{"$f":"IF(ROW()<$S$4+2,IF('XML a procesar'!A676=\"\",P676,IF(MID('XML a procesar'!A676,1,1)=\"<\",P676,P676+1)),P676)","v":1}]
[{"$f":"IF('XML a procesar'!A677>0,'XML a procesar'!A677,\"\")","v":""},0,0,0,0,"",0,0,0,"","",0,"",0,"",{"$f":"IF(ROW()<$S$4+2,IF('XML a procesar'!A677=\"\",P677,IF(MID('XML a procesar'!A677,1,1)=\"<\",P677,P677+1)),P677)","v":1}]
[{"$f":"IF('XML a procesar'!A678>0,'XML a procesar'!A678,\"\")","v":""},0,0,0,0,"",0,0,0,"","",0,"",0,"",{"$f":"IF(ROW()<$S$4+2,IF('XML a procesar'!A678=\"\",P678,IF(MID('XML a procesar'!A678,1,1)=\"<\",P678,P678+1)),P678)","v":1}]
[{"$f":"IF('XML a procesar'!A679>0,'XML a procesar'!A679,\"\")","v":""},0,0,0,0,"",0,0,0,"","",0,"",0,"",{"$f":"IF(ROW()<$S$4+2,IF('XML a procesar'!A679=\"\",P679,IF(MID('XML a procesar'!A679,1,1)=\"<\",P679,P679+1)),P679)","v":1}]
[{"$f":"IF('XML a procesar'!A680>0,'XML a procesar'!A680,\"\")","v":""},0,0,0,0,"",0,0,0,"","",0,"",0,"",{"$f":"IF(ROW()<$S$4+2,IF('XML a procesar'!A680=\"\",P680,IF(MID('XML a procesar'!A680,1,1)=\"<\",P680,P680+1)),P680)","v":1}]
[{"$f":"IF('XML a procesar'!A681>0,'XML a procesar'!A681,\"\")","v":""},0,0,0,0,"",0,0,0,"","",0,"",0,"",{"$f":"IF(ROW()<$S$4+2,IF('XML a procesar'!A681=\"\",P681,IF(MID('XML a procesar'!A681,1,1)=\"<\",P681,P681+1)),P681)","v":1}]
[{"$f":"IF('XML a procesar'!A682>0,'XML a procesar'!A682,\"\")","v":""},0,0,0,0,"",0,0,0,"","",0,"",0,"",{"$f":"IF(ROW()<$S$4+2,IF('XML a procesar'!A682=\"\",P682,IF(MID('XML a procesar'!A682,1,1)=\"<\",P682,P682+1)),P682)","v":1}]
[{"$f":"IF('XML a procesar'!A683>0,'XML a procesar'!A683,\"\")","v":""},0,0,0,0,"",0,0,0,"","",0,"",0,"",{"$f":"IF(ROW()<$S$4+2,IF('XML a procesar'!A683=\"\",P683,IF(MID('XML a procesar'!A683,1,1)=\"<\",P683,P683+1)),P683)","v":1}]
[{"$f":"IF('XML a procesar'!A684>0,'XML a procesar'!A684,\"\")","v":""},0,0,0,0,"",0,0,0,"","",0,"",0,"",{"$f":"IF(ROW()<$S$4+2,IF('XML a procesar'!A684=\"\",P684,IF(MID('XML a procesar'!A684,1,1)=\"<\",P684,P684+1)),P684)","v":1}]
[{"$f":"IF('XML a procesar'!A685>0,'XML a procesar'!A685,\"\")","v":""},0,0,0,0,"",0,0,0,"","",0,"",0,"",{"$f":"IF(ROW()<$S$4+2,IF('XML a procesar'!A685=\"\",P685,IF(MID('XML a procesar'!A685,1,1)=\"<\",P685,P685+1)),P685)","v":1}]
[{"$f":"IF('XML a procesar'!A686>0,'XML a procesar'!A686,\"\")","v":""},0,0,0,0,"",0,0,0,"","",0,"",0,"",{"$f":"IF(ROW()<$S$4+2,IF('XML a procesar'!A686=\"\",P686,IF(MID('XML a procesar'!A686,1,1)=\"<\",P686,P686+1)),P686)","v":1}]
[{"$f":"IF('XML a procesar'!A687>0,'XML a procesar'!A687,\"\")","v":""},0,0,0,0,"",0,0,0,"","",0,"",0,"",{"$f":"IF(ROW()<$S$4+2,IF('XML a procesar'!A687=\"\",P687,IF(MID('XML a procesar'!A687,1,1)=\"<\",P687,P687+1)),P687)","v":1}]
[{"$f":"IF('XML a procesar'!A688>0,'XML a procesar'!A688,\"\")","v":""},0,0,0,0,"",0,0,0,"","",0,"",0,"",{"$f":"IF(ROW()<$S$4+2,IF('XML a procesar'!A688=\"\",P688,IF(MID('XML a procesar'!A688,1,1)=\"<\",P688,P688+1)),P688)","v":1}]
[{"$f":"IF('XML a procesar'!A689>0,'XML a procesar'!A689,\"\")","v":""},0,0,0,0,"",0,0,0,"","",0,"",0,"",{"$f":"IF(ROW()<$S$4+2,IF('XML a procesar'!A689=\"\",P689,IF(MID('XML a procesar'!A689,1,1)=\"<\",P689,P689+1)),P689)","v":1}]
[{"$f":"IF('XML a procesar'!A690>0,'XML a procesar'!A690,\"\")","v":""},0,0,0,0,"",0,0,0,"","",0,"",0,"",{"$f":"IF(ROW()<$S$4+2,IF('XML a procesar'!A690=\"\",P690,IF(MID('XML a procesar'!A690,1,1)=\"<\",P690,P690+1)),P690)","v":1}]
[{"$f":"IF('XML a procesar'!A691>0,'XML a procesar'!A691,\"\")","v":""},0,0,0,0,"",0,0,0,"","",0,"",0,"",{"$f":"IF(ROW()<$S$4+2,IF('XML a procesar'!A691=\"\",P691,IF(MID('XML a procesar'!A691,1,1)=\"<\",P691,P691+1)),P691)","v":1}]
[{"$f":"IF('XML a procesar'!A692>0,'XML a procesar'!A692,\"\")","v":""},0,0,0,0,"",0,0,0,"","",0,"",0,"",{"$f":"IF(ROW()<$S$4+2,IF('XML a procesar'!A692=\"\",P692,IF(MID('XML a procesar'!A692,1,1)=\"<\",P692,P692+1)),P692)","v":1}]
[{"$f":"IF('XML a procesar'!A693>0,'XML a procesar'!A693,\"\")","v":""},0,0,0,0,"",0,0,0,"","",0,"",0,"",{"$f":"IF(ROW()<$S$4+2,IF('XML a procesar'!A693=\"\",P693,IF(MID('XML a procesar'!A693,1,1)=\"<\",P693,P693+1)),P693)","v":1}]
[{"$f":"IF('XML a procesar'!A694>0,'XML a procesar'!A694,\"\")","v":""},0,0,0,0,"",0,0,0,"","",0,"",0,"",{"$f":"IF(ROW()<$S$4+2,IF('XML a procesar'!A694=\"\",P694,IF(MID('XML a procesar'!A694,1,1)=\"<\",P694,P694+1)),P694)","v":1}]
[{"$f":"IF('XML a procesar'!A695>0,'XML a procesar'!A695,\"\")","v":""},0,0,0,0,"",0,0,0,"","",0,"",0,"",{"$f":"IF(ROW()<$S$4+2,IF('XML a procesar'!A695=\"\",P695,IF(MID('XML a procesar'!A695,1,1)=\"<\",P695,P695+1)),P695)","v":1}]
[{"$f":"IF('XML a procesar'!A696>0,'XML a procesar'!A696,\"\")","v":""},0,0,0,0,"",0,0,0,"","",0,"",0,"",{"$f":"IF(ROW()<$S$4+2,IF('XML a procesar'!A696=\"\",P696,IF(MID('XML a procesar'!A696,1,1)=\"<\",P696,P696+1)),P696)","v":1}]
[{"$f":"IF('XML a procesar'!A697>0,'XML a procesar'!A697,\"\")","v":""},0,0,0,0,"",0,0,0,"","",0,"",0,"",{"$f":"IF(ROW()<$S$4+2,IF('XML a procesar'!A697=\"\",P697,IF(MID('XML a procesar'!A697,1,1)=\"<\",P697,P697+1)),P697)","v":1}]
[{"$f":"IF('XML a procesar'!A698>0,'XML a procesar'!A698,\"\")","v":""},0,0,0,0,"",0,0,0,"","",0,"",0,"",{"$f":"IF(ROW()<$S$4+2,IF('XML a procesar'!A698=\"\",P698,IF(MID('XML a procesar'!A698,1,1)=\"<\",P698,P698+1)),P698)","v":1}]
[{"$f":"IF('XML a procesar'!A699>0,'XML a procesar'!A699,\"\")","v":""},0,0,0,0,"",0,0,0,"","",0,"",0,"",{"$f":"IF(ROW()<$S$4+2,IF('XML a procesar'!A699=\"\",P699,IF(MID('XML a procesar'!A699,1,1)=\"<\",P699,P699+1)),P699)","v":1}]
[{"$f":"IF('XML a procesar'!A700>0,'XML a procesar'!A700,\"\")","v":""},0,0,0,0,"",0,0,0,"","",0,"",0,"",{"$f":"IF(ROW()<$S$4+2,IF('XML a procesar'!A700=\"\",P700,IF(MID('XML a procesar'!A700,1,1)=\"<\",P700,P700+1)),P700)","v":1}]
[{"$f":"IF('XML a procesar'!A701>0,'XML a procesar'!A701,\"\")","v":""},0,0,0,0,"",0,0,0,"","",0,"",0,"",{"$f":"IF(ROW()<$S$4+2,IF('XML a procesar'!A701=\"\",P701,IF(MID('XML a procesar'!A701,1,1)=\"<\",P701,P701+1)),P701)","v":1}]
[{"$f":"IF('XML a procesar'!A702>0,'XML a procesar'!A702,\"\")","v":""},0,0,0,0,"",0,0,0,"","",0,"",0,"",{"$f":"IF(ROW()<$S$4+2,IF('XML a procesar'!A702=\"\",P702,IF(MID('XML a procesar'!A702,1,1)=\"<\",P702,P702+1)),P702)","v":1}]
[{"$f":"IF('XML a procesar'!A703>0,'XML a procesar'!A703,\"\")","v":""},0,0,0,0,"",0,0,0,"","",0,"",0,"",{"$f":"IF(ROW()<$S$4+2,IF('XML a procesar'!A703=\"\",P703,IF(MID('XML a procesar'!A703,1,1)=\"<\",P703,P703+1)),P703)","v":1}]
[{"$f":"IF('XML a procesar'!A704>0,'XML a procesar'!A704,\"\")","v":""},0,0,0,0,"",0,0,0,"","",0,"",0,"",{"$f":"IF(ROW()<$S$4+2,IF('XML a procesar'!A704=\"\",P704,IF(MID('XML a procesar'!A704,1,1)=\"<\",P704,P704+1)),P704)","v":1}]
[{"$f":"IF('XML a procesar'!A705>0,'XML a procesar'!A705,\"\")","v":""},0,0,0,0,"",0,0,0,"","",0,"",0,{"$f":"IF(N706>-1,INDIRECT(ADDRESS(ROW(),13)),IF(N706<N705,CONCATENATE(\"<page-count count=\",CHAR(34),1+LARGE(N:N,1)-LARGE(N:N,2),CHAR(34),\"/>\"),INDIRECT(ADDRESS(ROW()-1,13))))","v":""},{"$f":"IF(ROW()<$S$4+2,IF('XML a procesar'!A705=\"\",P705,IF(MID('XML a procesar'!A705,1,1)=\"<\",P705,P705+1)),P705)","v":1}]
[{"$f":"IF('XML a procesar'!A706>0,'XML a procesar'!A706,\"\")","v":""},{"$f":"IF(ISERROR(FIND(\"/doi.org/\",A707,1)),0,1)","v":0},0,{"$f":"IF(AND(C707>0,LEFT(A707,7)=\"<email>\",ISNUMBER(SEARCH(\"@\",A707,1))),C707,IF(LEFT(A707,10)=\"<alt-text>\",-1,0))","v":0},0,{"$f":"INDIRECT(ADDRESS(ROW()+INDIRECT(ADDRESS(ROW()+E707,5)),1))","v":""},0,{"$f":"IF(AND(G706>0,G707>G706,NOT(ISERROR(MATCH(G706,D:D,0)))),H706+1,H706)","v":0},0,"",{"$f":"IF(J707=\"Linea_para_MAIL_creada_por_LuXML\",IF(ISERROR(MATCH(INDIRECT(ADDRESS(ROW()-G707,7)),D:D,0)),J707,INDIRECT(ADDRESS(MATCH(INDIRECT(ADDRESS(ROW()-G707,7)),D:D,0),1))),J707)","v":""},0,"",0,"",{"$f":"IF(ROW()<$S$4+2,IF('XML a procesar'!A706=\"\",P706,IF(MID('XML a procesar'!A706,1,1)=\"<\",P706,P706+1)),P706)","v":1}]
[{"$f":"IF('XML a procesar'!A707>0,'XML a procesar'!A707,\"\")","v":""},0,{"$f":"IF(LEFT(A707,16)=\"<contrib contrib\",C707+1,IF(LEFT(A707,16)=\"</contrib-group>\",0,IF(LEFT(A707,10)=\"</contrib>\",C707,C707)))","v":0},0,{"$f":"IF(D708=0,E707,E707+1)","v":0},"",{"$f":"IF(LEFT(F708,7)=\"<aff id\",_xlfn.NUMBERVALUE(MID(F708,13,LEN(F708)-14)),IF(F708=\"</aff>\",G707+1,G707))","v":0},0,{"$f":"INDIRECT(ADDRESS(ROW()-INDIRECT(ADDRESS(ROW()-H708,8)),8))","v":0},{"$f":"IF(J707=\"Linea_para_MAIL_creada_por_LuXML\",\"</aff>\",IF(I708>INDIRECT(ADDRESS(ROW()-I708-1,8)),\"Linea_para_MAIL_creada_por_LuXML\",INDIRECT(ADDRESS(ROW()-I708,6))))","v":""},"",{"$f":"IF(OR(MID(K706,3,5)=\"page>\",MID(K707,3,5)=\"page>\"),L707,IF(OR(K707=\"<history>\",K708=\"<history>\"),L707+1,L707))","v":0},"",{"$f":"IF(N707=-1,-1,IF(M708=\"</counts>\",-1,IF(OR(LEFT(M708,7)=\"<fpage>\",LEFT(M708,7)=\"<lpage>\"),VALUE(MID(M708,8,LEN(M708)-15)),0)))","v":0},"",{"$f":"IF(ROW()<$S$4+2,IF('XML a procesar'!A707=\"\",P707,IF(MID('XML a procesar'!A707,1,1)=\"<\",P707,P707+1)),P707)","v":1}]
[{"$f":"IF('XML a procesar'!A708>0,'XML a procesar'!A708,\"\")","v":""},0,0,0,0,"",0,0,0,"","",0,"",0,"",{"$f":"IF(ROW()<$S$4+2,IF('XML a procesar'!A708=\"\",P708,IF(MID('XML a procesar'!A708,1,1)=\"<\",P708,P708+1)),P708)","v":1}]
[{"$f":"IF('XML a procesar'!A709>0,'XML a procesar'!A709,\"\")","v":""},0,0,0,0,"",0,0,0,"","",0,{"$f":"IF(L710>L709,IF(L710=1,CONCATENATE(\"<fpage>\",$S$10,\"</fpage>\"),CONCATENATE(\"<lpage>\",$S$10+1,\"</lpage>\")),IF(ISERROR(INDIRECT(ADDRESS(ROW()-L710,11),1)),\"\",INDIRECT(ADDRESS(ROW()-L710,11),1)))","v":""},0,"",{"$f":"IF(ROW()<$S$4+2,IF('XML a procesar'!A709=\"\",P709,IF(MID('XML a procesar'!A709,1,1)=\"<\",P709,P709+1)),P709)","v":1}]
[{"$f":"IF('XML a procesar'!A710>0,'XML a procesar'!A710,\"\")","v":""},0,0,0,0,"",0,0,0,"","",0,"",0,"",{"$f":"IF(ROW()<$S$4+2,IF('XML a procesar'!A710=\"\",P710,IF(MID('XML a procesar'!A710,1,1)=\"<\",P710,P710+1)),P710)","v":1}]
[{"$f":"IF('XML a procesar'!A711>0,'XML a procesar'!A711,\"\")","v":""},0,0,0,0,"",0,0,0,"","",0,"",0,"",{"$f":"IF(ROW()<$S$4+2,IF('XML a procesar'!A711=\"\",P711,IF(MID('XML a procesar'!A711,1,1)=\"<\",P711,P711+1)),P711)","v":1}]
[{"$f":"IF('XML a procesar'!A712>0,'XML a procesar'!A712,\"\")","v":""},0,0,0,0,"",0,0,0,"","",0,"",0,"",{"$f":"IF(ROW()<$S$4+2,IF('XML a procesar'!A712=\"\",P712,IF(MID('XML a procesar'!A712,1,1)=\"<\",P712,P712+1)),P712)","v":1}]
[{"$f":"IF('XML a procesar'!A713>0,'XML a procesar'!A713,\"\")","v":""},0,0,0,0,"",0,0,0,"","",0,"",0,"",{"$f":"IF(ROW()<$S$4+2,IF('XML a procesar'!A713=\"\",P713,IF(MID('XML a procesar'!A713,1,1)=\"<\",P713,P713+1)),P713)","v":1}]
[{"$f":"IF('XML a procesar'!A714>0,'XML a procesar'!A714,\"\")","v":""},0,0,0,0,"",0,0,0,"","",0,"",0,"",{"$f":"IF(ROW()<$S$4+2,IF('XML a procesar'!A714=\"\",P714,IF(MID('XML a procesar'!A714,1,1)=\"<\",P714,P714+1)),P714)","v":1}]
[{"$f":"IF('XML a procesar'!A715>0,'XML a procesar'!A715,\"\")","v":""},0,0,0,0,"",0,0,0,"","",0,"",0,"",{"$f":"IF(ROW()<$S$4+2,IF('XML a procesar'!A715=\"\",P715,IF(MID('XML a procesar'!A715,1,1)=\"<\",P715,P715+1)),P715)","v":1}]
[{"$f":"IF('XML a procesar'!A716>0,'XML a procesar'!A716,\"\")","v":""},0,0,0,0,"",0,0,0,"","",0,"",0,"",{"$f":"IF(ROW()<$S$4+2,IF('XML a procesar'!A716=\"\",P716,IF(MID('XML a procesar'!A716,1,1)=\"<\",P716,P716+1)),P716)","v":1}]
[{"$f":"IF('XML a procesar'!A717>0,'XML a procesar'!A717,\"\")","v":""},0,0,0,0,"",0,0,0,"","",0,"",0,"",{"$f":"IF(ROW()<$S$4+2,IF('XML a procesar'!A717=\"\",P717,IF(MID('XML a procesar'!A717,1,1)=\"<\",P717,P717+1)),P717)","v":1}]
[{"$f":"IF('XML a procesar'!A718>0,'XML a procesar'!A718,\"\")","v":""},0,0,0,0,"",0,0,0,"","",0,"",0,"",{"$f":"IF(ROW()<$S$4+2,IF('XML a procesar'!A718=\"\",P718,IF(MID('XML a procesar'!A718,1,1)=\"<\",P718,P718+1)),P718)","v":1}]
[{"$f":"IF('XML a procesar'!A719>0,'XML a procesar'!A719,\"\")","v":""},0,0,0,0,"",0,0,0,"","",0,"",0,"",{"$f":"IF(ROW()<$S$4+2,IF('XML a procesar'!A719=\"\",P719,IF(MID('XML a procesar'!A719,1,1)=\"<\",P719,P719+1)),P719)","v":1}]
[{"$f":"IF('XML a procesar'!A720>0,'XML a procesar'!A720,\"\")","v":""},0,0,0,0,"",0,0,0,"","",0,"",0,"",{"$f":"IF(ROW()<$S$4+2,IF('XML a procesar'!A720=\"\",P720,IF(MID('XML a procesar'!A720,1,1)=\"<\",P720,P720+1)),P720)","v":1}]
[{"$f":"IF('XML a procesar'!A721>0,'XML a procesar'!A721,\"\")","v":""},0,0,0,0,"",0,0,0,"","",0,"",0,"",{"$f":"IF(ROW()<$S$4+2,IF('XML a procesar'!A721=\"\",P721,IF(MID('XML a procesar'!A721,1,1)=\"<\",P721,P721+1)),P721)","v":1}]
[{"$f":"IF('XML a procesar'!A722>0,'XML a procesar'!A722,\"\")","v":""},0,0,0,0,"",0,0,0,"","",0,"",0,"",{"$f":"IF(ROW()<$S$4+2,IF('XML a procesar'!A722=\"\",P722,IF(MID('XML a procesar'!A722,1,1)=\"<\",P722,P722+1)),P722)","v":1}]
[{"$f":"IF('XML a procesar'!A723>0,'XML a procesar'!A723,\"\")","v":""},0,0,0,0,"",0,0,0,"","",0,"",0,"",{"$f":"IF(ROW()<$S$4+2,IF('XML a procesar'!A723=\"\",P723,IF(MID('XML a procesar'!A723,1,1)=\"<\",P723,P723+1)),P723)","v":1}]
[{"$f":"IF('XML a procesar'!A724>0,'XML a procesar'!A724,\"\")","v":""},0,0,0,0,"",0,0,0,"","",0,"",0,"",{"$f":"IF(ROW()<$S$4+2,IF('XML a procesar'!A724=\"\",P724,IF(MID('XML a procesar'!A724,1,1)=\"<\",P724,P724+1)),P724)","v":1}]
[{"$f":"IF('XML a procesar'!A725>0,'XML a procesar'!A725,\"\")","v":""},0,0,0,0,"",0,0,0,"","",0,"",0,"",{"$f":"IF(ROW()<$S$4+2,IF('XML a procesar'!A725=\"\",P725,IF(MID('XML a procesar'!A725,1,1)=\"<\",P725,P725+1)),P725)","v":1}]
[{"$f":"IF('XML a procesar'!A726>0,'XML a procesar'!A726,\"\")","v":""},0,0,0,0,"",0,0,0,"","",0,"",0,"",{"$f":"IF(ROW()<$S$4+2,IF('XML a procesar'!A726=\"\",P726,IF(MID('XML a procesar'!A726,1,1)=\"<\",P726,P726+1)),P726)","v":1}]
[{"$f":"IF('XML a procesar'!A727>0,'XML a procesar'!A727,\"\")","v":""},0,0,0,0,"",0,0,0,"","",0,"",0,"",{"$f":"IF(ROW()<$S$4+2,IF('XML a procesar'!A727=\"\",P727,IF(MID('XML a procesar'!A727,1,1)=\"<\",P727,P727+1)),P727)","v":1}]
[{"$f":"IF('XML a procesar'!A728>0,'XML a procesar'!A728,\"\")","v":""},0,0,0,0,"",0,0,0,"","",0,"",0,"",{"$f":"IF(ROW()<$S$4+2,IF('XML a procesar'!A728=\"\",P728,IF(MID('XML a procesar'!A728,1,1)=\"<\",P728,P728+1)),P728)","v":1}]
[{"$f":"IF('XML a procesar'!A729>0,'XML a procesar'!A729,\"\")","v":""},0,0,0,0,"",0,0,0,"","",0,"",0,"",{"$f":"IF(ROW()<$S$4+2,IF('XML a procesar'!A729=\"\",P729,IF(MID('XML a procesar'!A729,1,1)=\"<\",P729,P729+1)),P729)","v":1}]
[{"$f":"IF('XML a procesar'!A730>0,'XML a procesar'!A730,\"\")","v":""},0,0,0,0,"",0,0,0,"","",0,"",0,"",{"$f":"IF(ROW()<$S$4+2,IF('XML a procesar'!A730=\"\",P730,IF(MID('XML a procesar'!A730,1,1)=\"<\",P730,P730+1)),P730)","v":1}]
[{"$f":"IF('XML a procesar'!A731>0,'XML a procesar'!A731,\"\")","v":""},0,0,0,0,"",0,0,0,"","",0,"",0,"",{"$f":"IF(ROW()<$S$4+2,IF('XML a procesar'!A731=\"\",P731,IF(MID('XML a procesar'!A731,1,1)=\"<\",P731,P731+1)),P731)","v":1}]
[{"$f":"IF('XML a procesar'!A732>0,'XML a procesar'!A732,\"\")","v":""},0,0,0,0,"",0,0,0,"","",0,"",0,"",{"$f":"IF(ROW()<$S$4+2,IF('XML a procesar'!A732=\"\",P732,IF(MID('XML a procesar'!A732,1,1)=\"<\",P732,P732+1)),P732)","v":1}]
[{"$f":"IF('XML a procesar'!A733>0,'XML a procesar'!A733,\"\")","v":""},0,0,0,0,"",0,0,0,"","",0,"",0,"",{"$f":"IF(ROW()<$S$4+2,IF('XML a procesar'!A733=\"\",P733,IF(MID('XML a procesar'!A733,1,1)=\"<\",P733,P733+1)),P733)","v":1}]
[{"$f":"IF('XML a procesar'!A734>0,'XML a procesar'!A734,\"\")","v":""},0,0,0,0,"",0,0,0,"","",0,"",0,"",{"$f":"IF(ROW()<$S$4+2,IF('XML a procesar'!A734=\"\",P734,IF(MID('XML a procesar'!A734,1,1)=\"<\",P734,P734+1)),P734)","v":1}]
[{"$f":"IF('XML a procesar'!A735>0,'XML a procesar'!A735,\"\")","v":""},0,0,0,0,"",0,0,0,"","",0,"",0,"",{"$f":"IF(ROW()<$S$4+2,IF('XML a procesar'!A735=\"\",P735,IF(MID('XML a procesar'!A735,1,1)=\"<\",P735,P735+1)),P735)","v":1}]
[{"$f":"IF('XML a procesar'!A736>0,'XML a procesar'!A736,\"\")","v":""},0,0,0,0,"",0,0,0,"","",0,"",0,"",{"$f":"IF(ROW()<$S$4+2,IF('XML a procesar'!A736=\"\",P736,IF(MID('XML a procesar'!A736,1,1)=\"<\",P736,P736+1)),P736)","v":1}]
[{"$f":"IF('XML a procesar'!A737>0,'XML a procesar'!A737,\"\")","v":""},0,0,0,0,"",0,0,0,"","",0,"",0,"",{"$f":"IF(ROW()<$S$4+2,IF('XML a procesar'!A737=\"\",P737,IF(MID('XML a procesar'!A737,1,1)=\"<\",P737,P737+1)),P737)","v":1}]
[{"$f":"IF('XML a procesar'!A738>0,'XML a procesar'!A738,\"\")","v":""},0,0,0,0,"",0,0,0,"","",0,"",0,"",{"$f":"IF(ROW()<$S$4+2,IF('XML a procesar'!A738=\"\",P738,IF(MID('XML a procesar'!A738,1,1)=\"<\",P738,P738+1)),P738)","v":1}]
[{"$f":"IF('XML a procesar'!A739>0,'XML a procesar'!A739,\"\")","v":""},0,0,0,0,"",0,0,0,"","",0,"",0,"",{"$f":"IF(ROW()<$S$4+2,IF('XML a procesar'!A739=\"\",P739,IF(MID('XML a procesar'!A739,1,1)=\"<\",P739,P739+1)),P739)","v":1}]
[{"$f":"IF('XML a procesar'!A740>0,'XML a procesar'!A740,\"\")","v":""},0,0,0,0,"",0,0,0,"","",0,"",0,"",{"$f":"IF(ROW()<$S$4+2,IF('XML a procesar'!A740=\"\",P740,IF(MID('XML a procesar'!A740,1,1)=\"<\",P740,P740+1)),P740)","v":1}]
[{"$f":"IF('XML a procesar'!A741>0,'XML a procesar'!A741,\"\")","v":""},0,0,0,0,"",0,0,0,"","",0,"",0,"",{"$f":"IF(ROW()<$S$4+2,IF('XML a procesar'!A741=\"\",P741,IF(MID('XML a procesar'!A741,1,1)=\"<\",P741,P741+1)),P741)","v":1}]
[{"$f":"IF('XML a procesar'!A742>0,'XML a procesar'!A742,\"\")","v":""},0,0,0,0,"",0,0,0,"","",0,"",0,"",{"$f":"IF(ROW()<$S$4+2,IF('XML a procesar'!A742=\"\",P742,IF(MID('XML a procesar'!A742,1,1)=\"<\",P742,P742+1)),P742)","v":1}]
[{"$f":"IF('XML a procesar'!A743>0,'XML a procesar'!A743,\"\")","v":""},0,0,0,0,"",0,0,0,"","",0,"",0,"",{"$f":"IF(ROW()<$S$4+2,IF('XML a procesar'!A743=\"\",P743,IF(MID('XML a procesar'!A743,1,1)=\"<\",P743,P743+1)),P743)","v":1}]
[{"$f":"IF('XML a procesar'!A744>0,'XML a procesar'!A744,\"\")","v":""},0,0,0,0,"",0,0,0,"","",0,"",0,"",{"$f":"IF(ROW()<$S$4+2,IF('XML a procesar'!A744=\"\",P744,IF(MID('XML a procesar'!A744,1,1)=\"<\",P744,P744+1)),P744)","v":1}]
[{"$f":"IF('XML a procesar'!A745>0,'XML a procesar'!A745,\"\")","v":""},0,0,0,0,"",0,0,0,"","",0,"",0,"",{"$f":"IF(ROW()<$S$4+2,IF('XML a procesar'!A745=\"\",P745,IF(MID('XML a procesar'!A745,1,1)=\"<\",P745,P745+1)),P745)","v":1}]
[{"$f":"IF('XML a procesar'!A746>0,'XML a procesar'!A746,\"\")","v":""},0,0,0,0,"",0,0,0,"","",0,"",0,"",{"$f":"IF(ROW()<$S$4+2,IF('XML a procesar'!A746=\"\",P746,IF(MID('XML a procesar'!A746,1,1)=\"<\",P746,P746+1)),P746)","v":1}]
[{"$f":"IF('XML a procesar'!A747>0,'XML a procesar'!A747,\"\")","v":""},0,0,0,0,"",0,0,0,"","",0,"",0,"",{"$f":"IF(ROW()<$S$4+2,IF('XML a procesar'!A747=\"\",P747,IF(MID('XML a procesar'!A747,1,1)=\"<\",P747,P747+1)),P747)","v":1}]
[{"$f":"IF('XML a procesar'!A748>0,'XML a procesar'!A748,\"\")","v":""},0,0,0,0,"",0,0,0,"","",0,"",0,"",{"$f":"IF(ROW()<$S$4+2,IF('XML a procesar'!A748=\"\",P748,IF(MID('XML a procesar'!A748,1,1)=\"<\",P748,P748+1)),P748)","v":1}]
[{"$f":"IF('XML a procesar'!A749>0,'XML a procesar'!A749,\"\")","v":""},0,0,0,0,"",0,0,0,"","",0,"",0,"",{"$f":"IF(ROW()<$S$4+2,IF('XML a procesar'!A749=\"\",P749,IF(MID('XML a procesar'!A749,1,1)=\"<\",P749,P749+1)),P749)","v":1}]
[{"$f":"IF('XML a procesar'!A750>0,'XML a procesar'!A750,\"\")","v":""},0,0,0,0,"",0,0,0,"","",0,"",0,"",{"$f":"IF(ROW()<$S$4+2,IF('XML a procesar'!A750=\"\",P750,IF(MID('XML a procesar'!A750,1,1)=\"<\",P750,P750+1)),P750)","v":1}]
[{"$f":"IF('XML a procesar'!A751>0,'XML a procesar'!A751,\"\")","v":""},0,0,0,0,"",0,0,0,"","",0,"",0,"",{"$f":"IF(ROW()<$S$4+2,IF('XML a procesar'!A751=\"\",P751,IF(MID('XML a procesar'!A751,1,1)=\"<\",P751,P751+1)),P751)","v":1}]
[{"$f":"IF('XML a procesar'!A752>0,'XML a procesar'!A752,\"\")","v":""},0,0,0,0,"",0,0,0,"","",0,"",0,"",{"$f":"IF(ROW()<$S$4+2,IF('XML a procesar'!A752=\"\",P752,IF(MID('XML a procesar'!A752,1,1)=\"<\",P752,P752+1)),P752)","v":1}]
[{"$f":"IF('XML a procesar'!A753>0,'XML a procesar'!A753,\"\")","v":""},0,0,0,0,"",0,0,0,"","",0,"",0,"",{"$f":"IF(ROW()<$S$4+2,IF('XML a procesar'!A753=\"\",P753,IF(MID('XML a procesar'!A753,1,1)=\"<\",P753,P753+1)),P753)","v":1}]
[{"$f":"IF('XML a procesar'!A754>0,'XML a procesar'!A754,\"\")","v":""},0,0,0,0,"",0,0,0,"","",0,"",0,"",{"$f":"IF(ROW()<$S$4+2,IF('XML a procesar'!A754=\"\",P754,IF(MID('XML a procesar'!A754,1,1)=\"<\",P754,P754+1)),P754)","v":1}]
[{"$f":"IF('XML a procesar'!A755>0,'XML a procesar'!A755,\"\")","v":""},0,0,0,0,"",0,0,0,"","",0,"",0,"",{"$f":"IF(ROW()<$S$4+2,IF('XML a procesar'!A755=\"\",P755,IF(MID('XML a procesar'!A755,1,1)=\"<\",P755,P755+1)),P755)","v":1}]
[{"$f":"IF('XML a procesar'!A756>0,'XML a procesar'!A756,\"\")","v":""},0,0,0,0,"",0,0,0,"","",0,"",0,"",{"$f":"IF(ROW()<$S$4+2,IF('XML a procesar'!A756=\"\",P756,IF(MID('XML a procesar'!A756,1,1)=\"<\",P756,P756+1)),P756)","v":1}]
[{"$f":"IF('XML a procesar'!A757>0,'XML a procesar'!A757,\"\")","v":""},0,0,0,0,"",0,0,0,"","",0,"",0,"",{"$f":"IF(ROW()<$S$4+2,IF('XML a procesar'!A757=\"\",P757,IF(MID('XML a procesar'!A757,1,1)=\"<\",P757,P757+1)),P757)","v":1}]
[{"$f":"IF('XML a procesar'!A758>0,'XML a procesar'!A758,\"\")","v":""},0,0,0,0,"",0,0,0,"","",0,"",0,"",{"$f":"IF(ROW()<$S$4+2,IF('XML a procesar'!A758=\"\",P758,IF(MID('XML a procesar'!A758,1,1)=\"<\",P758,P758+1)),P758)","v":1}]
[{"$f":"IF('XML a procesar'!A759>0,'XML a procesar'!A759,\"\")","v":""},0,0,0,0,"",0,0,0,"","",0,"",0,"",{"$f":"IF(ROW()<$S$4+2,IF('XML a procesar'!A759=\"\",P759,IF(MID('XML a procesar'!A759,1,1)=\"<\",P759,P759+1)),P759)","v":1}]
[{"$f":"IF('XML a procesar'!A760>0,'XML a procesar'!A760,\"\")","v":""},0,0,0,0,"",0,0,0,"","",0,"",0,"",{"$f":"IF(ROW()<$S$4+2,IF('XML a procesar'!A760=\"\",P760,IF(MID('XML a procesar'!A760,1,1)=\"<\",P760,P760+1)),P760)","v":1}]
[{"$f":"IF('XML a procesar'!A761>0,'XML a procesar'!A761,\"\")","v":""},0,0,0,0,"",0,0,0,"","",0,"",0,"",{"$f":"IF(ROW()<$S$4+2,IF('XML a procesar'!A761=\"\",P761,IF(MID('XML a procesar'!A761,1,1)=\"<\",P761,P761+1)),P761)","v":1}]
[{"$f":"IF('XML a procesar'!A762>0,'XML a procesar'!A762,\"\")","v":""},0,0,0,0,"",0,0,0,"","",0,"",0,"",{"$f":"IF(ROW()<$S$4+2,IF('XML a procesar'!A762=\"\",P762,IF(MID('XML a procesar'!A762,1,1)=\"<\",P762,P762+1)),P762)","v":1}]
[{"$f":"IF('XML a procesar'!A763>0,'XML a procesar'!A763,\"\")","v":""},0,0,0,0,"",0,0,0,"","",0,"",0,"",{"$f":"IF(ROW()<$S$4+2,IF('XML a procesar'!A763=\"\",P763,IF(MID('XML a procesar'!A763,1,1)=\"<\",P763,P763+1)),P763)","v":1}]
[{"$f":"IF('XML a procesar'!A764>0,'XML a procesar'!A764,\"\")","v":""},0,0,0,0,"",0,0,0,"","",0,"",0,"",{"$f":"IF(ROW()<$S$4+2,IF('XML a procesar'!A764=\"\",P764,IF(MID('XML a procesar'!A764,1,1)=\"<\",P764,P764+1)),P764)","v":1}]
[{"$f":"IF('XML a procesar'!A765>0,'XML a procesar'!A765,\"\")","v":""},0,0,0,0,"",0,0,0,"","",0,"",0,"",{"$f":"IF(ROW()<$S$4+2,IF('XML a procesar'!A765=\"\",P765,IF(MID('XML a procesar'!A765,1,1)=\"<\",P765,P765+1)),P765)","v":1}]
[{"$f":"IF('XML a procesar'!A766>0,'XML a procesar'!A766,\"\")","v":""},0,0,0,0,"",0,0,0,"","",0,"",0,"",{"$f":"IF(ROW()<$S$4+2,IF('XML a procesar'!A766=\"\",P766,IF(MID('XML a procesar'!A766,1,1)=\"<\",P766,P766+1)),P766)","v":1}]
[{"$f":"IF('XML a procesar'!A767>0,'XML a procesar'!A767,\"\")","v":""},0,0,0,0,"",0,0,0,"","",0,"",0,"",{"$f":"IF(ROW()<$S$4+2,IF('XML a procesar'!A767=\"\",P767,IF(MID('XML a procesar'!A767,1,1)=\"<\",P767,P767+1)),P767)","v":1}]
[{"$f":"IF('XML a procesar'!A768>0,'XML a procesar'!A768,\"\")","v":""},0,0,0,0,"",0,0,0,"","",0,"",0,"",{"$f":"IF(ROW()<$S$4+2,IF('XML a procesar'!A768=\"\",P768,IF(MID('XML a procesar'!A768,1,1)=\"<\",P768,P768+1)),P768)","v":1}]
[{"$f":"IF('XML a procesar'!A769>0,'XML a procesar'!A769,\"\")","v":""},0,0,0,0,"",0,0,0,"","",0,"",0,{"$f":"IF(N770>-1,INDIRECT(ADDRESS(ROW(),13)),IF(N770<N769,CONCATENATE(\"<page-count count=\",CHAR(34),1+LARGE(N:N,1)-LARGE(N:N,2),CHAR(34),\"/>\"),INDIRECT(ADDRESS(ROW()-1,13))))","v":""},{"$f":"IF(ROW()<$S$4+2,IF('XML a procesar'!A769=\"\",P769,IF(MID('XML a procesar'!A769,1,1)=\"<\",P769,P769+1)),P769)","v":1}]
[{"$f":"IF('XML a procesar'!A770>0,'XML a procesar'!A770,\"\")","v":""},{"$f":"IF(ISERROR(FIND(\"/doi.org/\",A771,1)),0,1)","v":0},0,{"$f":"IF(AND(C771>0,LEFT(A771,7)=\"<email>\",ISNUMBER(SEARCH(\"@\",A771,1))),C771,IF(LEFT(A771,10)=\"<alt-text>\",-1,0))","v":0},0,{"$f":"INDIRECT(ADDRESS(ROW()+INDIRECT(ADDRESS(ROW()+E771,5)),1))","v":""},0,{"$f":"IF(AND(G770>0,G771>G770,NOT(ISERROR(MATCH(G770,D:D,0)))),H770+1,H770)","v":0},0,"",{"$f":"IF(J771=\"Linea_para_MAIL_creada_por_LuXML\",IF(ISERROR(MATCH(INDIRECT(ADDRESS(ROW()-G771,7)),D:D,0)),J771,INDIRECT(ADDRESS(MATCH(INDIRECT(ADDRESS(ROW()-G771,7)),D:D,0),1))),J771)","v":""},0,"",0,"",{"$f":"IF(ROW()<$S$4+2,IF('XML a procesar'!A770=\"\",P770,IF(MID('XML a procesar'!A770,1,1)=\"<\",P770,P770+1)),P770)","v":1}]
[{"$f":"IF('XML a procesar'!A771>0,'XML a procesar'!A771,\"\")","v":""},0,{"$f":"IF(LEFT(A771,16)=\"<contrib contrib\",C771+1,IF(LEFT(A771,16)=\"</contrib-group>\",0,IF(LEFT(A771,10)=\"</contrib>\",C771,C771)))","v":0},0,{"$f":"IF(D772=0,E771,E771+1)","v":0},"",{"$f":"IF(LEFT(F772,7)=\"<aff id\",_xlfn.NUMBERVALUE(MID(F772,13,LEN(F772)-14)),IF(F772=\"</aff>\",G771+1,G771))","v":0},0,{"$f":"INDIRECT(ADDRESS(ROW()-INDIRECT(ADDRESS(ROW()-H772,8)),8))","v":0},{"$f":"IF(J771=\"Linea_para_MAIL_creada_por_LuXML\",\"</aff>\",IF(I772>INDIRECT(ADDRESS(ROW()-I772-1,8)),\"Linea_para_MAIL_creada_por_LuXML\",INDIRECT(ADDRESS(ROW()-I772,6))))","v":""},"",{"$f":"IF(OR(MID(K770,3,5)=\"page>\",MID(K771,3,5)=\"page>\"),L771,IF(OR(K771=\"<history>\",K772=\"<history>\"),L771+1,L771))","v":0},"",{"$f":"IF(N771=-1,-1,IF(M772=\"</counts>\",-1,IF(OR(LEFT(M772,7)=\"<fpage>\",LEFT(M772,7)=\"<lpage>\"),VALUE(MID(M772,8,LEN(M772)-15)),0)))","v":0},"",{"$f":"IF(ROW()<$S$4+2,IF('XML a procesar'!A771=\"\",P771,IF(MID('XML a procesar'!A771,1,1)=\"<\",P771,P771+1)),P771)","v":1}]
[{"$f":"IF('XML a procesar'!A772>0,'XML a procesar'!A772,\"\")","v":""},0,0,0,0,"",0,0,0,"","",0,"",0,"",{"$f":"IF(ROW()<$S$4+2,IF('XML a procesar'!A772=\"\",P772,IF(MID('XML a procesar'!A772,1,1)=\"<\",P772,P772+1)),P772)","v":1}]
[{"$f":"IF('XML a procesar'!A773>0,'XML a procesar'!A773,\"\")","v":""},0,0,0,0,"",0,0,0,"","",0,{"$f":"IF(L774>L773,IF(L774=1,CONCATENATE(\"<fpage>\",$S$10,\"</fpage>\"),CONCATENATE(\"<lpage>\",$S$10+1,\"</lpage>\")),IF(ISERROR(INDIRECT(ADDRESS(ROW()-L774,11),1)),\"\",INDIRECT(ADDRESS(ROW()-L774,11),1)))","v":""},0,"",{"$f":"IF(ROW()<$S$4+2,IF('XML a procesar'!A773=\"\",P773,IF(MID('XML a procesar'!A773,1,1)=\"<\",P773,P773+1)),P773)","v":1}]
[{"$f":"IF('XML a procesar'!A774>0,'XML a procesar'!A774,\"\")","v":""},0,0,0,0,"",0,0,0,"","",0,"",0,"",{"$f":"IF(ROW()<$S$4+2,IF('XML a procesar'!A774=\"\",P774,IF(MID('XML a procesar'!A774,1,1)=\"<\",P774,P774+1)),P774)","v":1}]
[{"$f":"IF('XML a procesar'!A775>0,'XML a procesar'!A775,\"\")","v":""},0,0,0,0,"",0,0,0,"","",0,"",0,"",{"$f":"IF(ROW()<$S$4+2,IF('XML a procesar'!A775=\"\",P775,IF(MID('XML a procesar'!A775,1,1)=\"<\",P775,P775+1)),P775)","v":1}]
[{"$f":"IF('XML a procesar'!A776>0,'XML a procesar'!A776,\"\")","v":""},0,0,0,0,"",0,0,0,"","",0,"",0,"",{"$f":"IF(ROW()<$S$4+2,IF('XML a procesar'!A776=\"\",P776,IF(MID('XML a procesar'!A776,1,1)=\"<\",P776,P776+1)),P776)","v":1}]
[{"$f":"IF('XML a procesar'!A777>0,'XML a procesar'!A777,\"\")","v":""},0,0,0,0,"",0,0,0,"","",0,"",0,"",{"$f":"IF(ROW()<$S$4+2,IF('XML a procesar'!A777=\"\",P777,IF(MID('XML a procesar'!A777,1,1)=\"<\",P777,P777+1)),P777)","v":1}]
[{"$f":"IF('XML a procesar'!A778>0,'XML a procesar'!A778,\"\")","v":""},0,0,0,0,"",0,0,0,"","",0,"",0,"",{"$f":"IF(ROW()<$S$4+2,IF('XML a procesar'!A778=\"\",P778,IF(MID('XML a procesar'!A778,1,1)=\"<\",P778,P778+1)),P778)","v":1}]
[{"$f":"IF('XML a procesar'!A779>0,'XML a procesar'!A779,\"\")","v":""},0,0,0,0,"",0,0,0,"","",0,"",0,"",{"$f":"IF(ROW()<$S$4+2,IF('XML a procesar'!A779=\"\",P779,IF(MID('XML a procesar'!A779,1,1)=\"<\",P779,P779+1)),P779)","v":1}]
[{"$f":"IF('XML a procesar'!A780>0,'XML a procesar'!A780,\"\")","v":""},0,0,0,0,"",0,0,0,"","",0,"",0,"",{"$f":"IF(ROW()<$S$4+2,IF('XML a procesar'!A780=\"\",P780,IF(MID('XML a procesar'!A780,1,1)=\"<\",P780,P780+1)),P780)","v":1}]
[{"$f":"IF('XML a procesar'!A781>0,'XML a procesar'!A781,\"\")","v":""},0,0,0,0,"",0,0,0,"","",0,"",0,"",{"$f":"IF(ROW()<$S$4+2,IF('XML a procesar'!A781=\"\",P781,IF(MID('XML a procesar'!A781,1,1)=\"<\",P781,P781+1)),P781)","v":1}]
[{"$f":"IF('XML a procesar'!A782>0,'XML a procesar'!A782,\"\")","v":""},0,0,0,0,"",0,0,0,"","",0,"",0,"",{"$f":"IF(ROW()<$S$4+2,IF('XML a procesar'!A782=\"\",P782,IF(MID('XML a procesar'!A782,1,1)=\"<\",P782,P782+1)),P782)","v":1}]
[{"$f":"IF('XML a procesar'!A783>0,'XML a procesar'!A783,\"\")","v":""},0,0,0,0,"",0,0,0,"","",0,"",0,"",{"$f":"IF(ROW()<$S$4+2,IF('XML a procesar'!A783=\"\",P783,IF(MID('XML a procesar'!A783,1,1)=\"<\",P783,P783+1)),P783)","v":1}]
[{"$f":"IF('XML a procesar'!A784>0,'XML a procesar'!A784,\"\")","v":""},0,0,0,0,"",0,0,0,"","",0,"",0,"",{"$f":"IF(ROW()<$S$4+2,IF('XML a procesar'!A784=\"\",P784,IF(MID('XML a procesar'!A784,1,1)=\"<\",P784,P784+1)),P784)","v":1}]
[{"$f":"IF('XML a procesar'!A785>0,'XML a procesar'!A785,\"\")","v":""},0,0,0,0,"",0,0,0,"","",0,"",0,"",{"$f":"IF(ROW()<$S$4+2,IF('XML a procesar'!A785=\"\",P785,IF(MID('XML a procesar'!A785,1,1)=\"<\",P785,P785+1)),P785)","v":1}]
[{"$f":"IF('XML a procesar'!A786>0,'XML a procesar'!A786,\"\")","v":""},0,0,0,0,"",0,0,0,"","",0,"",0,"",{"$f":"IF(ROW()<$S$4+2,IF('XML a procesar'!A786=\"\",P786,IF(MID('XML a procesar'!A786,1,1)=\"<\",P786,P786+1)),P786)","v":1}]
[{"$f":"IF('XML a procesar'!A787>0,'XML a procesar'!A787,\"\")","v":""},0,0,0,0,"",0,0,0,"","",0,"",0,"",{"$f":"IF(ROW()<$S$4+2,IF('XML a procesar'!A787=\"\",P787,IF(MID('XML a procesar'!A787,1,1)=\"<\",P787,P787+1)),P787)","v":1}]
[{"$f":"IF('XML a procesar'!A788>0,'XML a procesar'!A788,\"\")","v":""},0,0,0,0,"",0,0,0,"","",0,"",0,"",{"$f":"IF(ROW()<$S$4+2,IF('XML a procesar'!A788=\"\",P788,IF(MID('XML a procesar'!A788,1,1)=\"<\",P788,P788+1)),P788)","v":1}]
[{"$f":"IF('XML a procesar'!A789>0,'XML a procesar'!A789,\"\")","v":""},0,0,0,0,"",0,0,0,"","",0,"",0,"",{"$f":"IF(ROW()<$S$4+2,IF('XML a procesar'!A789=\"\",P789,IF(MID('XML a procesar'!A789,1,1)=\"<\",P789,P789+1)),P789)","v":1}]
[{"$f":"IF('XML a procesar'!A790>0,'XML a procesar'!A790,\"\")","v":""},0,0,0,0,"",0,0,0,"","",0,"",0,"",{"$f":"IF(ROW()<$S$4+2,IF('XML a procesar'!A790=\"\",P790,IF(MID('XML a procesar'!A790,1,1)=\"<\",P790,P790+1)),P790)","v":1}]
[{"$f":"IF('XML a procesar'!A791>0,'XML a procesar'!A791,\"\")","v":""},0,0,0,0,"",0,0,0,"","",0,"",0,"",{"$f":"IF(ROW()<$S$4+2,IF('XML a procesar'!A791=\"\",P791,IF(MID('XML a procesar'!A791,1,1)=\"<\",P791,P791+1)),P791)","v":1}]
[{"$f":"IF('XML a procesar'!A792>0,'XML a procesar'!A792,\"\")","v":""},0,0,0,0,"",0,0,0,"","",0,"",0,"",{"$f":"IF(ROW()<$S$4+2,IF('XML a procesar'!A792=\"\",P792,IF(MID('XML a procesar'!A792,1,1)=\"<\",P792,P792+1)),P792)","v":1}]
[{"$f":"IF('XML a procesar'!A793>0,'XML a procesar'!A793,\"\")","v":""},0,0,0,0,"",0,0,0,"","",0,"",0,"",{"$f":"IF(ROW()<$S$4+2,IF('XML a procesar'!A793=\"\",P793,IF(MID('XML a procesar'!A793,1,1)=\"<\",P793,P793+1)),P793)","v":1}]
[{"$f":"IF('XML a procesar'!A794>0,'XML a procesar'!A794,\"\")","v":""},0,0,0,0,"",0,0,0,"","",0,"",0,"",{"$f":"IF(ROW()<$S$4+2,IF('XML a procesar'!A794=\"\",P794,IF(MID('XML a procesar'!A794,1,1)=\"<\",P794,P794+1)),P794)","v":1}]
[{"$f":"IF('XML a procesar'!A795>0,'XML a procesar'!A795,\"\")","v":""},0,0,0,0,"",0,0,0,"","",0,"",0,"",{"$f":"IF(ROW()<$S$4+2,IF('XML a procesar'!A795=\"\",P795,IF(MID('XML a procesar'!A795,1,1)=\"<\",P795,P795+1)),P795)","v":1}]
[{"$f":"IF('XML a procesar'!A796>0,'XML a procesar'!A796,\"\")","v":""},0,0,0,0,"",0,0,0,"","",0,"",0,"",{"$f":"IF(ROW()<$S$4+2,IF('XML a procesar'!A796=\"\",P796,IF(MID('XML a procesar'!A796,1,1)=\"<\",P796,P796+1)),P796)","v":1}]
[{"$f":"IF('XML a procesar'!A797>0,'XML a procesar'!A797,\"\")","v":""},0,0,0,0,"",0,0,0,"","",0,"",0,"",{"$f":"IF(ROW()<$S$4+2,IF('XML a procesar'!A797=\"\",P797,IF(MID('XML a procesar'!A797,1,1)=\"<\",P797,P797+1)),P797)","v":1}]
[{"$f":"IF('XML a procesar'!A798>0,'XML a procesar'!A798,\"\")","v":""},0,0,0,0,"",0,0,0,"","",0,"",0,"",{"$f":"IF(ROW()<$S$4+2,IF('XML a procesar'!A798=\"\",P798,IF(MID('XML a procesar'!A798,1,1)=\"<\",P798,P798+1)),P798)","v":1}]
[{"$f":"IF('XML a procesar'!A799>0,'XML a procesar'!A799,\"\")","v":""},0,0,0,0,"",0,0,0,"","",0,"",0,"",{"$f":"IF(ROW()<$S$4+2,IF('XML a procesar'!A799=\"\",P799,IF(MID('XML a procesar'!A799,1,1)=\"<\",P799,P799+1)),P799)","v":1}]
[{"$f":"IF('XML a procesar'!A800>0,'XML a procesar'!A800,\"\")","v":""},0,0,0,0,"",0,0,0,"","",0,"",0,"",{"$f":"IF(ROW()<$S$4+2,IF('XML a procesar'!A800=\"\",P800,IF(MID('XML a procesar'!A800,1,1)=\"<\",P800,P800+1)),P800)","v":1}]
[{"$f":"IF('XML a procesar'!A801>0,'XML a procesar'!A801,\"\")","v":""},0,0,0,0,"",0,0,0,"","",0,"",0,"",{"$f":"IF(ROW()<$S$4+2,IF('XML a procesar'!A801=\"\",P801,IF(MID('XML a procesar'!A801,1,1)=\"<\",P801,P801+1)),P801)","v":1}]
[{"$f":"IF('XML a procesar'!A802>0,'XML a procesar'!A802,\"\")","v":""},0,0,0,0,"",0,0,0,"","",0,"",0,"",{"$f":"IF(ROW()<$S$4+2,IF('XML a procesar'!A802=\"\",P802,IF(MID('XML a procesar'!A802,1,1)=\"<\",P802,P802+1)),P802)","v":1}]
[{"$f":"IF('XML a procesar'!A803>0,'XML a procesar'!A803,\"\")","v":""},0,0,0,0,"",0,0,0,"","",0,"",0,"",{"$f":"IF(ROW()<$S$4+2,IF('XML a procesar'!A803=\"\",P803,IF(MID('XML a procesar'!A803,1,1)=\"<\",P803,P803+1)),P803)","v":1}]
[{"$f":"IF('XML a procesar'!A804>0,'XML a procesar'!A804,\"\")","v":""},0,0,0,0,"",0,0,0,"","",0,"",0,"",{"$f":"IF(ROW()<$S$4+2,IF('XML a procesar'!A804=\"\",P804,IF(MID('XML a procesar'!A804,1,1)=\"<\",P804,P804+1)),P804)","v":1}]
[{"$f":"IF('XML a procesar'!A805>0,'XML a procesar'!A805,\"\")","v":""},0,0,0,0,"",0,0,0,"","",0,"",0,"",{"$f":"IF(ROW()<$S$4+2,IF('XML a procesar'!A805=\"\",P805,IF(MID('XML a procesar'!A805,1,1)=\"<\",P805,P805+1)),P805)","v":1}]
[{"$f":"IF('XML a procesar'!A806>0,'XML a procesar'!A806,\"\")","v":""},0,0,0,0,"",0,0,0,"","",0,"",0,"",{"$f":"IF(ROW()<$S$4+2,IF('XML a procesar'!A806=\"\",P806,IF(MID('XML a procesar'!A806,1,1)=\"<\",P806,P806+1)),P806)","v":1}]
[{"$f":"IF('XML a procesar'!A807>0,'XML a procesar'!A807,\"\")","v":""},0,0,0,0,"",0,0,0,"","",0,"",0,"",{"$f":"IF(ROW()<$S$4+2,IF('XML a procesar'!A807=\"\",P807,IF(MID('XML a procesar'!A807,1,1)=\"<\",P807,P807+1)),P807)","v":1}]
[{"$f":"IF('XML a procesar'!A808>0,'XML a procesar'!A808,\"\")","v":""},0,0,0,0,"",0,0,0,"","",0,"",0,"",{"$f":"IF(ROW()<$S$4+2,IF('XML a procesar'!A808=\"\",P808,IF(MID('XML a procesar'!A808,1,1)=\"<\",P808,P808+1)),P808)","v":1}]
[{"$f":"IF('XML a procesar'!A809>0,'XML a procesar'!A809,\"\")","v":""},0,0,0,0,"",0,0,0,"","",0,"",0,"",{"$f":"IF(ROW()<$S$4+2,IF('XML a procesar'!A809=\"\",P809,IF(MID('XML a procesar'!A809,1,1)=\"<\",P809,P809+1)),P809)","v":1}]
[{"$f":"IF('XML a procesar'!A810>0,'XML a procesar'!A810,\"\")","v":""},0,0,0,0,"",0,0,0,"","",0,"",0,"",{"$f":"IF(ROW()<$S$4+2,IF('XML a procesar'!A810=\"\",P810,IF(MID('XML a procesar'!A810,1,1)=\"<\",P810,P810+1)),P810)","v":1}]
[{"$f":"IF('XML a procesar'!A811>0,'XML a procesar'!A811,\"\")","v":""},0,0,0,0,"",0,0,0,"","",0,"",0,"",{"$f":"IF(ROW()<$S$4+2,IF('XML a procesar'!A811=\"\",P811,IF(MID('XML a procesar'!A811,1,1)=\"<\",P811,P811+1)),P811)","v":1}]
[{"$f":"IF('XML a procesar'!A812>0,'XML a procesar'!A812,\"\")","v":""},0,0,0,0,"",0,0,0,"","",0,"",0,"",{"$f":"IF(ROW()<$S$4+2,IF('XML a procesar'!A812=\"\",P812,IF(MID('XML a procesar'!A812,1,1)=\"<\",P812,P812+1)),P812)","v":1}]
[{"$f":"IF('XML a procesar'!A813>0,'XML a procesar'!A813,\"\")","v":""},0,0,0,0,"",0,0,0,"","",0,"",0,"",{"$f":"IF(ROW()<$S$4+2,IF('XML a procesar'!A813=\"\",P813,IF(MID('XML a procesar'!A813,1,1)=\"<\",P813,P813+1)),P813)","v":1}]
[{"$f":"IF('XML a procesar'!A814>0,'XML a procesar'!A814,\"\")","v":""},0,0,0,0,"",0,0,0,"","",0,"",0,"",{"$f":"IF(ROW()<$S$4+2,IF('XML a procesar'!A814=\"\",P814,IF(MID('XML a procesar'!A814,1,1)=\"<\",P814,P814+1)),P814)","v":1}]
[{"$f":"IF('XML a procesar'!A815>0,'XML a procesar'!A815,\"\")","v":""},0,0,0,0,"",0,0,0,"","",0,"",0,"",{"$f":"IF(ROW()<$S$4+2,IF('XML a procesar'!A815=\"\",P815,IF(MID('XML a procesar'!A815,1,1)=\"<\",P815,P815+1)),P815)","v":1}]
[{"$f":"IF('XML a procesar'!A816>0,'XML a procesar'!A816,\"\")","v":""},0,0,0,0,"",0,0,0,"","",0,"",0,"",{"$f":"IF(ROW()<$S$4+2,IF('XML a procesar'!A816=\"\",P816,IF(MID('XML a procesar'!A816,1,1)=\"<\",P816,P816+1)),P816)","v":1}]
[{"$f":"IF('XML a procesar'!A817>0,'XML a procesar'!A817,\"\")","v":""},0,0,0,0,"",0,0,0,"","",0,"",0,"",{"$f":"IF(ROW()<$S$4+2,IF('XML a procesar'!A817=\"\",P817,IF(MID('XML a procesar'!A817,1,1)=\"<\",P817,P817+1)),P817)","v":1}]
[{"$f":"IF('XML a procesar'!A818>0,'XML a procesar'!A818,\"\")","v":""},0,0,0,0,"",0,0,0,"","",0,"",0,"",{"$f":"IF(ROW()<$S$4+2,IF('XML a procesar'!A818=\"\",P818,IF(MID('XML a procesar'!A818,1,1)=\"<\",P818,P818+1)),P818)","v":1}]
[{"$f":"IF('XML a procesar'!A819>0,'XML a procesar'!A819,\"\")","v":""},0,0,0,0,"",0,0,0,"","",0,"",0,"",{"$f":"IF(ROW()<$S$4+2,IF('XML a procesar'!A819=\"\",P819,IF(MID('XML a procesar'!A819,1,1)=\"<\",P819,P819+1)),P819)","v":1}]
[{"$f":"IF('XML a procesar'!A820>0,'XML a procesar'!A820,\"\")","v":""},0,0,0,0,"",0,0,0,"","",0,"",0,"",{"$f":"IF(ROW()<$S$4+2,IF('XML a procesar'!A820=\"\",P820,IF(MID('XML a procesar'!A820,1,1)=\"<\",P820,P820+1)),P820)","v":1}]
[{"$f":"IF('XML a procesar'!A821>0,'XML a procesar'!A821,\"\")","v":""},0,0,0,0,"",0,0,0,"","",0,"",0,"",{"$f":"IF(ROW()<$S$4+2,IF('XML a procesar'!A821=\"\",P821,IF(MID('XML a procesar'!A821,1,1)=\"<\",P821,P821+1)),P821)","v":1}]
[{"$f":"IF('XML a procesar'!A822>0,'XML a procesar'!A822,\"\")","v":""},0,0,0,0,"",0,0,0,"","",0,"",0,"",{"$f":"IF(ROW()<$S$4+2,IF('XML a procesar'!A822=\"\",P822,IF(MID('XML a procesar'!A822,1,1)=\"<\",P822,P822+1)),P822)","v":1}]
[{"$f":"IF('XML a procesar'!A823>0,'XML a procesar'!A823,\"\")","v":""},0,0,0,0,"",0,0,0,"","",0,"",0,"",{"$f":"IF(ROW()<$S$4+2,IF('XML a procesar'!A823=\"\",P823,IF(MID('XML a procesar'!A823,1,1)=\"<\",P823,P823+1)),P823)","v":1}]
[{"$f":"IF('XML a procesar'!A824>0,'XML a procesar'!A824,\"\")","v":""},0,0,0,0,"",0,0,0,"","",0,"",0,"",{"$f":"IF(ROW()<$S$4+2,IF('XML a procesar'!A824=\"\",P824,IF(MID('XML a procesar'!A824,1,1)=\"<\",P824,P824+1)),P824)","v":1}]
[{"$f":"IF('XML a procesar'!A825>0,'XML a procesar'!A825,\"\")","v":""},0,0,0,0,"",0,0,0,"","",0,"",0,"",{"$f":"IF(ROW()<$S$4+2,IF('XML a procesar'!A825=\"\",P825,IF(MID('XML a procesar'!A825,1,1)=\"<\",P825,P825+1)),P825)","v":1}]
[{"$f":"IF('XML a procesar'!A826>0,'XML a procesar'!A826,\"\")","v":""},0,0,0,0,"",0,0,0,"","",0,"",0,"",{"$f":"IF(ROW()<$S$4+2,IF('XML a procesar'!A826=\"\",P826,IF(MID('XML a procesar'!A826,1,1)=\"<\",P826,P826+1)),P826)","v":1}]
[{"$f":"IF('XML a procesar'!A827>0,'XML a procesar'!A827,\"\")","v":""},0,0,0,0,"",0,0,0,"","",0,"",0,"",{"$f":"IF(ROW()<$S$4+2,IF('XML a procesar'!A827=\"\",P827,IF(MID('XML a procesar'!A827,1,1)=\"<\",P827,P827+1)),P827)","v":1}]
[{"$f":"IF('XML a procesar'!A828>0,'XML a procesar'!A828,\"\")","v":""},0,0,0,0,"",0,0,0,"","",0,"",0,"",{"$f":"IF(ROW()<$S$4+2,IF('XML a procesar'!A828=\"\",P828,IF(MID('XML a procesar'!A828,1,1)=\"<\",P828,P828+1)),P828)","v":1}]
[{"$f":"IF('XML a procesar'!A829>0,'XML a procesar'!A829,\"\")","v":""},0,0,0,0,"",0,0,0,"","",0,"",0,"",{"$f":"IF(ROW()<$S$4+2,IF('XML a procesar'!A829=\"\",P829,IF(MID('XML a procesar'!A829,1,1)=\"<\",P829,P829+1)),P829)","v":1}]
[{"$f":"IF('XML a procesar'!A830>0,'XML a procesar'!A830,\"\")","v":""},0,0,0,0,"",0,0,0,"","",0,"",0,"",{"$f":"IF(ROW()<$S$4+2,IF('XML a procesar'!A830=\"\",P830,IF(MID('XML a procesar'!A830,1,1)=\"<\",P830,P830+1)),P830)","v":1}]
[{"$f":"IF('XML a procesar'!A831>0,'XML a procesar'!A831,\"\")","v":""},0,0,0,0,"",0,0,0,"","",0,"",0,"",{"$f":"IF(ROW()<$S$4+2,IF('XML a procesar'!A831=\"\",P831,IF(MID('XML a procesar'!A831,1,1)=\"<\",P831,P831+1)),P831)","v":1}]
[{"$f":"IF('XML a procesar'!A832>0,'XML a procesar'!A832,\"\")","v":""},0,0,0,0,"",0,0,0,"","",0,"",0,"",{"$f":"IF(ROW()<$S$4+2,IF('XML a procesar'!A832=\"\",P832,IF(MID('XML a procesar'!A832,1,1)=\"<\",P832,P832+1)),P832)","v":1}]
[{"$f":"IF('XML a procesar'!A833>0,'XML a procesar'!A833,\"\")","v":""},0,0,0,0,"",0,0,0,"","",0,"",0,{"$f":"IF(N834>-1,INDIRECT(ADDRESS(ROW(),13)),IF(N834<N833,CONCATENATE(\"<page-count count=\",CHAR(34),1+LARGE(N:N,1)-LARGE(N:N,2),CHAR(34),\"/>\"),INDIRECT(ADDRESS(ROW()-1,13))))","v":""},{"$f":"IF(ROW()<$S$4+2,IF('XML a procesar'!A833=\"\",P833,IF(MID('XML a procesar'!A833,1,1)=\"<\",P833,P833+1)),P833)","v":1}]
[{"$f":"IF('XML a procesar'!A834>0,'XML a procesar'!A834,\"\")","v":""},{"$f":"IF(ISERROR(FIND(\"/doi.org/\",A835,1)),0,1)","v":0},0,{"$f":"IF(AND(C835>0,LEFT(A835,7)=\"<email>\",ISNUMBER(SEARCH(\"@\",A835,1))),C835,IF(LEFT(A835,10)=\"<alt-text>\",-1,0))","v":0},0,{"$f":"INDIRECT(ADDRESS(ROW()+INDIRECT(ADDRESS(ROW()+E835,5)),1))","v":""},0,{"$f":"IF(AND(G834>0,G835>G834,NOT(ISERROR(MATCH(G834,D:D,0)))),H834+1,H834)","v":0},0,"",{"$f":"IF(J835=\"Linea_para_MAIL_creada_por_LuXML\",IF(ISERROR(MATCH(INDIRECT(ADDRESS(ROW()-G835,7)),D:D,0)),J835,INDIRECT(ADDRESS(MATCH(INDIRECT(ADDRESS(ROW()-G835,7)),D:D,0),1))),J835)","v":""},0,"",0,"",{"$f":"IF(ROW()<$S$4+2,IF('XML a procesar'!A834=\"\",P834,IF(MID('XML a procesar'!A834,1,1)=\"<\",P834,P834+1)),P834)","v":1}]
[{"$f":"IF('XML a procesar'!A835>0,'XML a procesar'!A835,\"\")","v":""},0,{"$f":"IF(LEFT(A835,16)=\"<contrib contrib\",C835+1,IF(LEFT(A835,16)=\"</contrib-group>\",0,IF(LEFT(A835,10)=\"</contrib>\",C835,C835)))","v":0},0,{"$f":"IF(D836=0,E835,E835+1)","v":0},"",{"$f":"IF(LEFT(F836,7)=\"<aff id\",_xlfn.NUMBERVALUE(MID(F836,13,LEN(F836)-14)),IF(F836=\"</aff>\",G835+1,G835))","v":0},0,{"$f":"INDIRECT(ADDRESS(ROW()-INDIRECT(ADDRESS(ROW()-H836,8)),8))","v":0},{"$f":"IF(J835=\"Linea_para_MAIL_creada_por_LuXML\",\"</aff>\",IF(I836>INDIRECT(ADDRESS(ROW()-I836-1,8)),\"Linea_para_MAIL_creada_por_LuXML\",INDIRECT(ADDRESS(ROW()-I836,6))))","v":""},"",{"$f":"IF(OR(MID(K834,3,5)=\"page>\",MID(K835,3,5)=\"page>\"),L835,IF(OR(K835=\"<history>\",K836=\"<history>\"),L835+1,L835))","v":0},"",{"$f":"IF(N835=-1,-1,IF(M836=\"</counts>\",-1,IF(OR(LEFT(M836,7)=\"<fpage>\",LEFT(M836,7)=\"<lpage>\"),VALUE(MID(M836,8,LEN(M836)-15)),0)))","v":0},"",{"$f":"IF(ROW()<$S$4+2,IF('XML a procesar'!A835=\"\",P835,IF(MID('XML a procesar'!A835,1,1)=\"<\",P835,P835+1)),P835)","v":1}]
[{"$f":"IF('XML a procesar'!A836>0,'XML a procesar'!A836,\"\")","v":""},0,0,0,0,"",0,0,0,"","",0,"",0,"",{"$f":"IF(ROW()<$S$4+2,IF('XML a procesar'!A836=\"\",P836,IF(MID('XML a procesar'!A836,1,1)=\"<\",P836,P836+1)),P836)","v":1}]
[{"$f":"IF('XML a procesar'!A837>0,'XML a procesar'!A837,\"\")","v":""},0,0,0,0,"",0,0,0,"","",0,{"$f":"IF(L838>L837,IF(L838=1,CONCATENATE(\"<fpage>\",$S$10,\"</fpage>\"),CONCATENATE(\"<lpage>\",$S$10+1,\"</lpage>\")),IF(ISERROR(INDIRECT(ADDRESS(ROW()-L838,11),1)),\"\",INDIRECT(ADDRESS(ROW()-L838,11),1)))","v":""},0,"",{"$f":"IF(ROW()<$S$4+2,IF('XML a procesar'!A837=\"\",P837,IF(MID('XML a procesar'!A837,1,1)=\"<\",P837,P837+1)),P837)","v":1}]
[{"$f":"IF('XML a procesar'!A838>0,'XML a procesar'!A838,\"\")","v":""},0,0,0,0,"",0,0,0,"","",0,"",0,"",{"$f":"IF(ROW()<$S$4+2,IF('XML a procesar'!A838=\"\",P838,IF(MID('XML a procesar'!A838,1,1)=\"<\",P838,P838+1)),P838)","v":1}]
[{"$f":"IF('XML a procesar'!A839>0,'XML a procesar'!A839,\"\")","v":""},0,0,0,0,"",0,0,0,"","",0,"",0,"",{"$f":"IF(ROW()<$S$4+2,IF('XML a procesar'!A839=\"\",P839,IF(MID('XML a procesar'!A839,1,1)=\"<\",P839,P839+1)),P839)","v":1}]
[{"$f":"IF('XML a procesar'!A840>0,'XML a procesar'!A840,\"\")","v":""},0,0,0,0,"",0,0,0,"","",0,"",0,"",{"$f":"IF(ROW()<$S$4+2,IF('XML a procesar'!A840=\"\",P840,IF(MID('XML a procesar'!A840,1,1)=\"<\",P840,P840+1)),P840)","v":1}]
[{"$f":"IF('XML a procesar'!A841>0,'XML a procesar'!A841,\"\")","v":""},0,0,0,0,"",0,0,0,"","",0,"",0,"",{"$f":"IF(ROW()<$S$4+2,IF('XML a procesar'!A841=\"\",P841,IF(MID('XML a procesar'!A841,1,1)=\"<\",P841,P841+1)),P841)","v":1}]
[{"$f":"IF('XML a procesar'!A842>0,'XML a procesar'!A842,\"\")","v":""},0,0,0,0,"",0,0,0,"","",0,"",0,"",{"$f":"IF(ROW()<$S$4+2,IF('XML a procesar'!A842=\"\",P842,IF(MID('XML a procesar'!A842,1,1)=\"<\",P842,P842+1)),P842)","v":1}]
[{"$f":"IF('XML a procesar'!A843>0,'XML a procesar'!A843,\"\")","v":""},0,0,0,0,"",0,0,0,"","",0,"",0,"",{"$f":"IF(ROW()<$S$4+2,IF('XML a procesar'!A843=\"\",P843,IF(MID('XML a procesar'!A843,1,1)=\"<\",P843,P843+1)),P843)","v":1}]
[{"$f":"IF('XML a procesar'!A844>0,'XML a procesar'!A844,\"\")","v":""},0,0,0,0,"",0,0,0,"","",0,"",0,"",{"$f":"IF(ROW()<$S$4+2,IF('XML a procesar'!A844=\"\",P844,IF(MID('XML a procesar'!A844,1,1)=\"<\",P844,P844+1)),P844)","v":1}]
[{"$f":"IF('XML a procesar'!A845>0,'XML a procesar'!A845,\"\")","v":""},0,0,0,0,"",0,0,0,"","",0,"",0,"",{"$f":"IF(ROW()<$S$4+2,IF('XML a procesar'!A845=\"\",P845,IF(MID('XML a procesar'!A845,1,1)=\"<\",P845,P845+1)),P845)","v":1}]
[{"$f":"IF('XML a procesar'!A846>0,'XML a procesar'!A846,\"\")","v":""},0,0,0,0,"",0,0,0,"","",0,"",0,"",{"$f":"IF(ROW()<$S$4+2,IF('XML a procesar'!A846=\"\",P846,IF(MID('XML a procesar'!A846,1,1)=\"<\",P846,P846+1)),P846)","v":1}]
[{"$f":"IF('XML a procesar'!A847>0,'XML a procesar'!A847,\"\")","v":""},0,0,0,0,"",0,0,0,"","",0,"",0,"",{"$f":"IF(ROW()<$S$4+2,IF('XML a procesar'!A847=\"\",P847,IF(MID('XML a procesar'!A847,1,1)=\"<\",P847,P847+1)),P847)","v":1}]
[{"$f":"IF('XML a procesar'!A848>0,'XML a procesar'!A848,\"\")","v":""},0,0,0,0,"",0,0,0,"","",0,"",0,"",{"$f":"IF(ROW()<$S$4+2,IF('XML a procesar'!A848=\"\",P848,IF(MID('XML a procesar'!A848,1,1)=\"<\",P848,P848+1)),P848)","v":1}]
[{"$f":"IF('XML a procesar'!A849>0,'XML a procesar'!A849,\"\")","v":""},0,0,0,0,"",0,0,0,"","",0,"",0,"",{"$f":"IF(ROW()<$S$4+2,IF('XML a procesar'!A849=\"\",P849,IF(MID('XML a procesar'!A849,1,1)=\"<\",P849,P849+1)),P849)","v":1}]
[{"$f":"IF('XML a procesar'!A850>0,'XML a procesar'!A850,\"\")","v":""},0,0,0,0,"",0,0,0,"","",0,"",0,"",{"$f":"IF(ROW()<$S$4+2,IF('XML a procesar'!A850=\"\",P850,IF(MID('XML a procesar'!A850,1,1)=\"<\",P850,P850+1)),P850)","v":1}]
[{"$f":"IF('XML a procesar'!A851>0,'XML a procesar'!A851,\"\")","v":""},0,0,0,0,"",0,0,0,"","",0,"",0,"",{"$f":"IF(ROW()<$S$4+2,IF('XML a procesar'!A851=\"\",P851,IF(MID('XML a procesar'!A851,1,1)=\"<\",P851,P851+1)),P851)","v":1}]
[{"$f":"IF('XML a procesar'!A852>0,'XML a procesar'!A852,\"\")","v":""},0,0,0,0,"",0,0,0,"","",0,"",0,"",{"$f":"IF(ROW()<$S$4+2,IF('XML a procesar'!A852=\"\",P852,IF(MID('XML a procesar'!A852,1,1)=\"<\",P852,P852+1)),P852)","v":1}]
[{"$f":"IF('XML a procesar'!A853>0,'XML a procesar'!A853,\"\")","v":""},0,0,0,0,"",0,0,0,"","",0,"",0,"",{"$f":"IF(ROW()<$S$4+2,IF('XML a procesar'!A853=\"\",P853,IF(MID('XML a procesar'!A853,1,1)=\"<\",P853,P853+1)),P853)","v":1}]
[{"$f":"IF('XML a procesar'!A854>0,'XML a procesar'!A854,\"\")","v":""},0,0,0,0,"",0,0,0,"","",0,"",0,"",{"$f":"IF(ROW()<$S$4+2,IF('XML a procesar'!A854=\"\",P854,IF(MID('XML a procesar'!A854,1,1)=\"<\",P854,P854+1)),P854)","v":1}]
[{"$f":"IF('XML a procesar'!A855>0,'XML a procesar'!A855,\"\")","v":""},0,0,0,0,"",0,0,0,"","",0,"",0,"",{"$f":"IF(ROW()<$S$4+2,IF('XML a procesar'!A855=\"\",P855,IF(MID('XML a procesar'!A855,1,1)=\"<\",P855,P855+1)),P855)","v":1}]
[{"$f":"IF('XML a procesar'!A856>0,'XML a procesar'!A856,\"\")","v":""},0,0,0,0,"",0,0,0,"","",0,"",0,"",{"$f":"IF(ROW()<$S$4+2,IF('XML a procesar'!A856=\"\",P856,IF(MID('XML a procesar'!A856,1,1)=\"<\",P856,P856+1)),P856)","v":1}]
[{"$f":"IF('XML a procesar'!A857>0,'XML a procesar'!A857,\"\")","v":""},0,0,0,0,"",0,0,0,"","",0,"",0,"",{"$f":"IF(ROW()<$S$4+2,IF('XML a procesar'!A857=\"\",P857,IF(MID('XML a procesar'!A857,1,1)=\"<\",P857,P857+1)),P857)","v":1}]
[{"$f":"IF('XML a procesar'!A858>0,'XML a procesar'!A858,\"\")","v":""},0,0,0,0,"",0,0,0,"","",0,"",0,"",{"$f":"IF(ROW()<$S$4+2,IF('XML a procesar'!A858=\"\",P858,IF(MID('XML a procesar'!A858,1,1)=\"<\",P858,P858+1)),P858)","v":1}]
[{"$f":"IF('XML a procesar'!A859>0,'XML a procesar'!A859,\"\")","v":""},0,0,0,0,"",0,0,0,"","",0,"",0,"",{"$f":"IF(ROW()<$S$4+2,IF('XML a procesar'!A859=\"\",P859,IF(MID('XML a procesar'!A859,1,1)=\"<\",P859,P859+1)),P859)","v":1}]
[{"$f":"IF('XML a procesar'!A860>0,'XML a procesar'!A860,\"\")","v":""},0,0,0,0,"",0,0,0,"","",0,"",0,"",{"$f":"IF(ROW()<$S$4+2,IF('XML a procesar'!A860=\"\",P860,IF(MID('XML a procesar'!A860,1,1)=\"<\",P860,P860+1)),P860)","v":1}]
[{"$f":"IF('XML a procesar'!A861>0,'XML a procesar'!A861,\"\")","v":""},0,0,0,0,"",0,0,0,"","",0,"",0,"",{"$f":"IF(ROW()<$S$4+2,IF('XML a procesar'!A861=\"\",P861,IF(MID('XML a procesar'!A861,1,1)=\"<\",P861,P861+1)),P861)","v":1}]
[{"$f":"IF('XML a procesar'!A862>0,'XML a procesar'!A862,\"\")","v":""},0,0,0,0,"",0,0,0,"","",0,"",0,"",{"$f":"IF(ROW()<$S$4+2,IF('XML a procesar'!A862=\"\",P862,IF(MID('XML a procesar'!A862,1,1)=\"<\",P862,P862+1)),P862)","v":1}]
[{"$f":"IF('XML a procesar'!A863>0,'XML a procesar'!A863,\"\")","v":""},0,0,0,0,"",0,0,0,"","",0,"",0,"",{"$f":"IF(ROW()<$S$4+2,IF('XML a procesar'!A863=\"\",P863,IF(MID('XML a procesar'!A863,1,1)=\"<\",P863,P863+1)),P863)","v":1}]
[{"$f":"IF('XML a procesar'!A864>0,'XML a procesar'!A864,\"\")","v":""},0,0,0,0,"",0,0,0,"","",0,"",0,"",{"$f":"IF(ROW()<$S$4+2,IF('XML a procesar'!A864=\"\",P864,IF(MID('XML a procesar'!A864,1,1)=\"<\",P864,P864+1)),P864)","v":1}]
[{"$f":"IF('XML a procesar'!A865>0,'XML a procesar'!A865,\"\")","v":""},0,0,0,0,"",0,0,0,"","",0,"",0,"",{"$f":"IF(ROW()<$S$4+2,IF('XML a procesar'!A865=\"\",P865,IF(MID('XML a procesar'!A865,1,1)=\"<\",P865,P865+1)),P865)","v":1}]
[{"$f":"IF('XML a procesar'!A866>0,'XML a procesar'!A866,\"\")","v":""},0,0,0,0,"",0,0,0,"","",0,"",0,"",{"$f":"IF(ROW()<$S$4+2,IF('XML a procesar'!A866=\"\",P866,IF(MID('XML a procesar'!A866,1,1)=\"<\",P866,P866+1)),P866)","v":1}]
[{"$f":"IF('XML a procesar'!A867>0,'XML a procesar'!A867,\"\")","v":""},0,0,0,0,"",0,0,0,"","",0,"",0,"",{"$f":"IF(ROW()<$S$4+2,IF('XML a procesar'!A867=\"\",P867,IF(MID('XML a procesar'!A867,1,1)=\"<\",P867,P867+1)),P867)","v":1}]
[{"$f":"IF('XML a procesar'!A868>0,'XML a procesar'!A868,\"\")","v":""},0,0,0,0,"",0,0,0,"","",0,"",0,"",{"$f":"IF(ROW()<$S$4+2,IF('XML a procesar'!A868=\"\",P868,IF(MID('XML a procesar'!A868,1,1)=\"<\",P868,P868+1)),P868)","v":1}]
[{"$f":"IF('XML a procesar'!A869>0,'XML a procesar'!A869,\"\")","v":""},0,0,0,0,"",0,0,0,"","",0,"",0,"",{"$f":"IF(ROW()<$S$4+2,IF('XML a procesar'!A869=\"\",P869,IF(MID('XML a procesar'!A869,1,1)=\"<\",P869,P869+1)),P869)","v":1}]
[{"$f":"IF('XML a procesar'!A870>0,'XML a procesar'!A870,\"\")","v":""},0,0,0,0,"",0,0,0,"","",0,"",0,"",{"$f":"IF(ROW()<$S$4+2,IF('XML a procesar'!A870=\"\",P870,IF(MID('XML a procesar'!A870,1,1)=\"<\",P870,P870+1)),P870)","v":1}]
[{"$f":"IF('XML a procesar'!A871>0,'XML a procesar'!A871,\"\")","v":""},0,0,0,0,"",0,0,0,"","",0,"",0,"",{"$f":"IF(ROW()<$S$4+2,IF('XML a procesar'!A871=\"\",P871,IF(MID('XML a procesar'!A871,1,1)=\"<\",P871,P871+1)),P871)","v":1}]
[{"$f":"IF('XML a procesar'!A872>0,'XML a procesar'!A872,\"\")","v":""},0,0,0,0,"",0,0,0,"","",0,"",0,"",{"$f":"IF(ROW()<$S$4+2,IF('XML a procesar'!A872=\"\",P872,IF(MID('XML a procesar'!A872,1,1)=\"<\",P872,P872+1)),P872)","v":1}]
[{"$f":"IF('XML a procesar'!A873>0,'XML a procesar'!A873,\"\")","v":""},0,0,0,0,"",0,0,0,"","",0,"",0,"",{"$f":"IF(ROW()<$S$4+2,IF('XML a procesar'!A873=\"\",P873,IF(MID('XML a procesar'!A873,1,1)=\"<\",P873,P873+1)),P873)","v":1}]
[{"$f":"IF('XML a procesar'!A874>0,'XML a procesar'!A874,\"\")","v":""},0,0,0,0,"",0,0,0,"","",0,"",0,"",{"$f":"IF(ROW()<$S$4+2,IF('XML a procesar'!A874=\"\",P874,IF(MID('XML a procesar'!A874,1,1)=\"<\",P874,P874+1)),P874)","v":1}]
[{"$f":"IF('XML a procesar'!A875>0,'XML a procesar'!A875,\"\")","v":""},0,0,0,0,"",0,0,0,"","",0,"",0,"",{"$f":"IF(ROW()<$S$4+2,IF('XML a procesar'!A875=\"\",P875,IF(MID('XML a procesar'!A875,1,1)=\"<\",P875,P875+1)),P875)","v":1}]
[{"$f":"IF('XML a procesar'!A876>0,'XML a procesar'!A876,\"\")","v":""},0,0,0,0,"",0,0,0,"","",0,"",0,"",{"$f":"IF(ROW()<$S$4+2,IF('XML a procesar'!A876=\"\",P876,IF(MID('XML a procesar'!A876,1,1)=\"<\",P876,P876+1)),P876)","v":1}]
[{"$f":"IF('XML a procesar'!A877>0,'XML a procesar'!A877,\"\")","v":""},0,0,0,0,"",0,0,0,"","",0,"",0,"",{"$f":"IF(ROW()<$S$4+2,IF('XML a procesar'!A877=\"\",P877,IF(MID('XML a procesar'!A877,1,1)=\"<\",P877,P877+1)),P877)","v":1}]
[{"$f":"IF('XML a procesar'!A878>0,'XML a procesar'!A878,\"\")","v":""},0,0,0,0,"",0,0,0,"","",0,"",0,"",{"$f":"IF(ROW()<$S$4+2,IF('XML a procesar'!A878=\"\",P878,IF(MID('XML a procesar'!A878,1,1)=\"<\",P878,P878+1)),P878)","v":1}]
[{"$f":"IF('XML a procesar'!A879>0,'XML a procesar'!A879,\"\")","v":""},0,0,0,0,"",0,0,0,"","",0,"",0,"",{"$f":"IF(ROW()<$S$4+2,IF('XML a procesar'!A879=\"\",P879,IF(MID('XML a procesar'!A879,1,1)=\"<\",P879,P879+1)),P879)","v":1}]
[{"$f":"IF('XML a procesar'!A880>0,'XML a procesar'!A880,\"\")","v":""},0,0,0,0,"",0,0,0,"","",0,"",0,"",{"$f":"IF(ROW()<$S$4+2,IF('XML a procesar'!A880=\"\",P880,IF(MID('XML a procesar'!A880,1,1)=\"<\",P880,P880+1)),P880)","v":1}]
[{"$f":"IF('XML a procesar'!A881>0,'XML a procesar'!A881,\"\")","v":""},0,0,0,0,"",0,0,0,"","",0,"",0,"",{"$f":"IF(ROW()<$S$4+2,IF('XML a procesar'!A881=\"\",P881,IF(MID('XML a procesar'!A881,1,1)=\"<\",P881,P881+1)),P881)","v":1}]
[{"$f":"IF('XML a procesar'!A882>0,'XML a procesar'!A882,\"\")","v":""},0,0,0,0,"",0,0,0,"","",0,"",0,"",{"$f":"IF(ROW()<$S$4+2,IF('XML a procesar'!A882=\"\",P882,IF(MID('XML a procesar'!A882,1,1)=\"<\",P882,P882+1)),P882)","v":1}]
[{"$f":"IF('XML a procesar'!A883>0,'XML a procesar'!A883,\"\")","v":""},0,0,0,0,"",0,0,0,"","",0,"",0,"",{"$f":"IF(ROW()<$S$4+2,IF('XML a procesar'!A883=\"\",P883,IF(MID('XML a procesar'!A883,1,1)=\"<\",P883,P883+1)),P883)","v":1}]
[{"$f":"IF('XML a procesar'!A884>0,'XML a procesar'!A884,\"\")","v":""},0,0,0,0,"",0,0,0,"","",0,"",0,"",{"$f":"IF(ROW()<$S$4+2,IF('XML a procesar'!A884=\"\",P884,IF(MID('XML a procesar'!A884,1,1)=\"<\",P884,P884+1)),P884)","v":1}]
[{"$f":"IF('XML a procesar'!A885>0,'XML a procesar'!A885,\"\")","v":""},0,0,0,0,"",0,0,0,"","",0,"",0,"",{"$f":"IF(ROW()<$S$4+2,IF('XML a procesar'!A885=\"\",P885,IF(MID('XML a procesar'!A885,1,1)=\"<\",P885,P885+1)),P885)","v":1}]
[{"$f":"IF('XML a procesar'!A886>0,'XML a procesar'!A886,\"\")","v":""},0,0,0,0,"",0,0,0,"","",0,"",0,"",{"$f":"IF(ROW()<$S$4+2,IF('XML a procesar'!A886=\"\",P886,IF(MID('XML a procesar'!A886,1,1)=\"<\",P886,P886+1)),P886)","v":1}]
[{"$f":"IF('XML a procesar'!A887>0,'XML a procesar'!A887,\"\")","v":""},0,0,0,0,"",0,0,0,"","",0,"",0,"",{"$f":"IF(ROW()<$S$4+2,IF('XML a procesar'!A887=\"\",P887,IF(MID('XML a procesar'!A887,1,1)=\"<\",P887,P887+1)),P887)","v":1}]
[{"$f":"IF('XML a procesar'!A888>0,'XML a procesar'!A888,\"\")","v":""},0,0,0,0,"",0,0,0,"","",0,"",0,"",{"$f":"IF(ROW()<$S$4+2,IF('XML a procesar'!A888=\"\",P888,IF(MID('XML a procesar'!A888,1,1)=\"<\",P888,P888+1)),P888)","v":1}]
[{"$f":"IF('XML a procesar'!A889>0,'XML a procesar'!A889,\"\")","v":""},0,0,0,0,"",0,0,0,"","",0,"",0,"",{"$f":"IF(ROW()<$S$4+2,IF('XML a procesar'!A889=\"\",P889,IF(MID('XML a procesar'!A889,1,1)=\"<\",P889,P889+1)),P889)","v":1}]
[{"$f":"IF('XML a procesar'!A890>0,'XML a procesar'!A890,\"\")","v":""},0,0,0,0,"",0,0,0,"","",0,"",0,"",{"$f":"IF(ROW()<$S$4+2,IF('XML a procesar'!A890=\"\",P890,IF(MID('XML a procesar'!A890,1,1)=\"<\",P890,P890+1)),P890)","v":1}]
[{"$f":"IF('XML a procesar'!A891>0,'XML a procesar'!A891,\"\")","v":""},0,0,0,0,"",0,0,0,"","",0,"",0,"",{"$f":"IF(ROW()<$S$4+2,IF('XML a procesar'!A891=\"\",P891,IF(MID('XML a procesar'!A891,1,1)=\"<\",P891,P891+1)),P891)","v":1}]
[{"$f":"IF('XML a procesar'!A892>0,'XML a procesar'!A892,\"\")","v":""},0,0,0,0,"",0,0,0,"","",0,"",0,"",{"$f":"IF(ROW()<$S$4+2,IF('XML a procesar'!A892=\"\",P892,IF(MID('XML a procesar'!A892,1,1)=\"<\",P892,P892+1)),P892)","v":1}]
[{"$f":"IF('XML a procesar'!A893>0,'XML a procesar'!A893,\"\")","v":""},0,0,0,0,"",0,0,0,"","",0,"",0,"",{"$f":"IF(ROW()<$S$4+2,IF('XML a procesar'!A893=\"\",P893,IF(MID('XML a procesar'!A893,1,1)=\"<\",P893,P893+1)),P893)","v":1}]
[{"$f":"IF('XML a procesar'!A894>0,'XML a procesar'!A894,\"\")","v":""},0,0,0,0,"",0,0,0,"","",0,"",0,"",{"$f":"IF(ROW()<$S$4+2,IF('XML a procesar'!A894=\"\",P894,IF(MID('XML a procesar'!A894,1,1)=\"<\",P894,P894+1)),P894)","v":1}]
[{"$f":"IF('XML a procesar'!A895>0,'XML a procesar'!A895,\"\")","v":""},0,0,0,0,"",0,0,0,"","",0,"",0,"",{"$f":"IF(ROW()<$S$4+2,IF('XML a procesar'!A895=\"\",P895,IF(MID('XML a procesar'!A895,1,1)=\"<\",P895,P895+1)),P895)","v":1}]
[{"$f":"IF('XML a procesar'!A896>0,'XML a procesar'!A896,\"\")","v":""},0,0,0,0,"",0,0,0,"","",0,"",0,"",{"$f":"IF(ROW()<$S$4+2,IF('XML a procesar'!A896=\"\",P896,IF(MID('XML a procesar'!A896,1,1)=\"<\",P896,P896+1)),P896)","v":1}]
[{"$f":"IF('XML a procesar'!A897>0,'XML a procesar'!A897,\"\")","v":""},0,0,0,0,"",0,0,0,"","",0,"",0,{"$f":"IF(N898>-1,INDIRECT(ADDRESS(ROW(),13)),IF(N898<N897,CONCATENATE(\"<page-count count=\",CHAR(34),1+LARGE(N:N,1)-LARGE(N:N,2),CHAR(34),\"/>\"),INDIRECT(ADDRESS(ROW()-1,13))))","v":""},{"$f":"IF(ROW()<$S$4+2,IF('XML a procesar'!A897=\"\",P897,IF(MID('XML a procesar'!A897,1,1)=\"<\",P897,P897+1)),P897)","v":1}]
[{"$f":"IF('XML a procesar'!A898>0,'XML a procesar'!A898,\"\")","v":""},{"$f":"IF(ISERROR(FIND(\"/doi.org/\",A899,1)),0,1)","v":0},0,{"$f":"IF(AND(C899>0,LEFT(A899,7)=\"<email>\",ISNUMBER(SEARCH(\"@\",A899,1))),C899,IF(LEFT(A899,10)=\"<alt-text>\",-1,0))","v":0},0,{"$f":"INDIRECT(ADDRESS(ROW()+INDIRECT(ADDRESS(ROW()+E899,5)),1))","v":""},0,{"$f":"IF(AND(G898>0,G899>G898,NOT(ISERROR(MATCH(G898,D:D,0)))),H898+1,H898)","v":0},0,"",{"$f":"IF(J899=\"Linea_para_MAIL_creada_por_LuXML\",IF(ISERROR(MATCH(INDIRECT(ADDRESS(ROW()-G899,7)),D:D,0)),J899,INDIRECT(ADDRESS(MATCH(INDIRECT(ADDRESS(ROW()-G899,7)),D:D,0),1))),J899)","v":""},0,"",0,"",{"$f":"IF(ROW()<$S$4+2,IF('XML a procesar'!A898=\"\",P898,IF(MID('XML a procesar'!A898,1,1)=\"<\",P898,P898+1)),P898)","v":1}]
[{"$f":"IF('XML a procesar'!A899>0,'XML a procesar'!A899,\"\")","v":""},0,{"$f":"IF(LEFT(A899,16)=\"<contrib contrib\",C899+1,IF(LEFT(A899,16)=\"</contrib-group>\",0,IF(LEFT(A899,10)=\"</contrib>\",C899,C899)))","v":0},0,{"$f":"IF(D900=0,E899,E899+1)","v":0},"",{"$f":"IF(LEFT(F900,7)=\"<aff id\",_xlfn.NUMBERVALUE(MID(F900,13,LEN(F900)-14)),IF(F900=\"</aff>\",G899+1,G899))","v":0},0,{"$f":"INDIRECT(ADDRESS(ROW()-INDIRECT(ADDRESS(ROW()-H900,8)),8))","v":0},{"$f":"IF(J899=\"Linea_para_MAIL_creada_por_LuXML\",\"</aff>\",IF(I900>INDIRECT(ADDRESS(ROW()-I900-1,8)),\"Linea_para_MAIL_creada_por_LuXML\",INDIRECT(ADDRESS(ROW()-I900,6))))","v":""},"",{"$f":"IF(OR(MID(K898,3,5)=\"page>\",MID(K899,3,5)=\"page>\"),L899,IF(OR(K899=\"<history>\",K900=\"<history>\"),L899+1,L899))","v":0},"",{"$f":"IF(N899=-1,-1,IF(M900=\"</counts>\",-1,IF(OR(LEFT(M900,7)=\"<fpage>\",LEFT(M900,7)=\"<lpage>\"),VALUE(MID(M900,8,LEN(M900)-15)),0)))","v":0},"",{"$f":"IF(ROW()<$S$4+2,IF('XML a procesar'!A899=\"\",P899,IF(MID('XML a procesar'!A899,1,1)=\"<\",P899,P899+1)),P899)","v":1}]
[{"$f":"IF('XML a procesar'!A900>0,'XML a procesar'!A900,\"\")","v":""},0,0,0,0,"",0,0,0,"","",0,"",0,"",{"$f":"IF(ROW()<$S$4+2,IF('XML a procesar'!A900=\"\",P900,IF(MID('XML a procesar'!A900,1,1)=\"<\",P900,P900+1)),P900)","v":1}]
[{"$f":"IF('XML a procesar'!A901>0,'XML a procesar'!A901,\"\")","v":""},0,0,0,0,"",0,0,0,"","",0,{"$f":"IF(L902>L901,IF(L902=1,CONCATENATE(\"<fpage>\",$S$10,\"</fpage>\"),CONCATENATE(\"<lpage>\",$S$10+1,\"</lpage>\")),IF(ISERROR(INDIRECT(ADDRESS(ROW()-L902,11),1)),\"\",INDIRECT(ADDRESS(ROW()-L902,11),1)))","v":""},0,"",{"$f":"IF(ROW()<$S$4+2,IF('XML a procesar'!A901=\"\",P901,IF(MID('XML a procesar'!A901,1,1)=\"<\",P901,P901+1)),P901)","v":1}]
[{"$f":"IF('XML a procesar'!A902>0,'XML a procesar'!A902,\"\")","v":""},0,0,0,0,"",0,0,0,"","",0,"",0,"",{"$f":"IF(ROW()<$S$4+2,IF('XML a procesar'!A902=\"\",P902,IF(MID('XML a procesar'!A902,1,1)=\"<\",P902,P902+1)),P902)","v":1}]
[{"$f":"IF('XML a procesar'!A903>0,'XML a procesar'!A903,\"\")","v":""},0,0,0,0,"",0,0,0,"","",0,"",0,"",{"$f":"IF(ROW()<$S$4+2,IF('XML a procesar'!A903=\"\",P903,IF(MID('XML a procesar'!A903,1,1)=\"<\",P903,P903+1)),P903)","v":1}]
[{"$f":"IF('XML a procesar'!A904>0,'XML a procesar'!A904,\"\")","v":""},0,0,0,0,"",0,0,0,"","",0,"",0,"",{"$f":"IF(ROW()<$S$4+2,IF('XML a procesar'!A904=\"\",P904,IF(MID('XML a procesar'!A904,1,1)=\"<\",P904,P904+1)),P904)","v":1}]
[{"$f":"IF('XML a procesar'!A905>0,'XML a procesar'!A905,\"\")","v":""},0,0,0,0,"",0,0,0,"","",0,"",0,"",{"$f":"IF(ROW()<$S$4+2,IF('XML a procesar'!A905=\"\",P905,IF(MID('XML a procesar'!A905,1,1)=\"<\",P905,P905+1)),P905)","v":1}]
[{"$f":"IF('XML a procesar'!A906>0,'XML a procesar'!A906,\"\")","v":""},0,0,0,0,"",0,0,0,"","",0,"",0,"",{"$f":"IF(ROW()<$S$4+2,IF('XML a procesar'!A906=\"\",P906,IF(MID('XML a procesar'!A906,1,1)=\"<\",P906,P906+1)),P906)","v":1}]
[{"$f":"IF('XML a procesar'!A907>0,'XML a procesar'!A907,\"\")","v":""},0,0,0,0,"",0,0,0,"","",0,"",0,"",{"$f":"IF(ROW()<$S$4+2,IF('XML a procesar'!A907=\"\",P907,IF(MID('XML a procesar'!A907,1,1)=\"<\",P907,P907+1)),P907)","v":1}]
[{"$f":"IF('XML a procesar'!A908>0,'XML a procesar'!A908,\"\")","v":""},0,0,0,0,"",0,0,0,"","",0,"",0,"",{"$f":"IF(ROW()<$S$4+2,IF('XML a procesar'!A908=\"\",P908,IF(MID('XML a procesar'!A908,1,1)=\"<\",P908,P908+1)),P908)","v":1}]
[{"$f":"IF('XML a procesar'!A909>0,'XML a procesar'!A909,\"\")","v":""},0,0,0,0,"",0,0,0,"","",0,"",0,"",{"$f":"IF(ROW()<$S$4+2,IF('XML a procesar'!A909=\"\",P909,IF(MID('XML a procesar'!A909,1,1)=\"<\",P909,P909+1)),P909)","v":1}]
[{"$f":"IF('XML a procesar'!A910>0,'XML a procesar'!A910,\"\")","v":""},0,0,0,0,"",0,0,0,"","",0,"",0,"",{"$f":"IF(ROW()<$S$4+2,IF('XML a procesar'!A910=\"\",P910,IF(MID('XML a procesar'!A910,1,1)=\"<\",P910,P910+1)),P910)","v":1}]
[{"$f":"IF('XML a procesar'!A911>0,'XML a procesar'!A911,\"\")","v":""},0,0,0,0,"",0,0,0,"","",0,"",0,"",{"$f":"IF(ROW()<$S$4+2,IF('XML a procesar'!A911=\"\",P911,IF(MID('XML a procesar'!A911,1,1)=\"<\",P911,P911+1)),P911)","v":1}]
[{"$f":"IF('XML a procesar'!A912>0,'XML a procesar'!A912,\"\")","v":""},0,0,0,0,"",0,0,0,"","",0,"",0,"",{"$f":"IF(ROW()<$S$4+2,IF('XML a procesar'!A912=\"\",P912,IF(MID('XML a procesar'!A912,1,1)=\"<\",P912,P912+1)),P912)","v":1}]
[{"$f":"IF('XML a procesar'!A913>0,'XML a procesar'!A913,\"\")","v":""},0,0,0,0,"",0,0,0,"","",0,"",0,"",{"$f":"IF(ROW()<$S$4+2,IF('XML a procesar'!A913=\"\",P913,IF(MID('XML a procesar'!A913,1,1)=\"<\",P913,P913+1)),P913)","v":1}]
[{"$f":"IF('XML a procesar'!A914>0,'XML a procesar'!A914,\"\")","v":""},0,0,0,0,"",0,0,0,"","",0,"",0,"",{"$f":"IF(ROW()<$S$4+2,IF('XML a procesar'!A914=\"\",P914,IF(MID('XML a procesar'!A914,1,1)=\"<\",P914,P914+1)),P914)","v":1}]
[{"$f":"IF('XML a procesar'!A915>0,'XML a procesar'!A915,\"\")","v":""},0,0,0,0,"",0,0,0,"","",0,"",0,"",{"$f":"IF(ROW()<$S$4+2,IF('XML a procesar'!A915=\"\",P915,IF(MID('XML a procesar'!A915,1,1)=\"<\",P915,P915+1)),P915)","v":1}]
[{"$f":"IF('XML a procesar'!A916>0,'XML a procesar'!A916,\"\")","v":""},0,0,0,0,"",0,0,0,"","",0,"",0,"",{"$f":"IF(ROW()<$S$4+2,IF('XML a procesar'!A916=\"\",P916,IF(MID('XML a procesar'!A916,1,1)=\"<\",P916,P916+1)),P916)","v":1}]
[{"$f":"IF('XML a procesar'!A917>0,'XML a procesar'!A917,\"\")","v":""},0,0,0,0,"",0,0,0,"","",0,"",0,"",{"$f":"IF(ROW()<$S$4+2,IF('XML a procesar'!A917=\"\",P917,IF(MID('XML a procesar'!A917,1,1)=\"<\",P917,P917+1)),P917)","v":1}]
[{"$f":"IF('XML a procesar'!A918>0,'XML a procesar'!A918,\"\")","v":""},0,0,0,0,"",0,0,0,"","",0,"",0,"",{"$f":"IF(ROW()<$S$4+2,IF('XML a procesar'!A918=\"\",P918,IF(MID('XML a procesar'!A918,1,1)=\"<\",P918,P918+1)),P918)","v":1}]
[{"$f":"IF('XML a procesar'!A919>0,'XML a procesar'!A919,\"\")","v":""},0,0,0,0,"",0,0,0,"","",0,"",0,"",{"$f":"IF(ROW()<$S$4+2,IF('XML a procesar'!A919=\"\",P919,IF(MID('XML a procesar'!A919,1,1)=\"<\",P919,P919+1)),P919)","v":1}]
[{"$f":"IF('XML a procesar'!A920>0,'XML a procesar'!A920,\"\")","v":""},0,0,0,0,"",0,0,0,"","",0,"",0,"",{"$f":"IF(ROW()<$S$4+2,IF('XML a procesar'!A920=\"\",P920,IF(MID('XML a procesar'!A920,1,1)=\"<\",P920,P920+1)),P920)","v":1}]
[{"$f":"IF('XML a procesar'!A921>0,'XML a procesar'!A921,\"\")","v":""},0,0,0,0,"",0,0,0,"","",0,"",0,"",{"$f":"IF(ROW()<$S$4+2,IF('XML a procesar'!A921=\"\",P921,IF(MID('XML a procesar'!A921,1,1)=\"<\",P921,P921+1)),P921)","v":1}]
[{"$f":"IF('XML a procesar'!A922>0,'XML a procesar'!A922,\"\")","v":""},0,0,0,0,"",0,0,0,"","",0,"",0,"",{"$f":"IF(ROW()<$S$4+2,IF('XML a procesar'!A922=\"\",P922,IF(MID('XML a procesar'!A922,1,1)=\"<\",P922,P922+1)),P922)","v":1}]
[{"$f":"IF('XML a procesar'!A923>0,'XML a procesar'!A923,\"\")","v":""},0,0,0,0,"",0,0,0,"","",0,"",0,"",{"$f":"IF(ROW()<$S$4+2,IF('XML a procesar'!A923=\"\",P923,IF(MID('XML a procesar'!A923,1,1)=\"<\",P923,P923+1)),P923)","v":1}]
[{"$f":"IF('XML a procesar'!A924>0,'XML a procesar'!A924,\"\")","v":""},0,0,0,0,"",0,0,0,"","",0,"",0,"",{"$f":"IF(ROW()<$S$4+2,IF('XML a procesar'!A924=\"\",P924,IF(MID('XML a procesar'!A924,1,1)=\"<\",P924,P924+1)),P924)","v":1}]
[{"$f":"IF('XML a procesar'!A925>0,'XML a procesar'!A925,\"\")","v":""},0,0,0,0,"",0,0,0,"","",0,"",0,"",{"$f":"IF(ROW()<$S$4+2,IF('XML a procesar'!A925=\"\",P925,IF(MID('XML a procesar'!A925,1,1)=\"<\",P925,P925+1)),P925)","v":1}]
[{"$f":"IF('XML a procesar'!A926>0,'XML a procesar'!A926,\"\")","v":""},0,0,0,0,"",0,0,0,"","",0,"",0,"",{"$f":"IF(ROW()<$S$4+2,IF('XML a procesar'!A926=\"\",P926,IF(MID('XML a procesar'!A926,1,1)=\"<\",P926,P926+1)),P926)","v":1}]
[{"$f":"IF('XML a procesar'!A927>0,'XML a procesar'!A927,\"\")","v":""},0,0,0,0,"",0,0,0,"","",0,"",0,"",{"$f":"IF(ROW()<$S$4+2,IF('XML a procesar'!A927=\"\",P927,IF(MID('XML a procesar'!A927,1,1)=\"<\",P927,P927+1)),P927)","v":1}]
[{"$f":"IF('XML a procesar'!A928>0,'XML a procesar'!A928,\"\")","v":""},0,0,0,0,"",0,0,0,"","",0,"",0,"",{"$f":"IF(ROW()<$S$4+2,IF('XML a procesar'!A928=\"\",P928,IF(MID('XML a procesar'!A928,1,1)=\"<\",P928,P928+1)),P928)","v":1}]
[{"$f":"IF('XML a procesar'!A929>0,'XML a procesar'!A929,\"\")","v":""},0,0,0,0,"",0,0,0,"","",0,"",0,"",{"$f":"IF(ROW()<$S$4+2,IF('XML a procesar'!A929=\"\",P929,IF(MID('XML a procesar'!A929,1,1)=\"<\",P929,P929+1)),P929)","v":1}]
[{"$f":"IF('XML a procesar'!A930>0,'XML a procesar'!A930,\"\")","v":""},0,0,0,0,"",0,0,0,"","",0,"",0,"",{"$f":"IF(ROW()<$S$4+2,IF('XML a procesar'!A930=\"\",P930,IF(MID('XML a procesar'!A930,1,1)=\"<\",P930,P930+1)),P930)","v":1}]
[{"$f":"IF('XML a procesar'!A931>0,'XML a procesar'!A931,\"\")","v":""},0,0,0,0,"",0,0,0,"","",0,"",0,"",{"$f":"IF(ROW()<$S$4+2,IF('XML a procesar'!A931=\"\",P931,IF(MID('XML a procesar'!A931,1,1)=\"<\",P931,P931+1)),P931)","v":1}]
[{"$f":"IF('XML a procesar'!A932>0,'XML a procesar'!A932,\"\")","v":""},0,0,0,0,"",0,0,0,"","",0,"",0,"",{"$f":"IF(ROW()<$S$4+2,IF('XML a procesar'!A932=\"\",P932,IF(MID('XML a procesar'!A932,1,1)=\"<\",P932,P932+1)),P932)","v":1}]
[{"$f":"IF('XML a procesar'!A933>0,'XML a procesar'!A933,\"\")","v":""},0,0,0,0,"",0,0,0,"","",0,"",0,"",{"$f":"IF(ROW()<$S$4+2,IF('XML a procesar'!A933=\"\",P933,IF(MID('XML a procesar'!A933,1,1)=\"<\",P933,P933+1)),P933)","v":1}]
[{"$f":"IF('XML a procesar'!A934>0,'XML a procesar'!A934,\"\")","v":""},0,0,0,0,"",0,0,0,"","",0,"",0,"",{"$f":"IF(ROW()<$S$4+2,IF('XML a procesar'!A934=\"\",P934,IF(MID('XML a procesar'!A934,1,1)=\"<\",P934,P934+1)),P934)","v":1}]
[{"$f":"IF('XML a procesar'!A935>0,'XML a procesar'!A935,\"\")","v":""},0,0,0,0,"",0,0,0,"","",0,"",0,"",{"$f":"IF(ROW()<$S$4+2,IF('XML a procesar'!A935=\"\",P935,IF(MID('XML a procesar'!A935,1,1)=\"<\",P935,P935+1)),P935)","v":1}]
[{"$f":"IF('XML a procesar'!A936>0,'XML a procesar'!A936,\"\")","v":""},0,0,0,0,"",0,0,0,"","",0,"",0,"",{"$f":"IF(ROW()<$S$4+2,IF('XML a procesar'!A936=\"\",P936,IF(MID('XML a procesar'!A936,1,1)=\"<\",P936,P936+1)),P936)","v":1}]
[{"$f":"IF('XML a procesar'!A937>0,'XML a procesar'!A937,\"\")","v":""},0,0,0,0,"",0,0,0,"","",0,"",0,"",{"$f":"IF(ROW()<$S$4+2,IF('XML a procesar'!A937=\"\",P937,IF(MID('XML a procesar'!A937,1,1)=\"<\",P937,P937+1)),P937)","v":1}]
[{"$f":"IF('XML a procesar'!A938>0,'XML a procesar'!A938,\"\")","v":""},0,0,0,0,"",0,0,0,"","",0,"",0,"",{"$f":"IF(ROW()<$S$4+2,IF('XML a procesar'!A938=\"\",P938,IF(MID('XML a procesar'!A938,1,1)=\"<\",P938,P938+1)),P938)","v":1}]
[{"$f":"IF('XML a procesar'!A939>0,'XML a procesar'!A939,\"\")","v":""},0,0,0,0,"",0,0,0,"","",0,"",0,"",{"$f":"IF(ROW()<$S$4+2,IF('XML a procesar'!A939=\"\",P939,IF(MID('XML a procesar'!A939,1,1)=\"<\",P939,P939+1)),P939)","v":1}]
[{"$f":"IF('XML a procesar'!A940>0,'XML a procesar'!A940,\"\")","v":""},0,0,0,0,"",0,0,0,"","",0,"",0,"",{"$f":"IF(ROW()<$S$4+2,IF('XML a procesar'!A940=\"\",P940,IF(MID('XML a procesar'!A940,1,1)=\"<\",P940,P940+1)),P940)","v":1}]
[{"$f":"IF('XML a procesar'!A941>0,'XML a procesar'!A941,\"\")","v":""},0,0,0,0,"",0,0,0,"","",0,"",0,"",{"$f":"IF(ROW()<$S$4+2,IF('XML a procesar'!A941=\"\",P941,IF(MID('XML a procesar'!A941,1,1)=\"<\",P941,P941+1)),P941)","v":1}]
[{"$f":"IF('XML a procesar'!A942>0,'XML a procesar'!A942,\"\")","v":""},0,0,0,0,"",0,0,0,"","",0,"",0,"",{"$f":"IF(ROW()<$S$4+2,IF('XML a procesar'!A942=\"\",P942,IF(MID('XML a procesar'!A942,1,1)=\"<\",P942,P942+1)),P942)","v":1}]
[{"$f":"IF('XML a procesar'!A943>0,'XML a procesar'!A943,\"\")","v":""},0,0,0,0,"",0,0,0,"","",0,"",0,"",{"$f":"IF(ROW()<$S$4+2,IF('XML a procesar'!A943=\"\",P943,IF(MID('XML a procesar'!A943,1,1)=\"<\",P943,P943+1)),P943)","v":1}]
[{"$f":"IF('XML a procesar'!A944>0,'XML a procesar'!A944,\"\")","v":""},0,0,0,0,"",0,0,0,"","",0,"",0,"",{"$f":"IF(ROW()<$S$4+2,IF('XML a procesar'!A944=\"\",P944,IF(MID('XML a procesar'!A944,1,1)=\"<\",P944,P944+1)),P944)","v":1}]
[{"$f":"IF('XML a procesar'!A945>0,'XML a procesar'!A945,\"\")","v":""},0,0,0,0,"",0,0,0,"","",0,"",0,"",{"$f":"IF(ROW()<$S$4+2,IF('XML a procesar'!A945=\"\",P945,IF(MID('XML a procesar'!A945,1,1)=\"<\",P945,P945+1)),P945)","v":1}]
[{"$f":"IF('XML a procesar'!A946>0,'XML a procesar'!A946,\"\")","v":""},0,0,0,0,"",0,0,0,"","",0,"",0,"",{"$f":"IF(ROW()<$S$4+2,IF('XML a procesar'!A946=\"\",P946,IF(MID('XML a procesar'!A946,1,1)=\"<\",P946,P946+1)),P946)","v":1}]
[{"$f":"IF('XML a procesar'!A947>0,'XML a procesar'!A947,\"\")","v":""},0,0,0,0,"",0,0,0,"","",0,"",0,"",{"$f":"IF(ROW()<$S$4+2,IF('XML a procesar'!A947=\"\",P947,IF(MID('XML a procesar'!A947,1,1)=\"<\",P947,P947+1)),P947)","v":1}]
[{"$f":"IF('XML a procesar'!A948>0,'XML a procesar'!A948,\"\")","v":""},0,0,0,0,"",0,0,0,"","",0,"",0,"",{"$f":"IF(ROW()<$S$4+2,IF('XML a procesar'!A948=\"\",P948,IF(MID('XML a procesar'!A948,1,1)=\"<\",P948,P948+1)),P948)","v":1}]
[{"$f":"IF('XML a procesar'!A949>0,'XML a procesar'!A949,\"\")","v":""},0,0,0,0,"",0,0,0,"","",0,"",0,"",{"$f":"IF(ROW()<$S$4+2,IF('XML a procesar'!A949=\"\",P949,IF(MID('XML a procesar'!A949,1,1)=\"<\",P949,P949+1)),P949)","v":1}]
[{"$f":"IF('XML a procesar'!A950>0,'XML a procesar'!A950,\"\")","v":""},0,0,0,0,"",0,0,0,"","",0,"",0,"",{"$f":"IF(ROW()<$S$4+2,IF('XML a procesar'!A950=\"\",P950,IF(MID('XML a procesar'!A950,1,1)=\"<\",P950,P950+1)),P950)","v":1}]
[{"$f":"IF('XML a procesar'!A951>0,'XML a procesar'!A951,\"\")","v":""},0,0,0,0,"",0,0,0,"","",0,"",0,"",{"$f":"IF(ROW()<$S$4+2,IF('XML a procesar'!A951=\"\",P951,IF(MID('XML a procesar'!A951,1,1)=\"<\",P951,P951+1)),P951)","v":1}]
[{"$f":"IF('XML a procesar'!A952>0,'XML a procesar'!A952,\"\")","v":""},0,0,0,0,"",0,0,0,"","",0,"",0,"",{"$f":"IF(ROW()<$S$4+2,IF('XML a procesar'!A952=\"\",P952,IF(MID('XML a procesar'!A952,1,1)=\"<\",P952,P952+1)),P952)","v":1}]
[{"$f":"IF('XML a procesar'!A953>0,'XML a procesar'!A953,\"\")","v":""},0,0,0,0,"",0,0,0,"","",0,"",0,"",{"$f":"IF(ROW()<$S$4+2,IF('XML a procesar'!A953=\"\",P953,IF(MID('XML a procesar'!A953,1,1)=\"<\",P953,P953+1)),P953)","v":1}]
[{"$f":"IF('XML a procesar'!A954>0,'XML a procesar'!A954,\"\")","v":""},0,0,0,0,"",0,0,0,"","",0,"",0,"",{"$f":"IF(ROW()<$S$4+2,IF('XML a procesar'!A954=\"\",P954,IF(MID('XML a procesar'!A954,1,1)=\"<\",P954,P954+1)),P954)","v":1}]
[{"$f":"IF('XML a procesar'!A955>0,'XML a procesar'!A955,\"\")","v":""},0,0,0,0,"",0,0,0,"","",0,"",0,"",{"$f":"IF(ROW()<$S$4+2,IF('XML a procesar'!A955=\"\",P955,IF(MID('XML a procesar'!A955,1,1)=\"<\",P955,P955+1)),P955)","v":1}]
[{"$f":"IF('XML a procesar'!A956>0,'XML a procesar'!A956,\"\")","v":""},0,0,0,0,"",0,0,0,"","",0,"",0,"",{"$f":"IF(ROW()<$S$4+2,IF('XML a procesar'!A956=\"\",P956,IF(MID('XML a procesar'!A956,1,1)=\"<\",P956,P956+1)),P956)","v":1}]
[{"$f":"IF('XML a procesar'!A957>0,'XML a procesar'!A957,\"\")","v":""},0,0,0,0,"",0,0,0,"","",0,"",0,"",{"$f":"IF(ROW()<$S$4+2,IF('XML a procesar'!A957=\"\",P957,IF(MID('XML a procesar'!A957,1,1)=\"<\",P957,P957+1)),P957)","v":1}]
[{"$f":"IF('XML a procesar'!A958>0,'XML a procesar'!A958,\"\")","v":""},0,0,0,0,"",0,0,0,"","",0,"",0,"",{"$f":"IF(ROW()<$S$4+2,IF('XML a procesar'!A958=\"\",P958,IF(MID('XML a procesar'!A958,1,1)=\"<\",P958,P958+1)),P958)","v":1}]
[{"$f":"IF('XML a procesar'!A959>0,'XML a procesar'!A959,\"\")","v":""},0,0,0,0,"",0,0,0,"","",0,"",0,"",{"$f":"IF(ROW()<$S$4+2,IF('XML a procesar'!A959=\"\",P959,IF(MID('XML a procesar'!A959,1,1)=\"<\",P959,P959+1)),P959)","v":1}]
[{"$f":"IF('XML a procesar'!A960>0,'XML a procesar'!A960,\"\")","v":""},0,0,0,0,"",0,0,0,"","",0,"",0,"",{"$f":"IF(ROW()<$S$4+2,IF('XML a procesar'!A960=\"\",P960,IF(MID('XML a procesar'!A960,1,1)=\"<\",P960,P960+1)),P960)","v":1}]
[{"$f":"IF('XML a procesar'!A961>0,'XML a procesar'!A961,\"\")","v":""},0,0,0,0,"",0,0,0,"","",0,"",0,{"$f":"IF(N962>-1,INDIRECT(ADDRESS(ROW(),13)),IF(N962<N961,CONCATENATE(\"<page-count count=\",CHAR(34),1+LARGE(N:N,1)-LARGE(N:N,2),CHAR(34),\"/>\"),INDIRECT(ADDRESS(ROW()-1,13))))","v":""},{"$f":"IF(ROW()<$S$4+2,IF('XML a procesar'!A961=\"\",P961,IF(MID('XML a procesar'!A961,1,1)=\"<\",P961,P961+1)),P961)","v":1}]
[{"$f":"IF('XML a procesar'!A962>0,'XML a procesar'!A962,\"\")","v":""},{"$f":"IF(ISERROR(FIND(\"/doi.org/\",A963,1)),0,1)","v":0},0,{"$f":"IF(AND(C963>0,LEFT(A963,7)=\"<email>\",ISNUMBER(SEARCH(\"@\",A963,1))),C963,IF(LEFT(A963,10)=\"<alt-text>\",-1,0))","v":0},0,{"$f":"INDIRECT(ADDRESS(ROW()+INDIRECT(ADDRESS(ROW()+E963,5)),1))","v":""},0,{"$f":"IF(AND(G962>0,G963>G962,NOT(ISERROR(MATCH(G962,D:D,0)))),H962+1,H962)","v":0},0,"",{"$f":"IF(J963=\"Linea_para_MAIL_creada_por_LuXML\",IF(ISERROR(MATCH(INDIRECT(ADDRESS(ROW()-G963,7)),D:D,0)),J963,INDIRECT(ADDRESS(MATCH(INDIRECT(ADDRESS(ROW()-G963,7)),D:D,0),1))),J963)","v":""},0,"",0,"",{"$f":"IF(ROW()<$S$4+2,IF('XML a procesar'!A962=\"\",P962,IF(MID('XML a procesar'!A962,1,1)=\"<\",P962,P962+1)),P962)","v":1}]
[{"$f":"IF('XML a procesar'!A963>0,'XML a procesar'!A963,\"\")","v":""},0,{"$f":"IF(LEFT(A963,16)=\"<contrib contrib\",C963+1,IF(LEFT(A963,16)=\"</contrib-group>\",0,IF(LEFT(A963,10)=\"</contrib>\",C963,C963)))","v":0},0,{"$f":"IF(D964=0,E963,E963+1)","v":0},"",{"$f":"IF(LEFT(F964,7)=\"<aff id\",_xlfn.NUMBERVALUE(MID(F964,13,LEN(F964)-14)),IF(F964=\"</aff>\",G963+1,G963))","v":0},0,{"$f":"INDIRECT(ADDRESS(ROW()-INDIRECT(ADDRESS(ROW()-H964,8)),8))","v":0},{"$f":"IF(J963=\"Linea_para_MAIL_creada_por_LuXML\",\"</aff>\",IF(I964>INDIRECT(ADDRESS(ROW()-I964-1,8)),\"Linea_para_MAIL_creada_por_LuXML\",INDIRECT(ADDRESS(ROW()-I964,6))))","v":""},"",{"$f":"IF(OR(MID(K962,3,5)=\"page>\",MID(K963,3,5)=\"page>\"),L963,IF(OR(K963=\"<history>\",K964=\"<history>\"),L963+1,L963))","v":0},"",{"$f":"IF(N963=-1,-1,IF(M964=\"</counts>\",-1,IF(OR(LEFT(M964,7)=\"<fpage>\",LEFT(M964,7)=\"<lpage>\"),VALUE(MID(M964,8,LEN(M964)-15)),0)))","v":0},"",{"$f":"IF(ROW()<$S$4+2,IF('XML a procesar'!A963=\"\",P963,IF(MID('XML a procesar'!A963,1,1)=\"<\",P963,P963+1)),P963)","v":1}]
[{"$f":"IF('XML a procesar'!A964>0,'XML a procesar'!A964,\"\")","v":""},0,0,0,0,"",0,0,0,"","",0,"",0,"",{"$f":"IF(ROW()<$S$4+2,IF('XML a procesar'!A964=\"\",P964,IF(MID('XML a procesar'!A964,1,1)=\"<\",P964,P964+1)),P964)","v":1}]
[{"$f":"IF('XML a procesar'!A965>0,'XML a procesar'!A965,\"\")","v":""},0,0,0,0,"",0,0,0,"","",0,{"$f":"IF(L966>L965,IF(L966=1,CONCATENATE(\"<fpage>\",$S$10,\"</fpage>\"),CONCATENATE(\"<lpage>\",$S$10+1,\"</lpage>\")),IF(ISERROR(INDIRECT(ADDRESS(ROW()-L966,11),1)),\"\",INDIRECT(ADDRESS(ROW()-L966,11),1)))","v":""},0,"",{"$f":"IF(ROW()<$S$4+2,IF('XML a procesar'!A965=\"\",P965,IF(MID('XML a procesar'!A965,1,1)=\"<\",P965,P965+1)),P965)","v":1}]
[{"$f":"IF('XML a procesar'!A966>0,'XML a procesar'!A966,\"\")","v":""},0,0,0,0,"",0,0,0,"","",0,"",0,"",{"$f":"IF(ROW()<$S$4+2,IF('XML a procesar'!A966=\"\",P966,IF(MID('XML a procesar'!A966,1,1)=\"<\",P966,P966+1)),P966)","v":1}]
[{"$f":"IF('XML a procesar'!A967>0,'XML a procesar'!A967,\"\")","v":""},0,0,0,0,"",0,0,0,"","",0,"",0,"",{"$f":"IF(ROW()<$S$4+2,IF('XML a procesar'!A967=\"\",P967,IF(MID('XML a procesar'!A967,1,1)=\"<\",P967,P967+1)),P967)","v":1}]
[{"$f":"IF('XML a procesar'!A968>0,'XML a procesar'!A968,\"\")","v":""},0,0,0,0,"",0,0,0,"","",0,"",0,"",{"$f":"IF(ROW()<$S$4+2,IF('XML a procesar'!A968=\"\",P968,IF(MID('XML a procesar'!A968,1,1)=\"<\",P968,P968+1)),P968)","v":1}]
[{"$f":"IF('XML a procesar'!A969>0,'XML a procesar'!A969,\"\")","v":""},0,0,0,0,"",0,0,0,"","",0,"",0,"",{"$f":"IF(ROW()<$S$4+2,IF('XML a procesar'!A969=\"\",P969,IF(MID('XML a procesar'!A969,1,1)=\"<\",P969,P969+1)),P969)","v":1}]
[{"$f":"IF('XML a procesar'!A970>0,'XML a procesar'!A970,\"\")","v":""},0,0,0,0,"",0,0,0,"","",0,"",0,"",{"$f":"IF(ROW()<$S$4+2,IF('XML a procesar'!A970=\"\",P970,IF(MID('XML a procesar'!A970,1,1)=\"<\",P970,P970+1)),P970)","v":1}]
[{"$f":"IF('XML a procesar'!A971>0,'XML a procesar'!A971,\"\")","v":""},0,0,0,0,"",0,0,0,"","",0,"",0,"",{"$f":"IF(ROW()<$S$4+2,IF('XML a procesar'!A971=\"\",P971,IF(MID('XML a procesar'!A971,1,1)=\"<\",P971,P971+1)),P971)","v":1}]
[{"$f":"IF('XML a procesar'!A972>0,'XML a procesar'!A972,\"\")","v":""},0,0,0,0,"",0,0,0,"","",0,"",0,"",{"$f":"IF(ROW()<$S$4+2,IF('XML a procesar'!A972=\"\",P972,IF(MID('XML a procesar'!A972,1,1)=\"<\",P972,P972+1)),P972)","v":1}]
[{"$f":"IF('XML a procesar'!A973>0,'XML a procesar'!A973,\"\")","v":""},0,0,0,0,"",0,0,0,"","",0,"",0,"",{"$f":"IF(ROW()<$S$4+2,IF('XML a procesar'!A973=\"\",P973,IF(MID('XML a procesar'!A973,1,1)=\"<\",P973,P973+1)),P973)","v":1}]
[{"$f":"IF('XML a procesar'!A974>0,'XML a procesar'!A974,\"\")","v":""},0,0,0,0,"",0,0,0,"","",0,"",0,"",{"$f":"IF(ROW()<$S$4+2,IF('XML a procesar'!A974=\"\",P974,IF(MID('XML a procesar'!A974,1,1)=\"<\",P974,P974+1)),P974)","v":1}]
[{"$f":"IF('XML a procesar'!A975>0,'XML a procesar'!A975,\"\")","v":""},0,0,0,0,"",0,0,0,"","",0,"",0,"",{"$f":"IF(ROW()<$S$4+2,IF('XML a procesar'!A975=\"\",P975,IF(MID('XML a procesar'!A975,1,1)=\"<\",P975,P975+1)),P975)","v":1}]
[{"$f":"IF('XML a procesar'!A976>0,'XML a procesar'!A976,\"\")","v":""},0,0,0,0,"",0,0,0,"","",0,"",0,"",{"$f":"IF(ROW()<$S$4+2,IF('XML a procesar'!A976=\"\",P976,IF(MID('XML a procesar'!A976,1,1)=\"<\",P976,P976+1)),P976)","v":1}]
[{"$f":"IF('XML a procesar'!A977>0,'XML a procesar'!A977,\"\")","v":""},0,0,0,0,"",0,0,0,"","",0,"",0,"",{"$f":"IF(ROW()<$S$4+2,IF('XML a procesar'!A977=\"\",P977,IF(MID('XML a procesar'!A977,1,1)=\"<\",P977,P977+1)),P977)","v":1}]
[{"$f":"IF('XML a procesar'!A978>0,'XML a procesar'!A978,\"\")","v":""},0,0,0,0,"",0,0,0,"","",0,"",0,"",{"$f":"IF(ROW()<$S$4+2,IF('XML a procesar'!A978=\"\",P978,IF(MID('XML a procesar'!A978,1,1)=\"<\",P978,P978+1)),P978)","v":1}]
[{"$f":"IF('XML a procesar'!A979>0,'XML a procesar'!A979,\"\")","v":""},0,0,0,0,"",0,0,0,"","",0,"",0,"",{"$f":"IF(ROW()<$S$4+2,IF('XML a procesar'!A979=\"\",P979,IF(MID('XML a procesar'!A979,1,1)=\"<\",P979,P979+1)),P979)","v":1}]
[{"$f":"IF('XML a procesar'!A980>0,'XML a procesar'!A980,\"\")","v":""},0,0,0,0,"",0,0,0,"","",0,"",0,"",{"$f":"IF(ROW()<$S$4+2,IF('XML a procesar'!A980=\"\",P980,IF(MID('XML a procesar'!A980,1,1)=\"<\",P980,P980+1)),P980)","v":1}]
[{"$f":"IF('XML a procesar'!A981>0,'XML a procesar'!A981,\"\")","v":""},0,0,0,0,"",0,0,0,"","",0,"",0,"",{"$f":"IF(ROW()<$S$4+2,IF('XML a procesar'!A981=\"\",P981,IF(MID('XML a procesar'!A981,1,1)=\"<\",P981,P981+1)),P981)","v":1}]
[{"$f":"IF('XML a procesar'!A982>0,'XML a procesar'!A982,\"\")","v":""},0,0,0,0,"",0,0,0,"","",0,"",0,"",{"$f":"IF(ROW()<$S$4+2,IF('XML a procesar'!A982=\"\",P982,IF(MID('XML a procesar'!A982,1,1)=\"<\",P982,P982+1)),P982)","v":1}]
[{"$f":"IF('XML a procesar'!A983>0,'XML a procesar'!A983,\"\")","v":""},0,0,0,0,"",0,0,0,"","",0,"",0,"",{"$f":"IF(ROW()<$S$4+2,IF('XML a procesar'!A983=\"\",P983,IF(MID('XML a procesar'!A983,1,1)=\"<\",P983,P983+1)),P983)","v":1}]
[{"$f":"IF('XML a procesar'!A984>0,'XML a procesar'!A984,\"\")","v":""},0,0,0,0,"",0,0,0,"","",0,"",0,"",{"$f":"IF(ROW()<$S$4+2,IF('XML a procesar'!A984=\"\",P984,IF(MID('XML a procesar'!A984,1,1)=\"<\",P984,P984+1)),P984)","v":1}]
[{"$f":"IF('XML a procesar'!A985>0,'XML a procesar'!A985,\"\")","v":""},0,0,0,0,"",0,0,0,"","",0,"",0,"",{"$f":"IF(ROW()<$S$4+2,IF('XML a procesar'!A985=\"\",P985,IF(MID('XML a procesar'!A985,1,1)=\"<\",P985,P985+1)),P985)","v":1}]
[{"$f":"IF('XML a procesar'!A986>0,'XML a procesar'!A986,\"\")","v":""},0,0,0,0,"",0,0,0,"","",0,"",0,"",{"$f":"IF(ROW()<$S$4+2,IF('XML a procesar'!A986=\"\",P986,IF(MID('XML a procesar'!A986,1,1)=\"<\",P986,P986+1)),P986)","v":1}]
[{"$f":"IF('XML a procesar'!A987>0,'XML a procesar'!A987,\"\")","v":""},0,0,0,0,"",0,0,0,"","",0,"",0,"",{"$f":"IF(ROW()<$S$4+2,IF('XML a procesar'!A987=\"\",P987,IF(MID('XML a procesar'!A987,1,1)=\"<\",P987,P987+1)),P987)","v":1}]
[{"$f":"IF('XML a procesar'!A988>0,'XML a procesar'!A988,\"\")","v":""},0,0,0,0,"",0,0,0,"","",0,"",0,"",{"$f":"IF(ROW()<$S$4+2,IF('XML a procesar'!A988=\"\",P988,IF(MID('XML a procesar'!A988,1,1)=\"<\",P988,P988+1)),P988)","v":1}]
[{"$f":"IF('XML a procesar'!A989>0,'XML a procesar'!A989,\"\")","v":""},0,0,0,0,"",0,0,0,"","",0,"",0,"",{"$f":"IF(ROW()<$S$4+2,IF('XML a procesar'!A989=\"\",P989,IF(MID('XML a procesar'!A989,1,1)=\"<\",P989,P989+1)),P989)","v":1}]
[{"$f":"IF('XML a procesar'!A990>0,'XML a procesar'!A990,\"\")","v":""},0,0,0,0,"",0,0,0,"","",0,"",0,"",{"$f":"IF(ROW()<$S$4+2,IF('XML a procesar'!A990=\"\",P990,IF(MID('XML a procesar'!A990,1,1)=\"<\",P990,P990+1)),P990)","v":1}]
[{"$f":"IF('XML a procesar'!A991>0,'XML a procesar'!A991,\"\")","v":""},0,0,0,0,"",0,0,0,"","",0,"",0,"",{"$f":"IF(ROW()<$S$4+2,IF('XML a procesar'!A991=\"\",P991,IF(MID('XML a procesar'!A991,1,1)=\"<\",P991,P991+1)),P991)","v":1}]
[{"$f":"IF('XML a procesar'!A992>0,'XML a procesar'!A992,\"\")","v":""},0,0,0,0,"",0,0,0,"","",0,"",0,"",{"$f":"IF(ROW()<$S$4+2,IF('XML a procesar'!A992=\"\",P992,IF(MID('XML a procesar'!A992,1,1)=\"<\",P992,P992+1)),P992)","v":1}]
[{"$f":"IF('XML a procesar'!A993>0,'XML a procesar'!A993,\"\")","v":""},0,0,0,0,"",0,0,0,"","",0,"",0,"",{"$f":"IF(ROW()<$S$4+2,IF('XML a procesar'!A993=\"\",P993,IF(MID('XML a procesar'!A993,1,1)=\"<\",P993,P993+1)),P993)","v":1}]
[{"$f":"IF('XML a procesar'!A994>0,'XML a procesar'!A994,\"\")","v":""},0,0,0,0,"",0,0,0,"","",0,"",0,"",{"$f":"IF(ROW()<$S$4+2,IF('XML a procesar'!A994=\"\",P994,IF(MID('XML a procesar'!A994,1,1)=\"<\",P994,P994+1)),P994)","v":1}]
[{"$f":"IF('XML a procesar'!A995>0,'XML a procesar'!A995,\"\")","v":""},0,0,0,0,"",0,0,0,"","",0,"",0,"",{"$f":"IF(ROW()<$S$4+2,IF('XML a procesar'!A995=\"\",P995,IF(MID('XML a procesar'!A995,1,1)=\"<\",P995,P995+1)),P995)","v":1}]
[{"$f":"IF('XML a procesar'!A996>0,'XML a procesar'!A996,\"\")","v":""},0,0,0,0,"",0,0,0,"","",0,"",0,"",{"$f":"IF(ROW()<$S$4+2,IF('XML a procesar'!A996=\"\",P996,IF(MID('XML a procesar'!A996,1,1)=\"<\",P996,P996+1)),P996)","v":1}]
[{"$f":"IF('XML a procesar'!A997>0,'XML a procesar'!A997,\"\")","v":""},0,0,0,0,"",0,0,0,"","",0,"",0,"",{"$f":"IF(ROW()<$S$4+2,IF('XML a procesar'!A997=\"\",P997,IF(MID('XML a procesar'!A997,1,1)=\"<\",P997,P997+1)),P997)","v":1}]
[{"$f":"IF('XML a procesar'!A998>0,'XML a procesar'!A998,\"\")","v":""},0,0,0,0,"",0,0,0,"","",0,"",0,"",{"$f":"IF(ROW()<$S$4+2,IF('XML a procesar'!A998=\"\",P998,IF(MID('XML a procesar'!A998,1,1)=\"<\",P998,P998+1)),P998)","v":1}]
[{"$f":"IF('XML a procesar'!A999>0,'XML a procesar'!A999,\"\")","v":""},0,0,0,0,"",0,0,0,"","",0,"",0,"",{"$f":"IF(ROW()<$S$4+2,IF('XML a procesar'!A999=\"\",P999,IF(MID('XML a procesar'!A999,1,1)=\"<\",P999,P999+1)),P999)","v":1}]
[{"$f":"IF('XML a procesar'!A1000>0,'XML a procesar'!A1000,\"\")","v":""},0,{"$f":"IF(LEFT(A1000,16)=\"<contrib contrib\",C1000+1,IF(LEFT(A1000,16)=\"</contrib-group>\",0,IF(LEFT(A1000,10)=\"</contrib>\",C1000,C1000)))","v":0},{"$f":"IF(AND(C1001>0,LEFT(A1001,7)=\"<email>\",ISNUMBER(SEARCH(\"@\",A1001,1))),C1001,IF(LEFT(A1001,10)=\"<alt-text>\",-1,0))","v":0},{"$f":"IF(D1001=0,E1000,E1000+1)","v":0},"",0,0,0,"","",0,"",0,"",{"$f":"IF(ROW()<$S$4+2,IF('XML a procesar'!A1000=\"\",P1000,IF(MID('XML a procesar'!A1000,1,1)=\"<\",P1000,P1000+1)),P1000)","v":1}]
[{"$f":"IF('XML a procesar'!A1001>0,'XML a procesar'!A1001,\"\")","v":""},0,0,0,0,"",0,0,0,"","",0,"",0,"",{"$f":"IF(ROW()<$S$4+2,IF('XML a procesar'!A1001=\"\",P1001,IF(MID('XML a procesar'!A1001,1,1)=\"<\",P1001,P1001+1)),P1001)","v":1}]
[{"$f":"IF('XML a procesar'!A1002>0,'XML a procesar'!A1002,\"\")","v":""},0,0,0,0,"",0,0,0,"","",0,"",0,"",{"$f":"IF(ROW()<$S$4+2,IF('XML a procesar'!A1002=\"\",P1002,IF(MID('XML a procesar'!A1002,1,1)=\"<\",P1002,P1002+1)),P1002)","v":1}]
[{"$f":"IF('XML a procesar'!A1003>0,'XML a procesar'!A1003,\"\")","v":""},0,0,0,0,"",0,0,0,"","",0,"",0,"",{"$f":"IF(ROW()<$S$4+2,IF('XML a procesar'!A1003=\"\",P1003,IF(MID('XML a procesar'!A1003,1,1)=\"<\",P1003,P1003+1)),P1003)","v":1}]
[{"$f":"IF('XML a procesar'!A1004>0,'XML a procesar'!A1004,\"\")","v":""},0,0,0,0,"",0,0,0,"","",0,"",0,"",{"$f":"IF(ROW()<$S$4+2,IF('XML a procesar'!A1004=\"\",P1004,IF(MID('XML a procesar'!A1004,1,1)=\"<\",P1004,P1004+1)),P1004)","v":1}]
[{"$f":"IF('XML a procesar'!A1005>0,'XML a procesar'!A1005,\"\")","v":""},0,0,0,0,"",0,0,0,"","",0,"",0,"",{"$f":"IF(ROW()<$S$4+2,IF('XML a procesar'!A1005=\"\",P1005,IF(MID('XML a procesar'!A1005,1,1)=\"<\",P1005,P1005+1)),P1005)","v":1}]
[{"$f":"IF('XML a procesar'!A1006>0,'XML a procesar'!A1006,\"\")","v":""},0,0,0,0,"",0,0,0,"","",0,"",0,"",{"$f":"IF(ROW()<$S$4+2,IF('XML a procesar'!A1006=\"\",P1006,IF(MID('XML a procesar'!A1006,1,1)=\"<\",P1006,P1006+1)),P1006)","v":1}]
[{"$f":"IF('XML a procesar'!A1007>0,'XML a procesar'!A1007,\"\")","v":""},0,0,0,0,"",0,0,0,"","",0,"",0,"",{"$f":"IF(ROW()<$S$4+2,IF('XML a procesar'!A1007=\"\",P1007,IF(MID('XML a procesar'!A1007,1,1)=\"<\",P1007,P1007+1)),P1007)","v":1}]
[{"$f":"IF('XML a procesar'!A1008>0,'XML a procesar'!A1008,\"\")","v":""},0,0,0,0,"",0,0,0,"","",0,"",0,"",{"$f":"IF(ROW()<$S$4+2,IF('XML a procesar'!A1008=\"\",P1008,IF(MID('XML a procesar'!A1008,1,1)=\"<\",P1008,P1008+1)),P1008)","v":1}]
[{"$f":"IF('XML a procesar'!A1009>0,'XML a procesar'!A1009,\"\")","v":""},0,0,0,0,"",0,0,0,"","",0,"",0,"",{"$f":"IF(ROW()<$S$4+2,IF('XML a procesar'!A1009=\"\",P1009,IF(MID('XML a procesar'!A1009,1,1)=\"<\",P1009,P1009+1)),P1009)","v":1}]
[{"$f":"IF('XML a procesar'!A1010>0,'XML a procesar'!A1010,\"\")","v":""},0,0,0,0,"",0,0,0,"","",0,"",0,"",{"$f":"IF(ROW()<$S$4+2,IF('XML a procesar'!A1010=\"\",P1010,IF(MID('XML a procesar'!A1010,1,1)=\"<\",P1010,P1010+1)),P1010)","v":1}]
[{"$f":"IF('XML a procesar'!A1011>0,'XML a procesar'!A1011,\"\")","v":""},0,0,0,0,"",0,0,0,"","",0,"",0,"",{"$f":"IF(ROW()<$S$4+2,IF('XML a procesar'!A1011=\"\",P1011,IF(MID('XML a procesar'!A1011,1,1)=\"<\",P1011,P1011+1)),P1011)","v":1}]
[{"$f":"IF('XML a procesar'!A1012>0,'XML a procesar'!A1012,\"\")","v":""},0,0,0,0,"",0,0,0,"","",0,"",0,"",{"$f":"IF(ROW()<$S$4+2,IF('XML a procesar'!A1012=\"\",P1012,IF(MID('XML a procesar'!A1012,1,1)=\"<\",P1012,P1012+1)),P1012)","v":1}]
[{"$f":"IF('XML a procesar'!A1013>0,'XML a procesar'!A1013,\"\")","v":""},0,0,0,0,"",0,0,0,"","",0,"",0,"",{"$f":"IF(ROW()<$S$4+2,IF('XML a procesar'!A1013=\"\",P1013,IF(MID('XML a procesar'!A1013,1,1)=\"<\",P1013,P1013+1)),P1013)","v":1}]
[{"$f":"IF('XML a procesar'!A1014>0,'XML a procesar'!A1014,\"\")","v":""},0,0,0,0,"",0,0,0,"","",0,"",0,"",{"$f":"IF(ROW()<$S$4+2,IF('XML a procesar'!A1014=\"\",P1014,IF(MID('XML a procesar'!A1014,1,1)=\"<\",P1014,P1014+1)),P1014)","v":1}]
[{"$f":"IF('XML a procesar'!A1015>0,'XML a procesar'!A1015,\"\")","v":""},0,0,0,0,"",0,0,0,"","",0,"",0,"",{"$f":"IF(ROW()<$S$4+2,IF('XML a procesar'!A1015=\"\",P1015,IF(MID('XML a procesar'!A1015,1,1)=\"<\",P1015,P1015+1)),P1015)","v":1}]
[{"$f":"IF('XML a procesar'!A1016>0,'XML a procesar'!A1016,\"\")","v":""},0,0,0,0,"",0,0,0,"","",0,"",0,"",{"$f":"IF(ROW()<$S$4+2,IF('XML a procesar'!A1016=\"\",P1016,IF(MID('XML a procesar'!A1016,1,1)=\"<\",P1016,P1016+1)),P1016)","v":1}]
[{"$f":"IF('XML a procesar'!A1017>0,'XML a procesar'!A1017,\"\")","v":""},0,0,0,0,"",0,0,0,"","",0,"",0,"",{"$f":"IF(ROW()<$S$4+2,IF('XML a procesar'!A1017=\"\",P1017,IF(MID('XML a procesar'!A1017,1,1)=\"<\",P1017,P1017+1)),P1017)","v":1}]
[{"$f":"IF('XML a procesar'!A1018>0,'XML a procesar'!A1018,\"\")","v":""},0,0,0,0,"",0,0,0,"","",0,"",0,"",{"$f":"IF(ROW()<$S$4+2,IF('XML a procesar'!A1018=\"\",P1018,IF(MID('XML a procesar'!A1018,1,1)=\"<\",P1018,P1018+1)),P1018)","v":1}]
[{"$f":"IF('XML a procesar'!A1019>0,'XML a procesar'!A1019,\"\")","v":""},0,0,0,0,"",0,0,0,"","",0,"",0,"",{"$f":"IF(ROW()<$S$4+2,IF('XML a procesar'!A1019=\"\",P1019,IF(MID('XML a procesar'!A1019,1,1)=\"<\",P1019,P1019+1)),P1019)","v":1}]
[{"$f":"IF('XML a procesar'!A1020>0,'XML a procesar'!A1020,\"\")","v":""},0,0,0,0,"",0,0,0,"","",0,"",0,"",{"$f":"IF(ROW()<$S$4+2,IF('XML a procesar'!A1020=\"\",P1020,IF(MID('XML a procesar'!A1020,1,1)=\"<\",P1020,P1020+1)),P1020)","v":1}]
[{"$f":"IF('XML a procesar'!A1021>0,'XML a procesar'!A1021,\"\")","v":""},0,0,0,0,"",0,0,0,"","",0,"",0,"",{"$f":"IF(ROW()<$S$4+2,IF('XML a procesar'!A1021=\"\",P1021,IF(MID('XML a procesar'!A1021,1,1)=\"<\",P1021,P1021+1)),P1021)","v":1}]
[{"$f":"IF('XML a procesar'!A1022>0,'XML a procesar'!A1022,\"\")","v":""},0,0,0,0,"",0,0,0,"","",0,"",0,"",{"$f":"IF(ROW()<$S$4+2,IF('XML a procesar'!A1022=\"\",P1022,IF(MID('XML a procesar'!A1022,1,1)=\"<\",P1022,P1022+1)),P1022)","v":1}]
[{"$f":"IF('XML a procesar'!A1023>0,'XML a procesar'!A1023,\"\")","v":""},0,0,0,0,"",0,0,0,"","",0,"",0,"",{"$f":"IF(ROW()<$S$4+2,IF('XML a procesar'!A1023=\"\",P1023,IF(MID('XML a procesar'!A1023,1,1)=\"<\",P1023,P1023+1)),P1023)","v":1}]
[{"$f":"IF('XML a procesar'!A1024>0,'XML a procesar'!A1024,\"\")","v":""},0,0,0,0,"",0,0,0,"","",0,"",0,"",{"$f":"IF(ROW()<$S$4+2,IF('XML a procesar'!A1024=\"\",P1024,IF(MID('XML a procesar'!A1024,1,1)=\"<\",P1024,P1024+1)),P1024)","v":1}]
[{"$f":"IF('XML a procesar'!A1025>0,'XML a procesar'!A1025,\"\")","v":""},0,0,0,0,"",0,0,0,"","",0,"",0,{"$f":"IF(N1026>-1,INDIRECT(ADDRESS(ROW(),13)),IF(N1026<N1025,CONCATENATE(\"<page-count count=\",CHAR(34),1+LARGE(N:N,1)-LARGE(N:N,2),CHAR(34),\"/>\"),INDIRECT(ADDRESS(ROW()-1,13))))","v":""},{"$f":"IF(ROW()<$S$4+2,IF('XML a procesar'!A1025=\"\",P1025,IF(MID('XML a procesar'!A1025,1,1)=\"<\",P1025,P1025+1)),P1025)","v":1}]
[{"$f":"IF('XML a procesar'!A1026>0,'XML a procesar'!A1026,\"\")","v":""},{"$f":"IF(ISERROR(FIND(\"/doi.org/\",A1027,1)),0,1)","v":0},0,0,0,{"$f":"INDIRECT(ADDRESS(ROW()+INDIRECT(ADDRESS(ROW()+E1027,5)),1))","v":""},0,{"$f":"IF(AND(G1026>0,G1027>G1026,NOT(ISERROR(MATCH(G1026,D:D,0)))),H1026+1,H1026)","v":0},0,"",{"$f":"IF(J1027=\"Linea_para_MAIL_creada_por_LuXML\",IF(ISERROR(MATCH(INDIRECT(ADDRESS(ROW()-G1027,7)),D:D,0)),J1027,INDIRECT(ADDRESS(MATCH(INDIRECT(ADDRESS(ROW()-G1027,7)),D:D,0),1))),J1027)","v":""},0,"",0,"",{"$f":"IF(ROW()<$S$4+2,IF('XML a procesar'!A1026=\"\",P1026,IF(MID('XML a procesar'!A1026,1,1)=\"<\",P1026,P1026+1)),P1026)","v":1}]
[{"$f":"IF('XML a procesar'!A1027>0,'XML a procesar'!A1027,\"\")","v":""},0,0,0,0,"",{"$f":"IF(LEFT(F1028,7)=\"<aff id\",_xlfn.NUMBERVALUE(MID(F1028,13,LEN(F1028)-14)),IF(F1028=\"</aff>\",G1027+1,G1027))","v":0},0,{"$f":"INDIRECT(ADDRESS(ROW()-INDIRECT(ADDRESS(ROW()-H1028,8)),8))","v":0},{"$f":"IF(J1027=\"Linea_para_MAIL_creada_por_LuXML\",\"</aff>\",IF(I1028>INDIRECT(ADDRESS(ROW()-I1028-1,8)),\"Linea_para_MAIL_creada_por_LuXML\",INDIRECT(ADDRESS(ROW()-I1028,6))))","v":""},"",{"$f":"IF(OR(MID(K1026,3,5)=\"page>\",MID(K1027,3,5)=\"page>\"),L1027,IF(OR(K1027=\"<history>\",K1028=\"<history>\"),L1027+1,L1027))","v":0},"",{"$f":"IF(N1027=-1,-1,IF(M1028=\"</counts>\",-1,IF(OR(LEFT(M1028,7)=\"<fpage>\",LEFT(M1028,7)=\"<lpage>\"),VALUE(MID(M1028,8,LEN(M1028)-15)),0)))","v":0},"",{"$f":"IF(ROW()<$S$4+2,IF('XML a procesar'!A1027=\"\",P1027,IF(MID('XML a procesar'!A1027,1,1)=\"<\",P1027,P1027+1)),P1027)","v":1}]
[{"$f":"IF('XML a procesar'!A1028>0,'XML a procesar'!A1028,\"\")","v":""},0,0,0,0,"",0,0,0,"","",0,"",0,"",{"$f":"IF(ROW()<$S$4+2,IF('XML a procesar'!A1028=\"\",P1028,IF(MID('XML a procesar'!A1028,1,1)=\"<\",P1028,P1028+1)),P1028)","v":1}]
[{"$f":"IF('XML a procesar'!A1029>0,'XML a procesar'!A1029,\"\")","v":""},0,0,0,0,"",0,0,0,"","",0,{"$f":"IF(L1030>L1029,IF(L1030=1,CONCATENATE(\"<fpage>\",$S$10,\"</fpage>\"),CONCATENATE(\"<lpage>\",$S$10+1,\"</lpage>\")),IF(ISERROR(INDIRECT(ADDRESS(ROW()-L1030,11),1)),\"\",INDIRECT(ADDRESS(ROW()-L1030,11),1)))","v":""},0,"",{"$f":"IF(ROW()<$S$4+2,IF('XML a procesar'!A1029=\"\",P1029,IF(MID('XML a procesar'!A1029,1,1)=\"<\",P1029,P1029+1)),P1029)","v":1}]
[{"$f":"IF('XML a procesar'!A1030>0,'XML a procesar'!A1030,\"\")","v":""},0,0,0,0,"",0,0,0,"","",0,"",0,"",{"$f":"IF(ROW()<$S$4+2,IF('XML a procesar'!A1030=\"\",P1030,IF(MID('XML a procesar'!A1030,1,1)=\"<\",P1030,P1030+1)),P1030)","v":1}]
[{"$f":"IF('XML a procesar'!A1031>0,'XML a procesar'!A1031,\"\")","v":""},0,0,0,0,"",0,0,0,"","",0,"",0,"",{"$f":"IF(ROW()<$S$4+2,IF('XML a procesar'!A1031=\"\",P1031,IF(MID('XML a procesar'!A1031,1,1)=\"<\",P1031,P1031+1)),P1031)","v":1}]
[{"$f":"IF('XML a procesar'!A1032>0,'XML a procesar'!A1032,\"\")","v":""},0,0,0,0,"",0,0,0,"","",0,"",0,"",{"$f":"IF(ROW()<$S$4+2,IF('XML a procesar'!A1032=\"\",P1032,IF(MID('XML a procesar'!A1032,1,1)=\"<\",P1032,P1032+1)),P1032)","v":1}]
[{"$f":"IF('XML a procesar'!A1033>0,'XML a procesar'!A1033,\"\")","v":""},0,0,0,0,"",0,0,0,"","",0,"",0,"",{"$f":"IF(ROW()<$S$4+2,IF('XML a procesar'!A1033=\"\",P1033,IF(MID('XML a procesar'!A1033,1,1)=\"<\",P1033,P1033+1)),P1033)","v":1}]
[{"$f":"IF('XML a procesar'!A1034>0,'XML a procesar'!A1034,\"\")","v":""},0,0,0,0,"",0,0,0,"","",0,"",0,"",{"$f":"IF(ROW()<$S$4+2,IF('XML a procesar'!A1034=\"\",P1034,IF(MID('XML a procesar'!A1034,1,1)=\"<\",P1034,P1034+1)),P1034)","v":1}]
[{"$f":"IF('XML a procesar'!A1035>0,'XML a procesar'!A1035,\"\")","v":""},0,0,0,0,"",0,0,0,"","",0,"",0,"",{"$f":"IF(ROW()<$S$4+2,IF('XML a procesar'!A1035=\"\",P1035,IF(MID('XML a procesar'!A1035,1,1)=\"<\",P1035,P1035+1)),P1035)","v":1}]
[{"$f":"IF('XML a procesar'!A1036>0,'XML a procesar'!A1036,\"\")","v":""},0,0,0,0,"",0,0,0,"","",0,"",0,"",{"$f":"IF(ROW()<$S$4+2,IF('XML a procesar'!A1036=\"\",P1036,IF(MID('XML a procesar'!A1036,1,1)=\"<\",P1036,P1036+1)),P1036)","v":1}]
[{"$f":"IF('XML a procesar'!A1037>0,'XML a procesar'!A1037,\"\")","v":""},0,0,0,0,"",0,0,0,"","",0,"",0,"",{"$f":"IF(ROW()<$S$4+2,IF('XML a procesar'!A1037=\"\",P1037,IF(MID('XML a procesar'!A1037,1,1)=\"<\",P1037,P1037+1)),P1037)","v":1}]
[{"$f":"IF('XML a procesar'!A1038>0,'XML a procesar'!A1038,\"\")","v":""},0,0,0,0,"",0,0,0,"","",0,"",0,"",{"$f":"IF(ROW()<$S$4+2,IF('XML a procesar'!A1038=\"\",P1038,IF(MID('XML a procesar'!A1038,1,1)=\"<\",P1038,P1038+1)),P1038)","v":1}]
[{"$f":"IF('XML a procesar'!A1039>0,'XML a procesar'!A1039,\"\")","v":""},0,0,0,0,"",0,0,0,"","",0,"",0,"",{"$f":"IF(ROW()<$S$4+2,IF('XML a procesar'!A1039=\"\",P1039,IF(MID('XML a procesar'!A1039,1,1)=\"<\",P1039,P1039+1)),P1039)","v":1}]
[{"$f":"IF('XML a procesar'!A1040>0,'XML a procesar'!A1040,\"\")","v":""},0,0,0,0,"",0,0,0,"","",0,"",0,"",{"$f":"IF(ROW()<$S$4+2,IF('XML a procesar'!A1040=\"\",P1040,IF(MID('XML a procesar'!A1040,1,1)=\"<\",P1040,P1040+1)),P1040)","v":1}]
[{"$f":"IF('XML a procesar'!A1041>0,'XML a procesar'!A1041,\"\")","v":""},0,0,0,0,"",0,0,0,"","",0,"",0,"",{"$f":"IF(ROW()<$S$4+2,IF('XML a procesar'!A1041=\"\",P1041,IF(MID('XML a procesar'!A1041,1,1)=\"<\",P1041,P1041+1)),P1041)","v":1}]
[{"$f":"IF('XML a procesar'!A1042>0,'XML a procesar'!A1042,\"\")","v":""},0,0,0,0,"",0,0,0,"","",0,"",0,"",{"$f":"IF(ROW()<$S$4+2,IF('XML a procesar'!A1042=\"\",P1042,IF(MID('XML a procesar'!A1042,1,1)=\"<\",P1042,P1042+1)),P1042)","v":1}]
[{"$f":"IF('XML a procesar'!A1043>0,'XML a procesar'!A1043,\"\")","v":""},0,0,0,0,"",0,0,0,"","",0,"",0,"",{"$f":"IF(ROW()<$S$4+2,IF('XML a procesar'!A1043=\"\",P1043,IF(MID('XML a procesar'!A1043,1,1)=\"<\",P1043,P1043+1)),P1043)","v":1}]
[{"$f":"IF('XML a procesar'!A1044>0,'XML a procesar'!A1044,\"\")","v":""},0,0,0,0,"",0,0,0,"","",0,"",0,"",{"$f":"IF(ROW()<$S$4+2,IF('XML a procesar'!A1044=\"\",P1044,IF(MID('XML a procesar'!A1044,1,1)=\"<\",P1044,P1044+1)),P1044)","v":1}]
[{"$f":"IF('XML a procesar'!A1045>0,'XML a procesar'!A1045,\"\")","v":""},0,0,0,0,"",0,0,0,"","",0,"",0,"",{"$f":"IF(ROW()<$S$4+2,IF('XML a procesar'!A1045=\"\",P1045,IF(MID('XML a procesar'!A1045,1,1)=\"<\",P1045,P1045+1)),P1045)","v":1}]
[{"$f":"IF('XML a procesar'!A1046>0,'XML a procesar'!A1046,\"\")","v":""},0,0,0,0,"",0,0,0,"","",0,"",0,"",{"$f":"IF(ROW()<$S$4+2,IF('XML a procesar'!A1046=\"\",P1046,IF(MID('XML a procesar'!A1046,1,1)=\"<\",P1046,P1046+1)),P1046)","v":1}]
[{"$f":"IF('XML a procesar'!A1047>0,'XML a procesar'!A1047,\"\")","v":""},0,0,0,0,"",0,0,0,"","",0,"",0,"",{"$f":"IF(ROW()<$S$4+2,IF('XML a procesar'!A1047=\"\",P1047,IF(MID('XML a procesar'!A1047,1,1)=\"<\",P1047,P1047+1)),P1047)","v":1}]
[{"$f":"IF('XML a procesar'!A1048>0,'XML a procesar'!A1048,\"\")","v":""},0,0,0,0,"",0,0,0,"","",0,"",0,"",{"$f":"IF(ROW()<$S$4+2,IF('XML a procesar'!A1048=\"\",P1048,IF(MID('XML a procesar'!A1048,1,1)=\"<\",P1048,P1048+1)),P1048)","v":1}]
[{"$f":"IF('XML a procesar'!A1049>0,'XML a procesar'!A1049,\"\")","v":""},0,0,0,0,"",0,0,0,"","",0,"",0,"",{"$f":"IF(ROW()<$S$4+2,IF('XML a procesar'!A1049=\"\",P1049,IF(MID('XML a procesar'!A1049,1,1)=\"<\",P1049,P1049+1)),P1049)","v":1}]
[{"$f":"IF('XML a procesar'!A1050>0,'XML a procesar'!A1050,\"\")","v":""},0,0,0,0,"",0,0,0,"","",0,"",0,"",{"$f":"IF(ROW()<$S$4+2,IF('XML a procesar'!A1050=\"\",P1050,IF(MID('XML a procesar'!A1050,1,1)=\"<\",P1050,P1050+1)),P1050)","v":1}]
[{"$f":"IF('XML a procesar'!A1051>0,'XML a procesar'!A1051,\"\")","v":""},0,0,0,0,"",0,0,0,"","",0,"",0,"",{"$f":"IF(ROW()<$S$4+2,IF('XML a procesar'!A1051=\"\",P1051,IF(MID('XML a procesar'!A1051,1,1)=\"<\",P1051,P1051+1)),P1051)","v":1}]
[{"$f":"IF('XML a procesar'!A1052>0,'XML a procesar'!A1052,\"\")","v":""},0,0,0,0,"",0,0,0,"","",0,"",0,"",{"$f":"IF(ROW()<$S$4+2,IF('XML a procesar'!A1052=\"\",P1052,IF(MID('XML a procesar'!A1052,1,1)=\"<\",P1052,P1052+1)),P1052)","v":1}]
[{"$f":"IF('XML a procesar'!A1053>0,'XML a procesar'!A1053,\"\")","v":""},0,0,0,0,"",0,0,0,"","",0,"",0,"",{"$f":"IF(ROW()<$S$4+2,IF('XML a procesar'!A1053=\"\",P1053,IF(MID('XML a procesar'!A1053,1,1)=\"<\",P1053,P1053+1)),P1053)","v":1}]
[{"$f":"IF('XML a procesar'!A1054>0,'XML a procesar'!A1054,\"\")","v":""},0,0,0,0,"",0,0,0,"","",0,"",0,"",{"$f":"IF(ROW()<$S$4+2,IF('XML a procesar'!A1054=\"\",P1054,IF(MID('XML a procesar'!A1054,1,1)=\"<\",P1054,P1054+1)),P1054)","v":1}]
[{"$f":"IF('XML a procesar'!A1055>0,'XML a procesar'!A1055,\"\")","v":""},0,0,0,0,"",0,0,0,"","",0,"",0,"",{"$f":"IF(ROW()<$S$4+2,IF('XML a procesar'!A1055=\"\",P1055,IF(MID('XML a procesar'!A1055,1,1)=\"<\",P1055,P1055+1)),P1055)","v":1}]
[{"$f":"IF('XML a procesar'!A1056>0,'XML a procesar'!A1056,\"\")","v":""},0,0,0,0,"",0,0,0,"","",0,"",0,"",{"$f":"IF(ROW()<$S$4+2,IF('XML a procesar'!A1056=\"\",P1056,IF(MID('XML a procesar'!A1056,1,1)=\"<\",P1056,P1056+1)),P1056)","v":1}]
[{"$f":"IF('XML a procesar'!A1057>0,'XML a procesar'!A1057,\"\")","v":""},0,0,0,0,"",0,0,0,"","",0,"",0,"",{"$f":"IF(ROW()<$S$4+2,IF('XML a procesar'!A1057=\"\",P1057,IF(MID('XML a procesar'!A1057,1,1)=\"<\",P1057,P1057+1)),P1057)","v":1}]
[{"$f":"IF('XML a procesar'!A1058>0,'XML a procesar'!A1058,\"\")","v":""},0,0,0,0,"",0,0,0,"","",0,"",0,"",{"$f":"IF(ROW()<$S$4+2,IF('XML a procesar'!A1058=\"\",P1058,IF(MID('XML a procesar'!A1058,1,1)=\"<\",P1058,P1058+1)),P1058)","v":1}]
[{"$f":"IF('XML a procesar'!A1059>0,'XML a procesar'!A1059,\"\")","v":""},0,0,0,0,"",0,0,0,"","",0,"",0,"",{"$f":"IF(ROW()<$S$4+2,IF('XML a procesar'!A1059=\"\",P1059,IF(MID('XML a procesar'!A1059,1,1)=\"<\",P1059,P1059+1)),P1059)","v":1}]
[{"$f":"IF('XML a procesar'!A1060>0,'XML a procesar'!A1060,\"\")","v":""},0,0,0,0,"",0,0,0,"","",0,"",0,"",{"$f":"IF(ROW()<$S$4+2,IF('XML a procesar'!A1060=\"\",P1060,IF(MID('XML a procesar'!A1060,1,1)=\"<\",P1060,P1060+1)),P1060)","v":1}]
[{"$f":"IF('XML a procesar'!A1061>0,'XML a procesar'!A1061,\"\")","v":""},0,0,0,0,"",0,0,0,"","",0,"",0,"",{"$f":"IF(ROW()<$S$4+2,IF('XML a procesar'!A1061=\"\",P1061,IF(MID('XML a procesar'!A1061,1,1)=\"<\",P1061,P1061+1)),P1061)","v":1}]
[{"$f":"IF('XML a procesar'!A1062>0,'XML a procesar'!A1062,\"\")","v":""},0,0,0,0,"",0,0,0,"","",0,"",0,"",{"$f":"IF(ROW()<$S$4+2,IF('XML a procesar'!A1062=\"\",P1062,IF(MID('XML a procesar'!A1062,1,1)=\"<\",P1062,P1062+1)),P1062)","v":1}]
[{"$f":"IF('XML a procesar'!A1063>0,'XML a procesar'!A1063,\"\")","v":""},0,0,0,0,"",0,0,0,"","",0,"",0,"",{"$f":"IF(ROW()<$S$4+2,IF('XML a procesar'!A1063=\"\",P1063,IF(MID('XML a procesar'!A1063,1,1)=\"<\",P1063,P1063+1)),P1063)","v":1}]
[{"$f":"IF('XML a procesar'!A1064>0,'XML a procesar'!A1064,\"\")","v":""},0,{"$f":"IF(LEFT(A1064,16)=\"<contrib contrib\",C1064+1,IF(LEFT(A1064,16)=\"</contrib-group>\",0,IF(LEFT(A1064,10)=\"</contrib>\",C1064,C1064)))","v":0},{"$f":"IF(AND(C1065>0,LEFT(A1065,7)=\"<email>\",ISNUMBER(SEARCH(\"@\",A1065,1))),C1065,IF(LEFT(A1065,10)=\"<alt-text>\",-1,0))","v":0},{"$f":"IF(D1065=0,E1064,E1064+1)","v":0},"",0,0,0,"","",0,"",0,"",{"$f":"IF(ROW()<$S$4+2,IF('XML a procesar'!A1064=\"\",P1064,IF(MID('XML a procesar'!A1064,1,1)=\"<\",P1064,P1064+1)),P1064)","v":1}]
[{"$f":"IF('XML a procesar'!A1065>0,'XML a procesar'!A1065,\"\")","v":""},0,0,0,0,"",0,0,0,"","",0,"",0,"",{"$f":"IF(ROW()<$S$4+2,IF('XML a procesar'!A1065=\"\",P1065,IF(MID('XML a procesar'!A1065,1,1)=\"<\",P1065,P1065+1)),P1065)","v":1}]
[{"$f":"IF('XML a procesar'!A1066>0,'XML a procesar'!A1066,\"\")","v":""},0,0,0,0,"",0,0,0,"","",0,"",0,"",{"$f":"IF(ROW()<$S$4+2,IF('XML a procesar'!A1066=\"\",P1066,IF(MID('XML a procesar'!A1066,1,1)=\"<\",P1066,P1066+1)),P1066)","v":1}]
[{"$f":"IF('XML a procesar'!A1067>0,'XML a procesar'!A1067,\"\")","v":""},0,0,0,0,"",0,0,0,"","",0,"",0,"",{"$f":"IF(ROW()<$S$4+2,IF('XML a procesar'!A1067=\"\",P1067,IF(MID('XML a procesar'!A1067,1,1)=\"<\",P1067,P1067+1)),P1067)","v":1}]
[{"$f":"IF('XML a procesar'!A1068>0,'XML a procesar'!A1068,\"\")","v":""},0,0,0,0,"",0,0,0,"","",0,"",0,"",{"$f":"IF(ROW()<$S$4+2,IF('XML a procesar'!A1068=\"\",P1068,IF(MID('XML a procesar'!A1068,1,1)=\"<\",P1068,P1068+1)),P1068)","v":1}]
[{"$f":"IF('XML a procesar'!A1069>0,'XML a procesar'!A1069,\"\")","v":""},0,0,0,0,"",0,0,0,"","",0,"",0,"",{"$f":"IF(ROW()<$S$4+2,IF('XML a procesar'!A1069=\"\",P1069,IF(MID('XML a procesar'!A1069,1,1)=\"<\",P1069,P1069+1)),P1069)","v":1}]
[{"$f":"IF('XML a procesar'!A1070>0,'XML a procesar'!A1070,\"\")","v":""},0,0,0,0,"",0,0,0,"","",0,"",0,"",{"$f":"IF(ROW()<$S$4+2,IF('XML a procesar'!A1070=\"\",P1070,IF(MID('XML a procesar'!A1070,1,1)=\"<\",P1070,P1070+1)),P1070)","v":1}]
[{"$f":"IF('XML a procesar'!A1071>0,'XML a procesar'!A1071,\"\")","v":""},0,0,0,0,"",0,0,0,"","",0,"",0,"",{"$f":"IF(ROW()<$S$4+2,IF('XML a procesar'!A1071=\"\",P1071,IF(MID('XML a procesar'!A1071,1,1)=\"<\",P1071,P1071+1)),P1071)","v":1}]
[{"$f":"IF('XML a procesar'!A1072>0,'XML a procesar'!A1072,\"\")","v":""},0,0,0,0,"",0,0,0,"","",0,"",0,"",{"$f":"IF(ROW()<$S$4+2,IF('XML a procesar'!A1072=\"\",P1072,IF(MID('XML a procesar'!A1072,1,1)=\"<\",P1072,P1072+1)),P1072)","v":1}]
[{"$f":"IF('XML a procesar'!A1073>0,'XML a procesar'!A1073,\"\")","v":""},0,0,0,0,"",0,0,0,"","",0,"",0,"",{"$f":"IF(ROW()<$S$4+2,IF('XML a procesar'!A1073=\"\",P1073,IF(MID('XML a procesar'!A1073,1,1)=\"<\",P1073,P1073+1)),P1073)","v":1}]
[{"$f":"IF('XML a procesar'!A1074>0,'XML a procesar'!A1074,\"\")","v":""},0,0,0,0,"",0,0,0,"","",0,"",0,"",{"$f":"IF(ROW()<$S$4+2,IF('XML a procesar'!A1074=\"\",P1074,IF(MID('XML a procesar'!A1074,1,1)=\"<\",P1074,P1074+1)),P1074)","v":1}]
[{"$f":"IF('XML a procesar'!A1075>0,'XML a procesar'!A1075,\"\")","v":""},0,0,0,0,"",0,0,0,"","",0,"",0,"",{"$f":"IF(ROW()<$S$4+2,IF('XML a procesar'!A1075=\"\",P1075,IF(MID('XML a procesar'!A1075,1,1)=\"<\",P1075,P1075+1)),P1075)","v":1}]
[{"$f":"IF('XML a procesar'!A1076>0,'XML a procesar'!A1076,\"\")","v":""},0,0,0,0,"",0,0,0,"","",0,"",0,"",{"$f":"IF(ROW()<$S$4+2,IF('XML a procesar'!A1076=\"\",P1076,IF(MID('XML a procesar'!A1076,1,1)=\"<\",P1076,P1076+1)),P1076)","v":1}]
[{"$f":"IF('XML a procesar'!A1077>0,'XML a procesar'!A1077,\"\")","v":""},0,0,0,0,"",0,0,0,"","",0,"",0,"",{"$f":"IF(ROW()<$S$4+2,IF('XML a procesar'!A1077=\"\",P1077,IF(MID('XML a procesar'!A1077,1,1)=\"<\",P1077,P1077+1)),P1077)","v":1}]
[{"$f":"IF('XML a procesar'!A1078>0,'XML a procesar'!A1078,\"\")","v":""},0,0,0,0,"",0,0,0,"","",0,"",0,"",{"$f":"IF(ROW()<$S$4+2,IF('XML a procesar'!A1078=\"\",P1078,IF(MID('XML a procesar'!A1078,1,1)=\"<\",P1078,P1078+1)),P1078)","v":1}]
[{"$f":"IF('XML a procesar'!A1079>0,'XML a procesar'!A1079,\"\")","v":""},0,0,0,0,"",0,0,0,"","",0,"",0,"",{"$f":"IF(ROW()<$S$4+2,IF('XML a procesar'!A1079=\"\",P1079,IF(MID('XML a procesar'!A1079,1,1)=\"<\",P1079,P1079+1)),P1079)","v":1}]
[{"$f":"IF('XML a procesar'!A1080>0,'XML a procesar'!A1080,\"\")","v":""},0,0,0,0,"",0,0,0,"","",0,"",0,"",{"$f":"IF(ROW()<$S$4+2,IF('XML a procesar'!A1080=\"\",P1080,IF(MID('XML a procesar'!A1080,1,1)=\"<\",P1080,P1080+1)),P1080)","v":1}]
[{"$f":"IF('XML a procesar'!A1081>0,'XML a procesar'!A1081,\"\")","v":""},0,0,0,0,"",0,0,0,"","",0,"",0,"",{"$f":"IF(ROW()<$S$4+2,IF('XML a procesar'!A1081=\"\",P1081,IF(MID('XML a procesar'!A1081,1,1)=\"<\",P1081,P1081+1)),P1081)","v":1}]
[{"$f":"IF('XML a procesar'!A1082>0,'XML a procesar'!A1082,\"\")","v":""},0,0,0,0,"",0,0,0,"","",0,"",0,"",{"$f":"IF(ROW()<$S$4+2,IF('XML a procesar'!A1082=\"\",P1082,IF(MID('XML a procesar'!A1082,1,1)=\"<\",P1082,P1082+1)),P1082)","v":1}]
[{"$f":"IF('XML a procesar'!A1083>0,'XML a procesar'!A1083,\"\")","v":""},0,0,0,0,"",0,0,0,"","",0,"",0,"",{"$f":"IF(ROW()<$S$4+2,IF('XML a procesar'!A1083=\"\",P1083,IF(MID('XML a procesar'!A1083,1,1)=\"<\",P1083,P1083+1)),P1083)","v":1}]
[{"$f":"IF('XML a procesar'!A1084>0,'XML a procesar'!A1084,\"\")","v":""},0,0,0,0,"",0,0,0,"","",0,"",0,"",{"$f":"IF(ROW()<$S$4+2,IF('XML a procesar'!A1084=\"\",P1084,IF(MID('XML a procesar'!A1084,1,1)=\"<\",P1084,P1084+1)),P1084)","v":1}]
[{"$f":"IF('XML a procesar'!A1085>0,'XML a procesar'!A1085,\"\")","v":""},0,0,0,0,"",0,0,0,"","",0,"",0,"",{"$f":"IF(ROW()<$S$4+2,IF('XML a procesar'!A1085=\"\",P1085,IF(MID('XML a procesar'!A1085,1,1)=\"<\",P1085,P1085+1)),P1085)","v":1}]
[{"$f":"IF('XML a procesar'!A1086>0,'XML a procesar'!A1086,\"\")","v":""},0,0,0,0,"",0,0,0,"","",0,"",0,"",{"$f":"IF(ROW()<$S$4+2,IF('XML a procesar'!A1086=\"\",P1086,IF(MID('XML a procesar'!A1086,1,1)=\"<\",P1086,P1086+1)),P1086)","v":1}]
[{"$f":"IF('XML a procesar'!A1087>0,'XML a procesar'!A1087,\"\")","v":""},0,0,0,0,"",0,0,0,"","",0,"",0,"",{"$f":"IF(ROW()<$S$4+2,IF('XML a procesar'!A1087=\"\",P1087,IF(MID('XML a procesar'!A1087,1,1)=\"<\",P1087,P1087+1)),P1087)","v":1}]
[{"$f":"IF('XML a procesar'!A1088>0,'XML a procesar'!A1088,\"\")","v":""},0,0,0,0,"",0,0,0,"","",0,"",0,"",{"$f":"IF(ROW()<$S$4+2,IF('XML a procesar'!A1088=\"\",P1088,IF(MID('XML a procesar'!A1088,1,1)=\"<\",P1088,P1088+1)),P1088)","v":1}]
[{"$f":"IF('XML a procesar'!A1089>0,'XML a procesar'!A1089,\"\")","v":""},0,0,0,0,"",0,0,0,"","",0,"",0,{"$f":"IF(N1090>-1,INDIRECT(ADDRESS(ROW(),13)),IF(N1090<N1089,CONCATENATE(\"<page-count count=\",CHAR(34),1+LARGE(N:N,1)-LARGE(N:N,2),CHAR(34),\"/>\"),INDIRECT(ADDRESS(ROW()-1,13))))","v":""},{"$f":"IF(ROW()<$S$4+2,IF('XML a procesar'!A1089=\"\",P1089,IF(MID('XML a procesar'!A1089,1,1)=\"<\",P1089,P1089+1)),P1089)","v":1}]
[{"$f":"IF('XML a procesar'!A1090>0,'XML a procesar'!A1090,\"\")","v":""},{"$f":"IF(ISERROR(FIND(\"/doi.org/\",A1091,1)),0,1)","v":0},0,0,0,{"$f":"INDIRECT(ADDRESS(ROW()+INDIRECT(ADDRESS(ROW()+E1091,5)),1))","v":""},0,{"$f":"IF(AND(G1090>0,G1091>G1090,NOT(ISERROR(MATCH(G1090,D:D,0)))),H1090+1,H1090)","v":0},0,"",{"$f":"IF(J1091=\"Linea_para_MAIL_creada_por_LuXML\",IF(ISERROR(MATCH(INDIRECT(ADDRESS(ROW()-G1091,7)),D:D,0)),J1091,INDIRECT(ADDRESS(MATCH(INDIRECT(ADDRESS(ROW()-G1091,7)),D:D,0),1))),J1091)","v":""},0,"",0,"",{"$f":"IF(ROW()<$S$4+2,IF('XML a procesar'!A1090=\"\",P1090,IF(MID('XML a procesar'!A1090,1,1)=\"<\",P1090,P1090+1)),P1090)","v":1}]
[{"$f":"IF('XML a procesar'!A1091>0,'XML a procesar'!A1091,\"\")","v":""},0,0,0,0,"",{"$f":"IF(LEFT(F1092,7)=\"<aff id\",_xlfn.NUMBERVALUE(MID(F1092,13,LEN(F1092)-14)),IF(F1092=\"</aff>\",G1091+1,G1091))","v":0},0,{"$f":"INDIRECT(ADDRESS(ROW()-INDIRECT(ADDRESS(ROW()-H1092,8)),8))","v":0},{"$f":"IF(J1091=\"Linea_para_MAIL_creada_por_LuXML\",\"</aff>\",IF(I1092>INDIRECT(ADDRESS(ROW()-I1092-1,8)),\"Linea_para_MAIL_creada_por_LuXML\",INDIRECT(ADDRESS(ROW()-I1092,6))))","v":""},"",{"$f":"IF(OR(MID(K1090,3,5)=\"page>\",MID(K1091,3,5)=\"page>\"),L1091,IF(OR(K1091=\"<history>\",K1092=\"<history>\"),L1091+1,L1091))","v":0},"",{"$f":"IF(N1091=-1,-1,IF(M1092=\"</counts>\",-1,IF(OR(LEFT(M1092,7)=\"<fpage>\",LEFT(M1092,7)=\"<lpage>\"),VALUE(MID(M1092,8,LEN(M1092)-15)),0)))","v":0},"",{"$f":"IF(ROW()<$S$4+2,IF('XML a procesar'!A1091=\"\",P1091,IF(MID('XML a procesar'!A1091,1,1)=\"<\",P1091,P1091+1)),P1091)","v":1}]
[{"$f":"IF('XML a procesar'!A1092>0,'XML a procesar'!A1092,\"\")","v":""},0,0,0,0,"",0,0,0,"","",0,"",0,"",{"$f":"IF(ROW()<$S$4+2,IF('XML a procesar'!A1092=\"\",P1092,IF(MID('XML a procesar'!A1092,1,1)=\"<\",P1092,P1092+1)),P1092)","v":1}]
[{"$f":"IF('XML a procesar'!A1093>0,'XML a procesar'!A1093,\"\")","v":""},0,0,0,0,"",0,0,0,"","",0,{"$f":"IF(L1094>L1093,IF(L1094=1,CONCATENATE(\"<fpage>\",$S$10,\"</fpage>\"),CONCATENATE(\"<lpage>\",$S$10+1,\"</lpage>\")),IF(ISERROR(INDIRECT(ADDRESS(ROW()-L1094,11),1)),\"\",INDIRECT(ADDRESS(ROW()-L1094,11),1)))","v":""},0,"",{"$f":"IF(ROW()<$S$4+2,IF('XML a procesar'!A1093=\"\",P1093,IF(MID('XML a procesar'!A1093,1,1)=\"<\",P1093,P1093+1)),P1093)","v":1}]
[{"$f":"IF('XML a procesar'!A1094>0,'XML a procesar'!A1094,\"\")","v":""},0,0,0,0,"",0,0,0,"","",0,"",0,"",{"$f":"IF(ROW()<$S$4+2,IF('XML a procesar'!A1094=\"\",P1094,IF(MID('XML a procesar'!A1094,1,1)=\"<\",P1094,P1094+1)),P1094)","v":1}]
[{"$f":"IF('XML a procesar'!A1095>0,'XML a procesar'!A1095,\"\")","v":""},0,0,0,0,"",0,0,0,"","",0,"",0,"",{"$f":"IF(ROW()<$S$4+2,IF('XML a procesar'!A1095=\"\",P1095,IF(MID('XML a procesar'!A1095,1,1)=\"<\",P1095,P1095+1)),P1095)","v":1}]
[{"$f":"IF('XML a procesar'!A1096>0,'XML a procesar'!A1096,\"\")","v":""},0,0,0,0,"",0,0,0,"","",0,"",0,"",{"$f":"IF(ROW()<$S$4+2,IF('XML a procesar'!A1096=\"\",P1096,IF(MID('XML a procesar'!A1096,1,1)=\"<\",P1096,P1096+1)),P1096)","v":1}]
[{"$f":"IF('XML a procesar'!A1097>0,'XML a procesar'!A1097,\"\")","v":""},0,0,0,0,"",0,0,0,"","",0,"",0,"",{"$f":"IF(ROW()<$S$4+2,IF('XML a procesar'!A1097=\"\",P1097,IF(MID('XML a procesar'!A1097,1,1)=\"<\",P1097,P1097+1)),P1097)","v":1}]
[{"$f":"IF('XML a procesar'!A1098>0,'XML a procesar'!A1098,\"\")","v":""},0,0,0,0,"",0,0,0,"","",0,"",0,"",{"$f":"IF(ROW()<$S$4+2,IF('XML a procesar'!A1098=\"\",P1098,IF(MID('XML a procesar'!A1098,1,1)=\"<\",P1098,P1098+1)),P1098)","v":1}]
[{"$f":"IF('XML a procesar'!A1099>0,'XML a procesar'!A1099,\"\")","v":""},0,0,0,0,"",0,0,0,"","",0,"",0,"",{"$f":"IF(ROW()<$S$4+2,IF('XML a procesar'!A1099=\"\",P1099,IF(MID('XML a procesar'!A1099,1,1)=\"<\",P1099,P1099+1)),P1099)","v":1}]
[{"$f":"IF('XML a procesar'!A1100>0,'XML a procesar'!A1100,\"\")","v":""},0,0,0,0,"",0,0,0,"","",0,"",0,"",{"$f":"IF(ROW()<$S$4+2,IF('XML a procesar'!A1100=\"\",P1100,IF(MID('XML a procesar'!A1100,1,1)=\"<\",P1100,P1100+1)),P1100)","v":1}]
[{"$f":"IF('XML a procesar'!A1101>0,'XML a procesar'!A1101,\"\")","v":""},0,0,0,0,"",0,0,0,"","",0,"",0,"",{"$f":"IF(ROW()<$S$4+2,IF('XML a procesar'!A1101=\"\",P1101,IF(MID('XML a procesar'!A1101,1,1)=\"<\",P1101,P1101+1)),P1101)","v":1}]
[{"$f":"IF('XML a procesar'!A1102>0,'XML a procesar'!A1102,\"\")","v":""},0,0,0,0,"",0,0,0,"","",0,"",0,"",{"$f":"IF(ROW()<$S$4+2,IF('XML a procesar'!A1102=\"\",P1102,IF(MID('XML a procesar'!A1102,1,1)=\"<\",P1102,P1102+1)),P1102)","v":1}]
[{"$f":"IF('XML a procesar'!A1103>0,'XML a procesar'!A1103,\"\")","v":""},0,0,0,0,"",0,0,0,"","",0,"",0,"",{"$f":"IF(ROW()<$S$4+2,IF('XML a procesar'!A1103=\"\",P1103,IF(MID('XML a procesar'!A1103,1,1)=\"<\",P1103,P1103+1)),P1103)","v":1}]
[{"$f":"IF('XML a procesar'!A1104>0,'XML a procesar'!A1104,\"\")","v":""},0,0,0,0,"",0,0,0,"","",0,"",0,"",{"$f":"IF(ROW()<$S$4+2,IF('XML a procesar'!A1104=\"\",P1104,IF(MID('XML a procesar'!A1104,1,1)=\"<\",P1104,P1104+1)),P1104)","v":1}]
[{"$f":"IF('XML a procesar'!A1105>0,'XML a procesar'!A1105,\"\")","v":""},0,0,0,0,"",0,0,0,"","",0,"",0,"",{"$f":"IF(ROW()<$S$4+2,IF('XML a procesar'!A1105=\"\",P1105,IF(MID('XML a procesar'!A1105,1,1)=\"<\",P1105,P1105+1)),P1105)","v":1}]
[{"$f":"IF('XML a procesar'!A1106>0,'XML a procesar'!A1106,\"\")","v":""},0,0,0,0,"",0,0,0,"","",0,"",0,"",{"$f":"IF(ROW()<$S$4+2,IF('XML a procesar'!A1106=\"\",P1106,IF(MID('XML a procesar'!A1106,1,1)=\"<\",P1106,P1106+1)),P1106)","v":1}]
[{"$f":"IF('XML a procesar'!A1107>0,'XML a procesar'!A1107,\"\")","v":""},0,0,0,0,"",0,0,0,"","",0,"",0,"",{"$f":"IF(ROW()<$S$4+2,IF('XML a procesar'!A1107=\"\",P1107,IF(MID('XML a procesar'!A1107,1,1)=\"<\",P1107,P1107+1)),P1107)","v":1}]
[{"$f":"IF('XML a procesar'!A1108>0,'XML a procesar'!A1108,\"\")","v":""},0,0,0,0,"",0,0,0,"","",0,"",0,"",{"$f":"IF(ROW()<$S$4+2,IF('XML a procesar'!A1108=\"\",P1108,IF(MID('XML a procesar'!A1108,1,1)=\"<\",P1108,P1108+1)),P1108)","v":1}]
[{"$f":"IF('XML a procesar'!A1109>0,'XML a procesar'!A1109,\"\")","v":""},0,0,0,0,"",0,0,0,"","",0,"",0,"",{"$f":"IF(ROW()<$S$4+2,IF('XML a procesar'!A1109=\"\",P1109,IF(MID('XML a procesar'!A1109,1,1)=\"<\",P1109,P1109+1)),P1109)","v":1}]
[{"$f":"IF('XML a procesar'!A1110>0,'XML a procesar'!A1110,\"\")","v":""},0,0,0,0,"",0,0,0,"","",0,"",0,"",{"$f":"IF(ROW()<$S$4+2,IF('XML a procesar'!A1110=\"\",P1110,IF(MID('XML a procesar'!A1110,1,1)=\"<\",P1110,P1110+1)),P1110)","v":1}]
[{"$f":"IF('XML a procesar'!A1111>0,'XML a procesar'!A1111,\"\")","v":""},0,0,0,0,"",0,0,0,"","",0,"",0,"",{"$f":"IF(ROW()<$S$4+2,IF('XML a procesar'!A1111=\"\",P1111,IF(MID('XML a procesar'!A1111,1,1)=\"<\",P1111,P1111+1)),P1111)","v":1}]
[{"$f":"IF('XML a procesar'!A1112>0,'XML a procesar'!A1112,\"\")","v":""},0,0,0,0,"",0,0,0,"","",0,"",0,"",{"$f":"IF(ROW()<$S$4+2,IF('XML a procesar'!A1112=\"\",P1112,IF(MID('XML a procesar'!A1112,1,1)=\"<\",P1112,P1112+1)),P1112)","v":1}]
[{"$f":"IF('XML a procesar'!A1113>0,'XML a procesar'!A1113,\"\")","v":""},0,0,0,0,"",0,0,0,"","",0,"",0,"",{"$f":"IF(ROW()<$S$4+2,IF('XML a procesar'!A1113=\"\",P1113,IF(MID('XML a procesar'!A1113,1,1)=\"<\",P1113,P1113+1)),P1113)","v":1}]
[{"$f":"IF('XML a procesar'!A1114>0,'XML a procesar'!A1114,\"\")","v":""},0,0,0,0,"",0,0,0,"","",0,"",0,"",{"$f":"IF(ROW()<$S$4+2,IF('XML a procesar'!A1114=\"\",P1114,IF(MID('XML a procesar'!A1114,1,1)=\"<\",P1114,P1114+1)),P1114)","v":1}]
[{"$f":"IF('XML a procesar'!A1115>0,'XML a procesar'!A1115,\"\")","v":""},0,0,0,0,"",0,0,0,"","",0,"",0,"",{"$f":"IF(ROW()<$S$4+2,IF('XML a procesar'!A1115=\"\",P1115,IF(MID('XML a procesar'!A1115,1,1)=\"<\",P1115,P1115+1)),P1115)","v":1}]
[{"$f":"IF('XML a procesar'!A1116>0,'XML a procesar'!A1116,\"\")","v":""},0,0,0,0,"",0,0,0,"","",0,"",0,"",{"$f":"IF(ROW()<$S$4+2,IF('XML a procesar'!A1116=\"\",P1116,IF(MID('XML a procesar'!A1116,1,1)=\"<\",P1116,P1116+1)),P1116)","v":1}]
[{"$f":"IF('XML a procesar'!A1117>0,'XML a procesar'!A1117,\"\")","v":""},0,0,0,0,"",0,0,0,"","",0,"",0,"",{"$f":"IF(ROW()<$S$4+2,IF('XML a procesar'!A1117=\"\",P1117,IF(MID('XML a procesar'!A1117,1,1)=\"<\",P1117,P1117+1)),P1117)","v":1}]
[{"$f":"IF('XML a procesar'!A1118>0,'XML a procesar'!A1118,\"\")","v":""},0,0,0,0,"",0,0,0,"","",0,"",0,"",{"$f":"IF(ROW()<$S$4+2,IF('XML a procesar'!A1118=\"\",P1118,IF(MID('XML a procesar'!A1118,1,1)=\"<\",P1118,P1118+1)),P1118)","v":1}]
[{"$f":"IF('XML a procesar'!A1119>0,'XML a procesar'!A1119,\"\")","v":""},0,0,0,0,"",0,0,0,"","",0,"",0,"",{"$f":"IF(ROW()<$S$4+2,IF('XML a procesar'!A1119=\"\",P1119,IF(MID('XML a procesar'!A1119,1,1)=\"<\",P1119,P1119+1)),P1119)","v":1}]
[{"$f":"IF('XML a procesar'!A1120>0,'XML a procesar'!A1120,\"\")","v":""},0,0,0,0,"",0,0,0,"","",0,"",0,"",{"$f":"IF(ROW()<$S$4+2,IF('XML a procesar'!A1120=\"\",P1120,IF(MID('XML a procesar'!A1120,1,1)=\"<\",P1120,P1120+1)),P1120)","v":1}]
[{"$f":"IF('XML a procesar'!A1121>0,'XML a procesar'!A1121,\"\")","v":""},0,0,0,0,"",0,0,0,"","",0,"",0,"",{"$f":"IF(ROW()<$S$4+2,IF('XML a procesar'!A1121=\"\",P1121,IF(MID('XML a procesar'!A1121,1,1)=\"<\",P1121,P1121+1)),P1121)","v":1}]
[{"$f":"IF('XML a procesar'!A1122>0,'XML a procesar'!A1122,\"\")","v":""},0,0,0,0,"",0,0,0,"","",0,"",0,"",{"$f":"IF(ROW()<$S$4+2,IF('XML a procesar'!A1122=\"\",P1122,IF(MID('XML a procesar'!A1122,1,1)=\"<\",P1122,P1122+1)),P1122)","v":1}]
[{"$f":"IF('XML a procesar'!A1123>0,'XML a procesar'!A1123,\"\")","v":""},0,0,0,0,"",0,0,0,"","",0,"",0,"",{"$f":"IF(ROW()<$S$4+2,IF('XML a procesar'!A1123=\"\",P1123,IF(MID('XML a procesar'!A1123,1,1)=\"<\",P1123,P1123+1)),P1123)","v":1}]
[{"$f":"IF('XML a procesar'!A1124>0,'XML a procesar'!A1124,\"\")","v":""},0,0,0,0,"",0,0,0,"","",0,"",0,"",{"$f":"IF(ROW()<$S$4+2,IF('XML a procesar'!A1124=\"\",P1124,IF(MID('XML a procesar'!A1124,1,1)=\"<\",P1124,P1124+1)),P1124)","v":1}]
[{"$f":"IF('XML a procesar'!A1125>0,'XML a procesar'!A1125,\"\")","v":""},0,0,0,0,"",0,0,0,"","",0,"",0,"",{"$f":"IF(ROW()<$S$4+2,IF('XML a procesar'!A1125=\"\",P1125,IF(MID('XML a procesar'!A1125,1,1)=\"<\",P1125,P1125+1)),P1125)","v":1}]
[{"$f":"IF('XML a procesar'!A1126>0,'XML a procesar'!A1126,\"\")","v":""},0,0,0,0,"",0,0,0,"","",0,"",0,"",{"$f":"IF(ROW()<$S$4+2,IF('XML a procesar'!A1126=\"\",P1126,IF(MID('XML a procesar'!A1126,1,1)=\"<\",P1126,P1126+1)),P1126)","v":1}]
[{"$f":"IF('XML a procesar'!A1127>0,'XML a procesar'!A1127,\"\")","v":""},0,0,0,0,"",0,0,0,"","",0,"",0,"",{"$f":"IF(ROW()<$S$4+2,IF('XML a procesar'!A1127=\"\",P1127,IF(MID('XML a procesar'!A1127,1,1)=\"<\",P1127,P1127+1)),P1127)","v":1}]
[{"$f":"IF('XML a procesar'!A1128>0,'XML a procesar'!A1128,\"\")","v":""},0,{"$f":"IF(LEFT(A1128,16)=\"<contrib contrib\",C1128+1,IF(LEFT(A1128,16)=\"</contrib-group>\",0,IF(LEFT(A1128,10)=\"</contrib>\",C1128,C1128)))","v":0},{"$f":"IF(AND(C1129>0,LEFT(A1129,7)=\"<email>\",ISNUMBER(SEARCH(\"@\",A1129,1))),C1129,IF(LEFT(A1129,10)=\"<alt-text>\",-1,0))","v":0},{"$f":"IF(D1129=0,E1128,E1128+1)","v":0},"",0,0,0,"","",0,"",0,"",{"$f":"IF(ROW()<$S$4+2,IF('XML a procesar'!A1128=\"\",P1128,IF(MID('XML a procesar'!A1128,1,1)=\"<\",P1128,P1128+1)),P1128)","v":1}]
[{"$f":"IF('XML a procesar'!A1129>0,'XML a procesar'!A1129,\"\")","v":""},0,0,0,0,"",0,0,0,"","",0,"",0,"",{"$f":"IF(ROW()<$S$4+2,IF('XML a procesar'!A1129=\"\",P1129,IF(MID('XML a procesar'!A1129,1,1)=\"<\",P1129,P1129+1)),P1129)","v":1}]
[{"$f":"IF('XML a procesar'!A1130>0,'XML a procesar'!A1130,\"\")","v":""},0,0,0,0,"",0,0,0,"","",0,"",0,"",{"$f":"IF(ROW()<$S$4+2,IF('XML a procesar'!A1130=\"\",P1130,IF(MID('XML a procesar'!A1130,1,1)=\"<\",P1130,P1130+1)),P1130)","v":1}]
[{"$f":"IF('XML a procesar'!A1131>0,'XML a procesar'!A1131,\"\")","v":""},0,0,0,0,"",0,0,0,"","",0,"",0,"",{"$f":"IF(ROW()<$S$4+2,IF('XML a procesar'!A1131=\"\",P1131,IF(MID('XML a procesar'!A1131,1,1)=\"<\",P1131,P1131+1)),P1131)","v":1}]
[{"$f":"IF('XML a procesar'!A1132>0,'XML a procesar'!A1132,\"\")","v":""},0,0,0,0,"",0,0,0,"","",0,"",0,"",{"$f":"IF(ROW()<$S$4+2,IF('XML a procesar'!A1132=\"\",P1132,IF(MID('XML a procesar'!A1132,1,1)=\"<\",P1132,P1132+1)),P1132)","v":1}]
[{"$f":"IF('XML a procesar'!A1133>0,'XML a procesar'!A1133,\"\")","v":""},0,0,0,0,"",0,0,0,"","",0,"",0,"",{"$f":"IF(ROW()<$S$4+2,IF('XML a procesar'!A1133=\"\",P1133,IF(MID('XML a procesar'!A1133,1,1)=\"<\",P1133,P1133+1)),P1133)","v":1}]
[{"$f":"IF('XML a procesar'!A1134>0,'XML a procesar'!A1134,\"\")","v":""},0,0,0,0,"",0,0,0,"","",0,"",0,"",{"$f":"IF(ROW()<$S$4+2,IF('XML a procesar'!A1134=\"\",P1134,IF(MID('XML a procesar'!A1134,1,1)=\"<\",P1134,P1134+1)),P1134)","v":1}]
[{"$f":"IF('XML a procesar'!A1135>0,'XML a procesar'!A1135,\"\")","v":""},0,0,0,0,"",0,0,0,"","",0,"",0,"",{"$f":"IF(ROW()<$S$4+2,IF('XML a procesar'!A1135=\"\",P1135,IF(MID('XML a procesar'!A1135,1,1)=\"<\",P1135,P1135+1)),P1135)","v":1}]
[{"$f":"IF('XML a procesar'!A1136>0,'XML a procesar'!A1136,\"\")","v":""},0,0,0,0,"",0,0,0,"","",0,"",0,"",{"$f":"IF(ROW()<$S$4+2,IF('XML a procesar'!A1136=\"\",P1136,IF(MID('XML a procesar'!A1136,1,1)=\"<\",P1136,P1136+1)),P1136)","v":1}]
[{"$f":"IF('XML a procesar'!A1137>0,'XML a procesar'!A1137,\"\")","v":""},0,0,0,0,"",0,0,0,"","",0,"",0,"",{"$f":"IF(ROW()<$S$4+2,IF('XML a procesar'!A1137=\"\",P1137,IF(MID('XML a procesar'!A1137,1,1)=\"<\",P1137,P1137+1)),P1137)","v":1}]
[{"$f":"IF('XML a procesar'!A1138>0,'XML a procesar'!A1138,\"\")","v":""},0,0,0,0,"",0,0,0,"","",0,"",0,"",{"$f":"IF(ROW()<$S$4+2,IF('XML a procesar'!A1138=\"\",P1138,IF(MID('XML a procesar'!A1138,1,1)=\"<\",P1138,P1138+1)),P1138)","v":1}]
[{"$f":"IF('XML a procesar'!A1139>0,'XML a procesar'!A1139,\"\")","v":""},0,0,0,0,"",0,0,0,"","",0,"",0,"",{"$f":"IF(ROW()<$S$4+2,IF('XML a procesar'!A1139=\"\",P1139,IF(MID('XML a procesar'!A1139,1,1)=\"<\",P1139,P1139+1)),P1139)","v":1}]
[{"$f":"IF('XML a procesar'!A1140>0,'XML a procesar'!A1140,\"\")","v":""},0,0,0,0,"",0,0,0,"","",0,"",0,"",{"$f":"IF(ROW()<$S$4+2,IF('XML a procesar'!A1140=\"\",P1140,IF(MID('XML a procesar'!A1140,1,1)=\"<\",P1140,P1140+1)),P1140)","v":1}]
[{"$f":"IF('XML a procesar'!A1141>0,'XML a procesar'!A1141,\"\")","v":""},0,0,0,0,"",0,0,0,"","",0,"",0,"",{"$f":"IF(ROW()<$S$4+2,IF('XML a procesar'!A1141=\"\",P1141,IF(MID('XML a procesar'!A1141,1,1)=\"<\",P1141,P1141+1)),P1141)","v":1}]
[{"$f":"IF('XML a procesar'!A1142>0,'XML a procesar'!A1142,\"\")","v":""},0,0,0,0,"",0,0,0,"","",0,"",0,"",{"$f":"IF(ROW()<$S$4+2,IF('XML a procesar'!A1142=\"\",P1142,IF(MID('XML a procesar'!A1142,1,1)=\"<\",P1142,P1142+1)),P1142)","v":1}]
[{"$f":"IF('XML a procesar'!A1143>0,'XML a procesar'!A1143,\"\")","v":""},0,0,0,0,"",0,0,0,"","",0,"",0,"",{"$f":"IF(ROW()<$S$4+2,IF('XML a procesar'!A1143=\"\",P1143,IF(MID('XML a procesar'!A1143,1,1)=\"<\",P1143,P1143+1)),P1143)","v":1}]
[{"$f":"IF('XML a procesar'!A1144>0,'XML a procesar'!A1144,\"\")","v":""},0,0,0,0,"",0,0,0,"","",0,"",0,"",{"$f":"IF(ROW()<$S$4+2,IF('XML a procesar'!A1144=\"\",P1144,IF(MID('XML a procesar'!A1144,1,1)=\"<\",P1144,P1144+1)),P1144)","v":1}]
[{"$f":"IF('XML a procesar'!A1145>0,'XML a procesar'!A1145,\"\")","v":""},0,0,0,0,"",0,0,0,"","",0,"",0,"",{"$f":"IF(ROW()<$S$4+2,IF('XML a procesar'!A1145=\"\",P1145,IF(MID('XML a procesar'!A1145,1,1)=\"<\",P1145,P1145+1)),P1145)","v":1}]
[{"$f":"IF('XML a procesar'!A1146>0,'XML a procesar'!A1146,\"\")","v":""},0,0,0,0,"",0,0,0,"","",0,"",0,"",{"$f":"IF(ROW()<$S$4+2,IF('XML a procesar'!A1146=\"\",P1146,IF(MID('XML a procesar'!A1146,1,1)=\"<\",P1146,P1146+1)),P1146)","v":1}]
[{"$f":"IF('XML a procesar'!A1147>0,'XML a procesar'!A1147,\"\")","v":""},0,0,0,0,"",0,0,0,"","",0,"",0,"",{"$f":"IF(ROW()<$S$4+2,IF('XML a procesar'!A1147=\"\",P1147,IF(MID('XML a procesar'!A1147,1,1)=\"<\",P1147,P1147+1)),P1147)","v":1}]
[{"$f":"IF('XML a procesar'!A1148>0,'XML a procesar'!A1148,\"\")","v":""},0,0,0,0,"",0,0,0,"","",0,"",0,"",{"$f":"IF(ROW()<$S$4+2,IF('XML a procesar'!A1148=\"\",P1148,IF(MID('XML a procesar'!A1148,1,1)=\"<\",P1148,P1148+1)),P1148)","v":1}]
[{"$f":"IF('XML a procesar'!A1149>0,'XML a procesar'!A1149,\"\")","v":""},0,0,0,0,"",0,0,0,"","",0,"",0,"",{"$f":"IF(ROW()<$S$4+2,IF('XML a procesar'!A1149=\"\",P1149,IF(MID('XML a procesar'!A1149,1,1)=\"<\",P1149,P1149+1)),P1149)","v":1}]
[{"$f":"IF('XML a procesar'!A1150>0,'XML a procesar'!A1150,\"\")","v":""},0,0,0,0,"",0,0,0,"","",0,"",0,"",{"$f":"IF(ROW()<$S$4+2,IF('XML a procesar'!A1150=\"\",P1150,IF(MID('XML a procesar'!A1150,1,1)=\"<\",P1150,P1150+1)),P1150)","v":1}]
[{"$f":"IF('XML a procesar'!A1151>0,'XML a procesar'!A1151,\"\")","v":""},0,0,0,0,"",0,0,0,"","",0,"",0,"",{"$f":"IF(ROW()<$S$4+2,IF('XML a procesar'!A1151=\"\",P1151,IF(MID('XML a procesar'!A1151,1,1)=\"<\",P1151,P1151+1)),P1151)","v":1}]
[{"$f":"IF('XML a procesar'!A1152>0,'XML a procesar'!A1152,\"\")","v":""},0,0,0,0,"",0,0,0,"","",0,"",0,"",{"$f":"IF(ROW()<$S$4+2,IF('XML a procesar'!A1152=\"\",P1152,IF(MID('XML a procesar'!A1152,1,1)=\"<\",P1152,P1152+1)),P1152)","v":1}]
[{"$f":"IF('XML a procesar'!A1153>0,'XML a procesar'!A1153,\"\")","v":""},0,0,0,0,"",0,0,0,"","",0,"",0,{"$f":"IF(N1154>-1,INDIRECT(ADDRESS(ROW(),13)),IF(N1154<N1153,CONCATENATE(\"<page-count count=\",CHAR(34),1+LARGE(N:N,1)-LARGE(N:N,2),CHAR(34),\"/>\"),INDIRECT(ADDRESS(ROW()-1,13))))","v":""},{"$f":"IF(ROW()<$S$4+2,IF('XML a procesar'!A1153=\"\",P1153,IF(MID('XML a procesar'!A1153,1,1)=\"<\",P1153,P1153+1)),P1153)","v":1}]
[{"$f":"IF('XML a procesar'!A1154>0,'XML a procesar'!A1154,\"\")","v":""},{"$f":"IF(ISERROR(FIND(\"/doi.org/\",A1155,1)),0,1)","v":0},0,0,0,{"$f":"INDIRECT(ADDRESS(ROW()+INDIRECT(ADDRESS(ROW()+E1155,5)),1))","v":""},0,{"$f":"IF(AND(G1154>0,G1155>G1154,NOT(ISERROR(MATCH(G1154,D:D,0)))),H1154+1,H1154)","v":0},0,"",{"$f":"IF(J1155=\"Linea_para_MAIL_creada_por_LuXML\",IF(ISERROR(MATCH(INDIRECT(ADDRESS(ROW()-G1155,7)),D:D,0)),J1155,INDIRECT(ADDRESS(MATCH(INDIRECT(ADDRESS(ROW()-G1155,7)),D:D,0),1))),J1155)","v":""},0,"",0,"",{"$f":"IF(ROW()<$S$4+2,IF('XML a procesar'!A1154=\"\",P1154,IF(MID('XML a procesar'!A1154,1,1)=\"<\",P1154,P1154+1)),P1154)","v":1}]
[{"$f":"IF('XML a procesar'!A1155>0,'XML a procesar'!A1155,\"\")","v":""},0,0,0,0,"",{"$f":"IF(LEFT(F1156,7)=\"<aff id\",_xlfn.NUMBERVALUE(MID(F1156,13,LEN(F1156)-14)),IF(F1156=\"</aff>\",G1155+1,G1155))","v":0},0,{"$f":"INDIRECT(ADDRESS(ROW()-INDIRECT(ADDRESS(ROW()-H1156,8)),8))","v":0},{"$f":"IF(J1155=\"Linea_para_MAIL_creada_por_LuXML\",\"</aff>\",IF(I1156>INDIRECT(ADDRESS(ROW()-I1156-1,8)),\"Linea_para_MAIL_creada_por_LuXML\",INDIRECT(ADDRESS(ROW()-I1156,6))))","v":""},"",{"$f":"IF(OR(MID(K1154,3,5)=\"page>\",MID(K1155,3,5)=\"page>\"),L1155,IF(OR(K1155=\"<history>\",K1156=\"<history>\"),L1155+1,L1155))","v":0},"",{"$f":"IF(N1155=-1,-1,IF(M1156=\"</counts>\",-1,IF(OR(LEFT(M1156,7)=\"<fpage>\",LEFT(M1156,7)=\"<lpage>\"),VALUE(MID(M1156,8,LEN(M1156)-15)),0)))","v":0},"",{"$f":"IF(ROW()<$S$4+2,IF('XML a procesar'!A1155=\"\",P1155,IF(MID('XML a procesar'!A1155,1,1)=\"<\",P1155,P1155+1)),P1155)","v":1}]
[{"$f":"IF('XML a procesar'!A1156>0,'XML a procesar'!A1156,\"\")","v":""},0,0,0,0,"",0,0,0,"","",0,"",0,"",{"$f":"IF(ROW()<$S$4+2,IF('XML a procesar'!A1156=\"\",P1156,IF(MID('XML a procesar'!A1156,1,1)=\"<\",P1156,P1156+1)),P1156)","v":1}]
[{"$f":"IF('XML a procesar'!A1157>0,'XML a procesar'!A1157,\"\")","v":""},0,0,0,0,"",0,0,0,"","",0,{"$f":"IF(L1158>L1157,IF(L1158=1,CONCATENATE(\"<fpage>\",$S$10,\"</fpage>\"),CONCATENATE(\"<lpage>\",$S$10+1,\"</lpage>\")),IF(ISERROR(INDIRECT(ADDRESS(ROW()-L1158,11),1)),\"\",INDIRECT(ADDRESS(ROW()-L1158,11),1)))","v":""},0,"",{"$f":"IF(ROW()<$S$4+2,IF('XML a procesar'!A1157=\"\",P1157,IF(MID('XML a procesar'!A1157,1,1)=\"<\",P1157,P1157+1)),P1157)","v":1}]
[{"$f":"IF('XML a procesar'!A1158>0,'XML a procesar'!A1158,\"\")","v":""},0,0,0,0,"",0,0,0,"","",0,"",0,"",{"$f":"IF(ROW()<$S$4+2,IF('XML a procesar'!A1158=\"\",P1158,IF(MID('XML a procesar'!A1158,1,1)=\"<\",P1158,P1158+1)),P1158)","v":1}]
[{"$f":"IF('XML a procesar'!A1159>0,'XML a procesar'!A1159,\"\")","v":""},0,0,0,0,"",0,0,0,"","",0,"",0,"",{"$f":"IF(ROW()<$S$4+2,IF('XML a procesar'!A1159=\"\",P1159,IF(MID('XML a procesar'!A1159,1,1)=\"<\",P1159,P1159+1)),P1159)","v":1}]
[{"$f":"IF('XML a procesar'!A1160>0,'XML a procesar'!A1160,\"\")","v":""},0,0,0,0,"",0,0,0,"","",0,"",0,"",{"$f":"IF(ROW()<$S$4+2,IF('XML a procesar'!A1160=\"\",P1160,IF(MID('XML a procesar'!A1160,1,1)=\"<\",P1160,P1160+1)),P1160)","v":1}]
[{"$f":"IF('XML a procesar'!A1161>0,'XML a procesar'!A1161,\"\")","v":""},0,0,0,0,"",0,0,0,"","",0,"",0,"",{"$f":"IF(ROW()<$S$4+2,IF('XML a procesar'!A1161=\"\",P1161,IF(MID('XML a procesar'!A1161,1,1)=\"<\",P1161,P1161+1)),P1161)","v":1}]
[{"$f":"IF('XML a procesar'!A1162>0,'XML a procesar'!A1162,\"\")","v":""},0,0,0,0,"",0,0,0,"","",0,"",0,"",{"$f":"IF(ROW()<$S$4+2,IF('XML a procesar'!A1162=\"\",P1162,IF(MID('XML a procesar'!A1162,1,1)=\"<\",P1162,P1162+1)),P1162)","v":1}]
[{"$f":"IF('XML a procesar'!A1163>0,'XML a procesar'!A1163,\"\")","v":""},0,0,0,0,"",0,0,0,"","",0,"",0,"",{"$f":"IF(ROW()<$S$4+2,IF('XML a procesar'!A1163=\"\",P1163,IF(MID('XML a procesar'!A1163,1,1)=\"<\",P1163,P1163+1)),P1163)","v":1}]
[{"$f":"IF('XML a procesar'!A1164>0,'XML a procesar'!A1164,\"\")","v":""},0,0,0,0,"",0,0,0,"","",0,"",0,"",{"$f":"IF(ROW()<$S$4+2,IF('XML a procesar'!A1164=\"\",P1164,IF(MID('XML a procesar'!A1164,1,1)=\"<\",P1164,P1164+1)),P1164)","v":1}]
[{"$f":"IF('XML a procesar'!A1165>0,'XML a procesar'!A1165,\"\")","v":""},0,0,0,0,"",0,0,0,"","",0,"",0,"",{"$f":"IF(ROW()<$S$4+2,IF('XML a procesar'!A1165=\"\",P1165,IF(MID('XML a procesar'!A1165,1,1)=\"<\",P1165,P1165+1)),P1165)","v":1}]
[{"$f":"IF('XML a procesar'!A1166>0,'XML a procesar'!A1166,\"\")","v":""},0,0,0,0,"",0,0,0,"","",0,"",0,"",{"$f":"IF(ROW()<$S$4+2,IF('XML a procesar'!A1166=\"\",P1166,IF(MID('XML a procesar'!A1166,1,1)=\"<\",P1166,P1166+1)),P1166)","v":1}]
[{"$f":"IF('XML a procesar'!A1167>0,'XML a procesar'!A1167,\"\")","v":""},0,0,0,0,"",0,0,0,"","",0,"",0,"",{"$f":"IF(ROW()<$S$4+2,IF('XML a procesar'!A1167=\"\",P1167,IF(MID('XML a procesar'!A1167,1,1)=\"<\",P1167,P1167+1)),P1167)","v":1}]
[{"$f":"IF('XML a procesar'!A1168>0,'XML a procesar'!A1168,\"\")","v":""},0,0,0,0,"",0,0,0,"","",0,"",0,"",{"$f":"IF(ROW()<$S$4+2,IF('XML a procesar'!A1168=\"\",P1168,IF(MID('XML a procesar'!A1168,1,1)=\"<\",P1168,P1168+1)),P1168)","v":1}]
[{"$f":"IF('XML a procesar'!A1169>0,'XML a procesar'!A1169,\"\")","v":""},0,0,0,0,"",0,0,0,"","",0,"",0,"",{"$f":"IF(ROW()<$S$4+2,IF('XML a procesar'!A1169=\"\",P1169,IF(MID('XML a procesar'!A1169,1,1)=\"<\",P1169,P1169+1)),P1169)","v":1}]
[{"$f":"IF('XML a procesar'!A1170>0,'XML a procesar'!A1170,\"\")","v":""},0,0,0,0,"",0,0,0,"","",0,"",0,"",{"$f":"IF(ROW()<$S$4+2,IF('XML a procesar'!A1170=\"\",P1170,IF(MID('XML a procesar'!A1170,1,1)=\"<\",P1170,P1170+1)),P1170)","v":1}]
[{"$f":"IF('XML a procesar'!A1171>0,'XML a procesar'!A1171,\"\")","v":""},0,0,0,0,"",0,0,0,"","",0,"",0,"",{"$f":"IF(ROW()<$S$4+2,IF('XML a procesar'!A1171=\"\",P1171,IF(MID('XML a procesar'!A1171,1,1)=\"<\",P1171,P1171+1)),P1171)","v":1}]
[{"$f":"IF('XML a procesar'!A1172>0,'XML a procesar'!A1172,\"\")","v":""},0,0,0,0,"",0,0,0,"","",0,"",0,"",{"$f":"IF(ROW()<$S$4+2,IF('XML a procesar'!A1172=\"\",P1172,IF(MID('XML a procesar'!A1172,1,1)=\"<\",P1172,P1172+1)),P1172)","v":1}]
[{"$f":"IF('XML a procesar'!A1173>0,'XML a procesar'!A1173,\"\")","v":""},0,0,0,0,"",0,0,0,"","",0,"",0,"",{"$f":"IF(ROW()<$S$4+2,IF('XML a procesar'!A1173=\"\",P1173,IF(MID('XML a procesar'!A1173,1,1)=\"<\",P1173,P1173+1)),P1173)","v":1}]
[{"$f":"IF('XML a procesar'!A1174>0,'XML a procesar'!A1174,\"\")","v":""},0,0,0,0,"",0,0,0,"","",0,"",0,"",{"$f":"IF(ROW()<$S$4+2,IF('XML a procesar'!A1174=\"\",P1174,IF(MID('XML a procesar'!A1174,1,1)=\"<\",P1174,P1174+1)),P1174)","v":1}]
[{"$f":"IF('XML a procesar'!A1175>0,'XML a procesar'!A1175,\"\")","v":""},0,0,0,0,"",0,0,0,"","",0,"",0,"",{"$f":"IF(ROW()<$S$4+2,IF('XML a procesar'!A1175=\"\",P1175,IF(MID('XML a procesar'!A1175,1,1)=\"<\",P1175,P1175+1)),P1175)","v":1}]
[{"$f":"IF('XML a procesar'!A1176>0,'XML a procesar'!A1176,\"\")","v":""},0,0,0,0,"",0,0,0,"","",0,"",0,"",{"$f":"IF(ROW()<$S$4+2,IF('XML a procesar'!A1176=\"\",P1176,IF(MID('XML a procesar'!A1176,1,1)=\"<\",P1176,P1176+1)),P1176)","v":1}]
[{"$f":"IF('XML a procesar'!A1177>0,'XML a procesar'!A1177,\"\")","v":""},0,0,0,0,"",0,0,0,"","",0,"",0,"",{"$f":"IF(ROW()<$S$4+2,IF('XML a procesar'!A1177=\"\",P1177,IF(MID('XML a procesar'!A1177,1,1)=\"<\",P1177,P1177+1)),P1177)","v":1}]
[{"$f":"IF('XML a procesar'!A1178>0,'XML a procesar'!A1178,\"\")","v":""},0,0,0,0,"",0,0,0,"","",0,"",0,"",{"$f":"IF(ROW()<$S$4+2,IF('XML a procesar'!A1178=\"\",P1178,IF(MID('XML a procesar'!A1178,1,1)=\"<\",P1178,P1178+1)),P1178)","v":1}]
[{"$f":"IF('XML a procesar'!A1179>0,'XML a procesar'!A1179,\"\")","v":""},0,0,0,0,"",0,0,0,"","",0,"",0,"",{"$f":"IF(ROW()<$S$4+2,IF('XML a procesar'!A1179=\"\",P1179,IF(MID('XML a procesar'!A1179,1,1)=\"<\",P1179,P1179+1)),P1179)","v":1}]
[{"$f":"IF('XML a procesar'!A1180>0,'XML a procesar'!A1180,\"\")","v":""},0,0,0,0,"",0,0,0,"","",0,"",0,"",{"$f":"IF(ROW()<$S$4+2,IF('XML a procesar'!A1180=\"\",P1180,IF(MID('XML a procesar'!A1180,1,1)=\"<\",P1180,P1180+1)),P1180)","v":1}]
[{"$f":"IF('XML a procesar'!A1181>0,'XML a procesar'!A1181,\"\")","v":""},0,0,0,0,"",0,0,0,"","",0,"",0,"",{"$f":"IF(ROW()<$S$4+2,IF('XML a procesar'!A1181=\"\",P1181,IF(MID('XML a procesar'!A1181,1,1)=\"<\",P1181,P1181+1)),P1181)","v":1}]
[{"$f":"IF('XML a procesar'!A1182>0,'XML a procesar'!A1182,\"\")","v":""},0,0,0,0,"",0,0,0,"","",0,"",0,"",{"$f":"IF(ROW()<$S$4+2,IF('XML a procesar'!A1182=\"\",P1182,IF(MID('XML a procesar'!A1182,1,1)=\"<\",P1182,P1182+1)),P1182)","v":1}]
[{"$f":"IF('XML a procesar'!A1183>0,'XML a procesar'!A1183,\"\")","v":""},0,0,0,0,"",0,0,0,"","",0,"",0,"",{"$f":"IF(ROW()<$S$4+2,IF('XML a procesar'!A1183=\"\",P1183,IF(MID('XML a procesar'!A1183,1,1)=\"<\",P1183,P1183+1)),P1183)","v":1}]
[{"$f":"IF('XML a procesar'!A1184>0,'XML a procesar'!A1184,\"\")","v":""},0,0,0,0,"",0,0,0,"","",0,"",0,"",{"$f":"IF(ROW()<$S$4+2,IF('XML a procesar'!A1184=\"\",P1184,IF(MID('XML a procesar'!A1184,1,1)=\"<\",P1184,P1184+1)),P1184)","v":1}]
[{"$f":"IF('XML a procesar'!A1185>0,'XML a procesar'!A1185,\"\")","v":""},0,0,0,0,"",0,0,0,"","",0,"",0,"",{"$f":"IF(ROW()<$S$4+2,IF('XML a procesar'!A1185=\"\",P1185,IF(MID('XML a procesar'!A1185,1,1)=\"<\",P1185,P1185+1)),P1185)","v":1}]
[{"$f":"IF('XML a procesar'!A1186>0,'XML a procesar'!A1186,\"\")","v":""},0,0,0,0,"",0,0,0,"","",0,"",0,"",{"$f":"IF(ROW()<$S$4+2,IF('XML a procesar'!A1186=\"\",P1186,IF(MID('XML a procesar'!A1186,1,1)=\"<\",P1186,P1186+1)),P1186)","v":1}]
[{"$f":"IF('XML a procesar'!A1187>0,'XML a procesar'!A1187,\"\")","v":""},0,0,0,0,"",0,0,0,"","",0,"",0,"",{"$f":"IF(ROW()<$S$4+2,IF('XML a procesar'!A1187=\"\",P1187,IF(MID('XML a procesar'!A1187,1,1)=\"<\",P1187,P1187+1)),P1187)","v":1}]
[{"$f":"IF('XML a procesar'!A1188>0,'XML a procesar'!A1188,\"\")","v":""},0,0,0,0,"",0,0,0,"","",0,"",0,"",{"$f":"IF(ROW()<$S$4+2,IF('XML a procesar'!A1188=\"\",P1188,IF(MID('XML a procesar'!A1188,1,1)=\"<\",P1188,P1188+1)),P1188)","v":1}]
[{"$f":"IF('XML a procesar'!A1189>0,'XML a procesar'!A1189,\"\")","v":""},0,0,0,0,"",0,0,0,"","",0,"",0,"",{"$f":"IF(ROW()<$S$4+2,IF('XML a procesar'!A1189=\"\",P1189,IF(MID('XML a procesar'!A1189,1,1)=\"<\",P1189,P1189+1)),P1189)","v":1}]
[{"$f":"IF('XML a procesar'!A1190>0,'XML a procesar'!A1190,\"\")","v":""},0,0,0,0,"",0,0,0,"","",0,"",0,"",{"$f":"IF(ROW()<$S$4+2,IF('XML a procesar'!A1190=\"\",P1190,IF(MID('XML a procesar'!A1190,1,1)=\"<\",P1190,P1190+1)),P1190)","v":1}]
[{"$f":"IF('XML a procesar'!A1191>0,'XML a procesar'!A1191,\"\")","v":""},0,0,0,0,"",0,0,0,"","",0,"",0,"",{"$f":"IF(ROW()<$S$4+2,IF('XML a procesar'!A1191=\"\",P1191,IF(MID('XML a procesar'!A1191,1,1)=\"<\",P1191,P1191+1)),P1191)","v":1}]
[{"$f":"IF('XML a procesar'!A1192>0,'XML a procesar'!A1192,\"\")","v":""},0,{"$f":"IF(LEFT(A1192,16)=\"<contrib contrib\",C1192+1,IF(LEFT(A1192,16)=\"</contrib-group>\",0,IF(LEFT(A1192,10)=\"</contrib>\",C1192,C1192)))","v":0},{"$f":"IF(AND(C1193>0,LEFT(A1193,7)=\"<email>\",ISNUMBER(SEARCH(\"@\",A1193,1))),C1193,IF(LEFT(A1193,10)=\"<alt-text>\",-1,0))","v":0},{"$f":"IF(D1193=0,E1192,E1192+1)","v":0},"",0,0,0,"","",0,"",0,"",{"$f":"IF(ROW()<$S$4+2,IF('XML a procesar'!A1192=\"\",P1192,IF(MID('XML a procesar'!A1192,1,1)=\"<\",P1192,P1192+1)),P1192)","v":1}]
[{"$f":"IF('XML a procesar'!A1193>0,'XML a procesar'!A1193,\"\")","v":""},0,0,0,0,"",0,0,0,"","",0,"",0,"",{"$f":"IF(ROW()<$S$4+2,IF('XML a procesar'!A1193=\"\",P1193,IF(MID('XML a procesar'!A1193,1,1)=\"<\",P1193,P1193+1)),P1193)","v":1}]
[{"$f":"IF('XML a procesar'!A1194>0,'XML a procesar'!A1194,\"\")","v":""},0,0,0,0,"",0,0,0,"","",0,"",0,"",{"$f":"IF(ROW()<$S$4+2,IF('XML a procesar'!A1194=\"\",P1194,IF(MID('XML a procesar'!A1194,1,1)=\"<\",P1194,P1194+1)),P1194)","v":1}]
[{"$f":"IF('XML a procesar'!A1195>0,'XML a procesar'!A1195,\"\")","v":""},0,0,0,0,"",0,0,0,"","",0,"",0,"",{"$f":"IF(ROW()<$S$4+2,IF('XML a procesar'!A1195=\"\",P1195,IF(MID('XML a procesar'!A1195,1,1)=\"<\",P1195,P1195+1)),P1195)","v":1}]
[{"$f":"IF('XML a procesar'!A1196>0,'XML a procesar'!A1196,\"\")","v":""},0,0,0,0,"",0,0,0,"","",0,"",0,"",{"$f":"IF(ROW()<$S$4+2,IF('XML a procesar'!A1196=\"\",P1196,IF(MID('XML a procesar'!A1196,1,1)=\"<\",P1196,P1196+1)),P1196)","v":1}]
[{"$f":"IF('XML a procesar'!A1197>0,'XML a procesar'!A1197,\"\")","v":""},0,0,0,0,"",0,0,0,"","",0,"",0,"",{"$f":"IF(ROW()<$S$4+2,IF('XML a procesar'!A1197=\"\",P1197,IF(MID('XML a procesar'!A1197,1,1)=\"<\",P1197,P1197+1)),P1197)","v":1}]
[{"$f":"IF('XML a procesar'!A1198>0,'XML a procesar'!A1198,\"\")","v":""},0,0,0,0,"",0,0,0,"","",0,"",0,"",{"$f":"IF(ROW()<$S$4+2,IF('XML a procesar'!A1198=\"\",P1198,IF(MID('XML a procesar'!A1198,1,1)=\"<\",P1198,P1198+1)),P1198)","v":1}]
[{"$f":"IF('XML a procesar'!A1199>0,'XML a procesar'!A1199,\"\")","v":""},0,0,0,0,"",0,0,0,"","",0,"",0,"",{"$f":"IF(ROW()<$S$4+2,IF('XML a procesar'!A1199=\"\",P1199,IF(MID('XML a procesar'!A1199,1,1)=\"<\",P1199,P1199+1)),P1199)","v":1}]
[{"$f":"IF('XML a procesar'!A1200>0,'XML a procesar'!A1200,\"\")","v":""},0,0,0,0,"",0,0,0,"","",0,"",0,"",{"$f":"IF(ROW()<$S$4+2,IF('XML a procesar'!A1200=\"\",P1200,IF(MID('XML a procesar'!A1200,1,1)=\"<\",P1200,P1200+1)),P1200)","v":1}]
[{"$f":"IF('XML a procesar'!A1201>0,'XML a procesar'!A1201,\"\")","v":""},0,0,0,0,"",0,0,0,"","",0,"",0,"",{"$f":"IF(ROW()<$S$4+2,IF('XML a procesar'!A1201=\"\",P1201,IF(MID('XML a procesar'!A1201,1,1)=\"<\",P1201,P1201+1)),P1201)","v":1}]
[{"$f":"IF('XML a procesar'!A1202>0,'XML a procesar'!A1202,\"\")","v":""},0,0,0,0,"",0,0,0,"","",0,"",0,"",{"$f":"IF(ROW()<$S$4+2,IF('XML a procesar'!A1202=\"\",P1202,IF(MID('XML a procesar'!A1202,1,1)=\"<\",P1202,P1202+1)),P1202)","v":1}]
[{"$f":"IF('XML a procesar'!A1203>0,'XML a procesar'!A1203,\"\")","v":""},0,0,0,0,"",0,0,0,"","",0,"",0,"",{"$f":"IF(ROW()<$S$4+2,IF('XML a procesar'!A1203=\"\",P1203,IF(MID('XML a procesar'!A1203,1,1)=\"<\",P1203,P1203+1)),P1203)","v":1}]
[{"$f":"IF('XML a procesar'!A1204>0,'XML a procesar'!A1204,\"\")","v":""},0,0,0,0,"",0,0,0,"","",0,"",0,"",{"$f":"IF(ROW()<$S$4+2,IF('XML a procesar'!A1204=\"\",P1204,IF(MID('XML a procesar'!A1204,1,1)=\"<\",P1204,P1204+1)),P1204)","v":1}]
[{"$f":"IF('XML a procesar'!A1205>0,'XML a procesar'!A1205,\"\")","v":""},0,0,0,0,"",0,0,0,"","",0,"",0,"",{"$f":"IF(ROW()<$S$4+2,IF('XML a procesar'!A1205=\"\",P1205,IF(MID('XML a procesar'!A1205,1,1)=\"<\",P1205,P1205+1)),P1205)","v":1}]
[{"$f":"IF('XML a procesar'!A1206>0,'XML a procesar'!A1206,\"\")","v":""},0,0,0,0,"",0,0,0,"","",0,"",0,"",{"$f":"IF(ROW()<$S$4+2,IF('XML a procesar'!A1206=\"\",P1206,IF(MID('XML a procesar'!A1206,1,1)=\"<\",P1206,P1206+1)),P1206)","v":1}]
[{"$f":"IF('XML a procesar'!A1207>0,'XML a procesar'!A1207,\"\")","v":""},0,0,0,0,"",0,0,0,"","",0,"",0,"",{"$f":"IF(ROW()<$S$4+2,IF('XML a procesar'!A1207=\"\",P1207,IF(MID('XML a procesar'!A1207,1,1)=\"<\",P1207,P1207+1)),P1207)","v":1}]
[{"$f":"IF('XML a procesar'!A1208>0,'XML a procesar'!A1208,\"\")","v":""},0,0,0,0,"",0,0,0,"","",0,"",0,"",{"$f":"IF(ROW()<$S$4+2,IF('XML a procesar'!A1208=\"\",P1208,IF(MID('XML a procesar'!A1208,1,1)=\"<\",P1208,P1208+1)),P1208)","v":1}]
[{"$f":"IF('XML a procesar'!A1209>0,'XML a procesar'!A1209,\"\")","v":""},0,0,0,0,"",0,0,0,"","",0,"",0,"",{"$f":"IF(ROW()<$S$4+2,IF('XML a procesar'!A1209=\"\",P1209,IF(MID('XML a procesar'!A1209,1,1)=\"<\",P1209,P1209+1)),P1209)","v":1}]
[{"$f":"IF('XML a procesar'!A1210>0,'XML a procesar'!A1210,\"\")","v":""},0,0,0,0,"",0,0,0,"","",0,"",0,"",{"$f":"IF(ROW()<$S$4+2,IF('XML a procesar'!A1210=\"\",P1210,IF(MID('XML a procesar'!A1210,1,1)=\"<\",P1210,P1210+1)),P1210)","v":1}]
[{"$f":"IF('XML a procesar'!A1211>0,'XML a procesar'!A1211,\"\")","v":""},0,0,0,0,"",0,0,0,"","",0,"",0,"",{"$f":"IF(ROW()<$S$4+2,IF('XML a procesar'!A1211=\"\",P1211,IF(MID('XML a procesar'!A1211,1,1)=\"<\",P1211,P1211+1)),P1211)","v":1}]
[{"$f":"IF('XML a procesar'!A1212>0,'XML a procesar'!A1212,\"\")","v":""},0,0,0,0,"",0,0,0,"","",0,"",0,"",{"$f":"IF(ROW()<$S$4+2,IF('XML a procesar'!A1212=\"\",P1212,IF(MID('XML a procesar'!A1212,1,1)=\"<\",P1212,P1212+1)),P1212)","v":1}]
[{"$f":"IF('XML a procesar'!A1213>0,'XML a procesar'!A1213,\"\")","v":""},0,0,0,0,"",0,0,0,"","",0,"",0,"",{"$f":"IF(ROW()<$S$4+2,IF('XML a procesar'!A1213=\"\",P1213,IF(MID('XML a procesar'!A1213,1,1)=\"<\",P1213,P1213+1)),P1213)","v":1}]
[{"$f":"IF('XML a procesar'!A1214>0,'XML a procesar'!A1214,\"\")","v":""},0,0,0,0,"",0,0,0,"","",0,"",0,"",{"$f":"IF(ROW()<$S$4+2,IF('XML a procesar'!A1214=\"\",P1214,IF(MID('XML a procesar'!A1214,1,1)=\"<\",P1214,P1214+1)),P1214)","v":1}]
[{"$f":"IF('XML a procesar'!A1215>0,'XML a procesar'!A1215,\"\")","v":""},0,0,0,0,"",0,0,0,"","",0,"",0,"",{"$f":"IF(ROW()<$S$4+2,IF('XML a procesar'!A1215=\"\",P1215,IF(MID('XML a procesar'!A1215,1,1)=\"<\",P1215,P1215+1)),P1215)","v":1}]
[{"$f":"IF('XML a procesar'!A1216>0,'XML a procesar'!A1216,\"\")","v":""},0,0,0,0,"",0,0,0,"","",0,"",0,"",{"$f":"IF(ROW()<$S$4+2,IF('XML a procesar'!A1216=\"\",P1216,IF(MID('XML a procesar'!A1216,1,1)=\"<\",P1216,P1216+1)),P1216)","v":1}]
[{"$f":"IF('XML a procesar'!A1217>0,'XML a procesar'!A1217,\"\")","v":""},0,0,0,0,"",0,0,0,"","",0,"",0,{"$f":"IF(N1218>-1,INDIRECT(ADDRESS(ROW(),13)),IF(N1218<N1217,CONCATENATE(\"<page-count count=\",CHAR(34),1+LARGE(N:N,1)-LARGE(N:N,2),CHAR(34),\"/>\"),INDIRECT(ADDRESS(ROW()-1,13))))","v":""},{"$f":"IF(ROW()<$S$4+2,IF('XML a procesar'!A1217=\"\",P1217,IF(MID('XML a procesar'!A1217,1,1)=\"<\",P1217,P1217+1)),P1217)","v":1}]
[{"$f":"IF('XML a procesar'!A1218>0,'XML a procesar'!A1218,\"\")","v":""},{"$f":"IF(ISERROR(FIND(\"/doi.org/\",A1219,1)),0,1)","v":0},0,0,0,{"$f":"INDIRECT(ADDRESS(ROW()+INDIRECT(ADDRESS(ROW()+E1219,5)),1))","v":""},0,{"$f":"IF(AND(G1218>0,G1219>G1218,NOT(ISERROR(MATCH(G1218,D:D,0)))),H1218+1,H1218)","v":0},0,"",{"$f":"IF(J1219=\"Linea_para_MAIL_creada_por_LuXML\",IF(ISERROR(MATCH(INDIRECT(ADDRESS(ROW()-G1219,7)),D:D,0)),J1219,INDIRECT(ADDRESS(MATCH(INDIRECT(ADDRESS(ROW()-G1219,7)),D:D,0),1))),J1219)","v":""},0,"",0,"",{"$f":"IF(ROW()<$S$4+2,IF('XML a procesar'!A1218=\"\",P1218,IF(MID('XML a procesar'!A1218,1,1)=\"<\",P1218,P1218+1)),P1218)","v":1}]
[{"$f":"IF('XML a procesar'!A1219>0,'XML a procesar'!A1219,\"\")","v":""},0,0,0,0,"",{"$f":"IF(LEFT(F1220,7)=\"<aff id\",_xlfn.NUMBERVALUE(MID(F1220,13,LEN(F1220)-14)),IF(F1220=\"</aff>\",G1219+1,G1219))","v":0},0,{"$f":"INDIRECT(ADDRESS(ROW()-INDIRECT(ADDRESS(ROW()-H1220,8)),8))","v":0},{"$f":"IF(J1219=\"Linea_para_MAIL_creada_por_LuXML\",\"</aff>\",IF(I1220>INDIRECT(ADDRESS(ROW()-I1220-1,8)),\"Linea_para_MAIL_creada_por_LuXML\",INDIRECT(ADDRESS(ROW()-I1220,6))))","v":""},"",{"$f":"IF(OR(MID(K1218,3,5)=\"page>\",MID(K1219,3,5)=\"page>\"),L1219,IF(OR(K1219=\"<history>\",K1220=\"<history>\"),L1219+1,L1219))","v":0},"",{"$f":"IF(N1219=-1,-1,IF(M1220=\"</counts>\",-1,IF(OR(LEFT(M1220,7)=\"<fpage>\",LEFT(M1220,7)=\"<lpage>\"),VALUE(MID(M1220,8,LEN(M1220)-15)),0)))","v":0},"",{"$f":"IF(ROW()<$S$4+2,IF('XML a procesar'!A1219=\"\",P1219,IF(MID('XML a procesar'!A1219,1,1)=\"<\",P1219,P1219+1)),P1219)","v":1}]
[{"$f":"IF('XML a procesar'!A1220>0,'XML a procesar'!A1220,\"\")","v":""},0,0,0,0,"",0,0,0,"","",0,"",0,"",{"$f":"IF(ROW()<$S$4+2,IF('XML a procesar'!A1220=\"\",P1220,IF(MID('XML a procesar'!A1220,1,1)=\"<\",P1220,P1220+1)),P1220)","v":1}]
[{"$f":"IF('XML a procesar'!A1221>0,'XML a procesar'!A1221,\"\")","v":""},0,0,0,0,"",0,0,0,"","",0,{"$f":"IF(L1222>L1221,IF(L1222=1,CONCATENATE(\"<fpage>\",$S$10,\"</fpage>\"),CONCATENATE(\"<lpage>\",$S$10+1,\"</lpage>\")),IF(ISERROR(INDIRECT(ADDRESS(ROW()-L1222,11),1)),\"\",INDIRECT(ADDRESS(ROW()-L1222,11),1)))","v":""},0,"",{"$f":"IF(ROW()<$S$4+2,IF('XML a procesar'!A1221=\"\",P1221,IF(MID('XML a procesar'!A1221,1,1)=\"<\",P1221,P1221+1)),P1221)","v":1}]
[{"$f":"IF('XML a procesar'!A1222>0,'XML a procesar'!A1222,\"\")","v":""},0,0,0,0,"",0,0,0,"","",0,"",0,"",{"$f":"IF(ROW()<$S$4+2,IF('XML a procesar'!A1222=\"\",P1222,IF(MID('XML a procesar'!A1222,1,1)=\"<\",P1222,P1222+1)),P1222)","v":1}]
[{"$f":"IF('XML a procesar'!A1223>0,'XML a procesar'!A1223,\"\")","v":""},0,0,0,0,"",0,0,0,"","",0,"",0,"",{"$f":"IF(ROW()<$S$4+2,IF('XML a procesar'!A1223=\"\",P1223,IF(MID('XML a procesar'!A1223,1,1)=\"<\",P1223,P1223+1)),P1223)","v":1}]
[{"$f":"IF('XML a procesar'!A1224>0,'XML a procesar'!A1224,\"\")","v":""},0,0,0,0,"",0,0,0,"","",0,"",0,"",{"$f":"IF(ROW()<$S$4+2,IF('XML a procesar'!A1224=\"\",P1224,IF(MID('XML a procesar'!A1224,1,1)=\"<\",P1224,P1224+1)),P1224)","v":1}]
[{"$f":"IF('XML a procesar'!A1225>0,'XML a procesar'!A1225,\"\")","v":""},0,0,0,0,"",0,0,0,"","",0,"",0,"",{"$f":"IF(ROW()<$S$4+2,IF('XML a procesar'!A1225=\"\",P1225,IF(MID('XML a procesar'!A1225,1,1)=\"<\",P1225,P1225+1)),P1225)","v":1}]
[{"$f":"IF('XML a procesar'!A1226>0,'XML a procesar'!A1226,\"\")","v":""},0,0,0,0,"",0,0,0,"","",0,"",0,"",{"$f":"IF(ROW()<$S$4+2,IF('XML a procesar'!A1226=\"\",P1226,IF(MID('XML a procesar'!A1226,1,1)=\"<\",P1226,P1226+1)),P1226)","v":1}]
[{"$f":"IF('XML a procesar'!A1227>0,'XML a procesar'!A1227,\"\")","v":""},0,0,0,0,"",0,0,0,"","",0,"",0,"",{"$f":"IF(ROW()<$S$4+2,IF('XML a procesar'!A1227=\"\",P1227,IF(MID('XML a procesar'!A1227,1,1)=\"<\",P1227,P1227+1)),P1227)","v":1}]
[{"$f":"IF('XML a procesar'!A1228>0,'XML a procesar'!A1228,\"\")","v":""},0,0,0,0,"",0,0,0,"","",0,"",0,"",{"$f":"IF(ROW()<$S$4+2,IF('XML a procesar'!A1228=\"\",P1228,IF(MID('XML a procesar'!A1228,1,1)=\"<\",P1228,P1228+1)),P1228)","v":1}]
[{"$f":"IF('XML a procesar'!A1229>0,'XML a procesar'!A1229,\"\")","v":""},0,0,0,0,"",0,0,0,"","",0,"",0,"",{"$f":"IF(ROW()<$S$4+2,IF('XML a procesar'!A1229=\"\",P1229,IF(MID('XML a procesar'!A1229,1,1)=\"<\",P1229,P1229+1)),P1229)","v":1}]
[{"$f":"IF('XML a procesar'!A1230>0,'XML a procesar'!A1230,\"\")","v":""},0,0,0,0,"",0,0,0,"","",0,"",0,"",{"$f":"IF(ROW()<$S$4+2,IF('XML a procesar'!A1230=\"\",P1230,IF(MID('XML a procesar'!A1230,1,1)=\"<\",P1230,P1230+1)),P1230)","v":1}]
[{"$f":"IF('XML a procesar'!A1231>0,'XML a procesar'!A1231,\"\")","v":""},0,0,0,0,"",0,0,0,"","",0,"",0,"",{"$f":"IF(ROW()<$S$4+2,IF('XML a procesar'!A1231=\"\",P1231,IF(MID('XML a procesar'!A1231,1,1)=\"<\",P1231,P1231+1)),P1231)","v":1}]
[{"$f":"IF('XML a procesar'!A1232>0,'XML a procesar'!A1232,\"\")","v":""},0,0,0,0,"",0,0,0,"","",0,"",0,"",{"$f":"IF(ROW()<$S$4+2,IF('XML a procesar'!A1232=\"\",P1232,IF(MID('XML a procesar'!A1232,1,1)=\"<\",P1232,P1232+1)),P1232)","v":1}]
[{"$f":"IF('XML a procesar'!A1233>0,'XML a procesar'!A1233,\"\")","v":""},0,0,0,0,"",0,0,0,"","",0,"",0,"",{"$f":"IF(ROW()<$S$4+2,IF('XML a procesar'!A1233=\"\",P1233,IF(MID('XML a procesar'!A1233,1,1)=\"<\",P1233,P1233+1)),P1233)","v":1}]
[{"$f":"IF('XML a procesar'!A1234>0,'XML a procesar'!A1234,\"\")","v":""},0,0,0,0,"",0,0,0,"","",0,"",0,"",{"$f":"IF(ROW()<$S$4+2,IF('XML a procesar'!A1234=\"\",P1234,IF(MID('XML a procesar'!A1234,1,1)=\"<\",P1234,P1234+1)),P1234)","v":1}]
[{"$f":"IF('XML a procesar'!A1235>0,'XML a procesar'!A1235,\"\")","v":""},0,0,0,0,"",0,0,0,"","",0,"",0,"",{"$f":"IF(ROW()<$S$4+2,IF('XML a procesar'!A1235=\"\",P1235,IF(MID('XML a procesar'!A1235,1,1)=\"<\",P1235,P1235+1)),P1235)","v":1}]
[{"$f":"IF('XML a procesar'!A1236>0,'XML a procesar'!A1236,\"\")","v":""},0,0,0,0,"",0,0,0,"","",0,"",0,"",{"$f":"IF(ROW()<$S$4+2,IF('XML a procesar'!A1236=\"\",P1236,IF(MID('XML a procesar'!A1236,1,1)=\"<\",P1236,P1236+1)),P1236)","v":1}]
[{"$f":"IF('XML a procesar'!A1237>0,'XML a procesar'!A1237,\"\")","v":""},0,0,0,0,"",0,0,0,"","",0,"",0,"",{"$f":"IF(ROW()<$S$4+2,IF('XML a procesar'!A1237=\"\",P1237,IF(MID('XML a procesar'!A1237,1,1)=\"<\",P1237,P1237+1)),P1237)","v":1}]
[{"$f":"IF('XML a procesar'!A1238>0,'XML a procesar'!A1238,\"\")","v":""},0,0,0,0,"",0,0,0,"","",0,"",0,"",{"$f":"IF(ROW()<$S$4+2,IF('XML a procesar'!A1238=\"\",P1238,IF(MID('XML a procesar'!A1238,1,1)=\"<\",P1238,P1238+1)),P1238)","v":1}]
[{"$f":"IF('XML a procesar'!A1239>0,'XML a procesar'!A1239,\"\")","v":""},0,0,0,0,"",0,0,0,"","",0,"",0,"",{"$f":"IF(ROW()<$S$4+2,IF('XML a procesar'!A1239=\"\",P1239,IF(MID('XML a procesar'!A1239,1,1)=\"<\",P1239,P1239+1)),P1239)","v":1}]
[{"$f":"IF('XML a procesar'!A1240>0,'XML a procesar'!A1240,\"\")","v":""},0,0,0,0,"",0,0,0,"","",0,"",0,"",{"$f":"IF(ROW()<$S$4+2,IF('XML a procesar'!A1240=\"\",P1240,IF(MID('XML a procesar'!A1240,1,1)=\"<\",P1240,P1240+1)),P1240)","v":1}]
[{"$f":"IF('XML a procesar'!A1241>0,'XML a procesar'!A1241,\"\")","v":""},0,0,0,0,"",0,0,0,"","",0,"",0,"",{"$f":"IF(ROW()<$S$4+2,IF('XML a procesar'!A1241=\"\",P1241,IF(MID('XML a procesar'!A1241,1,1)=\"<\",P1241,P1241+1)),P1241)","v":1}]
[{"$f":"IF('XML a procesar'!A1242>0,'XML a procesar'!A1242,\"\")","v":""},0,0,0,0,"",0,0,0,"","",0,"",0,"",{"$f":"IF(ROW()<$S$4+2,IF('XML a procesar'!A1242=\"\",P1242,IF(MID('XML a procesar'!A1242,1,1)=\"<\",P1242,P1242+1)),P1242)","v":1}]
[{"$f":"IF('XML a procesar'!A1243>0,'XML a procesar'!A1243,\"\")","v":""},0,0,0,0,"",0,0,0,"","",0,"",0,"",{"$f":"IF(ROW()<$S$4+2,IF('XML a procesar'!A1243=\"\",P1243,IF(MID('XML a procesar'!A1243,1,1)=\"<\",P1243,P1243+1)),P1243)","v":1}]
[{"$f":"IF('XML a procesar'!A1244>0,'XML a procesar'!A1244,\"\")","v":""},0,0,0,0,"",0,0,0,"","",0,"",0,"",{"$f":"IF(ROW()<$S$4+2,IF('XML a procesar'!A1244=\"\",P1244,IF(MID('XML a procesar'!A1244,1,1)=\"<\",P1244,P1244+1)),P1244)","v":1}]
[{"$f":"IF('XML a procesar'!A1245>0,'XML a procesar'!A1245,\"\")","v":""},0,0,0,0,"",0,0,0,"","",0,"",0,"",{"$f":"IF(ROW()<$S$4+2,IF('XML a procesar'!A1245=\"\",P1245,IF(MID('XML a procesar'!A1245,1,1)=\"<\",P1245,P1245+1)),P1245)","v":1}]
[{"$f":"IF('XML a procesar'!A1246>0,'XML a procesar'!A1246,\"\")","v":""},0,0,0,0,"",0,0,0,"","",0,"",0,"",{"$f":"IF(ROW()<$S$4+2,IF('XML a procesar'!A1246=\"\",P1246,IF(MID('XML a procesar'!A1246,1,1)=\"<\",P1246,P1246+1)),P1246)","v":1}]
[{"$f":"IF('XML a procesar'!A1247>0,'XML a procesar'!A1247,\"\")","v":""},0,0,0,0,"",0,0,0,"","",0,"",0,"",{"$f":"IF(ROW()<$S$4+2,IF('XML a procesar'!A1247=\"\",P1247,IF(MID('XML a procesar'!A1247,1,1)=\"<\",P1247,P1247+1)),P1247)","v":1}]
[{"$f":"IF('XML a procesar'!A1248>0,'XML a procesar'!A1248,\"\")","v":""},0,0,0,0,"",0,0,0,"","",0,"",0,"",{"$f":"IF(ROW()<$S$4+2,IF('XML a procesar'!A1248=\"\",P1248,IF(MID('XML a procesar'!A1248,1,1)=\"<\",P1248,P1248+1)),P1248)","v":1}]
[{"$f":"IF('XML a procesar'!A1249>0,'XML a procesar'!A1249,\"\")","v":""},0,0,0,0,"",0,0,0,"","",0,"",0,"",{"$f":"IF(ROW()<$S$4+2,IF('XML a procesar'!A1249=\"\",P1249,IF(MID('XML a procesar'!A1249,1,1)=\"<\",P1249,P1249+1)),P1249)","v":1}]
[{"$f":"IF('XML a procesar'!A1250>0,'XML a procesar'!A1250,\"\")","v":""},0,0,0,0,"",0,0,0,"","",0,"",0,"",{"$f":"IF(ROW()<$S$4+2,IF('XML a procesar'!A1250=\"\",P1250,IF(MID('XML a procesar'!A1250,1,1)=\"<\",P1250,P1250+1)),P1250)","v":1}]
[{"$f":"IF('XML a procesar'!A1251>0,'XML a procesar'!A1251,\"\")","v":""},0,0,0,0,"",0,0,0,"","",0,"",0,"",{"$f":"IF(ROW()<$S$4+2,IF('XML a procesar'!A1251=\"\",P1251,IF(MID('XML a procesar'!A1251,1,1)=\"<\",P1251,P1251+1)),P1251)","v":1}]
[{"$f":"IF('XML a procesar'!A1252>0,'XML a procesar'!A1252,\"\")","v":""},0,0,0,0,"",0,0,0,"","",0,"",0,"",{"$f":"IF(ROW()<$S$4+2,IF('XML a procesar'!A1252=\"\",P1252,IF(MID('XML a procesar'!A1252,1,1)=\"<\",P1252,P1252+1)),P1252)","v":1}]
[{"$f":"IF('XML a procesar'!A1253>0,'XML a procesar'!A1253,\"\")","v":""},0,0,0,0,"",0,0,0,"","",0,"",0,"",{"$f":"IF(ROW()<$S$4+2,IF('XML a procesar'!A1253=\"\",P1253,IF(MID('XML a procesar'!A1253,1,1)=\"<\",P1253,P1253+1)),P1253)","v":1}]
[{"$f":"IF('XML a procesar'!A1254>0,'XML a procesar'!A1254,\"\")","v":""},0,0,0,0,"",0,0,0,"","",0,"",0,"",{"$f":"IF(ROW()<$S$4+2,IF('XML a procesar'!A1254=\"\",P1254,IF(MID('XML a procesar'!A1254,1,1)=\"<\",P1254,P1254+1)),P1254)","v":1}]
[{"$f":"IF('XML a procesar'!A1255>0,'XML a procesar'!A1255,\"\")","v":""},0,0,0,0,"",0,0,0,"","",0,"",0,"",{"$f":"IF(ROW()<$S$4+2,IF('XML a procesar'!A1255=\"\",P1255,IF(MID('XML a procesar'!A1255,1,1)=\"<\",P1255,P1255+1)),P1255)","v":1}]
[{"$f":"IF('XML a procesar'!A1256>0,'XML a procesar'!A1256,\"\")","v":""},0,{"$f":"IF(LEFT(A1256,16)=\"<contrib contrib\",C1256+1,IF(LEFT(A1256,16)=\"</contrib-group>\",0,IF(LEFT(A1256,10)=\"</contrib>\",C1256,C1256)))","v":0},{"$f":"IF(AND(C1257>0,LEFT(A1257,7)=\"<email>\",ISNUMBER(SEARCH(\"@\",A1257,1))),C1257,IF(LEFT(A1257,10)=\"<alt-text>\",-1,0))","v":0},{"$f":"IF(D1257=0,E1256,E1256+1)","v":0},"",0,0,0,"","",0,"",0,"",{"$f":"IF(ROW()<$S$4+2,IF('XML a procesar'!A1256=\"\",P1256,IF(MID('XML a procesar'!A1256,1,1)=\"<\",P1256,P1256+1)),P1256)","v":1}]
[{"$f":"IF('XML a procesar'!A1257>0,'XML a procesar'!A1257,\"\")","v":""},0,0,0,0,"",0,0,0,"","",0,"",0,"",{"$f":"IF(ROW()<$S$4+2,IF('XML a procesar'!A1257=\"\",P1257,IF(MID('XML a procesar'!A1257,1,1)=\"<\",P1257,P1257+1)),P1257)","v":1}]
[{"$f":"IF('XML a procesar'!A1258>0,'XML a procesar'!A1258,\"\")","v":""},0,0,0,0,"",0,0,0,"","",0,"",0,"",{"$f":"IF(ROW()<$S$4+2,IF('XML a procesar'!A1258=\"\",P1258,IF(MID('XML a procesar'!A1258,1,1)=\"<\",P1258,P1258+1)),P1258)","v":1}]
[{"$f":"IF('XML a procesar'!A1259>0,'XML a procesar'!A1259,\"\")","v":""},0,0,0,0,"",0,0,0,"","",0,"",0,"",{"$f":"IF(ROW()<$S$4+2,IF('XML a procesar'!A1259=\"\",P1259,IF(MID('XML a procesar'!A1259,1,1)=\"<\",P1259,P1259+1)),P1259)","v":1}]
[{"$f":"IF('XML a procesar'!A1260>0,'XML a procesar'!A1260,\"\")","v":""},0,0,0,0,"",0,0,0,"","",0,"",0,"",{"$f":"IF(ROW()<$S$4+2,IF('XML a procesar'!A1260=\"\",P1260,IF(MID('XML a procesar'!A1260,1,1)=\"<\",P1260,P1260+1)),P1260)","v":1}]
[{"$f":"IF('XML a procesar'!A1261>0,'XML a procesar'!A1261,\"\")","v":""},0,0,0,0,"",0,0,0,"","",0,"",0,"",{"$f":"IF(ROW()<$S$4+2,IF('XML a procesar'!A1261=\"\",P1261,IF(MID('XML a procesar'!A1261,1,1)=\"<\",P1261,P1261+1)),P1261)","v":1}]
[{"$f":"IF('XML a procesar'!A1262>0,'XML a procesar'!A1262,\"\")","v":""},0,0,0,0,"",0,0,0,"","",0,"",0,"",{"$f":"IF(ROW()<$S$4+2,IF('XML a procesar'!A1262=\"\",P1262,IF(MID('XML a procesar'!A1262,1,1)=\"<\",P1262,P1262+1)),P1262)","v":1}]
[{"$f":"IF('XML a procesar'!A1263>0,'XML a procesar'!A1263,\"\")","v":""},0,0,0,0,"",0,0,0,"","",0,"",0,"",{"$f":"IF(ROW()<$S$4+2,IF('XML a procesar'!A1263=\"\",P1263,IF(MID('XML a procesar'!A1263,1,1)=\"<\",P1263,P1263+1)),P1263)","v":1}]
[{"$f":"IF('XML a procesar'!A1264>0,'XML a procesar'!A1264,\"\")","v":""},0,0,0,0,"",0,0,0,"","",0,"",0,"",{"$f":"IF(ROW()<$S$4+2,IF('XML a procesar'!A1264=\"\",P1264,IF(MID('XML a procesar'!A1264,1,1)=\"<\",P1264,P1264+1)),P1264)","v":1}]
[{"$f":"IF('XML a procesar'!A1265>0,'XML a procesar'!A1265,\"\")","v":""},0,0,0,0,"",0,0,0,"","",0,"",0,"",{"$f":"IF(ROW()<$S$4+2,IF('XML a procesar'!A1265=\"\",P1265,IF(MID('XML a procesar'!A1265,1,1)=\"<\",P1265,P1265+1)),P1265)","v":1}]
[{"$f":"IF('XML a procesar'!A1266>0,'XML a procesar'!A1266,\"\")","v":""},0,0,0,0,"",0,0,0,"","",0,"",0,"",{"$f":"IF(ROW()<$S$4+2,IF('XML a procesar'!A1266=\"\",P1266,IF(MID('XML a procesar'!A1266,1,1)=\"<\",P1266,P1266+1)),P1266)","v":1}]
[{"$f":"IF('XML a procesar'!A1267>0,'XML a procesar'!A1267,\"\")","v":""},0,0,0,0,"",0,0,0,"","",0,"",0,"",{"$f":"IF(ROW()<$S$4+2,IF('XML a procesar'!A1267=\"\",P1267,IF(MID('XML a procesar'!A1267,1,1)=\"<\",P1267,P1267+1)),P1267)","v":1}]
[{"$f":"IF('XML a procesar'!A1268>0,'XML a procesar'!A1268,\"\")","v":""},0,0,0,0,"",0,0,0,"","",0,"",0,"",{"$f":"IF(ROW()<$S$4+2,IF('XML a procesar'!A1268=\"\",P1268,IF(MID('XML a procesar'!A1268,1,1)=\"<\",P1268,P1268+1)),P1268)","v":1}]
[{"$f":"IF('XML a procesar'!A1269>0,'XML a procesar'!A1269,\"\")","v":""},0,0,0,0,"",0,0,0,"","",0,"",0,"",{"$f":"IF(ROW()<$S$4+2,IF('XML a procesar'!A1269=\"\",P1269,IF(MID('XML a procesar'!A1269,1,1)=\"<\",P1269,P1269+1)),P1269)","v":1}]
[{"$f":"IF('XML a procesar'!A1270>0,'XML a procesar'!A1270,\"\")","v":""},0,0,0,0,"",0,0,0,"","",0,"",0,"",{"$f":"IF(ROW()<$S$4+2,IF('XML a procesar'!A1270=\"\",P1270,IF(MID('XML a procesar'!A1270,1,1)=\"<\",P1270,P1270+1)),P1270)","v":1}]
[{"$f":"IF('XML a procesar'!A1271>0,'XML a procesar'!A1271,\"\")","v":""},0,0,0,0,"",0,0,0,"","",0,"",0,"",{"$f":"IF(ROW()<$S$4+2,IF('XML a procesar'!A1271=\"\",P1271,IF(MID('XML a procesar'!A1271,1,1)=\"<\",P1271,P1271+1)),P1271)","v":1}]
[{"$f":"IF('XML a procesar'!A1272>0,'XML a procesar'!A1272,\"\")","v":""},0,0,0,0,"",0,0,0,"","",0,"",0,"",{"$f":"IF(ROW()<$S$4+2,IF('XML a procesar'!A1272=\"\",P1272,IF(MID('XML a procesar'!A1272,1,1)=\"<\",P1272,P1272+1)),P1272)","v":1}]
[{"$f":"IF('XML a procesar'!A1273>0,'XML a procesar'!A1273,\"\")","v":""},0,0,0,0,"",0,0,0,"","",0,"",0,"",{"$f":"IF(ROW()<$S$4+2,IF('XML a procesar'!A1273=\"\",P1273,IF(MID('XML a procesar'!A1273,1,1)=\"<\",P1273,P1273+1)),P1273)","v":1}]
[{"$f":"IF('XML a procesar'!A1274>0,'XML a procesar'!A1274,\"\")","v":""},0,0,0,0,"",0,0,0,"","",0,"",0,"",{"$f":"IF(ROW()<$S$4+2,IF('XML a procesar'!A1274=\"\",P1274,IF(MID('XML a procesar'!A1274,1,1)=\"<\",P1274,P1274+1)),P1274)","v":1}]
[{"$f":"IF('XML a procesar'!A1275>0,'XML a procesar'!A1275,\"\")","v":""},0,0,0,0,"",0,0,0,"","",0,"",0,"",{"$f":"IF(ROW()<$S$4+2,IF('XML a procesar'!A1275=\"\",P1275,IF(MID('XML a procesar'!A1275,1,1)=\"<\",P1275,P1275+1)),P1275)","v":1}]
[{"$f":"IF('XML a procesar'!A1276>0,'XML a procesar'!A1276,\"\")","v":""},0,0,0,0,"",0,0,0,"","",0,"",0,"",{"$f":"IF(ROW()<$S$4+2,IF('XML a procesar'!A1276=\"\",P1276,IF(MID('XML a procesar'!A1276,1,1)=\"<\",P1276,P1276+1)),P1276)","v":1}]
[{"$f":"IF('XML a procesar'!A1277>0,'XML a procesar'!A1277,\"\")","v":""},0,0,0,0,"",0,0,0,"","",0,"",0,"",{"$f":"IF(ROW()<$S$4+2,IF('XML a procesar'!A1277=\"\",P1277,IF(MID('XML a procesar'!A1277,1,1)=\"<\",P1277,P1277+1)),P1277)","v":1}]
[{"$f":"IF('XML a procesar'!A1278>0,'XML a procesar'!A1278,\"\")","v":""},0,0,0,0,"",0,0,0,"","",0,"",0,"",{"$f":"IF(ROW()<$S$4+2,IF('XML a procesar'!A1278=\"\",P1278,IF(MID('XML a procesar'!A1278,1,1)=\"<\",P1278,P1278+1)),P1278)","v":1}]
[{"$f":"IF('XML a procesar'!A1279>0,'XML a procesar'!A1279,\"\")","v":""},0,0,0,0,"",0,0,0,"","",0,"",0,"",{"$f":"IF(ROW()<$S$4+2,IF('XML a procesar'!A1279=\"\",P1279,IF(MID('XML a procesar'!A1279,1,1)=\"<\",P1279,P1279+1)),P1279)","v":1}]
[{"$f":"IF('XML a procesar'!A1280>0,'XML a procesar'!A1280,\"\")","v":""},0,0,0,0,"",0,0,0,"","",0,"",0,"",{"$f":"IF(ROW()<$S$4+2,IF('XML a procesar'!A1280=\"\",P1280,IF(MID('XML a procesar'!A1280,1,1)=\"<\",P1280,P1280+1)),P1280)","v":1}]
[{"$f":"IF('XML a procesar'!A1281>0,'XML a procesar'!A1281,\"\")","v":""},0,0,0,0,"",0,0,0,"","",0,"",0,{"$f":"IF(N1282>-1,INDIRECT(ADDRESS(ROW(),13)),IF(N1282<N1281,CONCATENATE(\"<page-count count=\",CHAR(34),1+LARGE(N:N,1)-LARGE(N:N,2),CHAR(34),\"/>\"),INDIRECT(ADDRESS(ROW()-1,13))))","v":""},{"$f":"IF(ROW()<$S$4+2,IF('XML a procesar'!A1281=\"\",P1281,IF(MID('XML a procesar'!A1281,1,1)=\"<\",P1281,P1281+1)),P1281)","v":1}]
[{"$f":"IF('XML a procesar'!A1282>0,'XML a procesar'!A1282,\"\")","v":""},{"$f":"IF(ISERROR(FIND(\"/doi.org/\",A1283,1)),0,1)","v":0},0,0,0,{"$f":"INDIRECT(ADDRESS(ROW()+INDIRECT(ADDRESS(ROW()+E1283,5)),1))","v":""},0,{"$f":"IF(AND(G1282>0,G1283>G1282,NOT(ISERROR(MATCH(G1282,D:D,0)))),H1282+1,H1282)","v":0},0,"",{"$f":"IF(J1283=\"Linea_para_MAIL_creada_por_LuXML\",IF(ISERROR(MATCH(INDIRECT(ADDRESS(ROW()-G1283,7)),D:D,0)),J1283,INDIRECT(ADDRESS(MATCH(INDIRECT(ADDRESS(ROW()-G1283,7)),D:D,0),1))),J1283)","v":""},0,"",0,"",{"$f":"IF(ROW()<$S$4+2,IF('XML a procesar'!A1282=\"\",P1282,IF(MID('XML a procesar'!A1282,1,1)=\"<\",P1282,P1282+1)),P1282)","v":1}]
[{"$f":"IF('XML a procesar'!A1283>0,'XML a procesar'!A1283,\"\")","v":""},0,0,0,0,"",{"$f":"IF(LEFT(F1284,7)=\"<aff id\",_xlfn.NUMBERVALUE(MID(F1284,13,LEN(F1284)-14)),IF(F1284=\"</aff>\",G1283+1,G1283))","v":0},0,{"$f":"INDIRECT(ADDRESS(ROW()-INDIRECT(ADDRESS(ROW()-H1284,8)),8))","v":0},{"$f":"IF(J1283=\"Linea_para_MAIL_creada_por_LuXML\",\"</aff>\",IF(I1284>INDIRECT(ADDRESS(ROW()-I1284-1,8)),\"Linea_para_MAIL_creada_por_LuXML\",INDIRECT(ADDRESS(ROW()-I1284,6))))","v":""},"",{"$f":"IF(OR(MID(K1282,3,5)=\"page>\",MID(K1283,3,5)=\"page>\"),L1283,IF(OR(K1283=\"<history>\",K1284=\"<history>\"),L1283+1,L1283))","v":0},"",{"$f":"IF(N1283=-1,-1,IF(M1284=\"</counts>\",-1,IF(OR(LEFT(M1284,7)=\"<fpage>\",LEFT(M1284,7)=\"<lpage>\"),VALUE(MID(M1284,8,LEN(M1284)-15)),0)))","v":0},"",{"$f":"IF(ROW()<$S$4+2,IF('XML a procesar'!A1283=\"\",P1283,IF(MID('XML a procesar'!A1283,1,1)=\"<\",P1283,P1283+1)),P1283)","v":1}]
[{"$f":"IF('XML a procesar'!A1284>0,'XML a procesar'!A1284,\"\")","v":""},0,0,0,0,"",0,0,0,"","",0,"",0,"",{"$f":"IF(ROW()<$S$4+2,IF('XML a procesar'!A1284=\"\",P1284,IF(MID('XML a procesar'!A1284,1,1)=\"<\",P1284,P1284+1)),P1284)","v":1}]
[{"$f":"IF('XML a procesar'!A1285>0,'XML a procesar'!A1285,\"\")","v":""},0,0,0,0,"",0,0,0,"","",0,{"$f":"IF(L1286>L1285,IF(L1286=1,CONCATENATE(\"<fpage>\",$S$10,\"</fpage>\"),CONCATENATE(\"<lpage>\",$S$10+1,\"</lpage>\")),IF(ISERROR(INDIRECT(ADDRESS(ROW()-L1286,11),1)),\"\",INDIRECT(ADDRESS(ROW()-L1286,11),1)))","v":""},0,"",{"$f":"IF(ROW()<$S$4+2,IF('XML a procesar'!A1285=\"\",P1285,IF(MID('XML a procesar'!A1285,1,1)=\"<\",P1285,P1285+1)),P1285)","v":1}]
[{"$f":"IF('XML a procesar'!A1286>0,'XML a procesar'!A1286,\"\")","v":""},0,0,0,0,"",0,0,0,"","",0,"",0,"",{"$f":"IF(ROW()<$S$4+2,IF('XML a procesar'!A1286=\"\",P1286,IF(MID('XML a procesar'!A1286,1,1)=\"<\",P1286,P1286+1)),P1286)","v":1}]
[{"$f":"IF('XML a procesar'!A1287>0,'XML a procesar'!A1287,\"\")","v":""},0,0,0,0,"",0,0,0,"","",0,"",0,"",{"$f":"IF(ROW()<$S$4+2,IF('XML a procesar'!A1287=\"\",P1287,IF(MID('XML a procesar'!A1287,1,1)=\"<\",P1287,P1287+1)),P1287)","v":1}]
[{"$f":"IF('XML a procesar'!A1288>0,'XML a procesar'!A1288,\"\")","v":""},0,0,0,0,"",0,0,0,"","",0,"",0,"",{"$f":"IF(ROW()<$S$4+2,IF('XML a procesar'!A1288=\"\",P1288,IF(MID('XML a procesar'!A1288,1,1)=\"<\",P1288,P1288+1)),P1288)","v":1}]
[{"$f":"IF('XML a procesar'!A1289>0,'XML a procesar'!A1289,\"\")","v":""},0,0,0,0,"",0,0,0,"","",0,"",0,"",{"$f":"IF(ROW()<$S$4+2,IF('XML a procesar'!A1289=\"\",P1289,IF(MID('XML a procesar'!A1289,1,1)=\"<\",P1289,P1289+1)),P1289)","v":1}]
[{"$f":"IF('XML a procesar'!A1290>0,'XML a procesar'!A1290,\"\")","v":""},0,0,0,0,"",0,0,0,"","",0,"",0,"",{"$f":"IF(ROW()<$S$4+2,IF('XML a procesar'!A1290=\"\",P1290,IF(MID('XML a procesar'!A1290,1,1)=\"<\",P1290,P1290+1)),P1290)","v":1}]
[{"$f":"IF('XML a procesar'!A1291>0,'XML a procesar'!A1291,\"\")","v":""},0,0,0,0,"",0,0,0,"","",0,"",0,"",{"$f":"IF(ROW()<$S$4+2,IF('XML a procesar'!A1291=\"\",P1291,IF(MID('XML a procesar'!A1291,1,1)=\"<\",P1291,P1291+1)),P1291)","v":1}]
[{"$f":"IF('XML a procesar'!A1292>0,'XML a procesar'!A1292,\"\")","v":""},0,0,0,0,"",0,0,0,"","",0,"",0,"",{"$f":"IF(ROW()<$S$4+2,IF('XML a procesar'!A1292=\"\",P1292,IF(MID('XML a procesar'!A1292,1,1)=\"<\",P1292,P1292+1)),P1292)","v":1}]
[{"$f":"IF('XML a procesar'!A1293>0,'XML a procesar'!A1293,\"\")","v":""},0,0,0,0,"",0,0,0,"","",0,"",0,"",{"$f":"IF(ROW()<$S$4+2,IF('XML a procesar'!A1293=\"\",P1293,IF(MID('XML a procesar'!A1293,1,1)=\"<\",P1293,P1293+1)),P1293)","v":1}]
[{"$f":"IF('XML a procesar'!A1294>0,'XML a procesar'!A1294,\"\")","v":""},0,0,0,0,"",0,0,0,"","",0,"",0,"",{"$f":"IF(ROW()<$S$4+2,IF('XML a procesar'!A1294=\"\",P1294,IF(MID('XML a procesar'!A1294,1,1)=\"<\",P1294,P1294+1)),P1294)","v":1}]
[{"$f":"IF('XML a procesar'!A1295>0,'XML a procesar'!A1295,\"\")","v":""},0,0,0,0,"",0,0,0,"","",0,"",0,"",{"$f":"IF(ROW()<$S$4+2,IF('XML a procesar'!A1295=\"\",P1295,IF(MID('XML a procesar'!A1295,1,1)=\"<\",P1295,P1295+1)),P1295)","v":1}]
[{"$f":"IF('XML a procesar'!A1296>0,'XML a procesar'!A1296,\"\")","v":""},0,0,0,0,"",0,0,0,"","",0,"",0,"",{"$f":"IF(ROW()<$S$4+2,IF('XML a procesar'!A1296=\"\",P1296,IF(MID('XML a procesar'!A1296,1,1)=\"<\",P1296,P1296+1)),P1296)","v":1}]
[{"$f":"IF('XML a procesar'!A1297>0,'XML a procesar'!A1297,\"\")","v":""},0,0,0,0,"",0,0,0,"","",0,"",0,"",{"$f":"IF(ROW()<$S$4+2,IF('XML a procesar'!A1297=\"\",P1297,IF(MID('XML a procesar'!A1297,1,1)=\"<\",P1297,P1297+1)),P1297)","v":1}]
[{"$f":"IF('XML a procesar'!A1298>0,'XML a procesar'!A1298,\"\")","v":""},0,0,0,0,"",0,0,0,"","",0,"",0,"",{"$f":"IF(ROW()<$S$4+2,IF('XML a procesar'!A1298=\"\",P1298,IF(MID('XML a procesar'!A1298,1,1)=\"<\",P1298,P1298+1)),P1298)","v":1}]
[{"$f":"IF('XML a procesar'!A1299>0,'XML a procesar'!A1299,\"\")","v":""},0,0,0,0,"",0,0,0,"","",0,"",0,"",{"$f":"IF(ROW()<$S$4+2,IF('XML a procesar'!A1299=\"\",P1299,IF(MID('XML a procesar'!A1299,1,1)=\"<\",P1299,P1299+1)),P1299)","v":1}]
[{"$f":"IF('XML a procesar'!A1300>0,'XML a procesar'!A1300,\"\")","v":""},0,0,0,0,"",0,0,0,"","",0,"",0,"",{"$f":"IF(ROW()<$S$4+2,IF('XML a procesar'!A1300=\"\",P1300,IF(MID('XML a procesar'!A1300,1,1)=\"<\",P1300,P1300+1)),P1300)","v":1}]
[{"$f":"IF('XML a procesar'!A1301>0,'XML a procesar'!A1301,\"\")","v":""},0,0,0,0,"",0,0,0,"","",0,"",0,"",{"$f":"IF(ROW()<$S$4+2,IF('XML a procesar'!A1301=\"\",P1301,IF(MID('XML a procesar'!A1301,1,1)=\"<\",P1301,P1301+1)),P1301)","v":1}]
[{"$f":"IF('XML a procesar'!A1302>0,'XML a procesar'!A1302,\"\")","v":""},0,0,0,0,"",0,0,0,"","",0,"",0,"",{"$f":"IF(ROW()<$S$4+2,IF('XML a procesar'!A1302=\"\",P1302,IF(MID('XML a procesar'!A1302,1,1)=\"<\",P1302,P1302+1)),P1302)","v":1}]
[{"$f":"IF('XML a procesar'!A1303>0,'XML a procesar'!A1303,\"\")","v":""},0,0,0,0,"",0,0,0,"","",0,"",0,"",{"$f":"IF(ROW()<$S$4+2,IF('XML a procesar'!A1303=\"\",P1303,IF(MID('XML a procesar'!A1303,1,1)=\"<\",P1303,P1303+1)),P1303)","v":1}]
[{"$f":"IF('XML a procesar'!A1304>0,'XML a procesar'!A1304,\"\")","v":""},0,0,0,0,"",0,0,0,"","",0,"",0,"",{"$f":"IF(ROW()<$S$4+2,IF('XML a procesar'!A1304=\"\",P1304,IF(MID('XML a procesar'!A1304,1,1)=\"<\",P1304,P1304+1)),P1304)","v":1}]
[{"$f":"IF('XML a procesar'!A1305>0,'XML a procesar'!A1305,\"\")","v":""},0,0,0,0,"",0,0,0,"","",0,"",0,"",{"$f":"IF(ROW()<$S$4+2,IF('XML a procesar'!A1305=\"\",P1305,IF(MID('XML a procesar'!A1305,1,1)=\"<\",P1305,P1305+1)),P1305)","v":1}]
[{"$f":"IF('XML a procesar'!A1306>0,'XML a procesar'!A1306,\"\")","v":""},0,0,0,0,"",0,0,0,"","",0,"",0,"",{"$f":"IF(ROW()<$S$4+2,IF('XML a procesar'!A1306=\"\",P1306,IF(MID('XML a procesar'!A1306,1,1)=\"<\",P1306,P1306+1)),P1306)","v":1}]
[{"$f":"IF('XML a procesar'!A1307>0,'XML a procesar'!A1307,\"\")","v":""},0,0,0,0,"",0,0,0,"","",0,"",0,"",{"$f":"IF(ROW()<$S$4+2,IF('XML a procesar'!A1307=\"\",P1307,IF(MID('XML a procesar'!A1307,1,1)=\"<\",P1307,P1307+1)),P1307)","v":1}]
[{"$f":"IF('XML a procesar'!A1308>0,'XML a procesar'!A1308,\"\")","v":""},0,0,0,0,"",0,0,0,"","",0,"",0,"",{"$f":"IF(ROW()<$S$4+2,IF('XML a procesar'!A1308=\"\",P1308,IF(MID('XML a procesar'!A1308,1,1)=\"<\",P1308,P1308+1)),P1308)","v":1}]
[{"$f":"IF('XML a procesar'!A1309>0,'XML a procesar'!A1309,\"\")","v":""},0,0,0,0,"",0,0,0,"","",0,"",0,"",{"$f":"IF(ROW()<$S$4+2,IF('XML a procesar'!A1309=\"\",P1309,IF(MID('XML a procesar'!A1309,1,1)=\"<\",P1309,P1309+1)),P1309)","v":1}]
[{"$f":"IF('XML a procesar'!A1310>0,'XML a procesar'!A1310,\"\")","v":""},0,0,0,0,"",0,0,0,"","",0,"",0,"",{"$f":"IF(ROW()<$S$4+2,IF('XML a procesar'!A1310=\"\",P1310,IF(MID('XML a procesar'!A1310,1,1)=\"<\",P1310,P1310+1)),P1310)","v":1}]
[{"$f":"IF('XML a procesar'!A1311>0,'XML a procesar'!A1311,\"\")","v":""},0,0,0,0,"",0,0,0,"","",0,"",0,"",{"$f":"IF(ROW()<$S$4+2,IF('XML a procesar'!A1311=\"\",P1311,IF(MID('XML a procesar'!A1311,1,1)=\"<\",P1311,P1311+1)),P1311)","v":1}]
[{"$f":"IF('XML a procesar'!A1312>0,'XML a procesar'!A1312,\"\")","v":""},0,0,0,0,"",0,0,0,"","",0,"",0,"",{"$f":"IF(ROW()<$S$4+2,IF('XML a procesar'!A1312=\"\",P1312,IF(MID('XML a procesar'!A1312,1,1)=\"<\",P1312,P1312+1)),P1312)","v":1}]
[{"$f":"IF('XML a procesar'!A1313>0,'XML a procesar'!A1313,\"\")","v":""},0,0,0,0,"",0,0,0,"","",0,"",0,"",{"$f":"IF(ROW()<$S$4+2,IF('XML a procesar'!A1313=\"\",P1313,IF(MID('XML a procesar'!A1313,1,1)=\"<\",P1313,P1313+1)),P1313)","v":1}]
[{"$f":"IF('XML a procesar'!A1314>0,'XML a procesar'!A1314,\"\")","v":""},0,0,0,0,"",0,0,0,"","",0,"",0,"",{"$f":"IF(ROW()<$S$4+2,IF('XML a procesar'!A1314=\"\",P1314,IF(MID('XML a procesar'!A1314,1,1)=\"<\",P1314,P1314+1)),P1314)","v":1}]
[{"$f":"IF('XML a procesar'!A1315>0,'XML a procesar'!A1315,\"\")","v":""},0,0,0,0,"",0,0,0,"","",0,"",0,"",{"$f":"IF(ROW()<$S$4+2,IF('XML a procesar'!A1315=\"\",P1315,IF(MID('XML a procesar'!A1315,1,1)=\"<\",P1315,P1315+1)),P1315)","v":1}]
[{"$f":"IF('XML a procesar'!A1316>0,'XML a procesar'!A1316,\"\")","v":""},0,0,0,0,"",0,0,0,"","",0,"",0,"",{"$f":"IF(ROW()<$S$4+2,IF('XML a procesar'!A1316=\"\",P1316,IF(MID('XML a procesar'!A1316,1,1)=\"<\",P1316,P1316+1)),P1316)","v":1}]
[{"$f":"IF('XML a procesar'!A1317>0,'XML a procesar'!A1317,\"\")","v":""},0,0,0,0,"",0,0,0,"","",0,"",0,"",{"$f":"IF(ROW()<$S$4+2,IF('XML a procesar'!A1317=\"\",P1317,IF(MID('XML a procesar'!A1317,1,1)=\"<\",P1317,P1317+1)),P1317)","v":1}]
[{"$f":"IF('XML a procesar'!A1318>0,'XML a procesar'!A1318,\"\")","v":""},0,0,0,0,"",0,0,0,"","",0,"",0,"",{"$f":"IF(ROW()<$S$4+2,IF('XML a procesar'!A1318=\"\",P1318,IF(MID('XML a procesar'!A1318,1,1)=\"<\",P1318,P1318+1)),P1318)","v":1}]
[{"$f":"IF('XML a procesar'!A1319>0,'XML a procesar'!A1319,\"\")","v":""},0,0,0,0,"",0,0,0,"","",0,"",0,"",{"$f":"IF(ROW()<$S$4+2,IF('XML a procesar'!A1319=\"\",P1319,IF(MID('XML a procesar'!A1319,1,1)=\"<\",P1319,P1319+1)),P1319)","v":1}]
[{"$f":"IF('XML a procesar'!A1320>0,'XML a procesar'!A1320,\"\")","v":""},0,{"$f":"IF(LEFT(A1320,16)=\"<contrib contrib\",C1320+1,IF(LEFT(A1320,16)=\"</contrib-group>\",0,IF(LEFT(A1320,10)=\"</contrib>\",C1320,C1320)))","v":0},{"$f":"IF(AND(C1321>0,LEFT(A1321,7)=\"<email>\",ISNUMBER(SEARCH(\"@\",A1321,1))),C1321,IF(LEFT(A1321,10)=\"<alt-text>\",-1,0))","v":0},{"$f":"IF(D1321=0,E1320,E1320+1)","v":0},"",0,0,0,"","",0,"",0,"",{"$f":"IF(ROW()<$S$4+2,IF('XML a procesar'!A1320=\"\",P1320,IF(MID('XML a procesar'!A1320,1,1)=\"<\",P1320,P1320+1)),P1320)","v":1}]
[{"$f":"IF('XML a procesar'!A1321>0,'XML a procesar'!A1321,\"\")","v":""},0,0,0,0,"",0,0,0,"","",0,"",0,"",{"$f":"IF(ROW()<$S$4+2,IF('XML a procesar'!A1321=\"\",P1321,IF(MID('XML a procesar'!A1321,1,1)=\"<\",P1321,P1321+1)),P1321)","v":1}]
[{"$f":"IF('XML a procesar'!A1322>0,'XML a procesar'!A1322,\"\")","v":""},0,0,0,0,"",0,0,0,"","",0,"",0,"",{"$f":"IF(ROW()<$S$4+2,IF('XML a procesar'!A1322=\"\",P1322,IF(MID('XML a procesar'!A1322,1,1)=\"<\",P1322,P1322+1)),P1322)","v":1}]
[{"$f":"IF('XML a procesar'!A1323>0,'XML a procesar'!A1323,\"\")","v":""},0,0,0,0,"",0,0,0,"","",0,"",0,"",{"$f":"IF(ROW()<$S$4+2,IF('XML a procesar'!A1323=\"\",P1323,IF(MID('XML a procesar'!A1323,1,1)=\"<\",P1323,P1323+1)),P1323)","v":1}]
[{"$f":"IF('XML a procesar'!A1324>0,'XML a procesar'!A1324,\"\")","v":""},0,0,0,0,"",0,0,0,"","",0,"",0,"",{"$f":"IF(ROW()<$S$4+2,IF('XML a procesar'!A1324=\"\",P1324,IF(MID('XML a procesar'!A1324,1,1)=\"<\",P1324,P1324+1)),P1324)","v":1}]
[{"$f":"IF('XML a procesar'!A1325>0,'XML a procesar'!A1325,\"\")","v":""},0,0,0,0,"",0,0,0,"","",0,"",0,"",{"$f":"IF(ROW()<$S$4+2,IF('XML a procesar'!A1325=\"\",P1325,IF(MID('XML a procesar'!A1325,1,1)=\"<\",P1325,P1325+1)),P1325)","v":1}]
[{"$f":"IF('XML a procesar'!A1326>0,'XML a procesar'!A1326,\"\")","v":""},0,0,0,0,"",0,0,0,"","",0,"",0,"",{"$f":"IF(ROW()<$S$4+2,IF('XML a procesar'!A1326=\"\",P1326,IF(MID('XML a procesar'!A1326,1,1)=\"<\",P1326,P1326+1)),P1326)","v":1}]
[{"$f":"IF('XML a procesar'!A1327>0,'XML a procesar'!A1327,\"\")","v":""},0,0,0,0,"",0,0,0,"","",0,"",0,"",{"$f":"IF(ROW()<$S$4+2,IF('XML a procesar'!A1327=\"\",P1327,IF(MID('XML a procesar'!A1327,1,1)=\"<\",P1327,P1327+1)),P1327)","v":1}]
[{"$f":"IF('XML a procesar'!A1328>0,'XML a procesar'!A1328,\"\")","v":""},0,0,0,0,"",0,0,0,"","",0,"",0,"",{"$f":"IF(ROW()<$S$4+2,IF('XML a procesar'!A1328=\"\",P1328,IF(MID('XML a procesar'!A1328,1,1)=\"<\",P1328,P1328+1)),P1328)","v":1}]
[{"$f":"IF('XML a procesar'!A1329>0,'XML a procesar'!A1329,\"\")","v":""},0,0,0,0,"",0,0,0,"","",0,"",0,"",{"$f":"IF(ROW()<$S$4+2,IF('XML a procesar'!A1329=\"\",P1329,IF(MID('XML a procesar'!A1329,1,1)=\"<\",P1329,P1329+1)),P1329)","v":1}]
[{"$f":"IF('XML a procesar'!A1330>0,'XML a procesar'!A1330,\"\")","v":""},0,0,0,0,"",0,0,0,"","",0,"",0,"",{"$f":"IF(ROW()<$S$4+2,IF('XML a procesar'!A1330=\"\",P1330,IF(MID('XML a procesar'!A1330,1,1)=\"<\",P1330,P1330+1)),P1330)","v":1}]
[{"$f":"IF('XML a procesar'!A1331>0,'XML a procesar'!A1331,\"\")","v":""},0,0,0,0,"",0,0,0,"","",0,"",0,"",{"$f":"IF(ROW()<$S$4+2,IF('XML a procesar'!A1331=\"\",P1331,IF(MID('XML a procesar'!A1331,1,1)=\"<\",P1331,P1331+1)),P1331)","v":1}]
[{"$f":"IF('XML a procesar'!A1332>0,'XML a procesar'!A1332,\"\")","v":""},0,0,0,0,"",0,0,0,"","",0,"",0,"",{"$f":"IF(ROW()<$S$4+2,IF('XML a procesar'!A1332=\"\",P1332,IF(MID('XML a procesar'!A1332,1,1)=\"<\",P1332,P1332+1)),P1332)","v":1}]
[{"$f":"IF('XML a procesar'!A1333>0,'XML a procesar'!A1333,\"\")","v":""},0,0,0,0,"",0,0,0,"","",0,"",0,"",{"$f":"IF(ROW()<$S$4+2,IF('XML a procesar'!A1333=\"\",P1333,IF(MID('XML a procesar'!A1333,1,1)=\"<\",P1333,P1333+1)),P1333)","v":1}]
[{"$f":"IF('XML a procesar'!A1334>0,'XML a procesar'!A1334,\"\")","v":""},0,0,0,0,"",0,0,0,"","",0,"",0,"",{"$f":"IF(ROW()<$S$4+2,IF('XML a procesar'!A1334=\"\",P1334,IF(MID('XML a procesar'!A1334,1,1)=\"<\",P1334,P1334+1)),P1334)","v":1}]
[{"$f":"IF('XML a procesar'!A1335>0,'XML a procesar'!A1335,\"\")","v":""},0,0,0,0,"",0,0,0,"","",0,"",0,"",{"$f":"IF(ROW()<$S$4+2,IF('XML a procesar'!A1335=\"\",P1335,IF(MID('XML a procesar'!A1335,1,1)=\"<\",P1335,P1335+1)),P1335)","v":1}]
[{"$f":"IF('XML a procesar'!A1336>0,'XML a procesar'!A1336,\"\")","v":""},0,0,0,0,"",0,0,0,"","",0,"",0,"",{"$f":"IF(ROW()<$S$4+2,IF('XML a procesar'!A1336=\"\",P1336,IF(MID('XML a procesar'!A1336,1,1)=\"<\",P1336,P1336+1)),P1336)","v":1}]
[{"$f":"IF('XML a procesar'!A1337>0,'XML a procesar'!A1337,\"\")","v":""},0,0,0,0,"",0,0,0,"","",0,"",0,"",{"$f":"IF(ROW()<$S$4+2,IF('XML a procesar'!A1337=\"\",P1337,IF(MID('XML a procesar'!A1337,1,1)=\"<\",P1337,P1337+1)),P1337)","v":1}]
[{"$f":"IF('XML a procesar'!A1338>0,'XML a procesar'!A1338,\"\")","v":""},0,0,0,0,"",0,0,0,"","",0,"",0,"",{"$f":"IF(ROW()<$S$4+2,IF('XML a procesar'!A1338=\"\",P1338,IF(MID('XML a procesar'!A1338,1,1)=\"<\",P1338,P1338+1)),P1338)","v":1}]
[{"$f":"IF('XML a procesar'!A1339>0,'XML a procesar'!A1339,\"\")","v":""},0,0,0,0,"",0,0,0,"","",0,"",0,"",{"$f":"IF(ROW()<$S$4+2,IF('XML a procesar'!A1339=\"\",P1339,IF(MID('XML a procesar'!A1339,1,1)=\"<\",P1339,P1339+1)),P1339)","v":1}]
[{"$f":"IF('XML a procesar'!A1340>0,'XML a procesar'!A1340,\"\")","v":""},0,0,0,0,"",0,0,0,"","",0,"",0,"",{"$f":"IF(ROW()<$S$4+2,IF('XML a procesar'!A1340=\"\",P1340,IF(MID('XML a procesar'!A1340,1,1)=\"<\",P1340,P1340+1)),P1340)","v":1}]
[{"$f":"IF('XML a procesar'!A1341>0,'XML a procesar'!A1341,\"\")","v":""},0,0,0,0,"",0,0,0,"","",0,"",0,"",{"$f":"IF(ROW()<$S$4+2,IF('XML a procesar'!A1341=\"\",P1341,IF(MID('XML a procesar'!A1341,1,1)=\"<\",P1341,P1341+1)),P1341)","v":1}]
[{"$f":"IF('XML a procesar'!A1342>0,'XML a procesar'!A1342,\"\")","v":""},0,0,0,0,"",0,0,0,"","",0,"",0,"",{"$f":"IF(ROW()<$S$4+2,IF('XML a procesar'!A1342=\"\",P1342,IF(MID('XML a procesar'!A1342,1,1)=\"<\",P1342,P1342+1)),P1342)","v":1}]
[{"$f":"IF('XML a procesar'!A1343>0,'XML a procesar'!A1343,\"\")","v":""},0,0,0,0,"",0,0,0,"","",0,"",0,"",{"$f":"IF(ROW()<$S$4+2,IF('XML a procesar'!A1343=\"\",P1343,IF(MID('XML a procesar'!A1343,1,1)=\"<\",P1343,P1343+1)),P1343)","v":1}]
[{"$f":"IF('XML a procesar'!A1344>0,'XML a procesar'!A1344,\"\")","v":""},0,0,0,0,"",0,0,0,"","",0,"",0,"",{"$f":"IF(ROW()<$S$4+2,IF('XML a procesar'!A1344=\"\",P1344,IF(MID('XML a procesar'!A1344,1,1)=\"<\",P1344,P1344+1)),P1344)","v":1}]
[{"$f":"IF('XML a procesar'!A1345>0,'XML a procesar'!A1345,\"\")","v":""},0,0,0,0,"",0,0,0,"","",0,"",0,{"$f":"IF(N1346>-1,INDIRECT(ADDRESS(ROW(),13)),IF(N1346<N1345,CONCATENATE(\"<page-count count=\",CHAR(34),1+LARGE(N:N,1)-LARGE(N:N,2),CHAR(34),\"/>\"),INDIRECT(ADDRESS(ROW()-1,13))))","v":""},{"$f":"IF(ROW()<$S$4+2,IF('XML a procesar'!A1345=\"\",P1345,IF(MID('XML a procesar'!A1345,1,1)=\"<\",P1345,P1345+1)),P1345)","v":1}]
[{"$f":"IF('XML a procesar'!A1346>0,'XML a procesar'!A1346,\"\")","v":""},{"$f":"IF(ISERROR(FIND(\"/doi.org/\",A1347,1)),0,1)","v":0},0,0,0,{"$f":"INDIRECT(ADDRESS(ROW()+INDIRECT(ADDRESS(ROW()+E1347,5)),1))","v":""},0,{"$f":"IF(AND(G1346>0,G1347>G1346,NOT(ISERROR(MATCH(G1346,D:D,0)))),H1346+1,H1346)","v":0},0,"",{"$f":"IF(J1347=\"Linea_para_MAIL_creada_por_LuXML\",IF(ISERROR(MATCH(INDIRECT(ADDRESS(ROW()-G1347,7)),D:D,0)),J1347,INDIRECT(ADDRESS(MATCH(INDIRECT(ADDRESS(ROW()-G1347,7)),D:D,0),1))),J1347)","v":""},0,"",0,"",{"$f":"IF(ROW()<$S$4+2,IF('XML a procesar'!A1346=\"\",P1346,IF(MID('XML a procesar'!A1346,1,1)=\"<\",P1346,P1346+1)),P1346)","v":1}]
[{"$f":"IF('XML a procesar'!A1347>0,'XML a procesar'!A1347,\"\")","v":""},0,0,0,0,"",{"$f":"IF(LEFT(F1348,7)=\"<aff id\",_xlfn.NUMBERVALUE(MID(F1348,13,LEN(F1348)-14)),IF(F1348=\"</aff>\",G1347+1,G1347))","v":0},0,{"$f":"INDIRECT(ADDRESS(ROW()-INDIRECT(ADDRESS(ROW()-H1348,8)),8))","v":0},{"$f":"IF(J1347=\"Linea_para_MAIL_creada_por_LuXML\",\"</aff>\",IF(I1348>INDIRECT(ADDRESS(ROW()-I1348-1,8)),\"Linea_para_MAIL_creada_por_LuXML\",INDIRECT(ADDRESS(ROW()-I1348,6))))","v":""},"",{"$f":"IF(OR(MID(K1346,3,5)=\"page>\",MID(K1347,3,5)=\"page>\"),L1347,IF(OR(K1347=\"<history>\",K1348=\"<history>\"),L1347+1,L1347))","v":0},"",{"$f":"IF(N1347=-1,-1,IF(M1348=\"</counts>\",-1,IF(OR(LEFT(M1348,7)=\"<fpage>\",LEFT(M1348,7)=\"<lpage>\"),VALUE(MID(M1348,8,LEN(M1348)-15)),0)))","v":0},"",{"$f":"IF(ROW()<$S$4+2,IF('XML a procesar'!A1347=\"\",P1347,IF(MID('XML a procesar'!A1347,1,1)=\"<\",P1347,P1347+1)),P1347)","v":1}]
[{"$f":"IF('XML a procesar'!A1348>0,'XML a procesar'!A1348,\"\")","v":""},0,0,0,0,"",0,0,0,"","",0,"",0,"",{"$f":"IF(ROW()<$S$4+2,IF('XML a procesar'!A1348=\"\",P1348,IF(MID('XML a procesar'!A1348,1,1)=\"<\",P1348,P1348+1)),P1348)","v":1}]
[{"$f":"IF('XML a procesar'!A1349>0,'XML a procesar'!A1349,\"\")","v":""},0,0,0,0,"",0,0,0,"","",0,{"$f":"IF(L1350>L1349,IF(L1350=1,CONCATENATE(\"<fpage>\",$S$10,\"</fpage>\"),CONCATENATE(\"<lpage>\",$S$10+1,\"</lpage>\")),IF(ISERROR(INDIRECT(ADDRESS(ROW()-L1350,11),1)),\"\",INDIRECT(ADDRESS(ROW()-L1350,11),1)))","v":""},0,"",{"$f":"IF(ROW()<$S$4+2,IF('XML a procesar'!A1349=\"\",P1349,IF(MID('XML a procesar'!A1349,1,1)=\"<\",P1349,P1349+1)),P1349)","v":1}]
[{"$f":"IF('XML a procesar'!A1350>0,'XML a procesar'!A1350,\"\")","v":""},0,0,0,0,"",0,0,0,"","",0,"",0,"",{"$f":"IF(ROW()<$S$4+2,IF('XML a procesar'!A1350=\"\",P1350,IF(MID('XML a procesar'!A1350,1,1)=\"<\",P1350,P1350+1)),P1350)","v":1}]
[{"$f":"IF('XML a procesar'!A1351>0,'XML a procesar'!A1351,\"\")","v":""},0,0,0,0,"",0,0,0,"","",0,"",0,"",{"$f":"IF(ROW()<$S$4+2,IF('XML a procesar'!A1351=\"\",P1351,IF(MID('XML a procesar'!A1351,1,1)=\"<\",P1351,P1351+1)),P1351)","v":1}]
[{"$f":"IF('XML a procesar'!A1352>0,'XML a procesar'!A1352,\"\")","v":""},0,0,0,0,"",0,0,0,"","",0,"",0,"",{"$f":"IF(ROW()<$S$4+2,IF('XML a procesar'!A1352=\"\",P1352,IF(MID('XML a procesar'!A1352,1,1)=\"<\",P1352,P1352+1)),P1352)","v":1}]
[{"$f":"IF('XML a procesar'!A1353>0,'XML a procesar'!A1353,\"\")","v":""},0,0,0,0,"",0,0,0,"","",0,"",0,"",{"$f":"IF(ROW()<$S$4+2,IF('XML a procesar'!A1353=\"\",P1353,IF(MID('XML a procesar'!A1353,1,1)=\"<\",P1353,P1353+1)),P1353)","v":1}]
[{"$f":"IF('XML a procesar'!A1354>0,'XML a procesar'!A1354,\"\")","v":""},0,0,0,0,"",0,0,0,"","",0,"",0,"",{"$f":"IF(ROW()<$S$4+2,IF('XML a procesar'!A1354=\"\",P1354,IF(MID('XML a procesar'!A1354,1,1)=\"<\",P1354,P1354+1)),P1354)","v":1}]
[{"$f":"IF('XML a procesar'!A1355>0,'XML a procesar'!A1355,\"\")","v":""},0,0,0,0,"",0,0,0,"","",0,"",0,"",{"$f":"IF(ROW()<$S$4+2,IF('XML a procesar'!A1355=\"\",P1355,IF(MID('XML a procesar'!A1355,1,1)=\"<\",P1355,P1355+1)),P1355)","v":1}]
[{"$f":"IF('XML a procesar'!A1356>0,'XML a procesar'!A1356,\"\")","v":""},0,0,0,0,"",0,0,0,"","",0,"",0,"",{"$f":"IF(ROW()<$S$4+2,IF('XML a procesar'!A1356=\"\",P1356,IF(MID('XML a procesar'!A1356,1,1)=\"<\",P1356,P1356+1)),P1356)","v":1}]
[{"$f":"IF('XML a procesar'!A1357>0,'XML a procesar'!A1357,\"\")","v":""},0,0,0,0,"",0,0,0,"","",0,"",0,"",{"$f":"IF(ROW()<$S$4+2,IF('XML a procesar'!A1357=\"\",P1357,IF(MID('XML a procesar'!A1357,1,1)=\"<\",P1357,P1357+1)),P1357)","v":1}]
[{"$f":"IF('XML a procesar'!A1358>0,'XML a procesar'!A1358,\"\")","v":""},0,0,0,0,"",0,0,0,"","",0,"",0,"",{"$f":"IF(ROW()<$S$4+2,IF('XML a procesar'!A1358=\"\",P1358,IF(MID('XML a procesar'!A1358,1,1)=\"<\",P1358,P1358+1)),P1358)","v":1}]
[{"$f":"IF('XML a procesar'!A1359>0,'XML a procesar'!A1359,\"\")","v":""},0,0,0,0,"",0,0,0,"","",0,"",0,"",{"$f":"IF(ROW()<$S$4+2,IF('XML a procesar'!A1359=\"\",P1359,IF(MID('XML a procesar'!A1359,1,1)=\"<\",P1359,P1359+1)),P1359)","v":1}]
[{"$f":"IF('XML a procesar'!A1360>0,'XML a procesar'!A1360,\"\")","v":""},0,0,0,0,"",0,0,0,"","",0,"",0,"",{"$f":"IF(ROW()<$S$4+2,IF('XML a procesar'!A1360=\"\",P1360,IF(MID('XML a procesar'!A1360,1,1)=\"<\",P1360,P1360+1)),P1360)","v":1}]
[{"$f":"IF('XML a procesar'!A1361>0,'XML a procesar'!A1361,\"\")","v":""},0,0,0,0,"",0,0,0,"","",0,"",0,"",{"$f":"IF(ROW()<$S$4+2,IF('XML a procesar'!A1361=\"\",P1361,IF(MID('XML a procesar'!A1361,1,1)=\"<\",P1361,P1361+1)),P1361)","v":1}]
[{"$f":"IF('XML a procesar'!A1362>0,'XML a procesar'!A1362,\"\")","v":""},0,0,0,0,"",0,0,0,"","",0,"",0,"",{"$f":"IF(ROW()<$S$4+2,IF('XML a procesar'!A1362=\"\",P1362,IF(MID('XML a procesar'!A1362,1,1)=\"<\",P1362,P1362+1)),P1362)","v":1}]
[{"$f":"IF('XML a procesar'!A1363>0,'XML a procesar'!A1363,\"\")","v":""},0,0,0,0,"",0,0,0,"","",0,"",0,"",{"$f":"IF(ROW()<$S$4+2,IF('XML a procesar'!A1363=\"\",P1363,IF(MID('XML a procesar'!A1363,1,1)=\"<\",P1363,P1363+1)),P1363)","v":1}]
[{"$f":"IF('XML a procesar'!A1364>0,'XML a procesar'!A1364,\"\")","v":""},0,0,0,0,"",0,0,0,"","",0,"",0,"",{"$f":"IF(ROW()<$S$4+2,IF('XML a procesar'!A1364=\"\",P1364,IF(MID('XML a procesar'!A1364,1,1)=\"<\",P1364,P1364+1)),P1364)","v":1}]
[{"$f":"IF('XML a procesar'!A1365>0,'XML a procesar'!A1365,\"\")","v":""},0,0,0,0,"",0,0,0,"","",0,"",0,"",{"$f":"IF(ROW()<$S$4+2,IF('XML a procesar'!A1365=\"\",P1365,IF(MID('XML a procesar'!A1365,1,1)=\"<\",P1365,P1365+1)),P1365)","v":1}]
[{"$f":"IF('XML a procesar'!A1366>0,'XML a procesar'!A1366,\"\")","v":""},0,0,0,0,"",0,0,0,"","",0,"",0,"",{"$f":"IF(ROW()<$S$4+2,IF('XML a procesar'!A1366=\"\",P1366,IF(MID('XML a procesar'!A1366,1,1)=\"<\",P1366,P1366+1)),P1366)","v":1}]
[{"$f":"IF('XML a procesar'!A1367>0,'XML a procesar'!A1367,\"\")","v":""},0,0,0,0,"",0,0,0,"","",0,"",0,"",{"$f":"IF(ROW()<$S$4+2,IF('XML a procesar'!A1367=\"\",P1367,IF(MID('XML a procesar'!A1367,1,1)=\"<\",P1367,P1367+1)),P1367)","v":1}]
[{"$f":"IF('XML a procesar'!A1368>0,'XML a procesar'!A1368,\"\")","v":""},0,0,0,0,"",0,0,0,"","",0,"",0,"",{"$f":"IF(ROW()<$S$4+2,IF('XML a procesar'!A1368=\"\",P1368,IF(MID('XML a procesar'!A1368,1,1)=\"<\",P1368,P1368+1)),P1368)","v":1}]
[{"$f":"IF('XML a procesar'!A1369>0,'XML a procesar'!A1369,\"\")","v":""},0,0,0,0,"",0,0,0,"","",0,"",0,"",{"$f":"IF(ROW()<$S$4+2,IF('XML a procesar'!A1369=\"\",P1369,IF(MID('XML a procesar'!A1369,1,1)=\"<\",P1369,P1369+1)),P1369)","v":1}]
[{"$f":"IF('XML a procesar'!A1370>0,'XML a procesar'!A1370,\"\")","v":""},0,0,0,0,"",0,0,0,"","",0,"",0,"",{"$f":"IF(ROW()<$S$4+2,IF('XML a procesar'!A1370=\"\",P1370,IF(MID('XML a procesar'!A1370,1,1)=\"<\",P1370,P1370+1)),P1370)","v":1}]
[{"$f":"IF('XML a procesar'!A1371>0,'XML a procesar'!A1371,\"\")","v":""},0,0,0,0,"",0,0,0,"","",0,"",0,"",{"$f":"IF(ROW()<$S$4+2,IF('XML a procesar'!A1371=\"\",P1371,IF(MID('XML a procesar'!A1371,1,1)=\"<\",P1371,P1371+1)),P1371)","v":1}]
[{"$f":"IF('XML a procesar'!A1372>0,'XML a procesar'!A1372,\"\")","v":""},0,0,0,0,"",0,0,0,"","",0,"",0,"",{"$f":"IF(ROW()<$S$4+2,IF('XML a procesar'!A1372=\"\",P1372,IF(MID('XML a procesar'!A1372,1,1)=\"<\",P1372,P1372+1)),P1372)","v":1}]
[{"$f":"IF('XML a procesar'!A1373>0,'XML a procesar'!A1373,\"\")","v":""},0,0,0,0,"",0,0,0,"","",0,"",0,"",{"$f":"IF(ROW()<$S$4+2,IF('XML a procesar'!A1373=\"\",P1373,IF(MID('XML a procesar'!A1373,1,1)=\"<\",P1373,P1373+1)),P1373)","v":1}]
[{"$f":"IF('XML a procesar'!A1374>0,'XML a procesar'!A1374,\"\")","v":""},0,0,0,0,"",0,0,0,"","",0,"",0,"",{"$f":"IF(ROW()<$S$4+2,IF('XML a procesar'!A1374=\"\",P1374,IF(MID('XML a procesar'!A1374,1,1)=\"<\",P1374,P1374+1)),P1374)","v":1}]
[{"$f":"IF('XML a procesar'!A1375>0,'XML a procesar'!A1375,\"\")","v":""},0,0,0,0,"",0,0,0,"","",0,"",0,"",{"$f":"IF(ROW()<$S$4+2,IF('XML a procesar'!A1375=\"\",P1375,IF(MID('XML a procesar'!A1375,1,1)=\"<\",P1375,P1375+1)),P1375)","v":1}]
[{"$f":"IF('XML a procesar'!A1376>0,'XML a procesar'!A1376,\"\")","v":""},0,0,0,0,"",0,0,0,"","",0,"",0,"",{"$f":"IF(ROW()<$S$4+2,IF('XML a procesar'!A1376=\"\",P1376,IF(MID('XML a procesar'!A1376,1,1)=\"<\",P1376,P1376+1)),P1376)","v":1}]
[{"$f":"IF('XML a procesar'!A1377>0,'XML a procesar'!A1377,\"\")","v":""},0,0,0,0,"",0,0,0,"","",0,"",0,"",{"$f":"IF(ROW()<$S$4+2,IF('XML a procesar'!A1377=\"\",P1377,IF(MID('XML a procesar'!A1377,1,1)=\"<\",P1377,P1377+1)),P1377)","v":1}]
[{"$f":"IF('XML a procesar'!A1378>0,'XML a procesar'!A1378,\"\")","v":""},0,0,0,0,"",0,0,0,"","",0,"",0,"",{"$f":"IF(ROW()<$S$4+2,IF('XML a procesar'!A1378=\"\",P1378,IF(MID('XML a procesar'!A1378,1,1)=\"<\",P1378,P1378+1)),P1378)","v":1}]
[{"$f":"IF('XML a procesar'!A1379>0,'XML a procesar'!A1379,\"\")","v":""},0,0,0,0,"",0,0,0,"","",0,"",0,"",{"$f":"IF(ROW()<$S$4+2,IF('XML a procesar'!A1379=\"\",P1379,IF(MID('XML a procesar'!A1379,1,1)=\"<\",P1379,P1379+1)),P1379)","v":1}]
[{"$f":"IF('XML a procesar'!A1380>0,'XML a procesar'!A1380,\"\")","v":""},0,0,0,0,"",0,0,0,"","",0,"",0,"",{"$f":"IF(ROW()<$S$4+2,IF('XML a procesar'!A1380=\"\",P1380,IF(MID('XML a procesar'!A1380,1,1)=\"<\",P1380,P1380+1)),P1380)","v":1}]
[{"$f":"IF('XML a procesar'!A1381>0,'XML a procesar'!A1381,\"\")","v":""},0,0,0,0,"",0,0,0,"","",0,"",0,"",{"$f":"IF(ROW()<$S$4+2,IF('XML a procesar'!A1381=\"\",P1381,IF(MID('XML a procesar'!A1381,1,1)=\"<\",P1381,P1381+1)),P1381)","v":1}]
[{"$f":"IF('XML a procesar'!A1382>0,'XML a procesar'!A1382,\"\")","v":""},0,0,0,0,"",0,0,0,"","",0,"",0,"",{"$f":"IF(ROW()<$S$4+2,IF('XML a procesar'!A1382=\"\",P1382,IF(MID('XML a procesar'!A1382,1,1)=\"<\",P1382,P1382+1)),P1382)","v":1}]
[{"$f":"IF('XML a procesar'!A1383>0,'XML a procesar'!A1383,\"\")","v":""},0,0,0,0,"",0,0,0,"","",0,"",0,"",{"$f":"IF(ROW()<$S$4+2,IF('XML a procesar'!A1383=\"\",P1383,IF(MID('XML a procesar'!A1383,1,1)=\"<\",P1383,P1383+1)),P1383)","v":1}]
[{"$f":"IF('XML a procesar'!A1384>0,'XML a procesar'!A1384,\"\")","v":""},0,{"$f":"IF(LEFT(A1384,16)=\"<contrib contrib\",C1384+1,IF(LEFT(A1384,16)=\"</contrib-group>\",0,IF(LEFT(A1384,10)=\"</contrib>\",C1384,C1384)))","v":0},{"$f":"IF(AND(C1385>0,LEFT(A1385,7)=\"<email>\",ISNUMBER(SEARCH(\"@\",A1385,1))),C1385,IF(LEFT(A1385,10)=\"<alt-text>\",-1,0))","v":0},{"$f":"IF(D1385=0,E1384,E1384+1)","v":0},"",0,0,0,"","",0,"",0,"",{"$f":"IF(ROW()<$S$4+2,IF('XML a procesar'!A1384=\"\",P1384,IF(MID('XML a procesar'!A1384,1,1)=\"<\",P1384,P1384+1)),P1384)","v":1}]
[{"$f":"IF('XML a procesar'!A1385>0,'XML a procesar'!A1385,\"\")","v":""},0,0,0,0,"",0,0,0,"","",0,"",0,"",{"$f":"IF(ROW()<$S$4+2,IF('XML a procesar'!A1385=\"\",P1385,IF(MID('XML a procesar'!A1385,1,1)=\"<\",P1385,P1385+1)),P1385)","v":1}]
[{"$f":"IF('XML a procesar'!A1386>0,'XML a procesar'!A1386,\"\")","v":""},0,0,0,0,"",0,0,0,"","",0,"",0,"",{"$f":"IF(ROW()<$S$4+2,IF('XML a procesar'!A1386=\"\",P1386,IF(MID('XML a procesar'!A1386,1,1)=\"<\",P1386,P1386+1)),P1386)","v":1}]
[{"$f":"IF('XML a procesar'!A1387>0,'XML a procesar'!A1387,\"\")","v":""},0,0,0,0,"",0,0,0,"","",0,"",0,"",{"$f":"IF(ROW()<$S$4+2,IF('XML a procesar'!A1387=\"\",P1387,IF(MID('XML a procesar'!A1387,1,1)=\"<\",P1387,P1387+1)),P1387)","v":1}]
[{"$f":"IF('XML a procesar'!A1388>0,'XML a procesar'!A1388,\"\")","v":""},0,0,0,0,"",0,0,0,"","",0,"",0,"",{"$f":"IF(ROW()<$S$4+2,IF('XML a procesar'!A1388=\"\",P1388,IF(MID('XML a procesar'!A1388,1,1)=\"<\",P1388,P1388+1)),P1388)","v":1}]
[{"$f":"IF('XML a procesar'!A1389>0,'XML a procesar'!A1389,\"\")","v":""},0,0,0,0,"",0,0,0,"","",0,"",0,"",{"$f":"IF(ROW()<$S$4+2,IF('XML a procesar'!A1389=\"\",P1389,IF(MID('XML a procesar'!A1389,1,1)=\"<\",P1389,P1389+1)),P1389)","v":1}]
[{"$f":"IF('XML a procesar'!A1390>0,'XML a procesar'!A1390,\"\")","v":""},0,0,0,0,"",0,0,0,"","",0,"",0,"",{"$f":"IF(ROW()<$S$4+2,IF('XML a procesar'!A1390=\"\",P1390,IF(MID('XML a procesar'!A1390,1,1)=\"<\",P1390,P1390+1)),P1390)","v":1}]
[{"$f":"IF('XML a procesar'!A1391>0,'XML a procesar'!A1391,\"\")","v":""},0,0,0,0,"",0,0,0,"","",0,"",0,"",{"$f":"IF(ROW()<$S$4+2,IF('XML a procesar'!A1391=\"\",P1391,IF(MID('XML a procesar'!A1391,1,1)=\"<\",P1391,P1391+1)),P1391)","v":1}]
[{"$f":"IF('XML a procesar'!A1392>0,'XML a procesar'!A1392,\"\")","v":""},0,0,0,0,"",0,0,0,"","",0,"",0,"",{"$f":"IF(ROW()<$S$4+2,IF('XML a procesar'!A1392=\"\",P1392,IF(MID('XML a procesar'!A1392,1,1)=\"<\",P1392,P1392+1)),P1392)","v":1}]
[{"$f":"IF('XML a procesar'!A1393>0,'XML a procesar'!A1393,\"\")","v":""},0,0,0,0,"",0,0,0,"","",0,"",0,"",{"$f":"IF(ROW()<$S$4+2,IF('XML a procesar'!A1393=\"\",P1393,IF(MID('XML a procesar'!A1393,1,1)=\"<\",P1393,P1393+1)),P1393)","v":1}]
[{"$f":"IF('XML a procesar'!A1394>0,'XML a procesar'!A1394,\"\")","v":""},0,0,0,0,"",0,0,0,"","",0,"",0,"",{"$f":"IF(ROW()<$S$4+2,IF('XML a procesar'!A1394=\"\",P1394,IF(MID('XML a procesar'!A1394,1,1)=\"<\",P1394,P1394+1)),P1394)","v":1}]
[{"$f":"IF('XML a procesar'!A1395>0,'XML a procesar'!A1395,\"\")","v":""},0,0,0,0,"",0,0,0,"","",0,"",0,"",{"$f":"IF(ROW()<$S$4+2,IF('XML a procesar'!A1395=\"\",P1395,IF(MID('XML a procesar'!A1395,1,1)=\"<\",P1395,P1395+1)),P1395)","v":1}]
[{"$f":"IF('XML a procesar'!A1396>0,'XML a procesar'!A1396,\"\")","v":""},0,0,0,0,"",0,0,0,"","",0,"",0,"",{"$f":"IF(ROW()<$S$4+2,IF('XML a procesar'!A1396=\"\",P1396,IF(MID('XML a procesar'!A1396,1,1)=\"<\",P1396,P1396+1)),P1396)","v":1}]
[{"$f":"IF('XML a procesar'!A1397>0,'XML a procesar'!A1397,\"\")","v":""},0,0,0,0,"",0,0,0,"","",0,"",0,"",{"$f":"IF(ROW()<$S$4+2,IF('XML a procesar'!A1397=\"\",P1397,IF(MID('XML a procesar'!A1397,1,1)=\"<\",P1397,P1397+1)),P1397)","v":1}]
[{"$f":"IF('XML a procesar'!A1398>0,'XML a procesar'!A1398,\"\")","v":""},0,0,0,0,"",0,0,0,"","",0,"",0,"",{"$f":"IF(ROW()<$S$4+2,IF('XML a procesar'!A1398=\"\",P1398,IF(MID('XML a procesar'!A1398,1,1)=\"<\",P1398,P1398+1)),P1398)","v":1}]
[{"$f":"IF('XML a procesar'!A1399>0,'XML a procesar'!A1399,\"\")","v":""},0,0,0,0,"",0,0,0,"","",0,"",0,"",{"$f":"IF(ROW()<$S$4+2,IF('XML a procesar'!A1399=\"\",P1399,IF(MID('XML a procesar'!A1399,1,1)=\"<\",P1399,P1399+1)),P1399)","v":1}]
[{"$f":"IF('XML a procesar'!A1400>0,'XML a procesar'!A1400,\"\")","v":""},0,0,0,0,"",0,0,0,"","",0,"",0,"",{"$f":"IF(ROW()<$S$4+2,IF('XML a procesar'!A1400=\"\",P1400,IF(MID('XML a procesar'!A1400,1,1)=\"<\",P1400,P1400+1)),P1400)","v":1}]
[{"$f":"IF('XML a procesar'!A1401>0,'XML a procesar'!A1401,\"\")","v":""},0,0,0,0,"",0,0,0,"","",0,"",0,"",{"$f":"IF(ROW()<$S$4+2,IF('XML a procesar'!A1401=\"\",P1401,IF(MID('XML a procesar'!A1401,1,1)=\"<\",P1401,P1401+1)),P1401)","v":1}]
[{"$f":"IF('XML a procesar'!A1402>0,'XML a procesar'!A1402,\"\")","v":""},0,0,0,0,"",0,0,0,"","",0,"",0,"",{"$f":"IF(ROW()<$S$4+2,IF('XML a procesar'!A1402=\"\",P1402,IF(MID('XML a procesar'!A1402,1,1)=\"<\",P1402,P1402+1)),P1402)","v":1}]
[{"$f":"IF('XML a procesar'!A1403>0,'XML a procesar'!A1403,\"\")","v":""},0,0,0,0,"",0,0,0,"","",0,"",0,"",{"$f":"IF(ROW()<$S$4+2,IF('XML a procesar'!A1403=\"\",P1403,IF(MID('XML a procesar'!A1403,1,1)=\"<\",P1403,P1403+1)),P1403)","v":1}]
[{"$f":"IF('XML a procesar'!A1404>0,'XML a procesar'!A1404,\"\")","v":""},0,0,0,0,"",0,0,0,"","",0,"",0,"",{"$f":"IF(ROW()<$S$4+2,IF('XML a procesar'!A1404=\"\",P1404,IF(MID('XML a procesar'!A1404,1,1)=\"<\",P1404,P1404+1)),P1404)","v":1}]
[{"$f":"IF('XML a procesar'!A1405>0,'XML a procesar'!A1405,\"\")","v":""},0,0,0,0,"",0,0,0,"","",0,"",0,"",{"$f":"IF(ROW()<$S$4+2,IF('XML a procesar'!A1405=\"\",P1405,IF(MID('XML a procesar'!A1405,1,1)=\"<\",P1405,P1405+1)),P1405)","v":1}]
[{"$f":"IF('XML a procesar'!A1406>0,'XML a procesar'!A1406,\"\")","v":""},0,0,0,0,"",0,0,0,"","",0,"",0,"",{"$f":"IF(ROW()<$S$4+2,IF('XML a procesar'!A1406=\"\",P1406,IF(MID('XML a procesar'!A1406,1,1)=\"<\",P1406,P1406+1)),P1406)","v":1}]
[{"$f":"IF('XML a procesar'!A1407>0,'XML a procesar'!A1407,\"\")","v":""},0,0,0,0,"",0,0,0,"","",0,"",0,"",{"$f":"IF(ROW()<$S$4+2,IF('XML a procesar'!A1407=\"\",P1407,IF(MID('XML a procesar'!A1407,1,1)=\"<\",P1407,P1407+1)),P1407)","v":1}]
[{"$f":"IF('XML a procesar'!A1408>0,'XML a procesar'!A1408,\"\")","v":""},0,0,0,0,"",0,0,0,"","",0,"",0,"",{"$f":"IF(ROW()<$S$4+2,IF('XML a procesar'!A1408=\"\",P1408,IF(MID('XML a procesar'!A1408,1,1)=\"<\",P1408,P1408+1)),P1408)","v":1}]
[{"$f":"IF('XML a procesar'!A1409>0,'XML a procesar'!A1409,\"\")","v":""},0,0,0,0,"",0,0,0,"","",0,"",0,{"$f":"IF(N1410>-1,INDIRECT(ADDRESS(ROW(),13)),IF(N1410<N1409,CONCATENATE(\"<page-count count=\",CHAR(34),1+LARGE(N:N,1)-LARGE(N:N,2),CHAR(34),\"/>\"),INDIRECT(ADDRESS(ROW()-1,13))))","v":""},{"$f":"IF(ROW()<$S$4+2,IF('XML a procesar'!A1409=\"\",P1409,IF(MID('XML a procesar'!A1409,1,1)=\"<\",P1409,P1409+1)),P1409)","v":1}]
[{"$f":"IF('XML a procesar'!A1410>0,'XML a procesar'!A1410,\"\")","v":""},{"$f":"IF(ISERROR(FIND(\"/doi.org/\",A1411,1)),0,1)","v":0},0,0,0,{"$f":"INDIRECT(ADDRESS(ROW()+INDIRECT(ADDRESS(ROW()+E1411,5)),1))","v":""},0,{"$f":"IF(AND(G1410>0,G1411>G1410,NOT(ISERROR(MATCH(G1410,D:D,0)))),H1410+1,H1410)","v":0},0,"",{"$f":"IF(J1411=\"Linea_para_MAIL_creada_por_LuXML\",IF(ISERROR(MATCH(INDIRECT(ADDRESS(ROW()-G1411,7)),D:D,0)),J1411,INDIRECT(ADDRESS(MATCH(INDIRECT(ADDRESS(ROW()-G1411,7)),D:D,0),1))),J1411)","v":""},0,"",0,"",{"$f":"IF(ROW()<$S$4+2,IF('XML a procesar'!A1410=\"\",P1410,IF(MID('XML a procesar'!A1410,1,1)=\"<\",P1410,P1410+1)),P1410)","v":1}]
[{"$f":"IF('XML a procesar'!A1411>0,'XML a procesar'!A1411,\"\")","v":""},0,0,0,0,"",{"$f":"IF(LEFT(F1412,7)=\"<aff id\",_xlfn.NUMBERVALUE(MID(F1412,13,LEN(F1412)-14)),IF(F1412=\"</aff>\",G1411+1,G1411))","v":0},0,{"$f":"INDIRECT(ADDRESS(ROW()-INDIRECT(ADDRESS(ROW()-H1412,8)),8))","v":0},{"$f":"IF(J1411=\"Linea_para_MAIL_creada_por_LuXML\",\"</aff>\",IF(I1412>INDIRECT(ADDRESS(ROW()-I1412-1,8)),\"Linea_para_MAIL_creada_por_LuXML\",INDIRECT(ADDRESS(ROW()-I1412,6))))","v":""},"",{"$f":"IF(OR(MID(K1410,3,5)=\"page>\",MID(K1411,3,5)=\"page>\"),L1411,IF(OR(K1411=\"<history>\",K1412=\"<history>\"),L1411+1,L1411))","v":0},"",{"$f":"IF(N1411=-1,-1,IF(M1412=\"</counts>\",-1,IF(OR(LEFT(M1412,7)=\"<fpage>\",LEFT(M1412,7)=\"<lpage>\"),VALUE(MID(M1412,8,LEN(M1412)-15)),0)))","v":0},"",{"$f":"IF(ROW()<$S$4+2,IF('XML a procesar'!A1411=\"\",P1411,IF(MID('XML a procesar'!A1411,1,1)=\"<\",P1411,P1411+1)),P1411)","v":1}]
[{"$f":"IF('XML a procesar'!A1412>0,'XML a procesar'!A1412,\"\")","v":""},0,0,0,0,"",0,0,0,"","",0,"",0,"",{"$f":"IF(ROW()<$S$4+2,IF('XML a procesar'!A1412=\"\",P1412,IF(MID('XML a procesar'!A1412,1,1)=\"<\",P1412,P1412+1)),P1412)","v":1}]
[{"$f":"IF('XML a procesar'!A1413>0,'XML a procesar'!A1413,\"\")","v":""},0,0,0,0,"",0,0,0,"","",0,{"$f":"IF(L1414>L1413,IF(L1414=1,CONCATENATE(\"<fpage>\",$S$10,\"</fpage>\"),CONCATENATE(\"<lpage>\",$S$10+1,\"</lpage>\")),IF(ISERROR(INDIRECT(ADDRESS(ROW()-L1414,11),1)),\"\",INDIRECT(ADDRESS(ROW()-L1414,11),1)))","v":""},0,"",{"$f":"IF(ROW()<$S$4+2,IF('XML a procesar'!A1413=\"\",P1413,IF(MID('XML a procesar'!A1413,1,1)=\"<\",P1413,P1413+1)),P1413)","v":1}]
[{"$f":"IF('XML a procesar'!A1414>0,'XML a procesar'!A1414,\"\")","v":""},0,0,0,0,"",0,0,0,"","",0,"",0,"",{"$f":"IF(ROW()<$S$4+2,IF('XML a procesar'!A1414=\"\",P1414,IF(MID('XML a procesar'!A1414,1,1)=\"<\",P1414,P1414+1)),P1414)","v":1}]
[{"$f":"IF('XML a procesar'!A1415>0,'XML a procesar'!A1415,\"\")","v":""},0,0,0,0,"",0,0,0,"","",0,"",0,"",{"$f":"IF(ROW()<$S$4+2,IF('XML a procesar'!A1415=\"\",P1415,IF(MID('XML a procesar'!A1415,1,1)=\"<\",P1415,P1415+1)),P1415)","v":1}]
[{"$f":"IF('XML a procesar'!A1416>0,'XML a procesar'!A1416,\"\")","v":""},0,0,0,0,"",0,0,0,"","",0,"",0,"",{"$f":"IF(ROW()<$S$4+2,IF('XML a procesar'!A1416=\"\",P1416,IF(MID('XML a procesar'!A1416,1,1)=\"<\",P1416,P1416+1)),P1416)","v":1}]
[{"$f":"IF('XML a procesar'!A1417>0,'XML a procesar'!A1417,\"\")","v":""},0,0,0,0,"",0,0,0,"","",0,"",0,"",{"$f":"IF(ROW()<$S$4+2,IF('XML a procesar'!A1417=\"\",P1417,IF(MID('XML a procesar'!A1417,1,1)=\"<\",P1417,P1417+1)),P1417)","v":1}]
[{"$f":"IF('XML a procesar'!A1418>0,'XML a procesar'!A1418,\"\")","v":""},0,0,0,0,"",0,0,0,"","",0,"",0,"",{"$f":"IF(ROW()<$S$4+2,IF('XML a procesar'!A1418=\"\",P1418,IF(MID('XML a procesar'!A1418,1,1)=\"<\",P1418,P1418+1)),P1418)","v":1}]
[{"$f":"IF('XML a procesar'!A1419>0,'XML a procesar'!A1419,\"\")","v":""},0,0,0,0,"",0,0,0,"","",0,"",0,"",{"$f":"IF(ROW()<$S$4+2,IF('XML a procesar'!A1419=\"\",P1419,IF(MID('XML a procesar'!A1419,1,1)=\"<\",P1419,P1419+1)),P1419)","v":1}]
[{"$f":"IF('XML a procesar'!A1420>0,'XML a procesar'!A1420,\"\")","v":""},0,0,0,0,"",0,0,0,"","",0,"",0,"",{"$f":"IF(ROW()<$S$4+2,IF('XML a procesar'!A1420=\"\",P1420,IF(MID('XML a procesar'!A1420,1,1)=\"<\",P1420,P1420+1)),P1420)","v":1}]
[{"$f":"IF('XML a procesar'!A1421>0,'XML a procesar'!A1421,\"\")","v":""},0,0,0,0,"",0,0,0,"","",0,"",0,"",{"$f":"IF(ROW()<$S$4+2,IF('XML a procesar'!A1421=\"\",P1421,IF(MID('XML a procesar'!A1421,1,1)=\"<\",P1421,P1421+1)),P1421)","v":1}]
[{"$f":"IF('XML a procesar'!A1422>0,'XML a procesar'!A1422,\"\")","v":""},0,0,0,0,"",0,0,0,"","",0,"",0,"",{"$f":"IF(ROW()<$S$4+2,IF('XML a procesar'!A1422=\"\",P1422,IF(MID('XML a procesar'!A1422,1,1)=\"<\",P1422,P1422+1)),P1422)","v":1}]
[{"$f":"IF('XML a procesar'!A1423>0,'XML a procesar'!A1423,\"\")","v":""},0,0,0,0,"",0,0,0,"","",0,"",0,"",{"$f":"IF(ROW()<$S$4+2,IF('XML a procesar'!A1423=\"\",P1423,IF(MID('XML a procesar'!A1423,1,1)=\"<\",P1423,P1423+1)),P1423)","v":1}]
[{"$f":"IF('XML a procesar'!A1424>0,'XML a procesar'!A1424,\"\")","v":""},0,0,0,0,"",0,0,0,"","",0,"",0,"",{"$f":"IF(ROW()<$S$4+2,IF('XML a procesar'!A1424=\"\",P1424,IF(MID('XML a procesar'!A1424,1,1)=\"<\",P1424,P1424+1)),P1424)","v":1}]
[{"$f":"IF('XML a procesar'!A1425>0,'XML a procesar'!A1425,\"\")","v":""},0,0,0,0,"",0,0,0,"","",0,"",0,"",{"$f":"IF(ROW()<$S$4+2,IF('XML a procesar'!A1425=\"\",P1425,IF(MID('XML a procesar'!A1425,1,1)=\"<\",P1425,P1425+1)),P1425)","v":1}]
[{"$f":"IF('XML a procesar'!A1426>0,'XML a procesar'!A1426,\"\")","v":""},0,0,0,0,"",0,0,0,"","",0,"",0,"",{"$f":"IF(ROW()<$S$4+2,IF('XML a procesar'!A1426=\"\",P1426,IF(MID('XML a procesar'!A1426,1,1)=\"<\",P1426,P1426+1)),P1426)","v":1}]
[{"$f":"IF('XML a procesar'!A1427>0,'XML a procesar'!A1427,\"\")","v":""},0,0,0,0,"",0,0,0,"","",0,"",0,"",{"$f":"IF(ROW()<$S$4+2,IF('XML a procesar'!A1427=\"\",P1427,IF(MID('XML a procesar'!A1427,1,1)=\"<\",P1427,P1427+1)),P1427)","v":1}]
[{"$f":"IF('XML a procesar'!A1428>0,'XML a procesar'!A1428,\"\")","v":""},0,0,0,0,"",0,0,0,"","",0,"",0,"",{"$f":"IF(ROW()<$S$4+2,IF('XML a procesar'!A1428=\"\",P1428,IF(MID('XML a procesar'!A1428,1,1)=\"<\",P1428,P1428+1)),P1428)","v":1}]
[{"$f":"IF('XML a procesar'!A1429>0,'XML a procesar'!A1429,\"\")","v":""},0,0,0,0,"",0,0,0,"","",0,"",0,"",{"$f":"IF(ROW()<$S$4+2,IF('XML a procesar'!A1429=\"\",P1429,IF(MID('XML a procesar'!A1429,1,1)=\"<\",P1429,P1429+1)),P1429)","v":1}]
[{"$f":"IF('XML a procesar'!A1430>0,'XML a procesar'!A1430,\"\")","v":""},0,0,0,0,"",0,0,0,"","",0,"",0,"",{"$f":"IF(ROW()<$S$4+2,IF('XML a procesar'!A1430=\"\",P1430,IF(MID('XML a procesar'!A1430,1,1)=\"<\",P1430,P1430+1)),P1430)","v":1}]
[{"$f":"IF('XML a procesar'!A1431>0,'XML a procesar'!A1431,\"\")","v":""},0,0,0,0,"",0,0,0,"","",0,"",0,"",{"$f":"IF(ROW()<$S$4+2,IF('XML a procesar'!A1431=\"\",P1431,IF(MID('XML a procesar'!A1431,1,1)=\"<\",P1431,P1431+1)),P1431)","v":1}]
[{"$f":"IF('XML a procesar'!A1432>0,'XML a procesar'!A1432,\"\")","v":""},0,0,0,0,"",0,0,0,"","",0,"",0,"",{"$f":"IF(ROW()<$S$4+2,IF('XML a procesar'!A1432=\"\",P1432,IF(MID('XML a procesar'!A1432,1,1)=\"<\",P1432,P1432+1)),P1432)","v":1}]
[{"$f":"IF('XML a procesar'!A1433>0,'XML a procesar'!A1433,\"\")","v":""},0,0,0,0,"",0,0,0,"","",0,"",0,"",{"$f":"IF(ROW()<$S$4+2,IF('XML a procesar'!A1433=\"\",P1433,IF(MID('XML a procesar'!A1433,1,1)=\"<\",P1433,P1433+1)),P1433)","v":1}]
[{"$f":"IF('XML a procesar'!A1434>0,'XML a procesar'!A1434,\"\")","v":""},0,0,0,0,"",0,0,0,"","",0,"",0,"",{"$f":"IF(ROW()<$S$4+2,IF('XML a procesar'!A1434=\"\",P1434,IF(MID('XML a procesar'!A1434,1,1)=\"<\",P1434,P1434+1)),P1434)","v":1}]
[{"$f":"IF('XML a procesar'!A1435>0,'XML a procesar'!A1435,\"\")","v":""},0,0,0,0,"",0,0,0,"","",0,"",0,"",{"$f":"IF(ROW()<$S$4+2,IF('XML a procesar'!A1435=\"\",P1435,IF(MID('XML a procesar'!A1435,1,1)=\"<\",P1435,P1435+1)),P1435)","v":1}]
[{"$f":"IF('XML a procesar'!A1436>0,'XML a procesar'!A1436,\"\")","v":""},0,0,0,0,"",0,0,0,"","",0,"",0,"",{"$f":"IF(ROW()<$S$4+2,IF('XML a procesar'!A1436=\"\",P1436,IF(MID('XML a procesar'!A1436,1,1)=\"<\",P1436,P1436+1)),P1436)","v":1}]
[{"$f":"IF('XML a procesar'!A1437>0,'XML a procesar'!A1437,\"\")","v":""},0,0,0,0,"",0,0,0,"","",0,"",0,"",{"$f":"IF(ROW()<$S$4+2,IF('XML a procesar'!A1437=\"\",P1437,IF(MID('XML a procesar'!A1437,1,1)=\"<\",P1437,P1437+1)),P1437)","v":1}]
[{"$f":"IF('XML a procesar'!A1438>0,'XML a procesar'!A1438,\"\")","v":""},0,0,0,0,"",0,0,0,"","",0,"",0,"",{"$f":"IF(ROW()<$S$4+2,IF('XML a procesar'!A1438=\"\",P1438,IF(MID('XML a procesar'!A1438,1,1)=\"<\",P1438,P1438+1)),P1438)","v":1}]
[{"$f":"IF('XML a procesar'!A1439>0,'XML a procesar'!A1439,\"\")","v":""},0,0,0,0,"",0,0,0,"","",0,"",0,"",{"$f":"IF(ROW()<$S$4+2,IF('XML a procesar'!A1439=\"\",P1439,IF(MID('XML a procesar'!A1439,1,1)=\"<\",P1439,P1439+1)),P1439)","v":1}]
[{"$f":"IF('XML a procesar'!A1440>0,'XML a procesar'!A1440,\"\")","v":""},0,0,0,0,"",0,0,0,"","",0,"",0,"",{"$f":"IF(ROW()<$S$4+2,IF('XML a procesar'!A1440=\"\",P1440,IF(MID('XML a procesar'!A1440,1,1)=\"<\",P1440,P1440+1)),P1440)","v":1}]
[{"$f":"IF('XML a procesar'!A1441>0,'XML a procesar'!A1441,\"\")","v":""},0,0,0,0,"",0,0,0,"","",0,"",0,"",{"$f":"IF(ROW()<$S$4+2,IF('XML a procesar'!A1441=\"\",P1441,IF(MID('XML a procesar'!A1441,1,1)=\"<\",P1441,P1441+1)),P1441)","v":1}]
[{"$f":"IF('XML a procesar'!A1442>0,'XML a procesar'!A1442,\"\")","v":""},0,0,0,0,"",0,0,0,"","",0,"",0,"",{"$f":"IF(ROW()<$S$4+2,IF('XML a procesar'!A1442=\"\",P1442,IF(MID('XML a procesar'!A1442,1,1)=\"<\",P1442,P1442+1)),P1442)","v":1}]
[{"$f":"IF('XML a procesar'!A1443>0,'XML a procesar'!A1443,\"\")","v":""},0,0,0,0,"",0,0,0,"","",0,"",0,"",{"$f":"IF(ROW()<$S$4+2,IF('XML a procesar'!A1443=\"\",P1443,IF(MID('XML a procesar'!A1443,1,1)=\"<\",P1443,P1443+1)),P1443)","v":1}]
[{"$f":"IF('XML a procesar'!A1444>0,'XML a procesar'!A1444,\"\")","v":""},0,0,0,0,"",0,0,0,"","",0,"",0,"",{"$f":"IF(ROW()<$S$4+2,IF('XML a procesar'!A1444=\"\",P1444,IF(MID('XML a procesar'!A1444,1,1)=\"<\",P1444,P1444+1)),P1444)","v":1}]
[{"$f":"IF('XML a procesar'!A1445>0,'XML a procesar'!A1445,\"\")","v":""},0,0,0,0,"",0,0,0,"","",0,"",0,"",{"$f":"IF(ROW()<$S$4+2,IF('XML a procesar'!A1445=\"\",P1445,IF(MID('XML a procesar'!A1445,1,1)=\"<\",P1445,P1445+1)),P1445)","v":1}]
[{"$f":"IF('XML a procesar'!A1446>0,'XML a procesar'!A1446,\"\")","v":""},0,0,0,0,"",0,0,0,"","",0,"",0,"",{"$f":"IF(ROW()<$S$4+2,IF('XML a procesar'!A1446=\"\",P1446,IF(MID('XML a procesar'!A1446,1,1)=\"<\",P1446,P1446+1)),P1446)","v":1}]
[{"$f":"IF('XML a procesar'!A1447>0,'XML a procesar'!A1447,\"\")","v":""},0,0,0,0,"",0,0,0,"","",0,"",0,"",{"$f":"IF(ROW()<$S$4+2,IF('XML a procesar'!A1447=\"\",P1447,IF(MID('XML a procesar'!A1447,1,1)=\"<\",P1447,P1447+1)),P1447)","v":1}]
[{"$f":"IF('XML a procesar'!A1448>0,'XML a procesar'!A1448,\"\")","v":""},0,{"$f":"IF(LEFT(A1448,16)=\"<contrib contrib\",C1448+1,IF(LEFT(A1448,16)=\"</contrib-group>\",0,IF(LEFT(A1448,10)=\"</contrib>\",C1448,C1448)))","v":0},{"$f":"IF(AND(C1449>0,LEFT(A1449,7)=\"<email>\",ISNUMBER(SEARCH(\"@\",A1449,1))),C1449,IF(LEFT(A1449,10)=\"<alt-text>\",-1,0))","v":0},{"$f":"IF(D1449=0,E1448,E1448+1)","v":0},"",0,0,0,"","",0,"",0,"",{"$f":"IF(ROW()<$S$4+2,IF('XML a procesar'!A1448=\"\",P1448,IF(MID('XML a procesar'!A1448,1,1)=\"<\",P1448,P1448+1)),P1448)","v":1}]
[{"$f":"IF('XML a procesar'!A1449>0,'XML a procesar'!A1449,\"\")","v":""},0,0,0,0,"",0,0,0,"","",0,"",0,"",{"$f":"IF(ROW()<$S$4+2,IF('XML a procesar'!A1449=\"\",P1449,IF(MID('XML a procesar'!A1449,1,1)=\"<\",P1449,P1449+1)),P1449)","v":1}]
[{"$f":"IF('XML a procesar'!A1450>0,'XML a procesar'!A1450,\"\")","v":""},0,0,0,0,"",0,0,0,"","",0,"",0,"",{"$f":"IF(ROW()<$S$4+2,IF('XML a procesar'!A1450=\"\",P1450,IF(MID('XML a procesar'!A1450,1,1)=\"<\",P1450,P1450+1)),P1450)","v":1}]
[{"$f":"IF('XML a procesar'!A1451>0,'XML a procesar'!A1451,\"\")","v":""},0,0,0,0,"",0,0,0,"","",0,"",0,"",{"$f":"IF(ROW()<$S$4+2,IF('XML a procesar'!A1451=\"\",P1451,IF(MID('XML a procesar'!A1451,1,1)=\"<\",P1451,P1451+1)),P1451)","v":1}]
[{"$f":"IF('XML a procesar'!A1452>0,'XML a procesar'!A1452,\"\")","v":""},0,0,0,0,"",0,0,0,"","",0,"",0,"",{"$f":"IF(ROW()<$S$4+2,IF('XML a procesar'!A1452=\"\",P1452,IF(MID('XML a procesar'!A1452,1,1)=\"<\",P1452,P1452+1)),P1452)","v":1}]
[{"$f":"IF('XML a procesar'!A1453>0,'XML a procesar'!A1453,\"\")","v":""},0,0,0,0,"",0,0,0,"","",0,"",0,"",{"$f":"IF(ROW()<$S$4+2,IF('XML a procesar'!A1453=\"\",P1453,IF(MID('XML a procesar'!A1453,1,1)=\"<\",P1453,P1453+1)),P1453)","v":1}]
[{"$f":"IF('XML a procesar'!A1454>0,'XML a procesar'!A1454,\"\")","v":""},0,0,0,0,"",0,0,0,"","",0,"",0,"",{"$f":"IF(ROW()<$S$4+2,IF('XML a procesar'!A1454=\"\",P1454,IF(MID('XML a procesar'!A1454,1,1)=\"<\",P1454,P1454+1)),P1454)","v":1}]
[{"$f":"IF('XML a procesar'!A1455>0,'XML a procesar'!A1455,\"\")","v":""},0,0,0,0,"",0,0,0,"","",0,"",0,"",{"$f":"IF(ROW()<$S$4+2,IF('XML a procesar'!A1455=\"\",P1455,IF(MID('XML a procesar'!A1455,1,1)=\"<\",P1455,P1455+1)),P1455)","v":1}]
[{"$f":"IF('XML a procesar'!A1456>0,'XML a procesar'!A1456,\"\")","v":""},0,0,0,0,"",0,0,0,"","",0,"",0,"",{"$f":"IF(ROW()<$S$4+2,IF('XML a procesar'!A1456=\"\",P1456,IF(MID('XML a procesar'!A1456,1,1)=\"<\",P1456,P1456+1)),P1456)","v":1}]
[{"$f":"IF('XML a procesar'!A1457>0,'XML a procesar'!A1457,\"\")","v":""},0,0,0,0,"",0,0,0,"","",0,"",0,"",{"$f":"IF(ROW()<$S$4+2,IF('XML a procesar'!A1457=\"\",P1457,IF(MID('XML a procesar'!A1457,1,1)=\"<\",P1457,P1457+1)),P1457)","v":1}]
[{"$f":"IF('XML a procesar'!A1458>0,'XML a procesar'!A1458,\"\")","v":""},0,0,0,0,"",0,0,0,"","",0,"",0,"",{"$f":"IF(ROW()<$S$4+2,IF('XML a procesar'!A1458=\"\",P1458,IF(MID('XML a procesar'!A1458,1,1)=\"<\",P1458,P1458+1)),P1458)","v":1}]
[{"$f":"IF('XML a procesar'!A1459>0,'XML a procesar'!A1459,\"\")","v":""},0,0,0,0,"",0,0,0,"","",0,"",0,"",{"$f":"IF(ROW()<$S$4+2,IF('XML a procesar'!A1459=\"\",P1459,IF(MID('XML a procesar'!A1459,1,1)=\"<\",P1459,P1459+1)),P1459)","v":1}]
[{"$f":"IF('XML a procesar'!A1460>0,'XML a procesar'!A1460,\"\")","v":""},0,0,0,0,"",0,0,0,"","",0,"",0,"",{"$f":"IF(ROW()<$S$4+2,IF('XML a procesar'!A1460=\"\",P1460,IF(MID('XML a procesar'!A1460,1,1)=\"<\",P1460,P1460+1)),P1460)","v":1}]
[{"$f":"IF('XML a procesar'!A1461>0,'XML a procesar'!A1461,\"\")","v":""},0,0,0,0,"",0,0,0,"","",0,"",0,"",{"$f":"IF(ROW()<$S$4+2,IF('XML a procesar'!A1461=\"\",P1461,IF(MID('XML a procesar'!A1461,1,1)=\"<\",P1461,P1461+1)),P1461)","v":1}]
[{"$f":"IF('XML a procesar'!A1462>0,'XML a procesar'!A1462,\"\")","v":""},0,0,0,0,"",0,0,0,"","",0,"",0,"",{"$f":"IF(ROW()<$S$4+2,IF('XML a procesar'!A1462=\"\",P1462,IF(MID('XML a procesar'!A1462,1,1)=\"<\",P1462,P1462+1)),P1462)","v":1}]
[{"$f":"IF('XML a procesar'!A1463>0,'XML a procesar'!A1463,\"\")","v":""},0,0,0,0,"",0,0,0,"","",0,"",0,"",{"$f":"IF(ROW()<$S$4+2,IF('XML a procesar'!A1463=\"\",P1463,IF(MID('XML a procesar'!A1463,1,1)=\"<\",P1463,P1463+1)),P1463)","v":1}]
[{"$f":"IF('XML a procesar'!A1464>0,'XML a procesar'!A1464,\"\")","v":""},0,0,0,0,"",0,0,0,"","",0,"",0,"",{"$f":"IF(ROW()<$S$4+2,IF('XML a procesar'!A1464=\"\",P1464,IF(MID('XML a procesar'!A1464,1,1)=\"<\",P1464,P1464+1)),P1464)","v":1}]
[{"$f":"IF('XML a procesar'!A1465>0,'XML a procesar'!A1465,\"\")","v":""},0,0,0,0,"",0,0,0,"","",0,"",0,"",{"$f":"IF(ROW()<$S$4+2,IF('XML a procesar'!A1465=\"\",P1465,IF(MID('XML a procesar'!A1465,1,1)=\"<\",P1465,P1465+1)),P1465)","v":1}]
[{"$f":"IF('XML a procesar'!A1466>0,'XML a procesar'!A1466,\"\")","v":""},0,0,0,0,"",0,0,0,"","",0,"",0,"",{"$f":"IF(ROW()<$S$4+2,IF('XML a procesar'!A1466=\"\",P1466,IF(MID('XML a procesar'!A1466,1,1)=\"<\",P1466,P1466+1)),P1466)","v":1}]
[{"$f":"IF('XML a procesar'!A1467>0,'XML a procesar'!A1467,\"\")","v":""},0,0,0,0,"",0,0,0,"","",0,"",0,"",{"$f":"IF(ROW()<$S$4+2,IF('XML a procesar'!A1467=\"\",P1467,IF(MID('XML a procesar'!A1467,1,1)=\"<\",P1467,P1467+1)),P1467)","v":1}]
[{"$f":"IF('XML a procesar'!A1468>0,'XML a procesar'!A1468,\"\")","v":""},0,0,0,0,"",0,0,0,"","",0,"",0,"",{"$f":"IF(ROW()<$S$4+2,IF('XML a procesar'!A1468=\"\",P1468,IF(MID('XML a procesar'!A1468,1,1)=\"<\",P1468,P1468+1)),P1468)","v":1}]
[{"$f":"IF('XML a procesar'!A1469>0,'XML a procesar'!A1469,\"\")","v":""},0,0,0,0,"",0,0,0,"","",0,"",0,"",{"$f":"IF(ROW()<$S$4+2,IF('XML a procesar'!A1469=\"\",P1469,IF(MID('XML a procesar'!A1469,1,1)=\"<\",P1469,P1469+1)),P1469)","v":1}]
[{"$f":"IF('XML a procesar'!A1470>0,'XML a procesar'!A1470,\"\")","v":""},0,0,0,0,"",0,0,0,"","",0,"",0,"",{"$f":"IF(ROW()<$S$4+2,IF('XML a procesar'!A1470=\"\",P1470,IF(MID('XML a procesar'!A1470,1,1)=\"<\",P1470,P1470+1)),P1470)","v":1}]
[{"$f":"IF('XML a procesar'!A1471>0,'XML a procesar'!A1471,\"\")","v":""},0,0,0,0,"",0,0,0,"","",0,"",0,"",{"$f":"IF(ROW()<$S$4+2,IF('XML a procesar'!A1471=\"\",P1471,IF(MID('XML a procesar'!A1471,1,1)=\"<\",P1471,P1471+1)),P1471)","v":1}]
[{"$f":"IF('XML a procesar'!A1472>0,'XML a procesar'!A1472,\"\")","v":""},0,0,0,0,"",0,0,0,"","",0,"",0,"",{"$f":"IF(ROW()<$S$4+2,IF('XML a procesar'!A1472=\"\",P1472,IF(MID('XML a procesar'!A1472,1,1)=\"<\",P1472,P1472+1)),P1472)","v":1}]
[{"$f":"IF('XML a procesar'!A1473>0,'XML a procesar'!A1473,\"\")","v":""},0,0,0,0,"",0,0,0,"","",0,"",0,{"$f":"IF(N1474>-1,INDIRECT(ADDRESS(ROW(),13)),IF(N1474<N1473,CONCATENATE(\"<page-count count=\",CHAR(34),1+LARGE(N:N,1)-LARGE(N:N,2),CHAR(34),\"/>\"),INDIRECT(ADDRESS(ROW()-1,13))))","v":""},{"$f":"IF(ROW()<$S$4+2,IF('XML a procesar'!A1473=\"\",P1473,IF(MID('XML a procesar'!A1473,1,1)=\"<\",P1473,P1473+1)),P1473)","v":1}]
[{"$f":"IF('XML a procesar'!A1474>0,'XML a procesar'!A1474,\"\")","v":""},{"$f":"IF(ISERROR(FIND(\"/doi.org/\",A1475,1)),0,1)","v":0},0,0,0,{"$f":"INDIRECT(ADDRESS(ROW()+INDIRECT(ADDRESS(ROW()+E1475,5)),1))","v":""},0,{"$f":"IF(AND(G1474>0,G1475>G1474,NOT(ISERROR(MATCH(G1474,D:D,0)))),H1474+1,H1474)","v":0},0,"",{"$f":"IF(J1475=\"Linea_para_MAIL_creada_por_LuXML\",IF(ISERROR(MATCH(INDIRECT(ADDRESS(ROW()-G1475,7)),D:D,0)),J1475,INDIRECT(ADDRESS(MATCH(INDIRECT(ADDRESS(ROW()-G1475,7)),D:D,0),1))),J1475)","v":""},0,"",0,"",{"$f":"IF(ROW()<$S$4+2,IF('XML a procesar'!A1474=\"\",P1474,IF(MID('XML a procesar'!A1474,1,1)=\"<\",P1474,P1474+1)),P1474)","v":1}]
[{"$f":"IF('XML a procesar'!A1475>0,'XML a procesar'!A1475,\"\")","v":""},0,0,0,0,"",{"$f":"IF(LEFT(F1476,7)=\"<aff id\",_xlfn.NUMBERVALUE(MID(F1476,13,LEN(F1476)-14)),IF(F1476=\"</aff>\",G1475+1,G1475))","v":0},0,{"$f":"INDIRECT(ADDRESS(ROW()-INDIRECT(ADDRESS(ROW()-H1476,8)),8))","v":0},{"$f":"IF(J1475=\"Linea_para_MAIL_creada_por_LuXML\",\"</aff>\",IF(I1476>INDIRECT(ADDRESS(ROW()-I1476-1,8)),\"Linea_para_MAIL_creada_por_LuXML\",INDIRECT(ADDRESS(ROW()-I1476,6))))","v":""},"",{"$f":"IF(OR(MID(K1474,3,5)=\"page>\",MID(K1475,3,5)=\"page>\"),L1475,IF(OR(K1475=\"<history>\",K1476=\"<history>\"),L1475+1,L1475))","v":0},"",{"$f":"IF(N1475=-1,-1,IF(M1476=\"</counts>\",-1,IF(OR(LEFT(M1476,7)=\"<fpage>\",LEFT(M1476,7)=\"<lpage>\"),VALUE(MID(M1476,8,LEN(M1476)-15)),0)))","v":0},"",{"$f":"IF(ROW()<$S$4+2,IF('XML a procesar'!A1475=\"\",P1475,IF(MID('XML a procesar'!A1475,1,1)=\"<\",P1475,P1475+1)),P1475)","v":1}]
[{"$f":"IF('XML a procesar'!A1476>0,'XML a procesar'!A1476,\"\")","v":""},0,0,0,0,"",0,0,0,"","",0,"",0,"",{"$f":"IF(ROW()<$S$4+2,IF('XML a procesar'!A1476=\"\",P1476,IF(MID('XML a procesar'!A1476,1,1)=\"<\",P1476,P1476+1)),P1476)","v":1}]
[{"$f":"IF('XML a procesar'!A1477>0,'XML a procesar'!A1477,\"\")","v":""},0,0,0,0,"",0,0,0,"","",0,{"$f":"IF(L1478>L1477,IF(L1478=1,CONCATENATE(\"<fpage>\",$S$10,\"</fpage>\"),CONCATENATE(\"<lpage>\",$S$10+1,\"</lpage>\")),IF(ISERROR(INDIRECT(ADDRESS(ROW()-L1478,11),1)),\"\",INDIRECT(ADDRESS(ROW()-L1478,11),1)))","v":""},0,"",{"$f":"IF(ROW()<$S$4+2,IF('XML a procesar'!A1477=\"\",P1477,IF(MID('XML a procesar'!A1477,1,1)=\"<\",P1477,P1477+1)),P1477)","v":1}]
[{"$f":"IF('XML a procesar'!A1478>0,'XML a procesar'!A1478,\"\")","v":""},0,0,0,0,"",0,0,0,"","",0,"",0,"",{"$f":"IF(ROW()<$S$4+2,IF('XML a procesar'!A1478=\"\",P1478,IF(MID('XML a procesar'!A1478,1,1)=\"<\",P1478,P1478+1)),P1478)","v":1}]
[{"$f":"IF('XML a procesar'!A1479>0,'XML a procesar'!A1479,\"\")","v":""},0,0,0,0,"",0,0,0,"","",0,"",0,"",{"$f":"IF(ROW()<$S$4+2,IF('XML a procesar'!A1479=\"\",P1479,IF(MID('XML a procesar'!A1479,1,1)=\"<\",P1479,P1479+1)),P1479)","v":1}]
[{"$f":"IF('XML a procesar'!A1480>0,'XML a procesar'!A1480,\"\")","v":""},0,0,0,0,"",0,0,0,"","",0,"",0,"",{"$f":"IF(ROW()<$S$4+2,IF('XML a procesar'!A1480=\"\",P1480,IF(MID('XML a procesar'!A1480,1,1)=\"<\",P1480,P1480+1)),P1480)","v":1}]
[{"$f":"IF('XML a procesar'!A1481>0,'XML a procesar'!A1481,\"\")","v":""},0,0,0,0,"",0,0,0,"","",0,"",0,"",{"$f":"IF(ROW()<$S$4+2,IF('XML a procesar'!A1481=\"\",P1481,IF(MID('XML a procesar'!A1481,1,1)=\"<\",P1481,P1481+1)),P1481)","v":1}]
[{"$f":"IF('XML a procesar'!A1482>0,'XML a procesar'!A1482,\"\")","v":""},0,0,0,0,"",0,0,0,"","",0,"",0,"",{"$f":"IF(ROW()<$S$4+2,IF('XML a procesar'!A1482=\"\",P1482,IF(MID('XML a procesar'!A1482,1,1)=\"<\",P1482,P1482+1)),P1482)","v":1}]
[{"$f":"IF('XML a procesar'!A1483>0,'XML a procesar'!A1483,\"\")","v":""},0,0,0,0,"",0,0,0,"","",0,"",0,"",{"$f":"IF(ROW()<$S$4+2,IF('XML a procesar'!A1483=\"\",P1483,IF(MID('XML a procesar'!A1483,1,1)=\"<\",P1483,P1483+1)),P1483)","v":1}]
[{"$f":"IF('XML a procesar'!A1484>0,'XML a procesar'!A1484,\"\")","v":""},0,0,0,0,"",0,0,0,"","",0,"",0,"",{"$f":"IF(ROW()<$S$4+2,IF('XML a procesar'!A1484=\"\",P1484,IF(MID('XML a procesar'!A1484,1,1)=\"<\",P1484,P1484+1)),P1484)","v":1}]
[{"$f":"IF('XML a procesar'!A1485>0,'XML a procesar'!A1485,\"\")","v":""},0,0,0,0,"",0,0,0,"","",0,"",0,"",{"$f":"IF(ROW()<$S$4+2,IF('XML a procesar'!A1485=\"\",P1485,IF(MID('XML a procesar'!A1485,1,1)=\"<\",P1485,P1485+1)),P1485)","v":1}]
[{"$f":"IF('XML a procesar'!A1486>0,'XML a procesar'!A1486,\"\")","v":""},0,0,0,0,"",0,0,0,"","",0,"",0,"",{"$f":"IF(ROW()<$S$4+2,IF('XML a procesar'!A1486=\"\",P1486,IF(MID('XML a procesar'!A1486,1,1)=\"<\",P1486,P1486+1)),P1486)","v":1}]
[{"$f":"IF('XML a procesar'!A1487>0,'XML a procesar'!A1487,\"\")","v":""},0,0,0,0,"",0,0,0,"","",0,"",0,"",{"$f":"IF(ROW()<$S$4+2,IF('XML a procesar'!A1487=\"\",P1487,IF(MID('XML a procesar'!A1487,1,1)=\"<\",P1487,P1487+1)),P1487)","v":1}]
[{"$f":"IF('XML a procesar'!A1488>0,'XML a procesar'!A1488,\"\")","v":""},0,0,0,0,"",0,0,0,"","",0,"",0,"",{"$f":"IF(ROW()<$S$4+2,IF('XML a procesar'!A1488=\"\",P1488,IF(MID('XML a procesar'!A1488,1,1)=\"<\",P1488,P1488+1)),P1488)","v":1}]
[{"$f":"IF('XML a procesar'!A1489>0,'XML a procesar'!A1489,\"\")","v":""},0,0,0,0,"",0,0,0,"","",0,"",0,"",{"$f":"IF(ROW()<$S$4+2,IF('XML a procesar'!A1489=\"\",P1489,IF(MID('XML a procesar'!A1489,1,1)=\"<\",P1489,P1489+1)),P1489)","v":1}]
[{"$f":"IF('XML a procesar'!A1490>0,'XML a procesar'!A1490,\"\")","v":""},0,0,0,0,"",0,0,0,"","",0,"",0,"",{"$f":"IF(ROW()<$S$4+2,IF('XML a procesar'!A1490=\"\",P1490,IF(MID('XML a procesar'!A1490,1,1)=\"<\",P1490,P1490+1)),P1490)","v":1}]
[{"$f":"IF('XML a procesar'!A1491>0,'XML a procesar'!A1491,\"\")","v":""},0,0,0,0,"",0,0,0,"","",0,"",0,"",{"$f":"IF(ROW()<$S$4+2,IF('XML a procesar'!A1491=\"\",P1491,IF(MID('XML a procesar'!A1491,1,1)=\"<\",P1491,P1491+1)),P1491)","v":1}]
[{"$f":"IF('XML a procesar'!A1492>0,'XML a procesar'!A1492,\"\")","v":""},0,0,0,0,"",0,0,0,"","",0,"",0,"",{"$f":"IF(ROW()<$S$4+2,IF('XML a procesar'!A1492=\"\",P1492,IF(MID('XML a procesar'!A1492,1,1)=\"<\",P1492,P1492+1)),P1492)","v":1}]
[{"$f":"IF('XML a procesar'!A1493>0,'XML a procesar'!A1493,\"\")","v":""},0,0,0,0,"",0,0,0,"","",0,"",0,"",{"$f":"IF(ROW()<$S$4+2,IF('XML a procesar'!A1493=\"\",P1493,IF(MID('XML a procesar'!A1493,1,1)=\"<\",P1493,P1493+1)),P1493)","v":1}]
[{"$f":"IF('XML a procesar'!A1494>0,'XML a procesar'!A1494,\"\")","v":""},0,0,0,0,"",0,0,0,"","",0,"",0,"",{"$f":"IF(ROW()<$S$4+2,IF('XML a procesar'!A1494=\"\",P1494,IF(MID('XML a procesar'!A1494,1,1)=\"<\",P1494,P1494+1)),P1494)","v":1}]
[{"$f":"IF('XML a procesar'!A1495>0,'XML a procesar'!A1495,\"\")","v":""},0,0,0,0,"",0,0,0,"","",0,"",0,"",{"$f":"IF(ROW()<$S$4+2,IF('XML a procesar'!A1495=\"\",P1495,IF(MID('XML a procesar'!A1495,1,1)=\"<\",P1495,P1495+1)),P1495)","v":1}]
[{"$f":"IF('XML a procesar'!A1496>0,'XML a procesar'!A1496,\"\")","v":""},0,0,0,0,"",0,0,0,"","",0,"",0,"",{"$f":"IF(ROW()<$S$4+2,IF('XML a procesar'!A1496=\"\",P1496,IF(MID('XML a procesar'!A1496,1,1)=\"<\",P1496,P1496+1)),P1496)","v":1}]
[{"$f":"IF('XML a procesar'!A1497>0,'XML a procesar'!A1497,\"\")","v":""},0,0,0,0,"",0,0,0,"","",0,"",0,"",{"$f":"IF(ROW()<$S$4+2,IF('XML a procesar'!A1497=\"\",P1497,IF(MID('XML a procesar'!A1497,1,1)=\"<\",P1497,P1497+1)),P1497)","v":1}]
[{"$f":"IF('XML a procesar'!A1498>0,'XML a procesar'!A1498,\"\")","v":""},0,0,0,0,"",0,0,0,"","",0,"",0,"",{"$f":"IF(ROW()<$S$4+2,IF('XML a procesar'!A1498=\"\",P1498,IF(MID('XML a procesar'!A1498,1,1)=\"<\",P1498,P1498+1)),P1498)","v":1}]
[{"$f":"IF('XML a procesar'!A1499>0,'XML a procesar'!A1499,\"\")","v":""},0,0,0,0,"",0,0,0,"","",0,"",0,"",{"$f":"IF(ROW()<$S$4+2,IF('XML a procesar'!A1499=\"\",P1499,IF(MID('XML a procesar'!A1499,1,1)=\"<\",P1499,P1499+1)),P1499)","v":1}]
[{"$f":"IF('XML a procesar'!A1500>0,'XML a procesar'!A1500,\"\")","v":""},{"$f":"IF(ISERROR(FIND(\"/doi.org/\",A1501,1)),0,1)","v":0},{"$f":"IF(LEFT(A1500,16)=\"<contrib contrib\",C1500+1,IF(LEFT(A1500,16)=\"</contrib-group>\",0,IF(LEFT(A1500,10)=\"</contrib>\",C1500,C1500)))","v":0},{"$f":"IF(AND(C1501>0,LEFT(A1501,7)=\"<email>\",ISNUMBER(SEARCH(\"@\",A1501,1))),C1501,IF(LEFT(A1501,10)=\"<alt-text>\",-1,0))","v":0},{"$f":"IF(D1501=0,E1500,E1500+1)","v":0},{"$f":"INDIRECT(ADDRESS(ROW()+INDIRECT(ADDRESS(ROW()+E1501,5)),1))","v":""},{"$f":"IF(LEFT(F1501,7)=\"<aff id\",_xlfn.NUMBERVALUE(MID(F1501,13,LEN(F1501)-14)),IF(F1501=\"</aff>\",G1500+1,G1500))","v":0},0,0,"","",{"$f":"IF(OR(MID(K1499,3,5)=\"page>\",MID(K1500,3,5)=\"page>\"),L1500,IF(OR(K1500=\"<history>\",K1501=\"<history>\"),L1500+1,L1500))","v":0},"",0,"",{"$f":"IF(ROW()<$S$4+2,IF('XML a procesar'!A1500=\"\",P1500,IF(MID('XML a procesar'!A1500,1,1)=\"<\",P1500,P1500+1)),P1500)","v":1}]
[{"$f":"IF('XML a procesar'!A1501>0,'XML a procesar'!A1501,\"\")","v":""},0,0,0,0,"",0,0,0,"","",0,"",0,"",{"$f":"IF(ROW()<$S$4+2,IF('XML a procesar'!A1501=\"\",P1501,IF(MID('XML a procesar'!A1501,1,1)=\"<\",P1501,P1501+1)),P1501)","v":1}]
[{"$f":"IF('XML a procesar'!A1502>0,'XML a procesar'!A1502,\"\")","v":""},0,0,0,0,"",0,0,0,"","",0,"",0,"",{"$f":"IF(ROW()<$S$4+2,IF('XML a procesar'!A1502=\"\",P1502,IF(MID('XML a procesar'!A1502,1,1)=\"<\",P1502,P1502+1)),P1502)","v":1}]
[{"$f":"IF('XML a procesar'!A1503>0,'XML a procesar'!A1503,\"\")","v":""},0,0,0,0,"",0,0,0,"","",0,"",0,"",{"$f":"IF(ROW()<$S$4+2,IF('XML a procesar'!A1503=\"\",P1503,IF(MID('XML a procesar'!A1503,1,1)=\"<\",P1503,P1503+1)),P1503)","v":1}]
[{"$f":"IF('XML a procesar'!A1504>0,'XML a procesar'!A1504,\"\")","v":""},0,0,0,0,"",0,0,0,"","",0,"",0,"",{"$f":"IF(ROW()<$S$4+2,IF('XML a procesar'!A1504=\"\",P1504,IF(MID('XML a procesar'!A1504,1,1)=\"<\",P1504,P1504+1)),P1504)","v":1}]
[{"$f":"IF('XML a procesar'!A1505>0,'XML a procesar'!A1505,\"\")","v":""},0,0,0,0,"",0,0,0,"","",0,"",0,"",{"$f":"IF(ROW()<$S$4+2,IF('XML a procesar'!A1505=\"\",P1505,IF(MID('XML a procesar'!A1505,1,1)=\"<\",P1505,P1505+1)),P1505)","v":1}]
[{"$f":"IF('XML a procesar'!A1506>0,'XML a procesar'!A1506,\"\")","v":""},0,0,0,0,"",0,0,0,"","",0,"",0,"",{"$f":"IF(ROW()<$S$4+2,IF('XML a procesar'!A1506=\"\",P1506,IF(MID('XML a procesar'!A1506,1,1)=\"<\",P1506,P1506+1)),P1506)","v":1}]
[{"$f":"IF('XML a procesar'!A1507>0,'XML a procesar'!A1507,\"\")","v":""},0,0,0,0,"",0,0,0,"","",0,"",0,"",{"$f":"IF(ROW()<$S$4+2,IF('XML a procesar'!A1507=\"\",P1507,IF(MID('XML a procesar'!A1507,1,1)=\"<\",P1507,P1507+1)),P1507)","v":1}]
[{"$f":"IF('XML a procesar'!A1508>0,'XML a procesar'!A1508,\"\")","v":""},0,0,0,0,"",0,0,0,"","",0,"",0,"",{"$f":"IF(ROW()<$S$4+2,IF('XML a procesar'!A1508=\"\",P1508,IF(MID('XML a procesar'!A1508,1,1)=\"<\",P1508,P1508+1)),P1508)","v":1}]
[{"$f":"IF('XML a procesar'!A1509>0,'XML a procesar'!A1509,\"\")","v":""},0,0,0,0,"",0,0,0,"","",0,"",0,"",{"$f":"IF(ROW()<$S$4+2,IF('XML a procesar'!A1509=\"\",P1509,IF(MID('XML a procesar'!A1509,1,1)=\"<\",P1509,P1509+1)),P1509)","v":1}]
[{"$f":"IF('XML a procesar'!A1510>0,'XML a procesar'!A1510,\"\")","v":""},0,0,0,0,"",0,0,0,"","",0,"",0,"",{"$f":"IF(ROW()<$S$4+2,IF('XML a procesar'!A1510=\"\",P1510,IF(MID('XML a procesar'!A1510,1,1)=\"<\",P1510,P1510+1)),P1510)","v":1}]
[{"$f":"IF('XML a procesar'!A1511>0,'XML a procesar'!A1511,\"\")","v":""},0,0,0,0,"",0,0,0,"","",0,"",0,"",{"$f":"IF(ROW()<$S$4+2,IF('XML a procesar'!A1511=\"\",P1511,IF(MID('XML a procesar'!A1511,1,1)=\"<\",P1511,P1511+1)),P1511)","v":1}]
[{"$f":"IF('XML a procesar'!A1512>0,'XML a procesar'!A1512,\"\")","v":""},0,0,0,0,"",0,0,0,"","",0,"",0,"",{"$f":"IF(ROW()<$S$4+2,IF('XML a procesar'!A1512=\"\",P1512,IF(MID('XML a procesar'!A1512,1,1)=\"<\",P1512,P1512+1)),P1512)","v":1}]
[{"$f":"IF('XML a procesar'!A1513>0,'XML a procesar'!A1513,\"\")","v":""},0,0,0,0,"",0,0,0,"","",0,"",0,"",{"$f":"IF(ROW()<$S$4+2,IF('XML a procesar'!A1513=\"\",P1513,IF(MID('XML a procesar'!A1513,1,1)=\"<\",P1513,P1513+1)),P1513)","v":1}]
[{"$f":"IF('XML a procesar'!A1514>0,'XML a procesar'!A1514,\"\")","v":""},0,0,0,0,"",0,0,0,"","",0,"",0,"",{"$f":"IF(ROW()<$S$4+2,IF('XML a procesar'!A1514=\"\",P1514,IF(MID('XML a procesar'!A1514,1,1)=\"<\",P1514,P1514+1)),P1514)","v":1}]
[{"$f":"IF('XML a procesar'!A1515>0,'XML a procesar'!A1515,\"\")","v":""},0,0,0,0,"",0,0,0,"","",0,"",0,"",{"$f":"IF(ROW()<$S$4+2,IF('XML a procesar'!A1515=\"\",P1515,IF(MID('XML a procesar'!A1515,1,1)=\"<\",P1515,P1515+1)),P1515)","v":1}]
[{"$f":"IF('XML a procesar'!A1516>0,'XML a procesar'!A1516,\"\")","v":""},0,0,0,0,"",0,0,0,"","",0,"",0,"",{"$f":"IF(ROW()<$S$4+2,IF('XML a procesar'!A1516=\"\",P1516,IF(MID('XML a procesar'!A1516,1,1)=\"<\",P1516,P1516+1)),P1516)","v":1}]
[{"$f":"IF('XML a procesar'!A1517>0,'XML a procesar'!A1517,\"\")","v":""},0,0,0,0,"",0,0,0,"","",0,"",0,"",{"$f":"IF(ROW()<$S$4+2,IF('XML a procesar'!A1517=\"\",P1517,IF(MID('XML a procesar'!A1517,1,1)=\"<\",P1517,P1517+1)),P1517)","v":1}]
[{"$f":"IF('XML a procesar'!A1518>0,'XML a procesar'!A1518,\"\")","v":""},0,0,0,0,"",0,0,0,"","",0,"",0,"",{"$f":"IF(ROW()<$S$4+2,IF('XML a procesar'!A1518=\"\",P1518,IF(MID('XML a procesar'!A1518,1,1)=\"<\",P1518,P1518+1)),P1518)","v":1}]
[{"$f":"IF('XML a procesar'!A1519>0,'XML a procesar'!A1519,\"\")","v":""},0,0,0,0,"",0,0,0,"","",0,"",0,"",{"$f":"IF(ROW()<$S$4+2,IF('XML a procesar'!A1519=\"\",P1519,IF(MID('XML a procesar'!A1519,1,1)=\"<\",P1519,P1519+1)),P1519)","v":1}]
[{"$f":"IF('XML a procesar'!A1520>0,'XML a procesar'!A1520,\"\")","v":""},0,0,0,0,"",0,0,0,"","",0,"",0,"",{"$f":"IF(ROW()<$S$4+2,IF('XML a procesar'!A1520=\"\",P1520,IF(MID('XML a procesar'!A1520,1,1)=\"<\",P1520,P1520+1)),P1520)","v":1}]
[{"$f":"IF('XML a procesar'!A1521>0,'XML a procesar'!A1521,\"\")","v":""},0,0,0,0,"",0,0,0,"","",0,"",0,"",{"$f":"IF(ROW()<$S$4+2,IF('XML a procesar'!A1521=\"\",P1521,IF(MID('XML a procesar'!A1521,1,1)=\"<\",P1521,P1521+1)),P1521)","v":1}]
[{"$f":"IF('XML a procesar'!A1522>0,'XML a procesar'!A1522,\"\")","v":""},0,0,0,0,"",0,0,0,"","",0,"",0,"",{"$f":"IF(ROW()<$S$4+2,IF('XML a procesar'!A1522=\"\",P1522,IF(MID('XML a procesar'!A1522,1,1)=\"<\",P1522,P1522+1)),P1522)","v":1}]
[{"$f":"IF('XML a procesar'!A1523>0,'XML a procesar'!A1523,\"\")","v":""},0,0,0,0,"",0,0,0,"","",0,"",0,"",{"$f":"IF(ROW()<$S$4+2,IF('XML a procesar'!A1523=\"\",P1523,IF(MID('XML a procesar'!A1523,1,1)=\"<\",P1523,P1523+1)),P1523)","v":1}]
[{"$f":"IF('XML a procesar'!A1524>0,'XML a procesar'!A1524,\"\")","v":""},0,0,0,0,"",0,0,0,"","",0,"",0,"",{"$f":"IF(ROW()<$S$4+2,IF('XML a procesar'!A1524=\"\",P1524,IF(MID('XML a procesar'!A1524,1,1)=\"<\",P1524,P1524+1)),P1524)","v":1}]
[{"$f":"IF('XML a procesar'!A1525>0,'XML a procesar'!A1525,\"\")","v":""},0,0,0,0,"",0,0,0,"","",0,"",0,"",{"$f":"IF(ROW()<$S$4+2,IF('XML a procesar'!A1525=\"\",P1525,IF(MID('XML a procesar'!A1525,1,1)=\"<\",P1525,P1525+1)),P1525)","v":1}]
[{"$f":"IF('XML a procesar'!A1526>0,'XML a procesar'!A1526,\"\")","v":""},0,0,0,0,"",0,0,0,"","",0,"",0,"",{"$f":"IF(ROW()<$S$4+2,IF('XML a procesar'!A1526=\"\",P1526,IF(MID('XML a procesar'!A1526,1,1)=\"<\",P1526,P1526+1)),P1526)","v":1}]
[{"$f":"IF('XML a procesar'!A1527>0,'XML a procesar'!A1527,\"\")","v":""},0,0,0,0,"",0,0,0,"","",0,"",0,"",{"$f":"IF(ROW()<$S$4+2,IF('XML a procesar'!A1527=\"\",P1527,IF(MID('XML a procesar'!A1527,1,1)=\"<\",P1527,P1527+1)),P1527)","v":1}]
[{"$f":"IF('XML a procesar'!A1528>0,'XML a procesar'!A1528,\"\")","v":""},0,0,0,0,"",0,0,0,"","",0,"",0,"",{"$f":"IF(ROW()<$S$4+2,IF('XML a procesar'!A1528=\"\",P1528,IF(MID('XML a procesar'!A1528,1,1)=\"<\",P1528,P1528+1)),P1528)","v":1}]
[{"$f":"IF('XML a procesar'!A1529>0,'XML a procesar'!A1529,\"\")","v":""},0,0,0,0,"",0,0,0,"","",0,"",0,"",{"$f":"IF(ROW()<$S$4+2,IF('XML a procesar'!A1529=\"\",P1529,IF(MID('XML a procesar'!A1529,1,1)=\"<\",P1529,P1529+1)),P1529)","v":1}]
[{"$f":"IF('XML a procesar'!A1530>0,'XML a procesar'!A1530,\"\")","v":""},0,0,0,0,"",0,0,0,"","",0,"",0,"",{"$f":"IF(ROW()<$S$4+2,IF('XML a procesar'!A1530=\"\",P1530,IF(MID('XML a procesar'!A1530,1,1)=\"<\",P1530,P1530+1)),P1530)","v":1}]
[{"$f":"IF('XML a procesar'!A1531>0,'XML a procesar'!A1531,\"\")","v":""},0,0,0,0,"",0,0,0,"","",0,"",0,"",{"$f":"IF(ROW()<$S$4+2,IF('XML a procesar'!A1531=\"\",P1531,IF(MID('XML a procesar'!A1531,1,1)=\"<\",P1531,P1531+1)),P1531)","v":1}]
[{"$f":"IF('XML a procesar'!A1532>0,'XML a procesar'!A1532,\"\")","v":""},0,0,0,0,"",0,0,0,"","",0,"",0,"",{"$f":"IF(ROW()<$S$4+2,IF('XML a procesar'!A1532=\"\",P1532,IF(MID('XML a procesar'!A1532,1,1)=\"<\",P1532,P1532+1)),P1532)","v":1}]
[{"$f":"IF('XML a procesar'!A1533>0,'XML a procesar'!A1533,\"\")","v":""},0,0,0,0,"",0,0,0,"","",0,"",0,"",{"$f":"IF(ROW()<$S$4+2,IF('XML a procesar'!A1533=\"\",P1533,IF(MID('XML a procesar'!A1533,1,1)=\"<\",P1533,P1533+1)),P1533)","v":1}]
[{"$f":"IF('XML a procesar'!A1534>0,'XML a procesar'!A1534,\"\")","v":""},0,0,0,0,"",0,0,0,"","",0,"",0,"",{"$f":"IF(ROW()<$S$4+2,IF('XML a procesar'!A1534=\"\",P1534,IF(MID('XML a procesar'!A1534,1,1)=\"<\",P1534,P1534+1)),P1534)","v":1}]
[{"$f":"IF('XML a procesar'!A1535>0,'XML a procesar'!A1535,\"\")","v":""},0,0,0,0,"",0,0,0,"","",0,"",0,"",{"$f":"IF(ROW()<$S$4+2,IF('XML a procesar'!A1535=\"\",P1535,IF(MID('XML a procesar'!A1535,1,1)=\"<\",P1535,P1535+1)),P1535)","v":1}]
[{"$f":"IF('XML a procesar'!A1536>0,'XML a procesar'!A1536,\"\")","v":""},0,0,0,0,"",0,0,0,"","",0,"",0,"",{"$f":"IF(ROW()<$S$4+2,IF('XML a procesar'!A1536=\"\",P1536,IF(MID('XML a procesar'!A1536,1,1)=\"<\",P1536,P1536+1)),P1536)","v":1}]
[{"$f":"IF('XML a procesar'!A1537>0,'XML a procesar'!A1537,\"\")","v":""},0,0,0,0,"",0,0,0,"","",0,"",0,{"$f":"IF(N1538>-1,INDIRECT(ADDRESS(ROW(),13)),IF(N1538<N1537,CONCATENATE(\"<page-count count=\",CHAR(34),1+LARGE(N:N,1)-LARGE(N:N,2),CHAR(34),\"/>\"),INDIRECT(ADDRESS(ROW()-1,13))))","v":""},{"$f":"IF(ROW()<$S$4+2,IF('XML a procesar'!A1537=\"\",P1537,IF(MID('XML a procesar'!A1537,1,1)=\"<\",P1537,P1537+1)),P1537)","v":1}]
[{"$f":"IF('XML a procesar'!A1538>0,'XML a procesar'!A1538,\"\")","v":""},0,0,0,0,"",0,{"$f":"IF(AND(G1538>0,G1539>G1538,NOT(ISERROR(MATCH(G1538,D:D,0)))),H1538+1,H1538)","v":0},0,"",{"$f":"IF(J1539=\"Linea_para_MAIL_creada_por_LuXML\",IF(ISERROR(MATCH(INDIRECT(ADDRESS(ROW()-G1539,7)),D:D,0)),J1539,INDIRECT(ADDRESS(MATCH(INDIRECT(ADDRESS(ROW()-G1539,7)),D:D,0),1))),J1539)","v":""},0,"",0,"",{"$f":"IF(ROW()<$S$4+2,IF('XML a procesar'!A1538=\"\",P1538,IF(MID('XML a procesar'!A1538,1,1)=\"<\",P1538,P1538+1)),P1538)","v":1}]
[{"$f":"IF('XML a procesar'!A1539>0,'XML a procesar'!A1539,\"\")","v":""},0,0,0,0,"",0,0,{"$f":"INDIRECT(ADDRESS(ROW()-INDIRECT(ADDRESS(ROW()-H1540,8)),8))","v":0},{"$f":"IF(J1539=\"Linea_para_MAIL_creada_por_LuXML\",\"</aff>\",IF(I1540>INDIRECT(ADDRESS(ROW()-I1540-1,8)),\"Linea_para_MAIL_creada_por_LuXML\",INDIRECT(ADDRESS(ROW()-I1540,6))))","v":""},"",0,"",{"$f":"IF(N1539=-1,-1,IF(M1540=\"</counts>\",-1,IF(OR(LEFT(M1540,7)=\"<fpage>\",LEFT(M1540,7)=\"<lpage>\"),VALUE(MID(M1540,8,LEN(M1540)-15)),0)))","v":0},"",{"$f":"IF(ROW()<$S$4+2,IF('XML a procesar'!A1539=\"\",P1539,IF(MID('XML a procesar'!A1539,1,1)=\"<\",P1539,P1539+1)),P1539)","v":1}]
[{"$f":"IF('XML a procesar'!A1540>0,'XML a procesar'!A1540,\"\")","v":""},0,0,0,0,"",0,0,0,"","",0,"",0,"",{"$f":"IF(ROW()<$S$4+2,IF('XML a procesar'!A1540=\"\",P1540,IF(MID('XML a procesar'!A1540,1,1)=\"<\",P1540,P1540+1)),P1540)","v":1}]
[{"$f":"IF('XML a procesar'!A1541>0,'XML a procesar'!A1541,\"\")","v":""},0,0,0,0,"",0,0,0,"","",0,{"$f":"IF(L1542>L1541,IF(L1542=1,CONCATENATE(\"<fpage>\",$S$10,\"</fpage>\"),CONCATENATE(\"<lpage>\",$S$10+1,\"</lpage>\")),IF(ISERROR(INDIRECT(ADDRESS(ROW()-L1542,11),1)),\"\",INDIRECT(ADDRESS(ROW()-L1542,11),1)))","v":""},0,"",{"$f":"IF(ROW()<$S$4+2,IF('XML a procesar'!A1541=\"\",P1541,IF(MID('XML a procesar'!A1541,1,1)=\"<\",P1541,P1541+1)),P1541)","v":1}]
[{"$f":"IF('XML a procesar'!A1542>0,'XML a procesar'!A1542,\"\")","v":""},0,0,0,0,"",0,0,0,"","",0,"",0,"",{"$f":"IF(ROW()<$S$4+2,IF('XML a procesar'!A1542=\"\",P1542,IF(MID('XML a procesar'!A1542,1,1)=\"<\",P1542,P1542+1)),P1542)","v":1}]
[{"$f":"IF('XML a procesar'!A1543>0,'XML a procesar'!A1543,\"\")","v":""},0,0,0,0,"",0,0,0,"","",0,"",0,"",{"$f":"IF(ROW()<$S$4+2,IF('XML a procesar'!A1543=\"\",P1543,IF(MID('XML a procesar'!A1543,1,1)=\"<\",P1543,P1543+1)),P1543)","v":1}]
[{"$f":"IF('XML a procesar'!A1544>0,'XML a procesar'!A1544,\"\")","v":""},0,0,0,0,"",0,0,0,"","",0,"",0,"",{"$f":"IF(ROW()<$S$4+2,IF('XML a procesar'!A1544=\"\",P1544,IF(MID('XML a procesar'!A1544,1,1)=\"<\",P1544,P1544+1)),P1544)","v":1}]
[{"$f":"IF('XML a procesar'!A1545>0,'XML a procesar'!A1545,\"\")","v":""},0,0,0,0,"",0,0,0,"","",0,"",0,"",{"$f":"IF(ROW()<$S$4+2,IF('XML a procesar'!A1545=\"\",P1545,IF(MID('XML a procesar'!A1545,1,1)=\"<\",P1545,P1545+1)),P1545)","v":1}]
[{"$f":"IF('XML a procesar'!A1546>0,'XML a procesar'!A1546,\"\")","v":""},0,0,0,0,"",0,0,0,"","",0,"",0,"",{"$f":"IF(ROW()<$S$4+2,IF('XML a procesar'!A1546=\"\",P1546,IF(MID('XML a procesar'!A1546,1,1)=\"<\",P1546,P1546+1)),P1546)","v":1}]
[{"$f":"IF('XML a procesar'!A1547>0,'XML a procesar'!A1547,\"\")","v":""},0,0,0,0,"",0,0,0,"","",0,"",0,"",{"$f":"IF(ROW()<$S$4+2,IF('XML a procesar'!A1547=\"\",P1547,IF(MID('XML a procesar'!A1547,1,1)=\"<\",P1547,P1547+1)),P1547)","v":1}]
[{"$f":"IF('XML a procesar'!A1548>0,'XML a procesar'!A1548,\"\")","v":""},0,0,0,0,"",0,0,0,"","",0,"",0,"",{"$f":"IF(ROW()<$S$4+2,IF('XML a procesar'!A1548=\"\",P1548,IF(MID('XML a procesar'!A1548,1,1)=\"<\",P1548,P1548+1)),P1548)","v":1}]
[{"$f":"IF('XML a procesar'!A1549>0,'XML a procesar'!A1549,\"\")","v":""},0,0,0,0,"",0,0,0,"","",0,"",0,"",{"$f":"IF(ROW()<$S$4+2,IF('XML a procesar'!A1549=\"\",P1549,IF(MID('XML a procesar'!A1549,1,1)=\"<\",P1549,P1549+1)),P1549)","v":1}]
[{"$f":"IF('XML a procesar'!A1550>0,'XML a procesar'!A1550,\"\")","v":""},0,0,0,0,"",0,0,0,"","",0,"",0,"",{"$f":"IF(ROW()<$S$4+2,IF('XML a procesar'!A1550=\"\",P1550,IF(MID('XML a procesar'!A1550,1,1)=\"<\",P1550,P1550+1)),P1550)","v":1}]
[{"$f":"IF('XML a procesar'!A1551>0,'XML a procesar'!A1551,\"\")","v":""},0,0,0,0,"",0,0,0,"","",0,"",0,"",{"$f":"IF(ROW()<$S$4+2,IF('XML a procesar'!A1551=\"\",P1551,IF(MID('XML a procesar'!A1551,1,1)=\"<\",P1551,P1551+1)),P1551)","v":1}]
[{"$f":"IF('XML a procesar'!A1552>0,'XML a procesar'!A1552,\"\")","v":""},0,0,0,0,"",0,0,0,"","",0,"",0,"",{"$f":"IF(ROW()<$S$4+2,IF('XML a procesar'!A1552=\"\",P1552,IF(MID('XML a procesar'!A1552,1,1)=\"<\",P1552,P1552+1)),P1552)","v":1}]
[{"$f":"IF('XML a procesar'!A1553>0,'XML a procesar'!A1553,\"\")","v":""},0,0,0,0,"",0,0,0,"","",0,"",0,"",{"$f":"IF(ROW()<$S$4+2,IF('XML a procesar'!A1553=\"\",P1553,IF(MID('XML a procesar'!A1553,1,1)=\"<\",P1553,P1553+1)),P1553)","v":1}]
[{"$f":"IF('XML a procesar'!A1554>0,'XML a procesar'!A1554,\"\")","v":""},0,0,0,0,"",0,0,0,"","",0,"",0,"",{"$f":"IF(ROW()<$S$4+2,IF('XML a procesar'!A1554=\"\",P1554,IF(MID('XML a procesar'!A1554,1,1)=\"<\",P1554,P1554+1)),P1554)","v":1}]
[{"$f":"IF('XML a procesar'!A1555>0,'XML a procesar'!A1555,\"\")","v":""},0,0,0,0,"",0,0,0,"","",0,"",0,"",{"$f":"IF(ROW()<$S$4+2,IF('XML a procesar'!A1555=\"\",P1555,IF(MID('XML a procesar'!A1555,1,1)=\"<\",P1555,P1555+1)),P1555)","v":1}]
[{"$f":"IF('XML a procesar'!A1556>0,'XML a procesar'!A1556,\"\")","v":""},0,0,0,0,"",0,0,0,"","",0,"",0,"",{"$f":"IF(ROW()<$S$4+2,IF('XML a procesar'!A1556=\"\",P1556,IF(MID('XML a procesar'!A1556,1,1)=\"<\",P1556,P1556+1)),P1556)","v":1}]
[{"$f":"IF('XML a procesar'!A1557>0,'XML a procesar'!A1557,\"\")","v":""},0,0,0,0,"",0,0,0,"","",0,"",0,"",{"$f":"IF(ROW()<$S$4+2,IF('XML a procesar'!A1557=\"\",P1557,IF(MID('XML a procesar'!A1557,1,1)=\"<\",P1557,P1557+1)),P1557)","v":1}]
[{"$f":"IF('XML a procesar'!A1558>0,'XML a procesar'!A1558,\"\")","v":""},0,0,0,0,"",0,0,0,"","",0,"",0,"",{"$f":"IF(ROW()<$S$4+2,IF('XML a procesar'!A1558=\"\",P1558,IF(MID('XML a procesar'!A1558,1,1)=\"<\",P1558,P1558+1)),P1558)","v":1}]
[{"$f":"IF('XML a procesar'!A1559>0,'XML a procesar'!A1559,\"\")","v":""},0,0,0,0,"",0,0,0,"","",0,"",0,"",{"$f":"IF(ROW()<$S$4+2,IF('XML a procesar'!A1559=\"\",P1559,IF(MID('XML a procesar'!A1559,1,1)=\"<\",P1559,P1559+1)),P1559)","v":1}]
[{"$f":"IF('XML a procesar'!A1560>0,'XML a procesar'!A1560,\"\")","v":""},0,0,0,0,"",0,0,0,"","",0,"",0,"",{"$f":"IF(ROW()<$S$4+2,IF('XML a procesar'!A1560=\"\",P1560,IF(MID('XML a procesar'!A1560,1,1)=\"<\",P1560,P1560+1)),P1560)","v":1}]
[{"$f":"IF('XML a procesar'!A1561>0,'XML a procesar'!A1561,\"\")","v":""},0,0,0,0,"",0,0,0,"","",0,"",0,"",{"$f":"IF(ROW()<$S$4+2,IF('XML a procesar'!A1561=\"\",P1561,IF(MID('XML a procesar'!A1561,1,1)=\"<\",P1561,P1561+1)),P1561)","v":1}]
[{"$f":"IF('XML a procesar'!A1562>0,'XML a procesar'!A1562,\"\")","v":""},0,0,0,0,"",0,0,0,"","",0,"",0,"",{"$f":"IF(ROW()<$S$4+2,IF('XML a procesar'!A1562=\"\",P1562,IF(MID('XML a procesar'!A1562,1,1)=\"<\",P1562,P1562+1)),P1562)","v":1}]
[{"$f":"IF('XML a procesar'!A1563>0,'XML a procesar'!A1563,\"\")","v":""},0,0,0,0,"",0,0,0,"","",0,"",0,"",{"$f":"IF(ROW()<$S$4+2,IF('XML a procesar'!A1563=\"\",P1563,IF(MID('XML a procesar'!A1563,1,1)=\"<\",P1563,P1563+1)),P1563)","v":1}]
[{"$f":"IF('XML a procesar'!A1564>0,'XML a procesar'!A1564,\"\")","v":""},{"$f":"IF(ISERROR(FIND(\"/doi.org/\",A1565,1)),0,1)","v":0},{"$f":"IF(LEFT(A1564,16)=\"<contrib contrib\",C1564+1,IF(LEFT(A1564,16)=\"</contrib-group>\",0,IF(LEFT(A1564,10)=\"</contrib>\",C1564,C1564)))","v":0},{"$f":"IF(AND(C1565>0,LEFT(A1565,7)=\"<email>\",ISNUMBER(SEARCH(\"@\",A1565,1))),C1565,IF(LEFT(A1565,10)=\"<alt-text>\",-1,0))","v":0},{"$f":"IF(D1565=0,E1564,E1564+1)","v":0},{"$f":"INDIRECT(ADDRESS(ROW()+INDIRECT(ADDRESS(ROW()+E1565,5)),1))","v":""},{"$f":"IF(LEFT(F1565,7)=\"<aff id\",_xlfn.NUMBERVALUE(MID(F1565,13,LEN(F1565)-14)),IF(F1565=\"</aff>\",G1564+1,G1564))","v":0},0,0,"","",{"$f":"IF(OR(MID(K1563,3,5)=\"page>\",MID(K1564,3,5)=\"page>\"),L1564,IF(OR(K1564=\"<history>\",K1565=\"<history>\"),L1564+1,L1564))","v":0},"",0,"",{"$f":"IF(ROW()<$S$4+2,IF('XML a procesar'!A1564=\"\",P1564,IF(MID('XML a procesar'!A1564,1,1)=\"<\",P1564,P1564+1)),P1564)","v":1}]
[{"$f":"IF('XML a procesar'!A1565>0,'XML a procesar'!A1565,\"\")","v":""},0,0,0,0,"",0,0,0,"","",0,"",0,"",{"$f":"IF(ROW()<$S$4+2,IF('XML a procesar'!A1565=\"\",P1565,IF(MID('XML a procesar'!A1565,1,1)=\"<\",P1565,P1565+1)),P1565)","v":1}]
[{"$f":"IF('XML a procesar'!A1566>0,'XML a procesar'!A1566,\"\")","v":""},0,0,0,0,"",0,0,0,"","",0,"",0,"",{"$f":"IF(ROW()<$S$4+2,IF('XML a procesar'!A1566=\"\",P1566,IF(MID('XML a procesar'!A1566,1,1)=\"<\",P1566,P1566+1)),P1566)","v":1}]
[{"$f":"IF('XML a procesar'!A1567>0,'XML a procesar'!A1567,\"\")","v":""},0,0,0,0,"",0,0,0,"","",0,"",0,"",{"$f":"IF(ROW()<$S$4+2,IF('XML a procesar'!A1567=\"\",P1567,IF(MID('XML a procesar'!A1567,1,1)=\"<\",P1567,P1567+1)),P1567)","v":1}]
[{"$f":"IF('XML a procesar'!A1568>0,'XML a procesar'!A1568,\"\")","v":""},0,0,0,0,"",0,0,0,"","",0,"",0,"",{"$f":"IF(ROW()<$S$4+2,IF('XML a procesar'!A1568=\"\",P1568,IF(MID('XML a procesar'!A1568,1,1)=\"<\",P1568,P1568+1)),P1568)","v":1}]
[{"$f":"IF('XML a procesar'!A1569>0,'XML a procesar'!A1569,\"\")","v":""},0,0,0,0,"",0,0,0,"","",0,"",0,"",{"$f":"IF(ROW()<$S$4+2,IF('XML a procesar'!A1569=\"\",P1569,IF(MID('XML a procesar'!A1569,1,1)=\"<\",P1569,P1569+1)),P1569)","v":1}]
[{"$f":"IF('XML a procesar'!A1570>0,'XML a procesar'!A1570,\"\")","v":""},0,0,0,0,"",0,0,0,"","",0,"",0,"",{"$f":"IF(ROW()<$S$4+2,IF('XML a procesar'!A1570=\"\",P1570,IF(MID('XML a procesar'!A1570,1,1)=\"<\",P1570,P1570+1)),P1570)","v":1}]
[{"$f":"IF('XML a procesar'!A1571>0,'XML a procesar'!A1571,\"\")","v":""},0,0,0,0,"",0,0,0,"","",0,"",0,"",{"$f":"IF(ROW()<$S$4+2,IF('XML a procesar'!A1571=\"\",P1571,IF(MID('XML a procesar'!A1571,1,1)=\"<\",P1571,P1571+1)),P1571)","v":1}]
[{"$f":"IF('XML a procesar'!A1572>0,'XML a procesar'!A1572,\"\")","v":""},0,0,0,0,"",0,0,0,"","",0,"",0,"",{"$f":"IF(ROW()<$S$4+2,IF('XML a procesar'!A1572=\"\",P1572,IF(MID('XML a procesar'!A1572,1,1)=\"<\",P1572,P1572+1)),P1572)","v":1}]
[{"$f":"IF('XML a procesar'!A1573>0,'XML a procesar'!A1573,\"\")","v":""},0,0,0,0,"",0,0,0,"","",0,"",0,"",{"$f":"IF(ROW()<$S$4+2,IF('XML a procesar'!A1573=\"\",P1573,IF(MID('XML a procesar'!A1573,1,1)=\"<\",P1573,P1573+1)),P1573)","v":1}]
[{"$f":"IF('XML a procesar'!A1574>0,'XML a procesar'!A1574,\"\")","v":""},0,0,0,0,"",0,0,0,"","",0,"",0,"",{"$f":"IF(ROW()<$S$4+2,IF('XML a procesar'!A1574=\"\",P1574,IF(MID('XML a procesar'!A1574,1,1)=\"<\",P1574,P1574+1)),P1574)","v":1}]
[{"$f":"IF('XML a procesar'!A1575>0,'XML a procesar'!A1575,\"\")","v":""},0,0,0,0,"",0,0,0,"","",0,"",0,"",{"$f":"IF(ROW()<$S$4+2,IF('XML a procesar'!A1575=\"\",P1575,IF(MID('XML a procesar'!A1575,1,1)=\"<\",P1575,P1575+1)),P1575)","v":1}]
[{"$f":"IF('XML a procesar'!A1576>0,'XML a procesar'!A1576,\"\")","v":""},0,0,0,0,"",0,0,0,"","",0,"",0,"",{"$f":"IF(ROW()<$S$4+2,IF('XML a procesar'!A1576=\"\",P1576,IF(MID('XML a procesar'!A1576,1,1)=\"<\",P1576,P1576+1)),P1576)","v":1}]
[{"$f":"IF('XML a procesar'!A1577>0,'XML a procesar'!A1577,\"\")","v":""},0,0,0,0,"",0,0,0,"","",0,"",0,"",{"$f":"IF(ROW()<$S$4+2,IF('XML a procesar'!A1577=\"\",P1577,IF(MID('XML a procesar'!A1577,1,1)=\"<\",P1577,P1577+1)),P1577)","v":1}]
[{"$f":"IF('XML a procesar'!A1578>0,'XML a procesar'!A1578,\"\")","v":""},0,0,0,0,"",0,0,0,"","",0,"",0,"",{"$f":"IF(ROW()<$S$4+2,IF('XML a procesar'!A1578=\"\",P1578,IF(MID('XML a procesar'!A1578,1,1)=\"<\",P1578,P1578+1)),P1578)","v":1}]
[{"$f":"IF('XML a procesar'!A1579>0,'XML a procesar'!A1579,\"\")","v":""},0,0,0,0,"",0,0,0,"","",0,"",0,"",{"$f":"IF(ROW()<$S$4+2,IF('XML a procesar'!A1579=\"\",P1579,IF(MID('XML a procesar'!A1579,1,1)=\"<\",P1579,P1579+1)),P1579)","v":1}]
[{"$f":"IF('XML a procesar'!A1580>0,'XML a procesar'!A1580,\"\")","v":""},0,0,0,0,"",0,0,0,"","",0,"",0,"",{"$f":"IF(ROW()<$S$4+2,IF('XML a procesar'!A1580=\"\",P1580,IF(MID('XML a procesar'!A1580,1,1)=\"<\",P1580,P1580+1)),P1580)","v":1}]
[{"$f":"IF('XML a procesar'!A1581>0,'XML a procesar'!A1581,\"\")","v":""},0,0,0,0,"",0,0,0,"","",0,"",0,"",{"$f":"IF(ROW()<$S$4+2,IF('XML a procesar'!A1581=\"\",P1581,IF(MID('XML a procesar'!A1581,1,1)=\"<\",P1581,P1581+1)),P1581)","v":1}]
[{"$f":"IF('XML a procesar'!A1582>0,'XML a procesar'!A1582,\"\")","v":""},0,0,0,0,"",0,0,0,"","",0,"",0,"",{"$f":"IF(ROW()<$S$4+2,IF('XML a procesar'!A1582=\"\",P1582,IF(MID('XML a procesar'!A1582,1,1)=\"<\",P1582,P1582+1)),P1582)","v":1}]
[{"$f":"IF('XML a procesar'!A1583>0,'XML a procesar'!A1583,\"\")","v":""},0,0,0,0,"",0,0,0,"","",0,"",0,"",{"$f":"IF(ROW()<$S$4+2,IF('XML a procesar'!A1583=\"\",P1583,IF(MID('XML a procesar'!A1583,1,1)=\"<\",P1583,P1583+1)),P1583)","v":1}]
[{"$f":"IF('XML a procesar'!A1584>0,'XML a procesar'!A1584,\"\")","v":""},0,0,0,0,"",0,0,0,"","",0,"",0,"",{"$f":"IF(ROW()<$S$4+2,IF('XML a procesar'!A1584=\"\",P1584,IF(MID('XML a procesar'!A1584,1,1)=\"<\",P1584,P1584+1)),P1584)","v":1}]
[{"$f":"IF('XML a procesar'!A1585>0,'XML a procesar'!A1585,\"\")","v":""},0,0,0,0,"",0,0,0,"","",0,"",0,"",{"$f":"IF(ROW()<$S$4+2,IF('XML a procesar'!A1585=\"\",P1585,IF(MID('XML a procesar'!A1585,1,1)=\"<\",P1585,P1585+1)),P1585)","v":1}]
[{"$f":"IF('XML a procesar'!A1586>0,'XML a procesar'!A1586,\"\")","v":""},0,0,0,0,"",0,0,0,"","",0,"",0,"",{"$f":"IF(ROW()<$S$4+2,IF('XML a procesar'!A1586=\"\",P1586,IF(MID('XML a procesar'!A1586,1,1)=\"<\",P1586,P1586+1)),P1586)","v":1}]
[{"$f":"IF('XML a procesar'!A1587>0,'XML a procesar'!A1587,\"\")","v":""},0,0,0,0,"",0,0,0,"","",0,"",0,"",{"$f":"IF(ROW()<$S$4+2,IF('XML a procesar'!A1587=\"\",P1587,IF(MID('XML a procesar'!A1587,1,1)=\"<\",P1587,P1587+1)),P1587)","v":1}]
[{"$f":"IF('XML a procesar'!A1588>0,'XML a procesar'!A1588,\"\")","v":""},0,0,0,0,"",0,0,0,"","",0,"",0,"",{"$f":"IF(ROW()<$S$4+2,IF('XML a procesar'!A1588=\"\",P1588,IF(MID('XML a procesar'!A1588,1,1)=\"<\",P1588,P1588+1)),P1588)","v":1}]
[{"$f":"IF('XML a procesar'!A1589>0,'XML a procesar'!A1589,\"\")","v":""},0,0,0,0,"",0,0,0,"","",0,"",0,"",{"$f":"IF(ROW()<$S$4+2,IF('XML a procesar'!A1589=\"\",P1589,IF(MID('XML a procesar'!A1589,1,1)=\"<\",P1589,P1589+1)),P1589)","v":1}]
[{"$f":"IF('XML a procesar'!A1590>0,'XML a procesar'!A1590,\"\")","v":""},0,0,0,0,"",0,0,0,"","",0,"",0,"",{"$f":"IF(ROW()<$S$4+2,IF('XML a procesar'!A1590=\"\",P1590,IF(MID('XML a procesar'!A1590,1,1)=\"<\",P1590,P1590+1)),P1590)","v":1}]
[{"$f":"IF('XML a procesar'!A1591>0,'XML a procesar'!A1591,\"\")","v":""},0,0,0,0,"",0,0,0,"","",0,"",0,"",{"$f":"IF(ROW()<$S$4+2,IF('XML a procesar'!A1591=\"\",P1591,IF(MID('XML a procesar'!A1591,1,1)=\"<\",P1591,P1591+1)),P1591)","v":1}]
[{"$f":"IF('XML a procesar'!A1592>0,'XML a procesar'!A1592,\"\")","v":""},0,0,0,0,"",0,0,0,"","",0,"",0,"",{"$f":"IF(ROW()<$S$4+2,IF('XML a procesar'!A1592=\"\",P1592,IF(MID('XML a procesar'!A1592,1,1)=\"<\",P1592,P1592+1)),P1592)","v":1}]
[{"$f":"IF('XML a procesar'!A1593>0,'XML a procesar'!A1593,\"\")","v":""},0,0,0,0,"",0,0,0,"","",0,"",0,"",{"$f":"IF(ROW()<$S$4+2,IF('XML a procesar'!A1593=\"\",P1593,IF(MID('XML a procesar'!A1593,1,1)=\"<\",P1593,P1593+1)),P1593)","v":1}]
[{"$f":"IF('XML a procesar'!A1594>0,'XML a procesar'!A1594,\"\")","v":""},0,0,0,0,"",0,0,0,"","",0,"",0,"",{"$f":"IF(ROW()<$S$4+2,IF('XML a procesar'!A1594=\"\",P1594,IF(MID('XML a procesar'!A1594,1,1)=\"<\",P1594,P1594+1)),P1594)","v":1}]
[{"$f":"IF('XML a procesar'!A1595>0,'XML a procesar'!A1595,\"\")","v":""},0,0,0,0,"",0,0,0,"","",0,"",0,"",{"$f":"IF(ROW()<$S$4+2,IF('XML a procesar'!A1595=\"\",P1595,IF(MID('XML a procesar'!A1595,1,1)=\"<\",P1595,P1595+1)),P1595)","v":1}]
[{"$f":"IF('XML a procesar'!A1596>0,'XML a procesar'!A1596,\"\")","v":""},0,0,0,0,"",0,0,0,"","",0,"",0,"",{"$f":"IF(ROW()<$S$4+2,IF('XML a procesar'!A1596=\"\",P1596,IF(MID('XML a procesar'!A1596,1,1)=\"<\",P1596,P1596+1)),P1596)","v":1}]
[{"$f":"IF('XML a procesar'!A1597>0,'XML a procesar'!A1597,\"\")","v":""},0,0,0,0,"",0,0,0,"","",0,"",0,"",{"$f":"IF(ROW()<$S$4+2,IF('XML a procesar'!A1597=\"\",P1597,IF(MID('XML a procesar'!A1597,1,1)=\"<\",P1597,P1597+1)),P1597)","v":1}]
[{"$f":"IF('XML a procesar'!A1598>0,'XML a procesar'!A1598,\"\")","v":""},0,0,0,0,"",0,0,0,"","",0,"",0,"",{"$f":"IF(ROW()<$S$4+2,IF('XML a procesar'!A1598=\"\",P1598,IF(MID('XML a procesar'!A1598,1,1)=\"<\",P1598,P1598+1)),P1598)","v":1}]
[{"$f":"IF('XML a procesar'!A1599>0,'XML a procesar'!A1599,\"\")","v":""},0,0,0,0,"",0,0,0,"","",0,"",0,"",{"$f":"IF(ROW()<$S$4+2,IF('XML a procesar'!A1599=\"\",P1599,IF(MID('XML a procesar'!A1599,1,1)=\"<\",P1599,P1599+1)),P1599)","v":1}]
[{"$f":"IF('XML a procesar'!A1600>0,'XML a procesar'!A1600,\"\")","v":""},{"$f":"IF(ISERROR(FIND(\"/doi.org/\",A1601,1)),0,1)","v":0},{"$f":"IF(LEFT(A1600,16)=\"<contrib contrib\",C1600+1,IF(LEFT(A1600,16)=\"</contrib-group>\",0,IF(LEFT(A1600,10)=\"</contrib>\",C1600,C1600)))","v":0},{"$f":"IF(AND(C1601>0,LEFT(A1601,7)=\"<email>\",ISNUMBER(SEARCH(\"@\",A1601,1))),C1601,IF(LEFT(A1601,10)=\"<alt-text>\",-1,0))","v":0},{"$f":"IF(D1601=0,E1600,E1600+1)","v":0},{"$f":"INDIRECT(ADDRESS(ROW()+INDIRECT(ADDRESS(ROW()+E1601,5)),1))","v":""},{"$f":"IF(LEFT(F1601,7)=\"<aff id\",_xlfn.NUMBERVALUE(MID(F1601,13,LEN(F1601)-14)),IF(F1601=\"</aff>\",G1600+1,G1600))","v":0},0,{"$f":"INDIRECT(ADDRESS(ROW()-INDIRECT(ADDRESS(ROW()-H1601,8)),8))","v":0},{"$f":"IF(J1600=\"Linea_para_MAIL_creada_por_LuXML\",\"</aff>\",IF(I1601>INDIRECT(ADDRESS(ROW()-I1601-1,8)),\"Linea_para_MAIL_creada_por_LuXML\",INDIRECT(ADDRESS(ROW()-I1601,6))))","v":""},"",{"$f":"IF(OR(MID(K1599,3,5)=\"page>\",MID(K1600,3,5)=\"page>\"),L1600,IF(OR(K1600=\"<history>\",K1601=\"<history>\"),L1600+1,L1600))","v":0},{"$f":"IF(L1601>L1600,IF(L1601=1,CONCATENATE(\"<fpage>\",$S$10,\"</fpage>\"),CONCATENATE(\"<lpage>\",$S$10+1,\"</lpage>\")),IF(ISERROR(INDIRECT(ADDRESS(ROW()-L1601,11),1)),\"\",INDIRECT(ADDRESS(ROW()-L1601,11),1)))","v":""},{"$f":"IF(N1600=-1,-1,IF(M1601=\"</counts>\",-1,IF(OR(LEFT(M1601,7)=\"<fpage>\",LEFT(M1601,7)=\"<lpage>\"),VALUE(MID(M1601,8,LEN(M1601)-15)),0)))","v":0},"",{"$f":"IF(ROW()<$S$4+2,IF('XML a procesar'!A1600=\"\",P1600,IF(MID('XML a procesar'!A1600,1,1)=\"<\",P1600,P1600+1)),P1600)","v":1}]
[{"$f":"IF('XML a procesar'!A1601>0,'XML a procesar'!A1601,\"\")","v":""},0,0,0,0,"",0,0,0,"","",0,"",0,{"$f":"IF(N1602>-1,INDIRECT(ADDRESS(ROW(),13)),IF(N1602<N1601,CONCATENATE(\"<page-count count=\",CHAR(34),1+LARGE(N:N,1)-LARGE(N:N,2),CHAR(34),\"/>\"),INDIRECT(ADDRESS(ROW()-1,13))))","v":""},{"$f":"IF(ROW()<$S$4+2,IF('XML a procesar'!A1601=\"\",P1601,IF(MID('XML a procesar'!A1601,1,1)=\"<\",P1601,P1601+1)),P1601)","v":1}]
[{"$f":"IF('XML a procesar'!A1602>0,'XML a procesar'!A1602,\"\")","v":""},0,0,0,0,"",0,{"$f":"IF(AND(G1602>0,G1603>G1602,NOT(ISERROR(MATCH(G1602,D:D,0)))),H1602+1,H1602)","v":0},0,"",{"$f":"IF(J1603=\"Linea_para_MAIL_creada_por_LuXML\",IF(ISERROR(MATCH(INDIRECT(ADDRESS(ROW()-G1603,7)),D:D,0)),J1603,INDIRECT(ADDRESS(MATCH(INDIRECT(ADDRESS(ROW()-G1603,7)),D:D,0),1))),J1603)","v":""},0,"",0,"",{"$f":"IF(ROW()<$S$4+2,IF('XML a procesar'!A1602=\"\",P1602,IF(MID('XML a procesar'!A1602,1,1)=\"<\",P1602,P1602+1)),P1602)","v":1}]
[{"$f":"IF('XML a procesar'!A1603>0,'XML a procesar'!A1603,\"\")","v":""},0,0,0,0,"",0,0,0,"","",0,"",0,"",{"$f":"IF(ROW()<$S$4+2,IF('XML a procesar'!A1603=\"\",P1603,IF(MID('XML a procesar'!A1603,1,1)=\"<\",P1603,P1603+1)),P1603)","v":1}]
[{"$f":"IF('XML a procesar'!A1604>0,'XML a procesar'!A1604,\"\")","v":""},0,0,0,0,"",0,0,0,"","",0,"",0,"",{"$f":"IF(ROW()<$S$4+2,IF('XML a procesar'!A1604=\"\",P1604,IF(MID('XML a procesar'!A1604,1,1)=\"<\",P1604,P1604+1)),P1604)","v":1}]
[{"$f":"IF('XML a procesar'!A1605>0,'XML a procesar'!A1605,\"\")","v":""},0,0,0,0,"",0,0,0,"","",0,"",0,"",{"$f":"IF(ROW()<$S$4+2,IF('XML a procesar'!A1605=\"\",P1605,IF(MID('XML a procesar'!A1605,1,1)=\"<\",P1605,P1605+1)),P1605)","v":1}]
[{"$f":"IF('XML a procesar'!A1606>0,'XML a procesar'!A1606,\"\")","v":""},0,0,0,0,"",0,0,0,"","",0,"",0,"",{"$f":"IF(ROW()<$S$4+2,IF('XML a procesar'!A1606=\"\",P1606,IF(MID('XML a procesar'!A1606,1,1)=\"<\",P1606,P1606+1)),P1606)","v":1}]
[{"$f":"IF('XML a procesar'!A1607>0,'XML a procesar'!A1607,\"\")","v":""},0,0,0,0,"",0,0,0,"","",0,"",0,"",{"$f":"IF(ROW()<$S$4+2,IF('XML a procesar'!A1607=\"\",P1607,IF(MID('XML a procesar'!A1607,1,1)=\"<\",P1607,P1607+1)),P1607)","v":1}]
[{"$f":"IF('XML a procesar'!A1608>0,'XML a procesar'!A1608,\"\")","v":""},0,0,0,0,"",0,0,0,"","",0,"",0,"",{"$f":"IF(ROW()<$S$4+2,IF('XML a procesar'!A1608=\"\",P1608,IF(MID('XML a procesar'!A1608,1,1)=\"<\",P1608,P1608+1)),P1608)","v":1}]
[{"$f":"IF('XML a procesar'!A1609>0,'XML a procesar'!A1609,\"\")","v":""},0,0,0,0,"",0,0,0,"","",0,"",0,"",{"$f":"IF(ROW()<$S$4+2,IF('XML a procesar'!A1609=\"\",P1609,IF(MID('XML a procesar'!A1609,1,1)=\"<\",P1609,P1609+1)),P1609)","v":1}]
[{"$f":"IF('XML a procesar'!A1610>0,'XML a procesar'!A1610,\"\")","v":""},0,0,0,0,"",0,0,0,"","",0,"",0,"",{"$f":"IF(ROW()<$S$4+2,IF('XML a procesar'!A1610=\"\",P1610,IF(MID('XML a procesar'!A1610,1,1)=\"<\",P1610,P1610+1)),P1610)","v":1}]
[{"$f":"IF('XML a procesar'!A1611>0,'XML a procesar'!A1611,\"\")","v":""},0,0,0,0,"",0,0,0,"","",0,"",0,"",{"$f":"IF(ROW()<$S$4+2,IF('XML a procesar'!A1611=\"\",P1611,IF(MID('XML a procesar'!A1611,1,1)=\"<\",P1611,P1611+1)),P1611)","v":1}]
[{"$f":"IF('XML a procesar'!A1612>0,'XML a procesar'!A1612,\"\")","v":""},0,0,0,0,"",0,0,0,"","",0,"",0,"",{"$f":"IF(ROW()<$S$4+2,IF('XML a procesar'!A1612=\"\",P1612,IF(MID('XML a procesar'!A1612,1,1)=\"<\",P1612,P1612+1)),P1612)","v":1}]
[{"$f":"IF('XML a procesar'!A1613>0,'XML a procesar'!A1613,\"\")","v":""},0,0,0,0,"",0,0,0,"","",0,"",0,"",{"$f":"IF(ROW()<$S$4+2,IF('XML a procesar'!A1613=\"\",P1613,IF(MID('XML a procesar'!A1613,1,1)=\"<\",P1613,P1613+1)),P1613)","v":1}]
[{"$f":"IF('XML a procesar'!A1614>0,'XML a procesar'!A1614,\"\")","v":""},0,0,0,0,"",0,0,0,"","",0,"",0,"",{"$f":"IF(ROW()<$S$4+2,IF('XML a procesar'!A1614=\"\",P1614,IF(MID('XML a procesar'!A1614,1,1)=\"<\",P1614,P1614+1)),P1614)","v":1}]
[{"$f":"IF('XML a procesar'!A1615>0,'XML a procesar'!A1615,\"\")","v":""},0,0,0,0,"",0,0,0,"","",0,"",0,"",{"$f":"IF(ROW()<$S$4+2,IF('XML a procesar'!A1615=\"\",P1615,IF(MID('XML a procesar'!A1615,1,1)=\"<\",P1615,P1615+1)),P1615)","v":1}]
[{"$f":"IF('XML a procesar'!A1616>0,'XML a procesar'!A1616,\"\")","v":""},0,0,0,0,"",0,0,0,"","",0,"",0,"",{"$f":"IF(ROW()<$S$4+2,IF('XML a procesar'!A1616=\"\",P1616,IF(MID('XML a procesar'!A1616,1,1)=\"<\",P1616,P1616+1)),P1616)","v":1}]
[{"$f":"IF('XML a procesar'!A1617>0,'XML a procesar'!A1617,\"\")","v":""},0,0,0,0,"",0,0,0,"","",0,"",0,"",{"$f":"IF(ROW()<$S$4+2,IF('XML a procesar'!A1617=\"\",P1617,IF(MID('XML a procesar'!A1617,1,1)=\"<\",P1617,P1617+1)),P1617)","v":1}]
[{"$f":"IF('XML a procesar'!A1618>0,'XML a procesar'!A1618,\"\")","v":""},0,0,0,0,"",0,0,0,"","",0,"",0,"",{"$f":"IF(ROW()<$S$4+2,IF('XML a procesar'!A1618=\"\",P1618,IF(MID('XML a procesar'!A1618,1,1)=\"<\",P1618,P1618+1)),P1618)","v":1}]
[{"$f":"IF('XML a procesar'!A1619>0,'XML a procesar'!A1619,\"\")","v":""},0,0,0,0,"",0,0,0,"","",0,"",0,"",{"$f":"IF(ROW()<$S$4+2,IF('XML a procesar'!A1619=\"\",P1619,IF(MID('XML a procesar'!A1619,1,1)=\"<\",P1619,P1619+1)),P1619)","v":1}]
[{"$f":"IF('XML a procesar'!A1620>0,'XML a procesar'!A1620,\"\")","v":""},0,0,0,0,"",0,0,0,"","",0,"",0,"",{"$f":"IF(ROW()<$S$4+2,IF('XML a procesar'!A1620=\"\",P1620,IF(MID('XML a procesar'!A1620,1,1)=\"<\",P1620,P1620+1)),P1620)","v":1}]
[{"$f":"IF('XML a procesar'!A1621>0,'XML a procesar'!A1621,\"\")","v":""},0,0,0,0,"",0,0,0,"","",0,"",0,"",{"$f":"IF(ROW()<$S$4+2,IF('XML a procesar'!A1621=\"\",P1621,IF(MID('XML a procesar'!A1621,1,1)=\"<\",P1621,P1621+1)),P1621)","v":1}]
[{"$f":"IF('XML a procesar'!A1622>0,'XML a procesar'!A1622,\"\")","v":""},0,0,0,0,"",0,0,0,"","",0,"",0,"",{"$f":"IF(ROW()<$S$4+2,IF('XML a procesar'!A1622=\"\",P1622,IF(MID('XML a procesar'!A1622,1,1)=\"<\",P1622,P1622+1)),P1622)","v":1}]
[{"$f":"IF('XML a procesar'!A1623>0,'XML a procesar'!A1623,\"\")","v":""},0,0,0,0,"",0,0,0,"","",0,"",0,"",{"$f":"IF(ROW()<$S$4+2,IF('XML a procesar'!A1623=\"\",P1623,IF(MID('XML a procesar'!A1623,1,1)=\"<\",P1623,P1623+1)),P1623)","v":1}]
[{"$f":"IF('XML a procesar'!A1624>0,'XML a procesar'!A1624,\"\")","v":""},0,0,0,0,"",0,0,0,"","",0,"",0,"",{"$f":"IF(ROW()<$S$4+2,IF('XML a procesar'!A1624=\"\",P1624,IF(MID('XML a procesar'!A1624,1,1)=\"<\",P1624,P1624+1)),P1624)","v":1}]
[{"$f":"IF('XML a procesar'!A1625>0,'XML a procesar'!A1625,\"\")","v":""},0,0,0,0,"",0,0,0,"","",0,"",0,"",{"$f":"IF(ROW()<$S$4+2,IF('XML a procesar'!A1625=\"\",P1625,IF(MID('XML a procesar'!A1625,1,1)=\"<\",P1625,P1625+1)),P1625)","v":1}]
[{"$f":"IF('XML a procesar'!A1626>0,'XML a procesar'!A1626,\"\")","v":""},0,0,0,0,"",0,0,0,"","",0,"",0,"",{"$f":"IF(ROW()<$S$4+2,IF('XML a procesar'!A1626=\"\",P1626,IF(MID('XML a procesar'!A1626,1,1)=\"<\",P1626,P1626+1)),P1626)","v":1}]
[{"$f":"IF('XML a procesar'!A1627>0,'XML a procesar'!A1627,\"\")","v":""},0,0,0,0,"",0,0,0,"","",0,"",0,"",{"$f":"IF(ROW()<$S$4+2,IF('XML a procesar'!A1627=\"\",P1627,IF(MID('XML a procesar'!A1627,1,1)=\"<\",P1627,P1627+1)),P1627)","v":1}]
[{"$f":"IF('XML a procesar'!A1628>0,'XML a procesar'!A1628,\"\")","v":""},0,0,0,0,"",0,0,0,"","",0,"",0,"",{"$f":"IF(ROW()<$S$4+2,IF('XML a procesar'!A1628=\"\",P1628,IF(MID('XML a procesar'!A1628,1,1)=\"<\",P1628,P1628+1)),P1628)","v":1}]
[{"$f":"IF('XML a procesar'!A1629>0,'XML a procesar'!A1629,\"\")","v":""},0,0,0,0,"",0,0,0,"","",0,"",0,"",{"$f":"IF(ROW()<$S$4+2,IF('XML a procesar'!A1629=\"\",P1629,IF(MID('XML a procesar'!A1629,1,1)=\"<\",P1629,P1629+1)),P1629)","v":1}]
[{"$f":"IF('XML a procesar'!A1630>0,'XML a procesar'!A1630,\"\")","v":""},0,0,0,0,"",0,0,0,"","",0,"",0,"",{"$f":"IF(ROW()<$S$4+2,IF('XML a procesar'!A1630=\"\",P1630,IF(MID('XML a procesar'!A1630,1,1)=\"<\",P1630,P1630+1)),P1630)","v":1}]
[{"$f":"IF('XML a procesar'!A1631>0,'XML a procesar'!A1631,\"\")","v":""},0,0,0,0,"",0,0,0,"","",0,"",0,"",{"$f":"IF(ROW()<$S$4+2,IF('XML a procesar'!A1631=\"\",P1631,IF(MID('XML a procesar'!A1631,1,1)=\"<\",P1631,P1631+1)),P1631)","v":1}]
[{"$f":"IF('XML a procesar'!A1632>0,'XML a procesar'!A1632,\"\")","v":""},0,0,0,0,"",0,0,0,"","",0,"",0,"",{"$f":"IF(ROW()<$S$4+2,IF('XML a procesar'!A1632=\"\",P1632,IF(MID('XML a procesar'!A1632,1,1)=\"<\",P1632,P1632+1)),P1632)","v":1}]
[{"$f":"IF('XML a procesar'!A1633>0,'XML a procesar'!A1633,\"\")","v":""},0,0,0,0,"",0,0,0,"","",0,"",0,"",{"$f":"IF(ROW()<$S$4+2,IF('XML a procesar'!A1633=\"\",P1633,IF(MID('XML a procesar'!A1633,1,1)=\"<\",P1633,P1633+1)),P1633)","v":1}]
[{"$f":"IF('XML a procesar'!A1634>0,'XML a procesar'!A1634,\"\")","v":""},0,0,0,0,"",0,0,0,"","",0,"",0,"",{"$f":"IF(ROW()<$S$4+2,IF('XML a procesar'!A1634=\"\",P1634,IF(MID('XML a procesar'!A1634,1,1)=\"<\",P1634,P1634+1)),P1634)","v":1}]
[{"$f":"IF('XML a procesar'!A1635>0,'XML a procesar'!A1635,\"\")","v":""},0,0,0,0,"",0,0,0,"","",0,"",0,"",{"$f":"IF(ROW()<$S$4+2,IF('XML a procesar'!A1635=\"\",P1635,IF(MID('XML a procesar'!A1635,1,1)=\"<\",P1635,P1635+1)),P1635)","v":1}]
[{"$f":"IF('XML a procesar'!A1636>0,'XML a procesar'!A1636,\"\")","v":""},0,0,0,0,"",0,0,0,"","",0,"",0,"",{"$f":"IF(ROW()<$S$4+2,IF('XML a procesar'!A1636=\"\",P1636,IF(MID('XML a procesar'!A1636,1,1)=\"<\",P1636,P1636+1)),P1636)","v":1}]
[{"$f":"IF('XML a procesar'!A1637>0,'XML a procesar'!A1637,\"\")","v":""},0,0,0,0,"",0,0,0,"","",0,"",0,"",{"$f":"IF(ROW()<$S$4+2,IF('XML a procesar'!A1637=\"\",P1637,IF(MID('XML a procesar'!A1637,1,1)=\"<\",P1637,P1637+1)),P1637)","v":1}]
[{"$f":"IF('XML a procesar'!A1638>0,'XML a procesar'!A1638,\"\")","v":""},0,0,0,0,"",0,0,0,"","",0,"",0,"",{"$f":"IF(ROW()<$S$4+2,IF('XML a procesar'!A1638=\"\",P1638,IF(MID('XML a procesar'!A1638,1,1)=\"<\",P1638,P1638+1)),P1638)","v":1}]
[{"$f":"IF('XML a procesar'!A1639>0,'XML a procesar'!A1639,\"\")","v":""},0,0,0,0,"",0,0,0,"","",0,"",0,"",{"$f":"IF(ROW()<$S$4+2,IF('XML a procesar'!A1639=\"\",P1639,IF(MID('XML a procesar'!A1639,1,1)=\"<\",P1639,P1639+1)),P1639)","v":1}]
[{"$f":"IF('XML a procesar'!A1640>0,'XML a procesar'!A1640,\"\")","v":""},0,0,0,0,"",0,0,0,"","",0,"",0,"",{"$f":"IF(ROW()<$S$4+2,IF('XML a procesar'!A1640=\"\",P1640,IF(MID('XML a procesar'!A1640,1,1)=\"<\",P1640,P1640+1)),P1640)","v":1}]
[{"$f":"IF('XML a procesar'!A1641>0,'XML a procesar'!A1641,\"\")","v":""},0,0,0,0,"",0,0,0,"","",0,"",0,"",{"$f":"IF(ROW()<$S$4+2,IF('XML a procesar'!A1641=\"\",P1641,IF(MID('XML a procesar'!A1641,1,1)=\"<\",P1641,P1641+1)),P1641)","v":1}]
[{"$f":"IF('XML a procesar'!A1642>0,'XML a procesar'!A1642,\"\")","v":""},0,0,0,0,"",0,0,0,"","",0,"",0,"",{"$f":"IF(ROW()<$S$4+2,IF('XML a procesar'!A1642=\"\",P1642,IF(MID('XML a procesar'!A1642,1,1)=\"<\",P1642,P1642+1)),P1642)","v":1}]
[{"$f":"IF('XML a procesar'!A1643>0,'XML a procesar'!A1643,\"\")","v":""},0,0,0,0,"",0,0,0,"","",0,"",0,"",{"$f":"IF(ROW()<$S$4+2,IF('XML a procesar'!A1643=\"\",P1643,IF(MID('XML a procesar'!A1643,1,1)=\"<\",P1643,P1643+1)),P1643)","v":1}]
[{"$f":"IF('XML a procesar'!A1644>0,'XML a procesar'!A1644,\"\")","v":""},0,0,0,0,"",0,0,0,"","",0,"",0,"",{"$f":"IF(ROW()<$S$4+2,IF('XML a procesar'!A1644=\"\",P1644,IF(MID('XML a procesar'!A1644,1,1)=\"<\",P1644,P1644+1)),P1644)","v":1}]
[{"$f":"IF('XML a procesar'!A1645>0,'XML a procesar'!A1645,\"\")","v":""},0,0,0,0,"",0,0,0,"","",0,"",0,"",{"$f":"IF(ROW()<$S$4+2,IF('XML a procesar'!A1645=\"\",P1645,IF(MID('XML a procesar'!A1645,1,1)=\"<\",P1645,P1645+1)),P1645)","v":1}]
[{"$f":"IF('XML a procesar'!A1646>0,'XML a procesar'!A1646,\"\")","v":""},0,0,0,0,"",0,0,0,"","",0,"",0,"",{"$f":"IF(ROW()<$S$4+2,IF('XML a procesar'!A1646=\"\",P1646,IF(MID('XML a procesar'!A1646,1,1)=\"<\",P1646,P1646+1)),P1646)","v":1}]
[{"$f":"IF('XML a procesar'!A1647>0,'XML a procesar'!A1647,\"\")","v":""},0,0,0,0,"",0,0,0,"","",0,"",0,"",{"$f":"IF(ROW()<$S$4+2,IF('XML a procesar'!A1647=\"\",P1647,IF(MID('XML a procesar'!A1647,1,1)=\"<\",P1647,P1647+1)),P1647)","v":1}]
[{"$f":"IF('XML a procesar'!A1648>0,'XML a procesar'!A1648,\"\")","v":""},0,0,0,0,"",0,0,0,"","",0,"",0,"",{"$f":"IF(ROW()<$S$4+2,IF('XML a procesar'!A1648=\"\",P1648,IF(MID('XML a procesar'!A1648,1,1)=\"<\",P1648,P1648+1)),P1648)","v":1}]
[{"$f":"IF('XML a procesar'!A1649>0,'XML a procesar'!A1649,\"\")","v":""},0,0,0,0,"",0,0,0,"","",0,"",0,"",{"$f":"IF(ROW()<$S$4+2,IF('XML a procesar'!A1649=\"\",P1649,IF(MID('XML a procesar'!A1649,1,1)=\"<\",P1649,P1649+1)),P1649)","v":1}]
[{"$f":"IF('XML a procesar'!A1650>0,'XML a procesar'!A1650,\"\")","v":""},0,0,0,0,"",0,0,0,"","",0,"",0,"",{"$f":"IF(ROW()<$S$4+2,IF('XML a procesar'!A1650=\"\",P1650,IF(MID('XML a procesar'!A1650,1,1)=\"<\",P1650,P1650+1)),P1650)","v":1}]
[{"$f":"IF('XML a procesar'!A1651>0,'XML a procesar'!A1651,\"\")","v":""},0,0,0,0,"",0,0,0,"","",0,"",0,"",{"$f":"IF(ROW()<$S$4+2,IF('XML a procesar'!A1651=\"\",P1651,IF(MID('XML a procesar'!A1651,1,1)=\"<\",P1651,P1651+1)),P1651)","v":1}]
[{"$f":"IF('XML a procesar'!A1652>0,'XML a procesar'!A1652,\"\")","v":""},0,0,0,0,"",0,0,0,"","",0,"",0,"",{"$f":"IF(ROW()<$S$4+2,IF('XML a procesar'!A1652=\"\",P1652,IF(MID('XML a procesar'!A1652,1,1)=\"<\",P1652,P1652+1)),P1652)","v":1}]
[{"$f":"IF('XML a procesar'!A1653>0,'XML a procesar'!A1653,\"\")","v":""},0,0,0,0,"",0,0,0,"","",0,"",0,"",{"$f":"IF(ROW()<$S$4+2,IF('XML a procesar'!A1653=\"\",P1653,IF(MID('XML a procesar'!A1653,1,1)=\"<\",P1653,P1653+1)),P1653)","v":1}]
[{"$f":"IF('XML a procesar'!A1654>0,'XML a procesar'!A1654,\"\")","v":""},0,0,0,0,"",0,0,0,"","",0,"",0,"",{"$f":"IF(ROW()<$S$4+2,IF('XML a procesar'!A1654=\"\",P1654,IF(MID('XML a procesar'!A1654,1,1)=\"<\",P1654,P1654+1)),P1654)","v":1}]
[{"$f":"IF('XML a procesar'!A1655>0,'XML a procesar'!A1655,\"\")","v":""},0,0,0,0,"",0,0,0,"","",0,"",0,"",{"$f":"IF(ROW()<$S$4+2,IF('XML a procesar'!A1655=\"\",P1655,IF(MID('XML a procesar'!A1655,1,1)=\"<\",P1655,P1655+1)),P1655)","v":1}]
[{"$f":"IF('XML a procesar'!A1656>0,'XML a procesar'!A1656,\"\")","v":""},0,0,0,0,"",0,0,0,"","",0,"",0,"",{"$f":"IF(ROW()<$S$4+2,IF('XML a procesar'!A1656=\"\",P1656,IF(MID('XML a procesar'!A1656,1,1)=\"<\",P1656,P1656+1)),P1656)","v":1}]
[{"$f":"IF('XML a procesar'!A1657>0,'XML a procesar'!A1657,\"\")","v":""},0,0,0,0,"",0,0,0,"","",0,"",0,"",{"$f":"IF(ROW()<$S$4+2,IF('XML a procesar'!A1657=\"\",P1657,IF(MID('XML a procesar'!A1657,1,1)=\"<\",P1657,P1657+1)),P1657)","v":1}]
[{"$f":"IF('XML a procesar'!A1658>0,'XML a procesar'!A1658,\"\")","v":""},0,0,0,0,"",0,0,0,"","",0,"",0,"",{"$f":"IF(ROW()<$S$4+2,IF('XML a procesar'!A1658=\"\",P1658,IF(MID('XML a procesar'!A1658,1,1)=\"<\",P1658,P1658+1)),P1658)","v":1}]
[{"$f":"IF('XML a procesar'!A1659>0,'XML a procesar'!A1659,\"\")","v":""},0,0,0,0,"",0,0,0,"","",0,"",0,"",{"$f":"IF(ROW()<$S$4+2,IF('XML a procesar'!A1659=\"\",P1659,IF(MID('XML a procesar'!A1659,1,1)=\"<\",P1659,P1659+1)),P1659)","v":1}]
[{"$f":"IF('XML a procesar'!A1660>0,'XML a procesar'!A1660,\"\")","v":""},0,0,0,0,"",0,0,0,"","",0,"",0,"",{"$f":"IF(ROW()<$S$4+2,IF('XML a procesar'!A1660=\"\",P1660,IF(MID('XML a procesar'!A1660,1,1)=\"<\",P1660,P1660+1)),P1660)","v":1}]
[{"$f":"IF('XML a procesar'!A1661>0,'XML a procesar'!A1661,\"\")","v":""},0,0,0,0,"",0,0,0,"","",0,"",0,"",{"$f":"IF(ROW()<$S$4+2,IF('XML a procesar'!A1661=\"\",P1661,IF(MID('XML a procesar'!A1661,1,1)=\"<\",P1661,P1661+1)),P1661)","v":1}]
[{"$f":"IF('XML a procesar'!A1662>0,'XML a procesar'!A1662,\"\")","v":""},0,0,0,0,"",0,0,0,"","",0,"",0,"",{"$f":"IF(ROW()<$S$4+2,IF('XML a procesar'!A1662=\"\",P1662,IF(MID('XML a procesar'!A1662,1,1)=\"<\",P1662,P1662+1)),P1662)","v":1}]
[{"$f":"IF('XML a procesar'!A1663>0,'XML a procesar'!A1663,\"\")","v":""},0,0,0,0,"",0,0,0,"","",0,"",0,"",{"$f":"IF(ROW()<$S$4+2,IF('XML a procesar'!A1663=\"\",P1663,IF(MID('XML a procesar'!A1663,1,1)=\"<\",P1663,P1663+1)),P1663)","v":1}]
[{"$f":"IF('XML a procesar'!A1664>0,'XML a procesar'!A1664,\"\")","v":""},{"$f":"IF(ISERROR(FIND(\"/doi.org/\",A1665,1)),0,1)","v":0},{"$f":"IF(LEFT(A1664,16)=\"<contrib contrib\",C1664+1,IF(LEFT(A1664,16)=\"</contrib-group>\",0,IF(LEFT(A1664,10)=\"</contrib>\",C1664,C1664)))","v":0},{"$f":"IF(AND(C1665>0,LEFT(A1665,7)=\"<email>\",ISNUMBER(SEARCH(\"@\",A1665,1))),C1665,IF(LEFT(A1665,10)=\"<alt-text>\",-1,0))","v":0},{"$f":"IF(D1665=0,E1664,E1664+1)","v":0},{"$f":"INDIRECT(ADDRESS(ROW()+INDIRECT(ADDRESS(ROW()+E1665,5)),1))","v":""},{"$f":"IF(LEFT(F1665,7)=\"<aff id\",_xlfn.NUMBERVALUE(MID(F1665,13,LEN(F1665)-14)),IF(F1665=\"</aff>\",G1664+1,G1664))","v":0},0,{"$f":"INDIRECT(ADDRESS(ROW()-INDIRECT(ADDRESS(ROW()-H1665,8)),8))","v":0},{"$f":"IF(J1664=\"Linea_para_MAIL_creada_por_LuXML\",\"</aff>\",IF(I1665>INDIRECT(ADDRESS(ROW()-I1665-1,8)),\"Linea_para_MAIL_creada_por_LuXML\",INDIRECT(ADDRESS(ROW()-I1665,6))))","v":""},"",{"$f":"IF(OR(MID(K1663,3,5)=\"page>\",MID(K1664,3,5)=\"page>\"),L1664,IF(OR(K1664=\"<history>\",K1665=\"<history>\"),L1664+1,L1664))","v":0},{"$f":"IF(L1665>L1664,IF(L1665=1,CONCATENATE(\"<fpage>\",$S$10,\"</fpage>\"),CONCATENATE(\"<lpage>\",$S$10+1,\"</lpage>\")),IF(ISERROR(INDIRECT(ADDRESS(ROW()-L1665,11),1)),\"\",INDIRECT(ADDRESS(ROW()-L1665,11),1)))","v":""},{"$f":"IF(N1664=-1,-1,IF(M1665=\"</counts>\",-1,IF(OR(LEFT(M1665,7)=\"<fpage>\",LEFT(M1665,7)=\"<lpage>\"),VALUE(MID(M1665,8,LEN(M1665)-15)),0)))","v":0},"",{"$f":"IF(ROW()<$S$4+2,IF('XML a procesar'!A1664=\"\",P1664,IF(MID('XML a procesar'!A1664,1,1)=\"<\",P1664,P1664+1)),P1664)","v":1}]
[{"$f":"IF('XML a procesar'!A1665>0,'XML a procesar'!A1665,\"\")","v":""},0,0,0,0,"",0,0,0,"","",0,"",0,{"$f":"IF(N1666>-1,INDIRECT(ADDRESS(ROW(),13)),IF(N1666<N1665,CONCATENATE(\"<page-count count=\",CHAR(34),1+LARGE(N:N,1)-LARGE(N:N,2),CHAR(34),\"/>\"),INDIRECT(ADDRESS(ROW()-1,13))))","v":""},{"$f":"IF(ROW()<$S$4+2,IF('XML a procesar'!A1665=\"\",P1665,IF(MID('XML a procesar'!A1665,1,1)=\"<\",P1665,P1665+1)),P1665)","v":1}]
[{"$f":"IF('XML a procesar'!A1666>0,'XML a procesar'!A1666,\"\")","v":""},0,0,0,0,"",0,{"$f":"IF(AND(G1666>0,G1667>G1666,NOT(ISERROR(MATCH(G1666,D:D,0)))),H1666+1,H1666)","v":0},0,"",{"$f":"IF(J1667=\"Linea_para_MAIL_creada_por_LuXML\",IF(ISERROR(MATCH(INDIRECT(ADDRESS(ROW()-G1667,7)),D:D,0)),J1667,INDIRECT(ADDRESS(MATCH(INDIRECT(ADDRESS(ROW()-G1667,7)),D:D,0),1))),J1667)","v":""},0,"",0,"",{"$f":"IF(ROW()<$S$4+2,IF('XML a procesar'!A1666=\"\",P1666,IF(MID('XML a procesar'!A1666,1,1)=\"<\",P1666,P1666+1)),P1666)","v":1}]
[{"$f":"IF('XML a procesar'!A1667>0,'XML a procesar'!A1667,\"\")","v":""},0,0,0,0,"",0,0,0,"","",0,"",0,"",{"$f":"IF(ROW()<$S$4+2,IF('XML a procesar'!A1667=\"\",P1667,IF(MID('XML a procesar'!A1667,1,1)=\"<\",P1667,P1667+1)),P1667)","v":1}]
[{"$f":"IF('XML a procesar'!A1668>0,'XML a procesar'!A1668,\"\")","v":""},0,0,0,0,"",0,0,0,"","",0,"",0,"",{"$f":"IF(ROW()<$S$4+2,IF('XML a procesar'!A1668=\"\",P1668,IF(MID('XML a procesar'!A1668,1,1)=\"<\",P1668,P1668+1)),P1668)","v":1}]
[{"$f":"IF('XML a procesar'!A1669>0,'XML a procesar'!A1669,\"\")","v":""},0,0,0,0,"",0,0,0,"","",0,"",0,"",{"$f":"IF(ROW()<$S$4+2,IF('XML a procesar'!A1669=\"\",P1669,IF(MID('XML a procesar'!A1669,1,1)=\"<\",P1669,P1669+1)),P1669)","v":1}]
[{"$f":"IF('XML a procesar'!A1670>0,'XML a procesar'!A1670,\"\")","v":""},0,0,0,0,"",0,0,0,"","",0,"",0,"",{"$f":"IF(ROW()<$S$4+2,IF('XML a procesar'!A1670=\"\",P1670,IF(MID('XML a procesar'!A1670,1,1)=\"<\",P1670,P1670+1)),P1670)","v":1}]
[{"$f":"IF('XML a procesar'!A1671>0,'XML a procesar'!A1671,\"\")","v":""},0,0,0,0,"",0,0,0,"","",0,"",0,"",{"$f":"IF(ROW()<$S$4+2,IF('XML a procesar'!A1671=\"\",P1671,IF(MID('XML a procesar'!A1671,1,1)=\"<\",P1671,P1671+1)),P1671)","v":1}]
[{"$f":"IF('XML a procesar'!A1672>0,'XML a procesar'!A1672,\"\")","v":""},0,0,0,0,"",0,0,0,"","",0,"",0,"",{"$f":"IF(ROW()<$S$4+2,IF('XML a procesar'!A1672=\"\",P1672,IF(MID('XML a procesar'!A1672,1,1)=\"<\",P1672,P1672+1)),P1672)","v":1}]
[{"$f":"IF('XML a procesar'!A1673>0,'XML a procesar'!A1673,\"\")","v":""},0,0,0,0,"",0,0,0,"","",0,"",0,"",{"$f":"IF(ROW()<$S$4+2,IF('XML a procesar'!A1673=\"\",P1673,IF(MID('XML a procesar'!A1673,1,1)=\"<\",P1673,P1673+1)),P1673)","v":1}]
[{"$f":"IF('XML a procesar'!A1674>0,'XML a procesar'!A1674,\"\")","v":""},0,0,0,0,"",0,0,0,"","",0,"",0,"",{"$f":"IF(ROW()<$S$4+2,IF('XML a procesar'!A1674=\"\",P1674,IF(MID('XML a procesar'!A1674,1,1)=\"<\",P1674,P1674+1)),P1674)","v":1}]
[{"$f":"IF('XML a procesar'!A1675>0,'XML a procesar'!A1675,\"\")","v":""},0,0,0,0,"",0,0,0,"","",0,"",0,"",{"$f":"IF(ROW()<$S$4+2,IF('XML a procesar'!A1675=\"\",P1675,IF(MID('XML a procesar'!A1675,1,1)=\"<\",P1675,P1675+1)),P1675)","v":1}]
[{"$f":"IF('XML a procesar'!A1676>0,'XML a procesar'!A1676,\"\")","v":""},0,0,0,0,"",0,0,0,"","",0,"",0,"",{"$f":"IF(ROW()<$S$4+2,IF('XML a procesar'!A1676=\"\",P1676,IF(MID('XML a procesar'!A1676,1,1)=\"<\",P1676,P1676+1)),P1676)","v":1}]
[{"$f":"IF('XML a procesar'!A1677>0,'XML a procesar'!A1677,\"\")","v":""},0,0,0,0,"",0,0,0,"","",0,"",0,"",{"$f":"IF(ROW()<$S$4+2,IF('XML a procesar'!A1677=\"\",P1677,IF(MID('XML a procesar'!A1677,1,1)=\"<\",P1677,P1677+1)),P1677)","v":1}]
[{"$f":"IF('XML a procesar'!A1678>0,'XML a procesar'!A1678,\"\")","v":""},0,0,0,0,"",0,0,0,"","",0,"",0,"",{"$f":"IF(ROW()<$S$4+2,IF('XML a procesar'!A1678=\"\",P1678,IF(MID('XML a procesar'!A1678,1,1)=\"<\",P1678,P1678+1)),P1678)","v":1}]
[{"$f":"IF('XML a procesar'!A1679>0,'XML a procesar'!A1679,\"\")","v":""},0,0,0,0,"",0,0,0,"","",0,"",0,"",{"$f":"IF(ROW()<$S$4+2,IF('XML a procesar'!A1679=\"\",P1679,IF(MID('XML a procesar'!A1679,1,1)=\"<\",P1679,P1679+1)),P1679)","v":1}]
[{"$f":"IF('XML a procesar'!A1680>0,'XML a procesar'!A1680,\"\")","v":""},0,0,0,0,"",0,0,0,"","",0,"",0,"",{"$f":"IF(ROW()<$S$4+2,IF('XML a procesar'!A1680=\"\",P1680,IF(MID('XML a procesar'!A1680,1,1)=\"<\",P1680,P1680+1)),P1680)","v":1}]
[{"$f":"IF('XML a procesar'!A1681>0,'XML a procesar'!A1681,\"\")","v":""},0,0,0,0,"",0,0,0,"","",0,"",0,"",{"$f":"IF(ROW()<$S$4+2,IF('XML a procesar'!A1681=\"\",P1681,IF(MID('XML a procesar'!A1681,1,1)=\"<\",P1681,P1681+1)),P1681)","v":1}]
[{"$f":"IF('XML a procesar'!A1682>0,'XML a procesar'!A1682,\"\")","v":""},0,0,0,0,"",0,0,0,"","",0,"",0,"",{"$f":"IF(ROW()<$S$4+2,IF('XML a procesar'!A1682=\"\",P1682,IF(MID('XML a procesar'!A1682,1,1)=\"<\",P1682,P1682+1)),P1682)","v":1}]
[{"$f":"IF('XML a procesar'!A1683>0,'XML a procesar'!A1683,\"\")","v":""},0,0,0,0,"",0,0,0,"","",0,"",0,"",{"$f":"IF(ROW()<$S$4+2,IF('XML a procesar'!A1683=\"\",P1683,IF(MID('XML a procesar'!A1683,1,1)=\"<\",P1683,P1683+1)),P1683)","v":1}]
[{"$f":"IF('XML a procesar'!A1684>0,'XML a procesar'!A1684,\"\")","v":""},0,0,0,0,"",0,0,0,"","",0,"",0,"",{"$f":"IF(ROW()<$S$4+2,IF('XML a procesar'!A1684=\"\",P1684,IF(MID('XML a procesar'!A1684,1,1)=\"<\",P1684,P1684+1)),P1684)","v":1}]
[{"$f":"IF('XML a procesar'!A1685>0,'XML a procesar'!A1685,\"\")","v":""},0,0,0,0,"",0,0,0,"","",0,"",0,"",{"$f":"IF(ROW()<$S$4+2,IF('XML a procesar'!A1685=\"\",P1685,IF(MID('XML a procesar'!A1685,1,1)=\"<\",P1685,P1685+1)),P1685)","v":1}]
[{"$f":"IF('XML a procesar'!A1686>0,'XML a procesar'!A1686,\"\")","v":""},0,0,0,0,"",0,0,0,"","",0,"",0,"",{"$f":"IF(ROW()<$S$4+2,IF('XML a procesar'!A1686=\"\",P1686,IF(MID('XML a procesar'!A1686,1,1)=\"<\",P1686,P1686+1)),P1686)","v":1}]
[{"$f":"IF('XML a procesar'!A1687>0,'XML a procesar'!A1687,\"\")","v":""},0,0,0,0,"",0,0,0,"","",0,"",0,"",{"$f":"IF(ROW()<$S$4+2,IF('XML a procesar'!A1687=\"\",P1687,IF(MID('XML a procesar'!A1687,1,1)=\"<\",P1687,P1687+1)),P1687)","v":1}]
[{"$f":"IF('XML a procesar'!A1688>0,'XML a procesar'!A1688,\"\")","v":""},0,0,0,0,"",0,0,0,"","",0,"",0,"",{"$f":"IF(ROW()<$S$4+2,IF('XML a procesar'!A1688=\"\",P1688,IF(MID('XML a procesar'!A1688,1,1)=\"<\",P1688,P1688+1)),P1688)","v":1}]
[{"$f":"IF('XML a procesar'!A1689>0,'XML a procesar'!A1689,\"\")","v":""},0,0,0,0,"",0,0,0,"","",0,"",0,"",{"$f":"IF(ROW()<$S$4+2,IF('XML a procesar'!A1689=\"\",P1689,IF(MID('XML a procesar'!A1689,1,1)=\"<\",P1689,P1689+1)),P1689)","v":1}]
[{"$f":"IF('XML a procesar'!A1690>0,'XML a procesar'!A1690,\"\")","v":""},0,0,0,0,"",0,0,0,"","",0,"",0,"",{"$f":"IF(ROW()<$S$4+2,IF('XML a procesar'!A1690=\"\",P1690,IF(MID('XML a procesar'!A1690,1,1)=\"<\",P1690,P1690+1)),P1690)","v":1}]
[{"$f":"IF('XML a procesar'!A1691>0,'XML a procesar'!A1691,\"\")","v":""},0,0,0,0,"",0,0,0,"","",0,"",0,"",{"$f":"IF(ROW()<$S$4+2,IF('XML a procesar'!A1691=\"\",P1691,IF(MID('XML a procesar'!A1691,1,1)=\"<\",P1691,P1691+1)),P1691)","v":1}]
[{"$f":"IF('XML a procesar'!A1692>0,'XML a procesar'!A1692,\"\")","v":""},0,0,0,0,"",0,0,0,"","",0,"",0,"",{"$f":"IF(ROW()<$S$4+2,IF('XML a procesar'!A1692=\"\",P1692,IF(MID('XML a procesar'!A1692,1,1)=\"<\",P1692,P1692+1)),P1692)","v":1}]
[{"$f":"IF('XML a procesar'!A1693>0,'XML a procesar'!A1693,\"\")","v":""},0,0,0,0,"",0,0,0,"","",0,"",0,"",{"$f":"IF(ROW()<$S$4+2,IF('XML a procesar'!A1693=\"\",P1693,IF(MID('XML a procesar'!A1693,1,1)=\"<\",P1693,P1693+1)),P1693)","v":1}]
[{"$f":"IF('XML a procesar'!A1694>0,'XML a procesar'!A1694,\"\")","v":""},0,0,0,0,"",0,0,0,"","",0,"",0,"",{"$f":"IF(ROW()<$S$4+2,IF('XML a procesar'!A1694=\"\",P1694,IF(MID('XML a procesar'!A1694,1,1)=\"<\",P1694,P1694+1)),P1694)","v":1}]
[{"$f":"IF('XML a procesar'!A1695>0,'XML a procesar'!A1695,\"\")","v":""},0,0,0,0,"",0,0,0,"","",0,"",0,"",{"$f":"IF(ROW()<$S$4+2,IF('XML a procesar'!A1695=\"\",P1695,IF(MID('XML a procesar'!A1695,1,1)=\"<\",P1695,P1695+1)),P1695)","v":1}]
[{"$f":"IF('XML a procesar'!A1696>0,'XML a procesar'!A1696,\"\")","v":""},0,0,0,0,"",0,0,0,"","",0,"",0,"",{"$f":"IF(ROW()<$S$4+2,IF('XML a procesar'!A1696=\"\",P1696,IF(MID('XML a procesar'!A1696,1,1)=\"<\",P1696,P1696+1)),P1696)","v":1}]
[{"$f":"IF('XML a procesar'!A1697>0,'XML a procesar'!A1697,\"\")","v":""},0,0,0,0,"",0,0,0,"","",0,"",0,"",{"$f":"IF(ROW()<$S$4+2,IF('XML a procesar'!A1697=\"\",P1697,IF(MID('XML a procesar'!A1697,1,1)=\"<\",P1697,P1697+1)),P1697)","v":1}]
[{"$f":"IF('XML a procesar'!A1698>0,'XML a procesar'!A1698,\"\")","v":""},0,0,0,0,"",0,0,0,"","",0,"",0,"",{"$f":"IF(ROW()<$S$4+2,IF('XML a procesar'!A1698=\"\",P1698,IF(MID('XML a procesar'!A1698,1,1)=\"<\",P1698,P1698+1)),P1698)","v":1}]
[{"$f":"IF('XML a procesar'!A1699>0,'XML a procesar'!A1699,\"\")","v":""},0,0,0,0,"",0,0,0,"","",0,"",0,"",{"$f":"IF(ROW()<$S$4+2,IF('XML a procesar'!A1699=\"\",P1699,IF(MID('XML a procesar'!A1699,1,1)=\"<\",P1699,P1699+1)),P1699)","v":1}]
[{"$f":"IF('XML a procesar'!A1700>0,'XML a procesar'!A1700,\"\")","v":""},0,0,0,0,"",0,0,0,"","",0,"",0,"",{"$f":"IF(ROW()<$S$4+2,IF('XML a procesar'!A1700=\"\",P1700,IF(MID('XML a procesar'!A1700,1,1)=\"<\",P1700,P1700+1)),P1700)","v":1}]
[{"$f":"IF('XML a procesar'!A1701>0,'XML a procesar'!A1701,\"\")","v":""},0,0,0,0,"",0,0,0,"","",0,"",0,"",{"$f":"IF(ROW()<$S$4+2,IF('XML a procesar'!A1701=\"\",P1701,IF(MID('XML a procesar'!A1701,1,1)=\"<\",P1701,P1701+1)),P1701)","v":1}]
[{"$f":"IF('XML a procesar'!A1702>0,'XML a procesar'!A1702,\"\")","v":""},0,0,0,0,"",0,0,0,"","",0,"",0,"",{"$f":"IF(ROW()<$S$4+2,IF('XML a procesar'!A1702=\"\",P1702,IF(MID('XML a procesar'!A1702,1,1)=\"<\",P1702,P1702+1)),P1702)","v":1}]
[{"$f":"IF('XML a procesar'!A1703>0,'XML a procesar'!A1703,\"\")","v":""},0,0,0,0,"",0,0,0,"","",0,"",0,"",{"$f":"IF(ROW()<$S$4+2,IF('XML a procesar'!A1703=\"\",P1703,IF(MID('XML a procesar'!A1703,1,1)=\"<\",P1703,P1703+1)),P1703)","v":1}]
[{"$f":"IF('XML a procesar'!A1704>0,'XML a procesar'!A1704,\"\")","v":""},0,0,0,0,"",0,0,0,"","",0,"",0,"",{"$f":"IF(ROW()<$S$4+2,IF('XML a procesar'!A1704=\"\",P1704,IF(MID('XML a procesar'!A1704,1,1)=\"<\",P1704,P1704+1)),P1704)","v":1}]
[{"$f":"IF('XML a procesar'!A1705>0,'XML a procesar'!A1705,\"\")","v":""},0,0,0,0,"",0,0,0,"","",0,"",0,"",{"$f":"IF(ROW()<$S$4+2,IF('XML a procesar'!A1705=\"\",P1705,IF(MID('XML a procesar'!A1705,1,1)=\"<\",P1705,P1705+1)),P1705)","v":1}]
[{"$f":"IF('XML a procesar'!A1706>0,'XML a procesar'!A1706,\"\")","v":""},0,0,0,0,"",0,0,0,"","",0,"",0,"",{"$f":"IF(ROW()<$S$4+2,IF('XML a procesar'!A1706=\"\",P1706,IF(MID('XML a procesar'!A1706,1,1)=\"<\",P1706,P1706+1)),P1706)","v":1}]
[{"$f":"IF('XML a procesar'!A1707>0,'XML a procesar'!A1707,\"\")","v":""},0,0,0,0,"",0,0,0,"","",0,"",0,"",{"$f":"IF(ROW()<$S$4+2,IF('XML a procesar'!A1707=\"\",P1707,IF(MID('XML a procesar'!A1707,1,1)=\"<\",P1707,P1707+1)),P1707)","v":1}]
[{"$f":"IF('XML a procesar'!A1708>0,'XML a procesar'!A1708,\"\")","v":""},0,0,0,0,"",0,0,0,"","",0,"",0,"",{"$f":"IF(ROW()<$S$4+2,IF('XML a procesar'!A1708=\"\",P1708,IF(MID('XML a procesar'!A1708,1,1)=\"<\",P1708,P1708+1)),P1708)","v":1}]
[{"$f":"IF('XML a procesar'!A1709>0,'XML a procesar'!A1709,\"\")","v":""},0,0,0,0,"",0,0,0,"","",0,"",0,"",{"$f":"IF(ROW()<$S$4+2,IF('XML a procesar'!A1709=\"\",P1709,IF(MID('XML a procesar'!A1709,1,1)=\"<\",P1709,P1709+1)),P1709)","v":1}]
[{"$f":"IF('XML a procesar'!A1710>0,'XML a procesar'!A1710,\"\")","v":""},0,0,0,0,"",0,0,0,"","",0,"",0,"",{"$f":"IF(ROW()<$S$4+2,IF('XML a procesar'!A1710=\"\",P1710,IF(MID('XML a procesar'!A1710,1,1)=\"<\",P1710,P1710+1)),P1710)","v":1}]
[{"$f":"IF('XML a procesar'!A1711>0,'XML a procesar'!A1711,\"\")","v":""},0,0,0,0,"",0,0,0,"","",0,"",0,"",{"$f":"IF(ROW()<$S$4+2,IF('XML a procesar'!A1711=\"\",P1711,IF(MID('XML a procesar'!A1711,1,1)=\"<\",P1711,P1711+1)),P1711)","v":1}]
[{"$f":"IF('XML a procesar'!A1712>0,'XML a procesar'!A1712,\"\")","v":""},0,0,0,0,"",0,0,0,"","",0,"",0,"",{"$f":"IF(ROW()<$S$4+2,IF('XML a procesar'!A1712=\"\",P1712,IF(MID('XML a procesar'!A1712,1,1)=\"<\",P1712,P1712+1)),P1712)","v":1}]
[{"$f":"IF('XML a procesar'!A1713>0,'XML a procesar'!A1713,\"\")","v":""},0,0,0,0,"",0,0,0,"","",0,"",0,"",{"$f":"IF(ROW()<$S$4+2,IF('XML a procesar'!A1713=\"\",P1713,IF(MID('XML a procesar'!A1713,1,1)=\"<\",P1713,P1713+1)),P1713)","v":1}]
[{"$f":"IF('XML a procesar'!A1714>0,'XML a procesar'!A1714,\"\")","v":""},0,0,0,0,"",0,0,0,"","",0,"",0,"",{"$f":"IF(ROW()<$S$4+2,IF('XML a procesar'!A1714=\"\",P1714,IF(MID('XML a procesar'!A1714,1,1)=\"<\",P1714,P1714+1)),P1714)","v":1}]
[{"$f":"IF('XML a procesar'!A1715>0,'XML a procesar'!A1715,\"\")","v":""},0,0,0,0,"",0,0,0,"","",0,"",0,"",{"$f":"IF(ROW()<$S$4+2,IF('XML a procesar'!A1715=\"\",P1715,IF(MID('XML a procesar'!A1715,1,1)=\"<\",P1715,P1715+1)),P1715)","v":1}]
[{"$f":"IF('XML a procesar'!A1716>0,'XML a procesar'!A1716,\"\")","v":""},0,0,0,0,"",0,0,0,"","",0,"",0,"",{"$f":"IF(ROW()<$S$4+2,IF('XML a procesar'!A1716=\"\",P1716,IF(MID('XML a procesar'!A1716,1,1)=\"<\",P1716,P1716+1)),P1716)","v":1}]
[{"$f":"IF('XML a procesar'!A1717>0,'XML a procesar'!A1717,\"\")","v":""},0,0,0,0,"",0,0,0,"","",0,"",0,"",{"$f":"IF(ROW()<$S$4+2,IF('XML a procesar'!A1717=\"\",P1717,IF(MID('XML a procesar'!A1717,1,1)=\"<\",P1717,P1717+1)),P1717)","v":1}]
[{"$f":"IF('XML a procesar'!A1718>0,'XML a procesar'!A1718,\"\")","v":""},0,0,0,0,"",0,0,0,"","",0,"",0,"",{"$f":"IF(ROW()<$S$4+2,IF('XML a procesar'!A1718=\"\",P1718,IF(MID('XML a procesar'!A1718,1,1)=\"<\",P1718,P1718+1)),P1718)","v":1}]
[{"$f":"IF('XML a procesar'!A1719>0,'XML a procesar'!A1719,\"\")","v":""},0,0,0,0,"",0,0,0,"","",0,"",0,"",{"$f":"IF(ROW()<$S$4+2,IF('XML a procesar'!A1719=\"\",P1719,IF(MID('XML a procesar'!A1719,1,1)=\"<\",P1719,P1719+1)),P1719)","v":1}]
[{"$f":"IF('XML a procesar'!A1720>0,'XML a procesar'!A1720,\"\")","v":""},0,0,0,0,"",0,0,0,"","",0,"",0,"",{"$f":"IF(ROW()<$S$4+2,IF('XML a procesar'!A1720=\"\",P1720,IF(MID('XML a procesar'!A1720,1,1)=\"<\",P1720,P1720+1)),P1720)","v":1}]
[{"$f":"IF('XML a procesar'!A1721>0,'XML a procesar'!A1721,\"\")","v":""},0,0,0,0,"",0,0,0,"","",0,"",0,"",{"$f":"IF(ROW()<$S$4+2,IF('XML a procesar'!A1721=\"\",P1721,IF(MID('XML a procesar'!A1721,1,1)=\"<\",P1721,P1721+1)),P1721)","v":1}]
[{"$f":"IF('XML a procesar'!A1722>0,'XML a procesar'!A1722,\"\")","v":""},0,0,0,0,"",0,0,0,"","",0,"",0,"",{"$f":"IF(ROW()<$S$4+2,IF('XML a procesar'!A1722=\"\",P1722,IF(MID('XML a procesar'!A1722,1,1)=\"<\",P1722,P1722+1)),P1722)","v":1}]
[{"$f":"IF('XML a procesar'!A1723>0,'XML a procesar'!A1723,\"\")","v":""},0,0,0,0,"",0,0,0,"","",0,"",0,"",{"$f":"IF(ROW()<$S$4+2,IF('XML a procesar'!A1723=\"\",P1723,IF(MID('XML a procesar'!A1723,1,1)=\"<\",P1723,P1723+1)),P1723)","v":1}]
[{"$f":"IF('XML a procesar'!A1724>0,'XML a procesar'!A1724,\"\")","v":""},0,0,0,0,"",0,0,0,"","",0,"",0,"",{"$f":"IF(ROW()<$S$4+2,IF('XML a procesar'!A1724=\"\",P1724,IF(MID('XML a procesar'!A1724,1,1)=\"<\",P1724,P1724+1)),P1724)","v":1}]
[{"$f":"IF('XML a procesar'!A1725>0,'XML a procesar'!A1725,\"\")","v":""},0,0,0,0,"",0,0,0,"","",0,"",0,"",{"$f":"IF(ROW()<$S$4+2,IF('XML a procesar'!A1725=\"\",P1725,IF(MID('XML a procesar'!A1725,1,1)=\"<\",P1725,P1725+1)),P1725)","v":1}]
[{"$f":"IF('XML a procesar'!A1726>0,'XML a procesar'!A1726,\"\")","v":""},0,0,0,0,"",0,0,0,"","",0,"",0,"",{"$f":"IF(ROW()<$S$4+2,IF('XML a procesar'!A1726=\"\",P1726,IF(MID('XML a procesar'!A1726,1,1)=\"<\",P1726,P1726+1)),P1726)","v":1}]
[{"$f":"IF('XML a procesar'!A1727>0,'XML a procesar'!A1727,\"\")","v":""},0,0,0,0,"",0,0,0,"","",0,"",0,"",{"$f":"IF(ROW()<$S$4+2,IF('XML a procesar'!A1727=\"\",P1727,IF(MID('XML a procesar'!A1727,1,1)=\"<\",P1727,P1727+1)),P1727)","v":1}]
[{"$f":"IF('XML a procesar'!A1728>0,'XML a procesar'!A1728,\"\")","v":""},{"$f":"IF(ISERROR(FIND(\"/doi.org/\",A1729,1)),0,1)","v":0},{"$f":"IF(LEFT(A1728,16)=\"<contrib contrib\",C1728+1,IF(LEFT(A1728,16)=\"</contrib-group>\",0,IF(LEFT(A1728,10)=\"</contrib>\",C1728,C1728)))","v":0},{"$f":"IF(AND(C1729>0,LEFT(A1729,7)=\"<email>\",ISNUMBER(SEARCH(\"@\",A1729,1))),C1729,IF(LEFT(A1729,10)=\"<alt-text>\",-1,0))","v":0},{"$f":"IF(D1729=0,E1728,E1728+1)","v":0},{"$f":"INDIRECT(ADDRESS(ROW()+INDIRECT(ADDRESS(ROW()+E1729,5)),1))","v":""},{"$f":"IF(LEFT(F1729,7)=\"<aff id\",_xlfn.NUMBERVALUE(MID(F1729,13,LEN(F1729)-14)),IF(F1729=\"</aff>\",G1728+1,G1728))","v":0},0,{"$f":"INDIRECT(ADDRESS(ROW()-INDIRECT(ADDRESS(ROW()-H1729,8)),8))","v":0},{"$f":"IF(J1728=\"Linea_para_MAIL_creada_por_LuXML\",\"</aff>\",IF(I1729>INDIRECT(ADDRESS(ROW()-I1729-1,8)),\"Linea_para_MAIL_creada_por_LuXML\",INDIRECT(ADDRESS(ROW()-I1729,6))))","v":""},"",{"$f":"IF(OR(MID(K1727,3,5)=\"page>\",MID(K1728,3,5)=\"page>\"),L1728,IF(OR(K1728=\"<history>\",K1729=\"<history>\"),L1728+1,L1728))","v":0},{"$f":"IF(L1729>L1728,IF(L1729=1,CONCATENATE(\"<fpage>\",$S$10,\"</fpage>\"),CONCATENATE(\"<lpage>\",$S$10+1,\"</lpage>\")),IF(ISERROR(INDIRECT(ADDRESS(ROW()-L1729,11),1)),\"\",INDIRECT(ADDRESS(ROW()-L1729,11),1)))","v":""},{"$f":"IF(N1728=-1,-1,IF(M1729=\"</counts>\",-1,IF(OR(LEFT(M1729,7)=\"<fpage>\",LEFT(M1729,7)=\"<lpage>\"),VALUE(MID(M1729,8,LEN(M1729)-15)),0)))","v":0},"",{"$f":"IF(ROW()<$S$4+2,IF('XML a procesar'!A1728=\"\",P1728,IF(MID('XML a procesar'!A1728,1,1)=\"<\",P1728,P1728+1)),P1728)","v":1}]
[{"$f":"IF('XML a procesar'!A1729>0,'XML a procesar'!A1729,\"\")","v":""},0,0,0,0,"",0,0,0,"","",0,"",0,{"$f":"IF(N1730>-1,INDIRECT(ADDRESS(ROW(),13)),IF(N1730<N1729,CONCATENATE(\"<page-count count=\",CHAR(34),1+LARGE(N:N,1)-LARGE(N:N,2),CHAR(34),\"/>\"),INDIRECT(ADDRESS(ROW()-1,13))))","v":""},{"$f":"IF(ROW()<$S$4+2,IF('XML a procesar'!A1729=\"\",P1729,IF(MID('XML a procesar'!A1729,1,1)=\"<\",P1729,P1729+1)),P1729)","v":1}]
[{"$f":"IF('XML a procesar'!A1730>0,'XML a procesar'!A1730,\"\")","v":""},0,0,0,0,"",0,{"$f":"IF(AND(G1730>0,G1731>G1730,NOT(ISERROR(MATCH(G1730,D:D,0)))),H1730+1,H1730)","v":0},0,"",{"$f":"IF(J1731=\"Linea_para_MAIL_creada_por_LuXML\",IF(ISERROR(MATCH(INDIRECT(ADDRESS(ROW()-G1731,7)),D:D,0)),J1731,INDIRECT(ADDRESS(MATCH(INDIRECT(ADDRESS(ROW()-G1731,7)),D:D,0),1))),J1731)","v":""},0,"",0,"",{"$f":"IF(ROW()<$S$4+2,IF('XML a procesar'!A1730=\"\",P1730,IF(MID('XML a procesar'!A1730,1,1)=\"<\",P1730,P1730+1)),P1730)","v":1}]
[{"$f":"IF('XML a procesar'!A1731>0,'XML a procesar'!A1731,\"\")","v":""},0,0,0,0,"",0,0,0,"","",0,"",0,"",{"$f":"IF(ROW()<$S$4+2,IF('XML a procesar'!A1731=\"\",P1731,IF(MID('XML a procesar'!A1731,1,1)=\"<\",P1731,P1731+1)),P1731)","v":1}]
[{"$f":"IF('XML a procesar'!A1732>0,'XML a procesar'!A1732,\"\")","v":""},0,0,0,0,"",0,0,0,"","",0,"",0,"",{"$f":"IF(ROW()<$S$4+2,IF('XML a procesar'!A1732=\"\",P1732,IF(MID('XML a procesar'!A1732,1,1)=\"<\",P1732,P1732+1)),P1732)","v":1}]
[{"$f":"IF('XML a procesar'!A1733>0,'XML a procesar'!A1733,\"\")","v":""},0,0,0,0,"",0,0,0,"","",0,"",0,"",{"$f":"IF(ROW()<$S$4+2,IF('XML a procesar'!A1733=\"\",P1733,IF(MID('XML a procesar'!A1733,1,1)=\"<\",P1733,P1733+1)),P1733)","v":1}]
[{"$f":"IF('XML a procesar'!A1734>0,'XML a procesar'!A1734,\"\")","v":""},0,0,0,0,"",0,0,0,"","",0,"",0,"",{"$f":"IF(ROW()<$S$4+2,IF('XML a procesar'!A1734=\"\",P1734,IF(MID('XML a procesar'!A1734,1,1)=\"<\",P1734,P1734+1)),P1734)","v":1}]
[{"$f":"IF('XML a procesar'!A1735>0,'XML a procesar'!A1735,\"\")","v":""},0,0,0,0,"",0,0,0,"","",0,"",0,"",{"$f":"IF(ROW()<$S$4+2,IF('XML a procesar'!A1735=\"\",P1735,IF(MID('XML a procesar'!A1735,1,1)=\"<\",P1735,P1735+1)),P1735)","v":1}]
[{"$f":"IF('XML a procesar'!A1736>0,'XML a procesar'!A1736,\"\")","v":""},0,0,0,0,"",0,0,0,"","",0,"",0,"",{"$f":"IF(ROW()<$S$4+2,IF('XML a procesar'!A1736=\"\",P1736,IF(MID('XML a procesar'!A1736,1,1)=\"<\",P1736,P1736+1)),P1736)","v":1}]
[{"$f":"IF('XML a procesar'!A1737>0,'XML a procesar'!A1737,\"\")","v":""},0,0,0,0,"",0,0,0,"","",0,"",0,"",{"$f":"IF(ROW()<$S$4+2,IF('XML a procesar'!A1737=\"\",P1737,IF(MID('XML a procesar'!A1737,1,1)=\"<\",P1737,P1737+1)),P1737)","v":1}]
[{"$f":"IF('XML a procesar'!A1738>0,'XML a procesar'!A1738,\"\")","v":""},0,0,0,0,"",0,0,0,"","",0,"",0,"",{"$f":"IF(ROW()<$S$4+2,IF('XML a procesar'!A1738=\"\",P1738,IF(MID('XML a procesar'!A1738,1,1)=\"<\",P1738,P1738+1)),P1738)","v":1}]
[{"$f":"IF('XML a procesar'!A1739>0,'XML a procesar'!A1739,\"\")","v":""},0,0,0,0,"",0,0,0,"","",0,"",0,"",{"$f":"IF(ROW()<$S$4+2,IF('XML a procesar'!A1739=\"\",P1739,IF(MID('XML a procesar'!A1739,1,1)=\"<\",P1739,P1739+1)),P1739)","v":1}]
[{"$f":"IF('XML a procesar'!A1740>0,'XML a procesar'!A1740,\"\")","v":""},0,0,0,0,"",0,0,0,"","",0,"",0,"",{"$f":"IF(ROW()<$S$4+2,IF('XML a procesar'!A1740=\"\",P1740,IF(MID('XML a procesar'!A1740,1,1)=\"<\",P1740,P1740+1)),P1740)","v":1}]
[{"$f":"IF('XML a procesar'!A1741>0,'XML a procesar'!A1741,\"\")","v":""},0,0,0,0,"",0,0,0,"","",0,"",0,"",{"$f":"IF(ROW()<$S$4+2,IF('XML a procesar'!A1741=\"\",P1741,IF(MID('XML a procesar'!A1741,1,1)=\"<\",P1741,P1741+1)),P1741)","v":1}]
[{"$f":"IF('XML a procesar'!A1742>0,'XML a procesar'!A1742,\"\")","v":""},0,0,0,0,"",0,0,0,"","",0,"",0,"",{"$f":"IF(ROW()<$S$4+2,IF('XML a procesar'!A1742=\"\",P1742,IF(MID('XML a procesar'!A1742,1,1)=\"<\",P1742,P1742+1)),P1742)","v":1}]
[{"$f":"IF('XML a procesar'!A1743>0,'XML a procesar'!A1743,\"\")","v":""},0,0,0,0,"",0,0,0,"","",0,"",0,"",{"$f":"IF(ROW()<$S$4+2,IF('XML a procesar'!A1743=\"\",P1743,IF(MID('XML a procesar'!A1743,1,1)=\"<\",P1743,P1743+1)),P1743)","v":1}]
[{"$f":"IF('XML a procesar'!A1744>0,'XML a procesar'!A1744,\"\")","v":""},0,0,0,0,"",0,0,0,"","",0,"",0,"",{"$f":"IF(ROW()<$S$4+2,IF('XML a procesar'!A1744=\"\",P1744,IF(MID('XML a procesar'!A1744,1,1)=\"<\",P1744,P1744+1)),P1744)","v":1}]
[{"$f":"IF('XML a procesar'!A1745>0,'XML a procesar'!A1745,\"\")","v":""},0,0,0,0,"",0,0,0,"","",0,"",0,"",{"$f":"IF(ROW()<$S$4+2,IF('XML a procesar'!A1745=\"\",P1745,IF(MID('XML a procesar'!A1745,1,1)=\"<\",P1745,P1745+1)),P1745)","v":1}]
[{"$f":"IF('XML a procesar'!A1746>0,'XML a procesar'!A1746,\"\")","v":""},0,0,0,0,"",0,0,0,"","",0,"",0,"",{"$f":"IF(ROW()<$S$4+2,IF('XML a procesar'!A1746=\"\",P1746,IF(MID('XML a procesar'!A1746,1,1)=\"<\",P1746,P1746+1)),P1746)","v":1}]
[{"$f":"IF('XML a procesar'!A1747>0,'XML a procesar'!A1747,\"\")","v":""},0,0,0,0,"",0,0,0,"","",0,"",0,"",{"$f":"IF(ROW()<$S$4+2,IF('XML a procesar'!A1747=\"\",P1747,IF(MID('XML a procesar'!A1747,1,1)=\"<\",P1747,P1747+1)),P1747)","v":1}]
[{"$f":"IF('XML a procesar'!A1748>0,'XML a procesar'!A1748,\"\")","v":""},0,0,0,0,"",0,0,0,"","",0,"",0,"",{"$f":"IF(ROW()<$S$4+2,IF('XML a procesar'!A1748=\"\",P1748,IF(MID('XML a procesar'!A1748,1,1)=\"<\",P1748,P1748+1)),P1748)","v":1}]
[{"$f":"IF('XML a procesar'!A1749>0,'XML a procesar'!A1749,\"\")","v":""},0,0,0,0,"",0,0,0,"","",0,"",0,"",{"$f":"IF(ROW()<$S$4+2,IF('XML a procesar'!A1749=\"\",P1749,IF(MID('XML a procesar'!A1749,1,1)=\"<\",P1749,P1749+1)),P1749)","v":1}]
[{"$f":"IF('XML a procesar'!A1750>0,'XML a procesar'!A1750,\"\")","v":""},0,0,0,0,"",0,0,0,"","",0,"",0,"",{"$f":"IF(ROW()<$S$4+2,IF('XML a procesar'!A1750=\"\",P1750,IF(MID('XML a procesar'!A1750,1,1)=\"<\",P1750,P1750+1)),P1750)","v":1}]
[{"$f":"IF('XML a procesar'!A1751>0,'XML a procesar'!A1751,\"\")","v":""},0,0,0,0,"",0,0,0,"","",0,"",0,"",{"$f":"IF(ROW()<$S$4+2,IF('XML a procesar'!A1751=\"\",P1751,IF(MID('XML a procesar'!A1751,1,1)=\"<\",P1751,P1751+1)),P1751)","v":1}]
[{"$f":"IF('XML a procesar'!A1752>0,'XML a procesar'!A1752,\"\")","v":""},0,0,0,0,"",0,0,0,"","",0,"",0,"",{"$f":"IF(ROW()<$S$4+2,IF('XML a procesar'!A1752=\"\",P1752,IF(MID('XML a procesar'!A1752,1,1)=\"<\",P1752,P1752+1)),P1752)","v":1}]
[{"$f":"IF('XML a procesar'!A1753>0,'XML a procesar'!A1753,\"\")","v":""},0,0,0,0,"",0,0,0,"","",0,"",0,"",{"$f":"IF(ROW()<$S$4+2,IF('XML a procesar'!A1753=\"\",P1753,IF(MID('XML a procesar'!A1753,1,1)=\"<\",P1753,P1753+1)),P1753)","v":1}]
[{"$f":"IF('XML a procesar'!A1754>0,'XML a procesar'!A1754,\"\")","v":""},0,0,0,0,"",0,0,0,"","",0,"",0,"",{"$f":"IF(ROW()<$S$4+2,IF('XML a procesar'!A1754=\"\",P1754,IF(MID('XML a procesar'!A1754,1,1)=\"<\",P1754,P1754+1)),P1754)","v":1}]
[{"$f":"IF('XML a procesar'!A1755>0,'XML a procesar'!A1755,\"\")","v":""},0,0,0,0,"",0,0,0,"","",0,"",0,"",{"$f":"IF(ROW()<$S$4+2,IF('XML a procesar'!A1755=\"\",P1755,IF(MID('XML a procesar'!A1755,1,1)=\"<\",P1755,P1755+1)),P1755)","v":1}]
[{"$f":"IF('XML a procesar'!A1756>0,'XML a procesar'!A1756,\"\")","v":""},0,0,0,0,"",0,0,0,"","",0,"",0,"",{"$f":"IF(ROW()<$S$4+2,IF('XML a procesar'!A1756=\"\",P1756,IF(MID('XML a procesar'!A1756,1,1)=\"<\",P1756,P1756+1)),P1756)","v":1}]
[{"$f":"IF('XML a procesar'!A1757>0,'XML a procesar'!A1757,\"\")","v":""},0,0,0,0,"",0,0,0,"","",0,"",0,"",{"$f":"IF(ROW()<$S$4+2,IF('XML a procesar'!A1757=\"\",P1757,IF(MID('XML a procesar'!A1757,1,1)=\"<\",P1757,P1757+1)),P1757)","v":1}]
[{"$f":"IF('XML a procesar'!A1758>0,'XML a procesar'!A1758,\"\")","v":""},0,0,0,0,"",0,0,0,"","",0,"",0,"",{"$f":"IF(ROW()<$S$4+2,IF('XML a procesar'!A1758=\"\",P1758,IF(MID('XML a procesar'!A1758,1,1)=\"<\",P1758,P1758+1)),P1758)","v":1}]
[{"$f":"IF('XML a procesar'!A1759>0,'XML a procesar'!A1759,\"\")","v":""},0,0,0,0,"",0,0,0,"","",0,"",0,"",{"$f":"IF(ROW()<$S$4+2,IF('XML a procesar'!A1759=\"\",P1759,IF(MID('XML a procesar'!A1759,1,1)=\"<\",P1759,P1759+1)),P1759)","v":1}]
[{"$f":"IF('XML a procesar'!A1760>0,'XML a procesar'!A1760,\"\")","v":""},0,0,0,0,"",0,0,0,"","",0,"",0,"",{"$f":"IF(ROW()<$S$4+2,IF('XML a procesar'!A1760=\"\",P1760,IF(MID('XML a procesar'!A1760,1,1)=\"<\",P1760,P1760+1)),P1760)","v":1}]
[{"$f":"IF('XML a procesar'!A1761>0,'XML a procesar'!A1761,\"\")","v":""},0,0,0,0,"",0,0,0,"","",0,"",0,"",{"$f":"IF(ROW()<$S$4+2,IF('XML a procesar'!A1761=\"\",P1761,IF(MID('XML a procesar'!A1761,1,1)=\"<\",P1761,P1761+1)),P1761)","v":1}]
[{"$f":"IF('XML a procesar'!A1762>0,'XML a procesar'!A1762,\"\")","v":""},0,0,0,0,"",0,0,0,"","",0,"",0,"",{"$f":"IF(ROW()<$S$4+2,IF('XML a procesar'!A1762=\"\",P1762,IF(MID('XML a procesar'!A1762,1,1)=\"<\",P1762,P1762+1)),P1762)","v":1}]
[{"$f":"IF('XML a procesar'!A1763>0,'XML a procesar'!A1763,\"\")","v":""},0,0,0,0,"",0,0,0,"","",0,"",0,"",{"$f":"IF(ROW()<$S$4+2,IF('XML a procesar'!A1763=\"\",P1763,IF(MID('XML a procesar'!A1763,1,1)=\"<\",P1763,P1763+1)),P1763)","v":1}]
[{"$f":"IF('XML a procesar'!A1764>0,'XML a procesar'!A1764,\"\")","v":""},0,0,0,0,"",0,0,0,"","",0,"",0,"",{"$f":"IF(ROW()<$S$4+2,IF('XML a procesar'!A1764=\"\",P1764,IF(MID('XML a procesar'!A1764,1,1)=\"<\",P1764,P1764+1)),P1764)","v":1}]
[{"$f":"IF('XML a procesar'!A1765>0,'XML a procesar'!A1765,\"\")","v":""},0,0,0,0,"",0,0,0,"","",0,"",0,"",{"$f":"IF(ROW()<$S$4+2,IF('XML a procesar'!A1765=\"\",P1765,IF(MID('XML a procesar'!A1765,1,1)=\"<\",P1765,P1765+1)),P1765)","v":1}]
[{"$f":"IF('XML a procesar'!A1766>0,'XML a procesar'!A1766,\"\")","v":""},0,0,0,0,"",0,0,0,"","",0,"",0,"",{"$f":"IF(ROW()<$S$4+2,IF('XML a procesar'!A1766=\"\",P1766,IF(MID('XML a procesar'!A1766,1,1)=\"<\",P1766,P1766+1)),P1766)","v":1}]
[{"$f":"IF('XML a procesar'!A1767>0,'XML a procesar'!A1767,\"\")","v":""},0,0,0,0,"",0,0,0,"","",0,"",0,"",{"$f":"IF(ROW()<$S$4+2,IF('XML a procesar'!A1767=\"\",P1767,IF(MID('XML a procesar'!A1767,1,1)=\"<\",P1767,P1767+1)),P1767)","v":1}]
[{"$f":"IF('XML a procesar'!A1768>0,'XML a procesar'!A1768,\"\")","v":""},0,0,0,0,"",0,0,0,"","",0,"",0,"",{"$f":"IF(ROW()<$S$4+2,IF('XML a procesar'!A1768=\"\",P1768,IF(MID('XML a procesar'!A1768,1,1)=\"<\",P1768,P1768+1)),P1768)","v":1}]
[{"$f":"IF('XML a procesar'!A1769>0,'XML a procesar'!A1769,\"\")","v":""},0,0,0,0,"",0,0,0,"","",0,"",0,"",{"$f":"IF(ROW()<$S$4+2,IF('XML a procesar'!A1769=\"\",P1769,IF(MID('XML a procesar'!A1769,1,1)=\"<\",P1769,P1769+1)),P1769)","v":1}]
[{"$f":"IF('XML a procesar'!A1770>0,'XML a procesar'!A1770,\"\")","v":""},0,0,0,0,"",0,0,0,"","",0,"",0,"",{"$f":"IF(ROW()<$S$4+2,IF('XML a procesar'!A1770=\"\",P1770,IF(MID('XML a procesar'!A1770,1,1)=\"<\",P1770,P1770+1)),P1770)","v":1}]
[{"$f":"IF('XML a procesar'!A1771>0,'XML a procesar'!A1771,\"\")","v":""},0,0,0,0,"",0,0,0,"","",0,"",0,"",{"$f":"IF(ROW()<$S$4+2,IF('XML a procesar'!A1771=\"\",P1771,IF(MID('XML a procesar'!A1771,1,1)=\"<\",P1771,P1771+1)),P1771)","v":1}]
[{"$f":"IF('XML a procesar'!A1772>0,'XML a procesar'!A1772,\"\")","v":""},0,0,0,0,"",0,0,0,"","",0,"",0,"",{"$f":"IF(ROW()<$S$4+2,IF('XML a procesar'!A1772=\"\",P1772,IF(MID('XML a procesar'!A1772,1,1)=\"<\",P1772,P1772+1)),P1772)","v":1}]
[{"$f":"IF('XML a procesar'!A1773>0,'XML a procesar'!A1773,\"\")","v":""},0,0,0,0,"",0,0,0,"","",0,"",0,"",{"$f":"IF(ROW()<$S$4+2,IF('XML a procesar'!A1773=\"\",P1773,IF(MID('XML a procesar'!A1773,1,1)=\"<\",P1773,P1773+1)),P1773)","v":1}]
[{"$f":"IF('XML a procesar'!A1774>0,'XML a procesar'!A1774,\"\")","v":""},0,0,0,0,"",0,0,0,"","",0,"",0,"",{"$f":"IF(ROW()<$S$4+2,IF('XML a procesar'!A1774=\"\",P1774,IF(MID('XML a procesar'!A1774,1,1)=\"<\",P1774,P1774+1)),P1774)","v":1}]
[{"$f":"IF('XML a procesar'!A1775>0,'XML a procesar'!A1775,\"\")","v":""},0,0,0,0,"",0,0,0,"","",0,"",0,"",{"$f":"IF(ROW()<$S$4+2,IF('XML a procesar'!A1775=\"\",P1775,IF(MID('XML a procesar'!A1775,1,1)=\"<\",P1775,P1775+1)),P1775)","v":1}]
[{"$f":"IF('XML a procesar'!A1776>0,'XML a procesar'!A1776,\"\")","v":""},0,0,0,0,"",0,0,0,"","",0,"",0,"",{"$f":"IF(ROW()<$S$4+2,IF('XML a procesar'!A1776=\"\",P1776,IF(MID('XML a procesar'!A1776,1,1)=\"<\",P1776,P1776+1)),P1776)","v":1}]
[{"$f":"IF('XML a procesar'!A1777>0,'XML a procesar'!A1777,\"\")","v":""},0,0,0,0,"",0,0,0,"","",0,"",0,"",{"$f":"IF(ROW()<$S$4+2,IF('XML a procesar'!A1777=\"\",P1777,IF(MID('XML a procesar'!A1777,1,1)=\"<\",P1777,P1777+1)),P1777)","v":1}]
[{"$f":"IF('XML a procesar'!A1778>0,'XML a procesar'!A1778,\"\")","v":""},0,0,0,0,"",0,0,0,"","",0,"",0,"",{"$f":"IF(ROW()<$S$4+2,IF('XML a procesar'!A1778=\"\",P1778,IF(MID('XML a procesar'!A1778,1,1)=\"<\",P1778,P1778+1)),P1778)","v":1}]
[{"$f":"IF('XML a procesar'!A1779>0,'XML a procesar'!A1779,\"\")","v":""},0,0,0,0,"",0,0,0,"","",0,"",0,"",{"$f":"IF(ROW()<$S$4+2,IF('XML a procesar'!A1779=\"\",P1779,IF(MID('XML a procesar'!A1779,1,1)=\"<\",P1779,P1779+1)),P1779)","v":1}]
[{"$f":"IF('XML a procesar'!A1780>0,'XML a procesar'!A1780,\"\")","v":""},0,0,0,0,"",0,0,0,"","",0,"",0,"",{"$f":"IF(ROW()<$S$4+2,IF('XML a procesar'!A1780=\"\",P1780,IF(MID('XML a procesar'!A1780,1,1)=\"<\",P1780,P1780+1)),P1780)","v":1}]
[{"$f":"IF('XML a procesar'!A1781>0,'XML a procesar'!A1781,\"\")","v":""},0,0,0,0,"",0,0,0,"","",0,"",0,"",{"$f":"IF(ROW()<$S$4+2,IF('XML a procesar'!A1781=\"\",P1781,IF(MID('XML a procesar'!A1781,1,1)=\"<\",P1781,P1781+1)),P1781)","v":1}]
[{"$f":"IF('XML a procesar'!A1782>0,'XML a procesar'!A1782,\"\")","v":""},0,0,0,0,"",0,0,0,"","",0,"",0,"",{"$f":"IF(ROW()<$S$4+2,IF('XML a procesar'!A1782=\"\",P1782,IF(MID('XML a procesar'!A1782,1,1)=\"<\",P1782,P1782+1)),P1782)","v":1}]
[{"$f":"IF('XML a procesar'!A1783>0,'XML a procesar'!A1783,\"\")","v":""},0,0,0,0,"",0,0,0,"","",0,"",0,"",{"$f":"IF(ROW()<$S$4+2,IF('XML a procesar'!A1783=\"\",P1783,IF(MID('XML a procesar'!A1783,1,1)=\"<\",P1783,P1783+1)),P1783)","v":1}]
[{"$f":"IF('XML a procesar'!A1784>0,'XML a procesar'!A1784,\"\")","v":""},0,0,0,0,"",0,0,0,"","",0,"",0,"",{"$f":"IF(ROW()<$S$4+2,IF('XML a procesar'!A1784=\"\",P1784,IF(MID('XML a procesar'!A1784,1,1)=\"<\",P1784,P1784+1)),P1784)","v":1}]
[{"$f":"IF('XML a procesar'!A1785>0,'XML a procesar'!A1785,\"\")","v":""},0,0,0,0,"",0,0,0,"","",0,"",0,"",{"$f":"IF(ROW()<$S$4+2,IF('XML a procesar'!A1785=\"\",P1785,IF(MID('XML a procesar'!A1785,1,1)=\"<\",P1785,P1785+1)),P1785)","v":1}]
[{"$f":"IF('XML a procesar'!A1786>0,'XML a procesar'!A1786,\"\")","v":""},0,0,0,0,"",0,0,0,"","",0,"",0,"",{"$f":"IF(ROW()<$S$4+2,IF('XML a procesar'!A1786=\"\",P1786,IF(MID('XML a procesar'!A1786,1,1)=\"<\",P1786,P1786+1)),P1786)","v":1}]
[{"$f":"IF('XML a procesar'!A1787>0,'XML a procesar'!A1787,\"\")","v":""},0,0,0,0,"",0,0,0,"","",0,"",0,"",{"$f":"IF(ROW()<$S$4+2,IF('XML a procesar'!A1787=\"\",P1787,IF(MID('XML a procesar'!A1787,1,1)=\"<\",P1787,P1787+1)),P1787)","v":1}]
[{"$f":"IF('XML a procesar'!A1788>0,'XML a procesar'!A1788,\"\")","v":""},0,0,0,0,"",0,0,0,"","",0,"",0,"",{"$f":"IF(ROW()<$S$4+2,IF('XML a procesar'!A1788=\"\",P1788,IF(MID('XML a procesar'!A1788,1,1)=\"<\",P1788,P1788+1)),P1788)","v":1}]
[{"$f":"IF('XML a procesar'!A1789>0,'XML a procesar'!A1789,\"\")","v":""},0,0,0,0,"",0,0,0,"","",0,"",0,"",{"$f":"IF(ROW()<$S$4+2,IF('XML a procesar'!A1789=\"\",P1789,IF(MID('XML a procesar'!A1789,1,1)=\"<\",P1789,P1789+1)),P1789)","v":1}]
[{"$f":"IF('XML a procesar'!A1790>0,'XML a procesar'!A1790,\"\")","v":""},0,0,0,0,"",0,0,0,"","",0,"",0,"",{"$f":"IF(ROW()<$S$4+2,IF('XML a procesar'!A1790=\"\",P1790,IF(MID('XML a procesar'!A1790,1,1)=\"<\",P1790,P1790+1)),P1790)","v":1}]
[{"$f":"IF('XML a procesar'!A1791>0,'XML a procesar'!A1791,\"\")","v":""},0,0,0,0,"",0,0,0,"","",0,"",0,"",{"$f":"IF(ROW()<$S$4+2,IF('XML a procesar'!A1791=\"\",P1791,IF(MID('XML a procesar'!A1791,1,1)=\"<\",P1791,P1791+1)),P1791)","v":1}]
[{"$f":"IF('XML a procesar'!A1792>0,'XML a procesar'!A1792,\"\")","v":""},{"$f":"IF(ISERROR(FIND(\"/doi.org/\",A1793,1)),0,1)","v":0},{"$f":"IF(LEFT(A1792,16)=\"<contrib contrib\",C1792+1,IF(LEFT(A1792,16)=\"</contrib-group>\",0,IF(LEFT(A1792,10)=\"</contrib>\",C1792,C1792)))","v":0},{"$f":"IF(AND(C1793>0,LEFT(A1793,7)=\"<email>\",ISNUMBER(SEARCH(\"@\",A1793,1))),C1793,IF(LEFT(A1793,10)=\"<alt-text>\",-1,0))","v":0},{"$f":"IF(D1793=0,E1792,E1792+1)","v":0},{"$f":"INDIRECT(ADDRESS(ROW()+INDIRECT(ADDRESS(ROW()+E1793,5)),1))","v":""},{"$f":"IF(LEFT(F1793,7)=\"<aff id\",_xlfn.NUMBERVALUE(MID(F1793,13,LEN(F1793)-14)),IF(F1793=\"</aff>\",G1792+1,G1792))","v":0},0,{"$f":"INDIRECT(ADDRESS(ROW()-INDIRECT(ADDRESS(ROW()-H1793,8)),8))","v":0},{"$f":"IF(J1792=\"Linea_para_MAIL_creada_por_LuXML\",\"</aff>\",IF(I1793>INDIRECT(ADDRESS(ROW()-I1793-1,8)),\"Linea_para_MAIL_creada_por_LuXML\",INDIRECT(ADDRESS(ROW()-I1793,6))))","v":""},"",{"$f":"IF(OR(MID(K1791,3,5)=\"page>\",MID(K1792,3,5)=\"page>\"),L1792,IF(OR(K1792=\"<history>\",K1793=\"<history>\"),L1792+1,L1792))","v":0},{"$f":"IF(L1793>L1792,IF(L1793=1,CONCATENATE(\"<fpage>\",$S$10,\"</fpage>\"),CONCATENATE(\"<lpage>\",$S$10+1,\"</lpage>\")),IF(ISERROR(INDIRECT(ADDRESS(ROW()-L1793,11),1)),\"\",INDIRECT(ADDRESS(ROW()-L1793,11),1)))","v":""},{"$f":"IF(N1792=-1,-1,IF(M1793=\"</counts>\",-1,IF(OR(LEFT(M1793,7)=\"<fpage>\",LEFT(M1793,7)=\"<lpage>\"),VALUE(MID(M1793,8,LEN(M1793)-15)),0)))","v":0},"",{"$f":"IF(ROW()<$S$4+2,IF('XML a procesar'!A1792=\"\",P1792,IF(MID('XML a procesar'!A1792,1,1)=\"<\",P1792,P1792+1)),P1792)","v":1}]
[{"$f":"IF('XML a procesar'!A1793>0,'XML a procesar'!A1793,\"\")","v":""},0,0,0,0,"",0,0,0,"","",0,"",0,{"$f":"IF(N1794>-1,INDIRECT(ADDRESS(ROW(),13)),IF(N1794<N1793,CONCATENATE(\"<page-count count=\",CHAR(34),1+LARGE(N:N,1)-LARGE(N:N,2),CHAR(34),\"/>\"),INDIRECT(ADDRESS(ROW()-1,13))))","v":""},{"$f":"IF(ROW()<$S$4+2,IF('XML a procesar'!A1793=\"\",P1793,IF(MID('XML a procesar'!A1793,1,1)=\"<\",P1793,P1793+1)),P1793)","v":1}]
[{"$f":"IF('XML a procesar'!A1794>0,'XML a procesar'!A1794,\"\")","v":""},0,0,0,0,"",0,{"$f":"IF(AND(G1794>0,G1795>G1794,NOT(ISERROR(MATCH(G1794,D:D,0)))),H1794+1,H1794)","v":0},0,"",{"$f":"IF(J1795=\"Linea_para_MAIL_creada_por_LuXML\",IF(ISERROR(MATCH(INDIRECT(ADDRESS(ROW()-G1795,7)),D:D,0)),J1795,INDIRECT(ADDRESS(MATCH(INDIRECT(ADDRESS(ROW()-G1795,7)),D:D,0),1))),J1795)","v":""},0,"",0,"",{"$f":"IF(ROW()<$S$4+2,IF('XML a procesar'!A1794=\"\",P1794,IF(MID('XML a procesar'!A1794,1,1)=\"<\",P1794,P1794+1)),P1794)","v":1}]
[{"$f":"IF('XML a procesar'!A1795>0,'XML a procesar'!A1795,\"\")","v":""},0,0,0,0,"",0,0,0,"","",0,"",0,"",{"$f":"IF(ROW()<$S$4+2,IF('XML a procesar'!A1795=\"\",P1795,IF(MID('XML a procesar'!A1795,1,1)=\"<\",P1795,P1795+1)),P1795)","v":1}]
[{"$f":"IF('XML a procesar'!A1796>0,'XML a procesar'!A1796,\"\")","v":""},0,0,0,0,"",0,0,0,"","",0,"",0,"",{"$f":"IF(ROW()<$S$4+2,IF('XML a procesar'!A1796=\"\",P1796,IF(MID('XML a procesar'!A1796,1,1)=\"<\",P1796,P1796+1)),P1796)","v":1}]
[{"$f":"IF('XML a procesar'!A1797>0,'XML a procesar'!A1797,\"\")","v":""},0,0,0,0,"",0,0,0,"","",0,"",0,"",{"$f":"IF(ROW()<$S$4+2,IF('XML a procesar'!A1797=\"\",P1797,IF(MID('XML a procesar'!A1797,1,1)=\"<\",P1797,P1797+1)),P1797)","v":1}]
[{"$f":"IF('XML a procesar'!A1798>0,'XML a procesar'!A1798,\"\")","v":""},0,0,0,0,"",0,0,0,"","",0,"",0,"",{"$f":"IF(ROW()<$S$4+2,IF('XML a procesar'!A1798=\"\",P1798,IF(MID('XML a procesar'!A1798,1,1)=\"<\",P1798,P1798+1)),P1798)","v":1}]
[{"$f":"IF('XML a procesar'!A1799>0,'XML a procesar'!A1799,\"\")","v":""},0,0,0,0,"",0,0,0,"","",0,"",0,"",{"$f":"IF(ROW()<$S$4+2,IF('XML a procesar'!A1799=\"\",P1799,IF(MID('XML a procesar'!A1799,1,1)=\"<\",P1799,P1799+1)),P1799)","v":1}]
[{"$f":"IF('XML a procesar'!A1800>0,'XML a procesar'!A1800,\"\")","v":""},0,0,0,0,"",0,0,0,"","",0,"",0,"",{"$f":"IF(ROW()<$S$4+2,IF('XML a procesar'!A1800=\"\",P1800,IF(MID('XML a procesar'!A1800,1,1)=\"<\",P1800,P1800+1)),P1800)","v":1}]
[{"$f":"IF('XML a procesar'!A1801>0,'XML a procesar'!A1801,\"\")","v":""},0,0,0,0,"",0,0,0,"","",0,"",0,"",{"$f":"IF(ROW()<$S$4+2,IF('XML a procesar'!A1801=\"\",P1801,IF(MID('XML a procesar'!A1801,1,1)=\"<\",P1801,P1801+1)),P1801)","v":1}]
[{"$f":"IF('XML a procesar'!A1802>0,'XML a procesar'!A1802,\"\")","v":""},0,0,0,0,"",0,0,0,"","",0,"",0,"",{"$f":"IF(ROW()<$S$4+2,IF('XML a procesar'!A1802=\"\",P1802,IF(MID('XML a procesar'!A1802,1,1)=\"<\",P1802,P1802+1)),P1802)","v":1}]
[{"$f":"IF('XML a procesar'!A1803>0,'XML a procesar'!A1803,\"\")","v":""},0,0,0,0,"",0,0,0,"","",0,"",0,"",{"$f":"IF(ROW()<$S$4+2,IF('XML a procesar'!A1803=\"\",P1803,IF(MID('XML a procesar'!A1803,1,1)=\"<\",P1803,P1803+1)),P1803)","v":1}]
[{"$f":"IF('XML a procesar'!A1804>0,'XML a procesar'!A1804,\"\")","v":""},0,0,0,0,"",0,0,0,"","",0,"",0,"",{"$f":"IF(ROW()<$S$4+2,IF('XML a procesar'!A1804=\"\",P1804,IF(MID('XML a procesar'!A1804,1,1)=\"<\",P1804,P1804+1)),P1804)","v":1}]
[{"$f":"IF('XML a procesar'!A1805>0,'XML a procesar'!A1805,\"\")","v":""},0,0,0,0,"",0,0,0,"","",0,"",0,"",{"$f":"IF(ROW()<$S$4+2,IF('XML a procesar'!A1805=\"\",P1805,IF(MID('XML a procesar'!A1805,1,1)=\"<\",P1805,P1805+1)),P1805)","v":1}]
[{"$f":"IF('XML a procesar'!A1806>0,'XML a procesar'!A1806,\"\")","v":""},0,0,0,0,"",0,0,0,"","",0,"",0,"",{"$f":"IF(ROW()<$S$4+2,IF('XML a procesar'!A1806=\"\",P1806,IF(MID('XML a procesar'!A1806,1,1)=\"<\",P1806,P1806+1)),P1806)","v":1}]
[{"$f":"IF('XML a procesar'!A1807>0,'XML a procesar'!A1807,\"\")","v":""},0,0,0,0,"",0,0,0,"","",0,"",0,"",{"$f":"IF(ROW()<$S$4+2,IF('XML a procesar'!A1807=\"\",P1807,IF(MID('XML a procesar'!A1807,1,1)=\"<\",P1807,P1807+1)),P1807)","v":1}]
[{"$f":"IF('XML a procesar'!A1808>0,'XML a procesar'!A1808,\"\")","v":""},0,0,0,0,"",0,0,0,"","",0,"",0,"",{"$f":"IF(ROW()<$S$4+2,IF('XML a procesar'!A1808=\"\",P1808,IF(MID('XML a procesar'!A1808,1,1)=\"<\",P1808,P1808+1)),P1808)","v":1}]
[{"$f":"IF('XML a procesar'!A1809>0,'XML a procesar'!A1809,\"\")","v":""},0,0,0,0,"",0,0,0,"","",0,"",0,"",{"$f":"IF(ROW()<$S$4+2,IF('XML a procesar'!A1809=\"\",P1809,IF(MID('XML a procesar'!A1809,1,1)=\"<\",P1809,P1809+1)),P1809)","v":1}]
[{"$f":"IF('XML a procesar'!A1810>0,'XML a procesar'!A1810,\"\")","v":""},0,0,0,0,"",0,0,0,"","",0,"",0,"",{"$f":"IF(ROW()<$S$4+2,IF('XML a procesar'!A1810=\"\",P1810,IF(MID('XML a procesar'!A1810,1,1)=\"<\",P1810,P1810+1)),P1810)","v":1}]
[{"$f":"IF('XML a procesar'!A1811>0,'XML a procesar'!A1811,\"\")","v":""},0,0,0,0,"",0,0,0,"","",0,"",0,"",{"$f":"IF(ROW()<$S$4+2,IF('XML a procesar'!A1811=\"\",P1811,IF(MID('XML a procesar'!A1811,1,1)=\"<\",P1811,P1811+1)),P1811)","v":1}]
[{"$f":"IF('XML a procesar'!A1812>0,'XML a procesar'!A1812,\"\")","v":""},0,0,0,0,"",0,0,0,"","",0,"",0,"",{"$f":"IF(ROW()<$S$4+2,IF('XML a procesar'!A1812=\"\",P1812,IF(MID('XML a procesar'!A1812,1,1)=\"<\",P1812,P1812+1)),P1812)","v":1}]
[{"$f":"IF('XML a procesar'!A1813>0,'XML a procesar'!A1813,\"\")","v":""},0,0,0,0,"",0,0,0,"","",0,"",0,"",{"$f":"IF(ROW()<$S$4+2,IF('XML a procesar'!A1813=\"\",P1813,IF(MID('XML a procesar'!A1813,1,1)=\"<\",P1813,P1813+1)),P1813)","v":1}]
[{"$f":"IF('XML a procesar'!A1814>0,'XML a procesar'!A1814,\"\")","v":""},0,0,0,0,"",0,0,0,"","",0,"",0,"",{"$f":"IF(ROW()<$S$4+2,IF('XML a procesar'!A1814=\"\",P1814,IF(MID('XML a procesar'!A1814,1,1)=\"<\",P1814,P1814+1)),P1814)","v":1}]
[{"$f":"IF('XML a procesar'!A1815>0,'XML a procesar'!A1815,\"\")","v":""},0,0,0,0,"",0,0,0,"","",0,"",0,"",{"$f":"IF(ROW()<$S$4+2,IF('XML a procesar'!A1815=\"\",P1815,IF(MID('XML a procesar'!A1815,1,1)=\"<\",P1815,P1815+1)),P1815)","v":1}]
[{"$f":"IF('XML a procesar'!A1816>0,'XML a procesar'!A1816,\"\")","v":""},0,0,0,0,"",0,0,0,"","",0,"",0,"",{"$f":"IF(ROW()<$S$4+2,IF('XML a procesar'!A1816=\"\",P1816,IF(MID('XML a procesar'!A1816,1,1)=\"<\",P1816,P1816+1)),P1816)","v":1}]
[{"$f":"IF('XML a procesar'!A1817>0,'XML a procesar'!A1817,\"\")","v":""},0,0,0,0,"",0,0,0,"","",0,"",0,"",{"$f":"IF(ROW()<$S$4+2,IF('XML a procesar'!A1817=\"\",P1817,IF(MID('XML a procesar'!A1817,1,1)=\"<\",P1817,P1817+1)),P1817)","v":1}]
[{"$f":"IF('XML a procesar'!A1818>0,'XML a procesar'!A1818,\"\")","v":""},0,0,0,0,"",0,0,0,"","",0,"",0,"",{"$f":"IF(ROW()<$S$4+2,IF('XML a procesar'!A1818=\"\",P1818,IF(MID('XML a procesar'!A1818,1,1)=\"<\",P1818,P1818+1)),P1818)","v":1}]
[{"$f":"IF('XML a procesar'!A1819>0,'XML a procesar'!A1819,\"\")","v":""},0,0,0,0,"",0,0,0,"","",0,"",0,"",{"$f":"IF(ROW()<$S$4+2,IF('XML a procesar'!A1819=\"\",P1819,IF(MID('XML a procesar'!A1819,1,1)=\"<\",P1819,P1819+1)),P1819)","v":1}]
[{"$f":"IF('XML a procesar'!A1820>0,'XML a procesar'!A1820,\"\")","v":""},0,0,0,0,"",0,0,0,"","",0,"",0,"",{"$f":"IF(ROW()<$S$4+2,IF('XML a procesar'!A1820=\"\",P1820,IF(MID('XML a procesar'!A1820,1,1)=\"<\",P1820,P1820+1)),P1820)","v":1}]
[{"$f":"IF('XML a procesar'!A1821>0,'XML a procesar'!A1821,\"\")","v":""},0,0,0,0,"",0,0,0,"","",0,"",0,"",{"$f":"IF(ROW()<$S$4+2,IF('XML a procesar'!A1821=\"\",P1821,IF(MID('XML a procesar'!A1821,1,1)=\"<\",P1821,P1821+1)),P1821)","v":1}]
[{"$f":"IF('XML a procesar'!A1822>0,'XML a procesar'!A1822,\"\")","v":""},0,0,0,0,"",0,0,0,"","",0,"",0,"",{"$f":"IF(ROW()<$S$4+2,IF('XML a procesar'!A1822=\"\",P1822,IF(MID('XML a procesar'!A1822,1,1)=\"<\",P1822,P1822+1)),P1822)","v":1}]
[{"$f":"IF('XML a procesar'!A1823>0,'XML a procesar'!A1823,\"\")","v":""},0,0,0,0,"",0,0,0,"","",0,"",0,"",{"$f":"IF(ROW()<$S$4+2,IF('XML a procesar'!A1823=\"\",P1823,IF(MID('XML a procesar'!A1823,1,1)=\"<\",P1823,P1823+1)),P1823)","v":1}]
[{"$f":"IF('XML a procesar'!A1824>0,'XML a procesar'!A1824,\"\")","v":""},0,0,0,0,"",0,0,0,"","",0,"",0,"",{"$f":"IF(ROW()<$S$4+2,IF('XML a procesar'!A1824=\"\",P1824,IF(MID('XML a procesar'!A1824,1,1)=\"<\",P1824,P1824+1)),P1824)","v":1}]
[{"$f":"IF('XML a procesar'!A1825>0,'XML a procesar'!A1825,\"\")","v":""},0,0,0,0,"",0,0,0,"","",0,"",0,"",{"$f":"IF(ROW()<$S$4+2,IF('XML a procesar'!A1825=\"\",P1825,IF(MID('XML a procesar'!A1825,1,1)=\"<\",P1825,P1825+1)),P1825)","v":1}]
[{"$f":"IF('XML a procesar'!A1826>0,'XML a procesar'!A1826,\"\")","v":""},0,0,0,0,"",0,0,0,"","",0,"",0,"",{"$f":"IF(ROW()<$S$4+2,IF('XML a procesar'!A1826=\"\",P1826,IF(MID('XML a procesar'!A1826,1,1)=\"<\",P1826,P1826+1)),P1826)","v":1}]
[{"$f":"IF('XML a procesar'!A1827>0,'XML a procesar'!A1827,\"\")","v":""},0,0,0,0,"",0,0,0,"","",0,"",0,"",{"$f":"IF(ROW()<$S$4+2,IF('XML a procesar'!A1827=\"\",P1827,IF(MID('XML a procesar'!A1827,1,1)=\"<\",P1827,P1827+1)),P1827)","v":1}]
[{"$f":"IF('XML a procesar'!A1828>0,'XML a procesar'!A1828,\"\")","v":""},0,0,0,0,"",0,0,0,"","",0,"",0,"",{"$f":"IF(ROW()<$S$4+2,IF('XML a procesar'!A1828=\"\",P1828,IF(MID('XML a procesar'!A1828,1,1)=\"<\",P1828,P1828+1)),P1828)","v":1}]
[{"$f":"IF('XML a procesar'!A1829>0,'XML a procesar'!A1829,\"\")","v":""},0,0,0,0,"",0,0,0,"","",0,"",0,"",{"$f":"IF(ROW()<$S$4+2,IF('XML a procesar'!A1829=\"\",P1829,IF(MID('XML a procesar'!A1829,1,1)=\"<\",P1829,P1829+1)),P1829)","v":1}]
[{"$f":"IF('XML a procesar'!A1830>0,'XML a procesar'!A1830,\"\")","v":""},0,0,0,0,"",0,0,0,"","",0,"",0,"",{"$f":"IF(ROW()<$S$4+2,IF('XML a procesar'!A1830=\"\",P1830,IF(MID('XML a procesar'!A1830,1,1)=\"<\",P1830,P1830+1)),P1830)","v":1}]
[{"$f":"IF('XML a procesar'!A1831>0,'XML a procesar'!A1831,\"\")","v":""},0,0,0,0,"",0,0,0,"","",0,"",0,"",{"$f":"IF(ROW()<$S$4+2,IF('XML a procesar'!A1831=\"\",P1831,IF(MID('XML a procesar'!A1831,1,1)=\"<\",P1831,P1831+1)),P1831)","v":1}]
[{"$f":"IF('XML a procesar'!A1832>0,'XML a procesar'!A1832,\"\")","v":""},0,0,0,0,"",0,0,0,"","",0,"",0,"",{"$f":"IF(ROW()<$S$4+2,IF('XML a procesar'!A1832=\"\",P1832,IF(MID('XML a procesar'!A1832,1,1)=\"<\",P1832,P1832+1)),P1832)","v":1}]
[{"$f":"IF('XML a procesar'!A1833>0,'XML a procesar'!A1833,\"\")","v":""},0,0,0,0,"",0,0,0,"","",0,"",0,"",{"$f":"IF(ROW()<$S$4+2,IF('XML a procesar'!A1833=\"\",P1833,IF(MID('XML a procesar'!A1833,1,1)=\"<\",P1833,P1833+1)),P1833)","v":1}]
[{"$f":"IF('XML a procesar'!A1834>0,'XML a procesar'!A1834,\"\")","v":""},0,0,0,0,"",0,0,0,"","",0,"",0,"",{"$f":"IF(ROW()<$S$4+2,IF('XML a procesar'!A1834=\"\",P1834,IF(MID('XML a procesar'!A1834,1,1)=\"<\",P1834,P1834+1)),P1834)","v":1}]
[{"$f":"IF('XML a procesar'!A1835>0,'XML a procesar'!A1835,\"\")","v":""},0,0,0,0,"",0,0,0,"","",0,"",0,"",{"$f":"IF(ROW()<$S$4+2,IF('XML a procesar'!A1835=\"\",P1835,IF(MID('XML a procesar'!A1835,1,1)=\"<\",P1835,P1835+1)),P1835)","v":1}]
[{"$f":"IF('XML a procesar'!A1836>0,'XML a procesar'!A1836,\"\")","v":""},0,0,0,0,"",0,0,0,"","",0,"",0,"",{"$f":"IF(ROW()<$S$4+2,IF('XML a procesar'!A1836=\"\",P1836,IF(MID('XML a procesar'!A1836,1,1)=\"<\",P1836,P1836+1)),P1836)","v":1}]
[{"$f":"IF('XML a procesar'!A1837>0,'XML a procesar'!A1837,\"\")","v":""},0,0,0,0,"",0,0,0,"","",0,"",0,"",{"$f":"IF(ROW()<$S$4+2,IF('XML a procesar'!A1837=\"\",P1837,IF(MID('XML a procesar'!A1837,1,1)=\"<\",P1837,P1837+1)),P1837)","v":1}]
[{"$f":"IF('XML a procesar'!A1838>0,'XML a procesar'!A1838,\"\")","v":""},0,0,0,0,"",0,0,0,"","",0,"",0,"",{"$f":"IF(ROW()<$S$4+2,IF('XML a procesar'!A1838=\"\",P1838,IF(MID('XML a procesar'!A1838,1,1)=\"<\",P1838,P1838+1)),P1838)","v":1}]
[{"$f":"IF('XML a procesar'!A1839>0,'XML a procesar'!A1839,\"\")","v":""},0,0,0,0,"",0,0,0,"","",0,"",0,"",{"$f":"IF(ROW()<$S$4+2,IF('XML a procesar'!A1839=\"\",P1839,IF(MID('XML a procesar'!A1839,1,1)=\"<\",P1839,P1839+1)),P1839)","v":1}]
[{"$f":"IF('XML a procesar'!A1840>0,'XML a procesar'!A1840,\"\")","v":""},0,0,0,0,"",0,0,0,"","",0,"",0,"",{"$f":"IF(ROW()<$S$4+2,IF('XML a procesar'!A1840=\"\",P1840,IF(MID('XML a procesar'!A1840,1,1)=\"<\",P1840,P1840+1)),P1840)","v":1}]
[{"$f":"IF('XML a procesar'!A1841>0,'XML a procesar'!A1841,\"\")","v":""},0,0,0,0,"",0,0,0,"","",0,"",0,"",{"$f":"IF(ROW()<$S$4+2,IF('XML a procesar'!A1841=\"\",P1841,IF(MID('XML a procesar'!A1841,1,1)=\"<\",P1841,P1841+1)),P1841)","v":1}]
[{"$f":"IF('XML a procesar'!A1842>0,'XML a procesar'!A1842,\"\")","v":""},0,0,0,0,"",0,0,0,"","",0,"",0,"",{"$f":"IF(ROW()<$S$4+2,IF('XML a procesar'!A1842=\"\",P1842,IF(MID('XML a procesar'!A1842,1,1)=\"<\",P1842,P1842+1)),P1842)","v":1}]
[{"$f":"IF('XML a procesar'!A1843>0,'XML a procesar'!A1843,\"\")","v":""},0,0,0,0,"",0,0,0,"","",0,"",0,"",{"$f":"IF(ROW()<$S$4+2,IF('XML a procesar'!A1843=\"\",P1843,IF(MID('XML a procesar'!A1843,1,1)=\"<\",P1843,P1843+1)),P1843)","v":1}]
[{"$f":"IF('XML a procesar'!A1844>0,'XML a procesar'!A1844,\"\")","v":""},0,0,0,0,"",0,0,0,"","",0,"",0,"",{"$f":"IF(ROW()<$S$4+2,IF('XML a procesar'!A1844=\"\",P1844,IF(MID('XML a procesar'!A1844,1,1)=\"<\",P1844,P1844+1)),P1844)","v":1}]
[{"$f":"IF('XML a procesar'!A1845>0,'XML a procesar'!A1845,\"\")","v":""},0,0,0,0,"",0,0,0,"","",0,"",0,"",{"$f":"IF(ROW()<$S$4+2,IF('XML a procesar'!A1845=\"\",P1845,IF(MID('XML a procesar'!A1845,1,1)=\"<\",P1845,P1845+1)),P1845)","v":1}]
[{"$f":"IF('XML a procesar'!A1846>0,'XML a procesar'!A1846,\"\")","v":""},0,0,0,0,"",0,0,0,"","",0,"",0,"",{"$f":"IF(ROW()<$S$4+2,IF('XML a procesar'!A1846=\"\",P1846,IF(MID('XML a procesar'!A1846,1,1)=\"<\",P1846,P1846+1)),P1846)","v":1}]
[{"$f":"IF('XML a procesar'!A1847>0,'XML a procesar'!A1847,\"\")","v":""},0,0,0,0,"",0,0,0,"","",0,"",0,"",{"$f":"IF(ROW()<$S$4+2,IF('XML a procesar'!A1847=\"\",P1847,IF(MID('XML a procesar'!A1847,1,1)=\"<\",P1847,P1847+1)),P1847)","v":1}]
[{"$f":"IF('XML a procesar'!A1848>0,'XML a procesar'!A1848,\"\")","v":""},0,0,0,0,"",0,0,0,"","",0,"",0,"",{"$f":"IF(ROW()<$S$4+2,IF('XML a procesar'!A1848=\"\",P1848,IF(MID('XML a procesar'!A1848,1,1)=\"<\",P1848,P1848+1)),P1848)","v":1}]
[{"$f":"IF('XML a procesar'!A1849>0,'XML a procesar'!A1849,\"\")","v":""},0,0,0,0,"",0,0,0,"","",0,"",0,"",{"$f":"IF(ROW()<$S$4+2,IF('XML a procesar'!A1849=\"\",P1849,IF(MID('XML a procesar'!A1849,1,1)=\"<\",P1849,P1849+1)),P1849)","v":1}]
[{"$f":"IF('XML a procesar'!A1850>0,'XML a procesar'!A1850,\"\")","v":""},0,0,0,0,"",0,0,0,"","",0,"",0,"",{"$f":"IF(ROW()<$S$4+2,IF('XML a procesar'!A1850=\"\",P1850,IF(MID('XML a procesar'!A1850,1,1)=\"<\",P1850,P1850+1)),P1850)","v":1}]
[{"$f":"IF('XML a procesar'!A1851>0,'XML a procesar'!A1851,\"\")","v":""},0,0,0,0,"",0,0,0,"","",0,"",0,"",{"$f":"IF(ROW()<$S$4+2,IF('XML a procesar'!A1851=\"\",P1851,IF(MID('XML a procesar'!A1851,1,1)=\"<\",P1851,P1851+1)),P1851)","v":1}]
[{"$f":"IF('XML a procesar'!A1852>0,'XML a procesar'!A1852,\"\")","v":""},0,0,0,0,"",0,0,0,"","",0,"",0,"",{"$f":"IF(ROW()<$S$4+2,IF('XML a procesar'!A1852=\"\",P1852,IF(MID('XML a procesar'!A1852,1,1)=\"<\",P1852,P1852+1)),P1852)","v":1}]
[{"$f":"IF('XML a procesar'!A1853>0,'XML a procesar'!A1853,\"\")","v":""},0,0,0,0,"",0,0,0,"","",0,"",0,"",{"$f":"IF(ROW()<$S$4+2,IF('XML a procesar'!A1853=\"\",P1853,IF(MID('XML a procesar'!A1853,1,1)=\"<\",P1853,P1853+1)),P1853)","v":1}]
[{"$f":"IF('XML a procesar'!A1854>0,'XML a procesar'!A1854,\"\")","v":""},0,0,0,0,"",0,0,0,"","",0,"",0,"",{"$f":"IF(ROW()<$S$4+2,IF('XML a procesar'!A1854=\"\",P1854,IF(MID('XML a procesar'!A1854,1,1)=\"<\",P1854,P1854+1)),P1854)","v":1}]
[{"$f":"IF('XML a procesar'!A1855>0,'XML a procesar'!A1855,\"\")","v":""},0,0,0,0,"",0,0,0,"","",0,"",0,"",{"$f":"IF(ROW()<$S$4+2,IF('XML a procesar'!A1855=\"\",P1855,IF(MID('XML a procesar'!A1855,1,1)=\"<\",P1855,P1855+1)),P1855)","v":1}]
[{"$f":"IF('XML a procesar'!A1856>0,'XML a procesar'!A1856,\"\")","v":""},{"$f":"IF(ISERROR(FIND(\"/doi.org/\",A1857,1)),0,1)","v":0},{"$f":"IF(LEFT(A1856,16)=\"<contrib contrib\",C1856+1,IF(LEFT(A1856,16)=\"</contrib-group>\",0,IF(LEFT(A1856,10)=\"</contrib>\",C1856,C1856)))","v":0},{"$f":"IF(AND(C1857>0,LEFT(A1857,7)=\"<email>\",ISNUMBER(SEARCH(\"@\",A1857,1))),C1857,IF(LEFT(A1857,10)=\"<alt-text>\",-1,0))","v":0},{"$f":"IF(D1857=0,E1856,E1856+1)","v":0},{"$f":"INDIRECT(ADDRESS(ROW()+INDIRECT(ADDRESS(ROW()+E1857,5)),1))","v":""},{"$f":"IF(LEFT(F1857,7)=\"<aff id\",_xlfn.NUMBERVALUE(MID(F1857,13,LEN(F1857)-14)),IF(F1857=\"</aff>\",G1856+1,G1856))","v":0},0,{"$f":"INDIRECT(ADDRESS(ROW()-INDIRECT(ADDRESS(ROW()-H1857,8)),8))","v":0},{"$f":"IF(J1856=\"Linea_para_MAIL_creada_por_LuXML\",\"</aff>\",IF(I1857>INDIRECT(ADDRESS(ROW()-I1857-1,8)),\"Linea_para_MAIL_creada_por_LuXML\",INDIRECT(ADDRESS(ROW()-I1857,6))))","v":""},"",{"$f":"IF(OR(MID(K1855,3,5)=\"page>\",MID(K1856,3,5)=\"page>\"),L1856,IF(OR(K1856=\"<history>\",K1857=\"<history>\"),L1856+1,L1856))","v":0},{"$f":"IF(L1857>L1856,IF(L1857=1,CONCATENATE(\"<fpage>\",$S$10,\"</fpage>\"),CONCATENATE(\"<lpage>\",$S$10+1,\"</lpage>\")),IF(ISERROR(INDIRECT(ADDRESS(ROW()-L1857,11),1)),\"\",INDIRECT(ADDRESS(ROW()-L1857,11),1)))","v":""},{"$f":"IF(N1856=-1,-1,IF(M1857=\"</counts>\",-1,IF(OR(LEFT(M1857,7)=\"<fpage>\",LEFT(M1857,7)=\"<lpage>\"),VALUE(MID(M1857,8,LEN(M1857)-15)),0)))","v":0},"",{"$f":"IF(ROW()<$S$4+2,IF('XML a procesar'!A1856=\"\",P1856,IF(MID('XML a procesar'!A1856,1,1)=\"<\",P1856,P1856+1)),P1856)","v":1}]
[{"$f":"IF('XML a procesar'!A1857>0,'XML a procesar'!A1857,\"\")","v":""},0,0,0,0,"",0,0,0,"","",0,"",0,{"$f":"IF(N1858>-1,INDIRECT(ADDRESS(ROW(),13)),IF(N1858<N1857,CONCATENATE(\"<page-count count=\",CHAR(34),1+LARGE(N:N,1)-LARGE(N:N,2),CHAR(34),\"/>\"),INDIRECT(ADDRESS(ROW()-1,13))))","v":""},{"$f":"IF(ROW()<$S$4+2,IF('XML a procesar'!A1857=\"\",P1857,IF(MID('XML a procesar'!A1857,1,1)=\"<\",P1857,P1857+1)),P1857)","v":1}]
[{"$f":"IF('XML a procesar'!A1858>0,'XML a procesar'!A1858,\"\")","v":""},0,0,0,0,"",0,{"$f":"IF(AND(G1858>0,G1859>G1858,NOT(ISERROR(MATCH(G1858,D:D,0)))),H1858+1,H1858)","v":0},0,"",{"$f":"IF(J1859=\"Linea_para_MAIL_creada_por_LuXML\",IF(ISERROR(MATCH(INDIRECT(ADDRESS(ROW()-G1859,7)),D:D,0)),J1859,INDIRECT(ADDRESS(MATCH(INDIRECT(ADDRESS(ROW()-G1859,7)),D:D,0),1))),J1859)","v":""},0,"",0,"",{"$f":"IF(ROW()<$S$4+2,IF('XML a procesar'!A1858=\"\",P1858,IF(MID('XML a procesar'!A1858,1,1)=\"<\",P1858,P1858+1)),P1858)","v":1}]
[{"$f":"IF('XML a procesar'!A1859>0,'XML a procesar'!A1859,\"\")","v":""},0,0,0,0,"",0,0,0,"","",0,"",0,"",{"$f":"IF(ROW()<$S$4+2,IF('XML a procesar'!A1859=\"\",P1859,IF(MID('XML a procesar'!A1859,1,1)=\"<\",P1859,P1859+1)),P1859)","v":1}]
[{"$f":"IF('XML a procesar'!A1860>0,'XML a procesar'!A1860,\"\")","v":""},0,0,0,0,"",0,0,0,"","",0,"",0,"",{"$f":"IF(ROW()<$S$4+2,IF('XML a procesar'!A1860=\"\",P1860,IF(MID('XML a procesar'!A1860,1,1)=\"<\",P1860,P1860+1)),P1860)","v":1}]
[{"$f":"IF('XML a procesar'!A1861>0,'XML a procesar'!A1861,\"\")","v":""},0,0,0,0,"",0,0,0,"","",0,"",0,"",{"$f":"IF(ROW()<$S$4+2,IF('XML a procesar'!A1861=\"\",P1861,IF(MID('XML a procesar'!A1861,1,1)=\"<\",P1861,P1861+1)),P1861)","v":1}]
[{"$f":"IF('XML a procesar'!A1862>0,'XML a procesar'!A1862,\"\")","v":""},0,0,0,0,"",0,0,0,"","",0,"",0,"",{"$f":"IF(ROW()<$S$4+2,IF('XML a procesar'!A1862=\"\",P1862,IF(MID('XML a procesar'!A1862,1,1)=\"<\",P1862,P1862+1)),P1862)","v":1}]
[{"$f":"IF('XML a procesar'!A1863>0,'XML a procesar'!A1863,\"\")","v":""},0,0,0,0,"",0,0,0,"","",0,"",0,"",{"$f":"IF(ROW()<$S$4+2,IF('XML a procesar'!A1863=\"\",P1863,IF(MID('XML a procesar'!A1863,1,1)=\"<\",P1863,P1863+1)),P1863)","v":1}]
[{"$f":"IF('XML a procesar'!A1864>0,'XML a procesar'!A1864,\"\")","v":""},0,0,0,0,"",0,0,0,"","",0,"",0,"",{"$f":"IF(ROW()<$S$4+2,IF('XML a procesar'!A1864=\"\",P1864,IF(MID('XML a procesar'!A1864,1,1)=\"<\",P1864,P1864+1)),P1864)","v":1}]
[{"$f":"IF('XML a procesar'!A1865>0,'XML a procesar'!A1865,\"\")","v":""},0,0,0,0,"",0,0,0,"","",0,"",0,"",{"$f":"IF(ROW()<$S$4+2,IF('XML a procesar'!A1865=\"\",P1865,IF(MID('XML a procesar'!A1865,1,1)=\"<\",P1865,P1865+1)),P1865)","v":1}]
[{"$f":"IF('XML a procesar'!A1866>0,'XML a procesar'!A1866,\"\")","v":""},0,0,0,0,"",0,0,0,"","",0,"",0,"",{"$f":"IF(ROW()<$S$4+2,IF('XML a procesar'!A1866=\"\",P1866,IF(MID('XML a procesar'!A1866,1,1)=\"<\",P1866,P1866+1)),P1866)","v":1}]
[{"$f":"IF('XML a procesar'!A1867>0,'XML a procesar'!A1867,\"\")","v":""},0,0,0,0,"",0,0,0,"","",0,"",0,"",{"$f":"IF(ROW()<$S$4+2,IF('XML a procesar'!A1867=\"\",P1867,IF(MID('XML a procesar'!A1867,1,1)=\"<\",P1867,P1867+1)),P1867)","v":1}]
[{"$f":"IF('XML a procesar'!A1868>0,'XML a procesar'!A1868,\"\")","v":""},0,0,0,0,"",0,0,0,"","",0,"",0,"",{"$f":"IF(ROW()<$S$4+2,IF('XML a procesar'!A1868=\"\",P1868,IF(MID('XML a procesar'!A1868,1,1)=\"<\",P1868,P1868+1)),P1868)","v":1}]
[{"$f":"IF('XML a procesar'!A1869>0,'XML a procesar'!A1869,\"\")","v":""},0,0,0,0,"",0,0,0,"","",0,"",0,"",{"$f":"IF(ROW()<$S$4+2,IF('XML a procesar'!A1869=\"\",P1869,IF(MID('XML a procesar'!A1869,1,1)=\"<\",P1869,P1869+1)),P1869)","v":1}]
[{"$f":"IF('XML a procesar'!A1870>0,'XML a procesar'!A1870,\"\")","v":""},0,0,0,0,"",0,0,0,"","",0,"",0,"",{"$f":"IF(ROW()<$S$4+2,IF('XML a procesar'!A1870=\"\",P1870,IF(MID('XML a procesar'!A1870,1,1)=\"<\",P1870,P1870+1)),P1870)","v":1}]
[{"$f":"IF('XML a procesar'!A1871>0,'XML a procesar'!A1871,\"\")","v":""},0,0,0,0,"",0,0,0,"","",0,"",0,"",{"$f":"IF(ROW()<$S$4+2,IF('XML a procesar'!A1871=\"\",P1871,IF(MID('XML a procesar'!A1871,1,1)=\"<\",P1871,P1871+1)),P1871)","v":1}]
[{"$f":"IF('XML a procesar'!A1872>0,'XML a procesar'!A1872,\"\")","v":""},0,0,0,0,"",0,0,0,"","",0,"",0,"",{"$f":"IF(ROW()<$S$4+2,IF('XML a procesar'!A1872=\"\",P1872,IF(MID('XML a procesar'!A1872,1,1)=\"<\",P1872,P1872+1)),P1872)","v":1}]
[{"$f":"IF('XML a procesar'!A1873>0,'XML a procesar'!A1873,\"\")","v":""},0,0,0,0,"",0,0,0,"","",0,"",0,"",{"$f":"IF(ROW()<$S$4+2,IF('XML a procesar'!A1873=\"\",P1873,IF(MID('XML a procesar'!A1873,1,1)=\"<\",P1873,P1873+1)),P1873)","v":1}]
[{"$f":"IF('XML a procesar'!A1874>0,'XML a procesar'!A1874,\"\")","v":""},0,0,0,0,"",0,0,0,"","",0,"",0,"",{"$f":"IF(ROW()<$S$4+2,IF('XML a procesar'!A1874=\"\",P1874,IF(MID('XML a procesar'!A1874,1,1)=\"<\",P1874,P1874+1)),P1874)","v":1}]
[{"$f":"IF('XML a procesar'!A1875>0,'XML a procesar'!A1875,\"\")","v":""},0,0,0,0,"",0,0,0,"","",0,"",0,"",{"$f":"IF(ROW()<$S$4+2,IF('XML a procesar'!A1875=\"\",P1875,IF(MID('XML a procesar'!A1875,1,1)=\"<\",P1875,P1875+1)),P1875)","v":1}]
[{"$f":"IF('XML a procesar'!A1876>0,'XML a procesar'!A1876,\"\")","v":""},0,0,0,0,"",0,0,0,"","",0,"",0,"",{"$f":"IF(ROW()<$S$4+2,IF('XML a procesar'!A1876=\"\",P1876,IF(MID('XML a procesar'!A1876,1,1)=\"<\",P1876,P1876+1)),P1876)","v":1}]
[{"$f":"IF('XML a procesar'!A1877>0,'XML a procesar'!A1877,\"\")","v":""},0,0,0,0,"",0,0,0,"","",0,"",0,"",{"$f":"IF(ROW()<$S$4+2,IF('XML a procesar'!A1877=\"\",P1877,IF(MID('XML a procesar'!A1877,1,1)=\"<\",P1877,P1877+1)),P1877)","v":1}]
[{"$f":"IF('XML a procesar'!A1878>0,'XML a procesar'!A1878,\"\")","v":""},0,0,0,0,"",0,0,0,"","",0,"",0,"",{"$f":"IF(ROW()<$S$4+2,IF('XML a procesar'!A1878=\"\",P1878,IF(MID('XML a procesar'!A1878,1,1)=\"<\",P1878,P1878+1)),P1878)","v":1}]
[{"$f":"IF('XML a procesar'!A1879>0,'XML a procesar'!A1879,\"\")","v":""},0,0,0,0,"",0,0,0,"","",0,"",0,"",{"$f":"IF(ROW()<$S$4+2,IF('XML a procesar'!A1879=\"\",P1879,IF(MID('XML a procesar'!A1879,1,1)=\"<\",P1879,P1879+1)),P1879)","v":1}]
[{"$f":"IF('XML a procesar'!A1880>0,'XML a procesar'!A1880,\"\")","v":""},0,0,0,0,"",0,0,0,"","",0,"",0,"",{"$f":"IF(ROW()<$S$4+2,IF('XML a procesar'!A1880=\"\",P1880,IF(MID('XML a procesar'!A1880,1,1)=\"<\",P1880,P1880+1)),P1880)","v":1}]
[{"$f":"IF('XML a procesar'!A1881>0,'XML a procesar'!A1881,\"\")","v":""},0,0,0,0,"",0,0,0,"","",0,"",0,"",{"$f":"IF(ROW()<$S$4+2,IF('XML a procesar'!A1881=\"\",P1881,IF(MID('XML a procesar'!A1881,1,1)=\"<\",P1881,P1881+1)),P1881)","v":1}]
[{"$f":"IF('XML a procesar'!A1882>0,'XML a procesar'!A1882,\"\")","v":""},0,0,0,0,"",0,0,0,"","",0,"",0,"",{"$f":"IF(ROW()<$S$4+2,IF('XML a procesar'!A1882=\"\",P1882,IF(MID('XML a procesar'!A1882,1,1)=\"<\",P1882,P1882+1)),P1882)","v":1}]
[{"$f":"IF('XML a procesar'!A1883>0,'XML a procesar'!A1883,\"\")","v":""},0,0,0,0,"",0,0,0,"","",0,"",0,"",{"$f":"IF(ROW()<$S$4+2,IF('XML a procesar'!A1883=\"\",P1883,IF(MID('XML a procesar'!A1883,1,1)=\"<\",P1883,P1883+1)),P1883)","v":1}]
[{"$f":"IF('XML a procesar'!A1884>0,'XML a procesar'!A1884,\"\")","v":""},0,0,0,0,"",0,0,0,"","",0,"",0,"",{"$f":"IF(ROW()<$S$4+2,IF('XML a procesar'!A1884=\"\",P1884,IF(MID('XML a procesar'!A1884,1,1)=\"<\",P1884,P1884+1)),P1884)","v":1}]
[{"$f":"IF('XML a procesar'!A1885>0,'XML a procesar'!A1885,\"\")","v":""},0,0,0,0,"",0,0,0,"","",0,"",0,"",{"$f":"IF(ROW()<$S$4+2,IF('XML a procesar'!A1885=\"\",P1885,IF(MID('XML a procesar'!A1885,1,1)=\"<\",P1885,P1885+1)),P1885)","v":1}]
[{"$f":"IF('XML a procesar'!A1886>0,'XML a procesar'!A1886,\"\")","v":""},0,0,0,0,"",0,0,0,"","",0,"",0,"",{"$f":"IF(ROW()<$S$4+2,IF('XML a procesar'!A1886=\"\",P1886,IF(MID('XML a procesar'!A1886,1,1)=\"<\",P1886,P1886+1)),P1886)","v":1}]
[{"$f":"IF('XML a procesar'!A1887>0,'XML a procesar'!A1887,\"\")","v":""},0,0,0,0,"",0,0,0,"","",0,"",0,"",{"$f":"IF(ROW()<$S$4+2,IF('XML a procesar'!A1887=\"\",P1887,IF(MID('XML a procesar'!A1887,1,1)=\"<\",P1887,P1887+1)),P1887)","v":1}]
[{"$f":"IF('XML a procesar'!A1888>0,'XML a procesar'!A1888,\"\")","v":""},0,0,0,0,"",0,0,0,"","",0,"",0,"",{"$f":"IF(ROW()<$S$4+2,IF('XML a procesar'!A1888=\"\",P1888,IF(MID('XML a procesar'!A1888,1,1)=\"<\",P1888,P1888+1)),P1888)","v":1}]
[{"$f":"IF('XML a procesar'!A1889>0,'XML a procesar'!A1889,\"\")","v":""},0,0,0,0,"",0,0,0,"","",0,"",0,"",{"$f":"IF(ROW()<$S$4+2,IF('XML a procesar'!A1889=\"\",P1889,IF(MID('XML a procesar'!A1889,1,1)=\"<\",P1889,P1889+1)),P1889)","v":1}]
[{"$f":"IF('XML a procesar'!A1890>0,'XML a procesar'!A1890,\"\")","v":""},0,0,0,0,"",0,0,0,"","",0,"",0,"",{"$f":"IF(ROW()<$S$4+2,IF('XML a procesar'!A1890=\"\",P1890,IF(MID('XML a procesar'!A1890,1,1)=\"<\",P1890,P1890+1)),P1890)","v":1}]
[{"$f":"IF('XML a procesar'!A1891>0,'XML a procesar'!A1891,\"\")","v":""},0,0,0,0,"",0,0,0,"","",0,"",0,"",{"$f":"IF(ROW()<$S$4+2,IF('XML a procesar'!A1891=\"\",P1891,IF(MID('XML a procesar'!A1891,1,1)=\"<\",P1891,P1891+1)),P1891)","v":1}]
[{"$f":"IF('XML a procesar'!A1892>0,'XML a procesar'!A1892,\"\")","v":""},0,0,0,0,"",0,0,0,"","",0,"",0,"",{"$f":"IF(ROW()<$S$4+2,IF('XML a procesar'!A1892=\"\",P1892,IF(MID('XML a procesar'!A1892,1,1)=\"<\",P1892,P1892+1)),P1892)","v":1}]
[{"$f":"IF('XML a procesar'!A1893>0,'XML a procesar'!A1893,\"\")","v":""},0,0,0,0,"",0,0,0,"","",0,"",0,"",{"$f":"IF(ROW()<$S$4+2,IF('XML a procesar'!A1893=\"\",P1893,IF(MID('XML a procesar'!A1893,1,1)=\"<\",P1893,P1893+1)),P1893)","v":1}]
[{"$f":"IF('XML a procesar'!A1894>0,'XML a procesar'!A1894,\"\")","v":""},0,0,0,0,"",0,0,0,"","",0,"",0,"",{"$f":"IF(ROW()<$S$4+2,IF('XML a procesar'!A1894=\"\",P1894,IF(MID('XML a procesar'!A1894,1,1)=\"<\",P1894,P1894+1)),P1894)","v":1}]
[{"$f":"IF('XML a procesar'!A1895>0,'XML a procesar'!A1895,\"\")","v":""},0,0,0,0,"",0,0,0,"","",0,"",0,"",{"$f":"IF(ROW()<$S$4+2,IF('XML a procesar'!A1895=\"\",P1895,IF(MID('XML a procesar'!A1895,1,1)=\"<\",P1895,P1895+1)),P1895)","v":1}]
[{"$f":"IF('XML a procesar'!A1896>0,'XML a procesar'!A1896,\"\")","v":""},0,0,0,0,"",0,0,0,"","",0,"",0,"",{"$f":"IF(ROW()<$S$4+2,IF('XML a procesar'!A1896=\"\",P1896,IF(MID('XML a procesar'!A1896,1,1)=\"<\",P1896,P1896+1)),P1896)","v":1}]
[{"$f":"IF('XML a procesar'!A1897>0,'XML a procesar'!A1897,\"\")","v":""},0,0,0,0,"",0,0,0,"","",0,"",0,"",{"$f":"IF(ROW()<$S$4+2,IF('XML a procesar'!A1897=\"\",P1897,IF(MID('XML a procesar'!A1897,1,1)=\"<\",P1897,P1897+1)),P1897)","v":1}]
[{"$f":"IF('XML a procesar'!A1898>0,'XML a procesar'!A1898,\"\")","v":""},0,0,0,0,"",0,0,0,"","",0,"",0,"",{"$f":"IF(ROW()<$S$4+2,IF('XML a procesar'!A1898=\"\",P1898,IF(MID('XML a procesar'!A1898,1,1)=\"<\",P1898,P1898+1)),P1898)","v":1}]
[{"$f":"IF('XML a procesar'!A1899>0,'XML a procesar'!A1899,\"\")","v":""},0,0,0,0,"",0,0,0,"","",0,"",0,"",{"$f":"IF(ROW()<$S$4+2,IF('XML a procesar'!A1899=\"\",P1899,IF(MID('XML a procesar'!A1899,1,1)=\"<\",P1899,P1899+1)),P1899)","v":1}]
[{"$f":"IF('XML a procesar'!A1900>0,'XML a procesar'!A1900,\"\")","v":""},0,0,0,0,"",0,0,0,"","",0,"",0,"",{"$f":"IF(ROW()<$S$4+2,IF('XML a procesar'!A1900=\"\",P1900,IF(MID('XML a procesar'!A1900,1,1)=\"<\",P1900,P1900+1)),P1900)","v":1}]
[{"$f":"IF('XML a procesar'!A1901>0,'XML a procesar'!A1901,\"\")","v":""},0,0,0,0,"",0,0,0,"","",0,"",0,"",{"$f":"IF(ROW()<$S$4+2,IF('XML a procesar'!A1901=\"\",P1901,IF(MID('XML a procesar'!A1901,1,1)=\"<\",P1901,P1901+1)),P1901)","v":1}]
[{"$f":"IF('XML a procesar'!A1902>0,'XML a procesar'!A1902,\"\")","v":""},0,0,0,0,"",0,0,0,"","",0,"",0,"",{"$f":"IF(ROW()<$S$4+2,IF('XML a procesar'!A1902=\"\",P1902,IF(MID('XML a procesar'!A1902,1,1)=\"<\",P1902,P1902+1)),P1902)","v":1}]
[{"$f":"IF('XML a procesar'!A1903>0,'XML a procesar'!A1903,\"\")","v":""},0,0,0,0,"",0,0,0,"","",0,"",0,"",{"$f":"IF(ROW()<$S$4+2,IF('XML a procesar'!A1903=\"\",P1903,IF(MID('XML a procesar'!A1903,1,1)=\"<\",P1903,P1903+1)),P1903)","v":1}]
[{"$f":"IF('XML a procesar'!A1904>0,'XML a procesar'!A1904,\"\")","v":""},0,0,0,0,"",0,0,0,"","",0,"",0,"",{"$f":"IF(ROW()<$S$4+2,IF('XML a procesar'!A1904=\"\",P1904,IF(MID('XML a procesar'!A1904,1,1)=\"<\",P1904,P1904+1)),P1904)","v":1}]
[{"$f":"IF('XML a procesar'!A1905>0,'XML a procesar'!A1905,\"\")","v":""},0,0,0,0,"",0,0,0,"","",0,"",0,"",{"$f":"IF(ROW()<$S$4+2,IF('XML a procesar'!A1905=\"\",P1905,IF(MID('XML a procesar'!A1905,1,1)=\"<\",P1905,P1905+1)),P1905)","v":1}]
[{"$f":"IF('XML a procesar'!A1906>0,'XML a procesar'!A1906,\"\")","v":""},0,0,0,0,"",0,0,0,"","",0,"",0,"",{"$f":"IF(ROW()<$S$4+2,IF('XML a procesar'!A1906=\"\",P1906,IF(MID('XML a procesar'!A1906,1,1)=\"<\",P1906,P1906+1)),P1906)","v":1}]
[{"$f":"IF('XML a procesar'!A1907>0,'XML a procesar'!A1907,\"\")","v":""},0,0,0,0,"",0,0,0,"","",0,"",0,"",{"$f":"IF(ROW()<$S$4+2,IF('XML a procesar'!A1907=\"\",P1907,IF(MID('XML a procesar'!A1907,1,1)=\"<\",P1907,P1907+1)),P1907)","v":1}]
[{"$f":"IF('XML a procesar'!A1908>0,'XML a procesar'!A1908,\"\")","v":""},0,0,0,0,"",0,0,0,"","",0,"",0,"",{"$f":"IF(ROW()<$S$4+2,IF('XML a procesar'!A1908=\"\",P1908,IF(MID('XML a procesar'!A1908,1,1)=\"<\",P1908,P1908+1)),P1908)","v":1}]
[{"$f":"IF('XML a procesar'!A1909>0,'XML a procesar'!A1909,\"\")","v":""},0,0,0,0,"",0,0,0,"","",0,"",0,"",{"$f":"IF(ROW()<$S$4+2,IF('XML a procesar'!A1909=\"\",P1909,IF(MID('XML a procesar'!A1909,1,1)=\"<\",P1909,P1909+1)),P1909)","v":1}]
[{"$f":"IF('XML a procesar'!A1910>0,'XML a procesar'!A1910,\"\")","v":""},0,0,0,0,"",0,0,0,"","",0,"",0,"",{"$f":"IF(ROW()<$S$4+2,IF('XML a procesar'!A1910=\"\",P1910,IF(MID('XML a procesar'!A1910,1,1)=\"<\",P1910,P1910+1)),P1910)","v":1}]
[{"$f":"IF('XML a procesar'!A1911>0,'XML a procesar'!A1911,\"\")","v":""},0,0,0,0,"",0,0,0,"","",0,"",0,"",{"$f":"IF(ROW()<$S$4+2,IF('XML a procesar'!A1911=\"\",P1911,IF(MID('XML a procesar'!A1911,1,1)=\"<\",P1911,P1911+1)),P1911)","v":1}]
[{"$f":"IF('XML a procesar'!A1912>0,'XML a procesar'!A1912,\"\")","v":""},0,0,0,0,"",0,0,0,"","",0,"",0,"",{"$f":"IF(ROW()<$S$4+2,IF('XML a procesar'!A1912=\"\",P1912,IF(MID('XML a procesar'!A1912,1,1)=\"<\",P1912,P1912+1)),P1912)","v":1}]
[{"$f":"IF('XML a procesar'!A1913>0,'XML a procesar'!A1913,\"\")","v":""},0,0,0,0,"",0,0,0,"","",0,"",0,"",{"$f":"IF(ROW()<$S$4+2,IF('XML a procesar'!A1913=\"\",P1913,IF(MID('XML a procesar'!A1913,1,1)=\"<\",P1913,P1913+1)),P1913)","v":1}]
[{"$f":"IF('XML a procesar'!A1914>0,'XML a procesar'!A1914,\"\")","v":""},0,0,0,0,"",0,0,0,"","",0,"",0,"",{"$f":"IF(ROW()<$S$4+2,IF('XML a procesar'!A1914=\"\",P1914,IF(MID('XML a procesar'!A1914,1,1)=\"<\",P1914,P1914+1)),P1914)","v":1}]
[{"$f":"IF('XML a procesar'!A1915>0,'XML a procesar'!A1915,\"\")","v":""},0,0,0,0,"",0,0,0,"","",0,"",0,"",{"$f":"IF(ROW()<$S$4+2,IF('XML a procesar'!A1915=\"\",P1915,IF(MID('XML a procesar'!A1915,1,1)=\"<\",P1915,P1915+1)),P1915)","v":1}]
[{"$f":"IF('XML a procesar'!A1916>0,'XML a procesar'!A1916,\"\")","v":""},0,0,0,0,"",0,0,0,"","",0,"",0,"",{"$f":"IF(ROW()<$S$4+2,IF('XML a procesar'!A1916=\"\",P1916,IF(MID('XML a procesar'!A1916,1,1)=\"<\",P1916,P1916+1)),P1916)","v":1}]
[{"$f":"IF('XML a procesar'!A1917>0,'XML a procesar'!A1917,\"\")","v":""},0,0,0,0,"",0,0,0,"","",0,"",0,"",{"$f":"IF(ROW()<$S$4+2,IF('XML a procesar'!A1917=\"\",P1917,IF(MID('XML a procesar'!A1917,1,1)=\"<\",P1917,P1917+1)),P1917)","v":1}]
[{"$f":"IF('XML a procesar'!A1918>0,'XML a procesar'!A1918,\"\")","v":""},0,0,0,0,"",0,0,0,"","",0,"",0,"",{"$f":"IF(ROW()<$S$4+2,IF('XML a procesar'!A1918=\"\",P1918,IF(MID('XML a procesar'!A1918,1,1)=\"<\",P1918,P1918+1)),P1918)","v":1}]
[{"$f":"IF('XML a procesar'!A1919>0,'XML a procesar'!A1919,\"\")","v":""},0,0,0,0,"",0,0,0,"","",0,"",0,"",{"$f":"IF(ROW()<$S$4+2,IF('XML a procesar'!A1919=\"\",P1919,IF(MID('XML a procesar'!A1919,1,1)=\"<\",P1919,P1919+1)),P1919)","v":1}]
[{"$f":"IF('XML a procesar'!A1920>0,'XML a procesar'!A1920,\"\")","v":""},{"$f":"IF(ISERROR(FIND(\"/doi.org/\",A1921,1)),0,1)","v":0},{"$f":"IF(LEFT(A1920,16)=\"<contrib contrib\",C1920+1,IF(LEFT(A1920,16)=\"</contrib-group>\",0,IF(LEFT(A1920,10)=\"</contrib>\",C1920,C1920)))","v":0},{"$f":"IF(AND(C1921>0,LEFT(A1921,7)=\"<email>\",ISNUMBER(SEARCH(\"@\",A1921,1))),C1921,IF(LEFT(A1921,10)=\"<alt-text>\",-1,0))","v":0},{"$f":"IF(D1921=0,E1920,E1920+1)","v":0},{"$f":"INDIRECT(ADDRESS(ROW()+INDIRECT(ADDRESS(ROW()+E1921,5)),1))","v":""},{"$f":"IF(LEFT(F1921,7)=\"<aff id\",_xlfn.NUMBERVALUE(MID(F1921,13,LEN(F1921)-14)),IF(F1921=\"</aff>\",G1920+1,G1920))","v":0},0,{"$f":"INDIRECT(ADDRESS(ROW()-INDIRECT(ADDRESS(ROW()-H1921,8)),8))","v":0},{"$f":"IF(J1920=\"Linea_para_MAIL_creada_por_LuXML\",\"</aff>\",IF(I1921>INDIRECT(ADDRESS(ROW()-I1921-1,8)),\"Linea_para_MAIL_creada_por_LuXML\",INDIRECT(ADDRESS(ROW()-I1921,6))))","v":""},"",{"$f":"IF(OR(MID(K1919,3,5)=\"page>\",MID(K1920,3,5)=\"page>\"),L1920,IF(OR(K1920=\"<history>\",K1921=\"<history>\"),L1920+1,L1920))","v":0},{"$f":"IF(L1921>L1920,IF(L1921=1,CONCATENATE(\"<fpage>\",$S$10,\"</fpage>\"),CONCATENATE(\"<lpage>\",$S$10+1,\"</lpage>\")),IF(ISERROR(INDIRECT(ADDRESS(ROW()-L1921,11),1)),\"\",INDIRECT(ADDRESS(ROW()-L1921,11),1)))","v":""},{"$f":"IF(N1920=-1,-1,IF(M1921=\"</counts>\",-1,IF(OR(LEFT(M1921,7)=\"<fpage>\",LEFT(M1921,7)=\"<lpage>\"),VALUE(MID(M1921,8,LEN(M1921)-15)),0)))","v":0},"",{"$f":"IF(ROW()<$S$4+2,IF('XML a procesar'!A1920=\"\",P1920,IF(MID('XML a procesar'!A1920,1,1)=\"<\",P1920,P1920+1)),P1920)","v":1}]
[{"$f":"IF('XML a procesar'!A1921>0,'XML a procesar'!A1921,\"\")","v":""},0,0,0,0,"",0,0,0,"","",0,"",0,{"$f":"IF(N1922>-1,INDIRECT(ADDRESS(ROW(),13)),IF(N1922<N1921,CONCATENATE(\"<page-count count=\",CHAR(34),1+LARGE(N:N,1)-LARGE(N:N,2),CHAR(34),\"/>\"),INDIRECT(ADDRESS(ROW()-1,13))))","v":""},{"$f":"IF(ROW()<$S$4+2,IF('XML a procesar'!A1921=\"\",P1921,IF(MID('XML a procesar'!A1921,1,1)=\"<\",P1921,P1921+1)),P1921)","v":1}]
[{"$f":"IF('XML a procesar'!A1922>0,'XML a procesar'!A1922,\"\")","v":""},0,0,0,0,"",0,{"$f":"IF(AND(G1922>0,G1923>G1922,NOT(ISERROR(MATCH(G1922,D:D,0)))),H1922+1,H1922)","v":0},0,"",{"$f":"IF(J1923=\"Linea_para_MAIL_creada_por_LuXML\",IF(ISERROR(MATCH(INDIRECT(ADDRESS(ROW()-G1923,7)),D:D,0)),J1923,INDIRECT(ADDRESS(MATCH(INDIRECT(ADDRESS(ROW()-G1923,7)),D:D,0),1))),J1923)","v":""},0,"",0,"",{"$f":"IF(ROW()<$S$4+2,IF('XML a procesar'!A1922=\"\",P1922,IF(MID('XML a procesar'!A1922,1,1)=\"<\",P1922,P1922+1)),P1922)","v":1}]
[{"$f":"IF('XML a procesar'!A1923>0,'XML a procesar'!A1923,\"\")","v":""},0,0,0,0,"",0,0,0,"","",0,"",0,"",{"$f":"IF(ROW()<$S$4+2,IF('XML a procesar'!A1923=\"\",P1923,IF(MID('XML a procesar'!A1923,1,1)=\"<\",P1923,P1923+1)),P1923)","v":1}]
[{"$f":"IF('XML a procesar'!A1924>0,'XML a procesar'!A1924,\"\")","v":""},0,0,0,0,"",0,0,0,"","",0,"",0,"",{"$f":"IF(ROW()<$S$4+2,IF('XML a procesar'!A1924=\"\",P1924,IF(MID('XML a procesar'!A1924,1,1)=\"<\",P1924,P1924+1)),P1924)","v":1}]
[{"$f":"IF('XML a procesar'!A1925>0,'XML a procesar'!A1925,\"\")","v":""},0,0,0,0,"",0,0,0,"","",0,"",0,"",{"$f":"IF(ROW()<$S$4+2,IF('XML a procesar'!A1925=\"\",P1925,IF(MID('XML a procesar'!A1925,1,1)=\"<\",P1925,P1925+1)),P1925)","v":1}]
[{"$f":"IF('XML a procesar'!A1926>0,'XML a procesar'!A1926,\"\")","v":""},0,0,0,0,"",0,0,0,"","",0,"",0,"",{"$f":"IF(ROW()<$S$4+2,IF('XML a procesar'!A1926=\"\",P1926,IF(MID('XML a procesar'!A1926,1,1)=\"<\",P1926,P1926+1)),P1926)","v":1}]
[{"$f":"IF('XML a procesar'!A1927>0,'XML a procesar'!A1927,\"\")","v":""},0,0,0,0,"",0,0,0,"","",0,"",0,"",{"$f":"IF(ROW()<$S$4+2,IF('XML a procesar'!A1927=\"\",P1927,IF(MID('XML a procesar'!A1927,1,1)=\"<\",P1927,P1927+1)),P1927)","v":1}]
[{"$f":"IF('XML a procesar'!A1928>0,'XML a procesar'!A1928,\"\")","v":""},0,0,0,0,"",0,0,0,"","",0,"",0,"",{"$f":"IF(ROW()<$S$4+2,IF('XML a procesar'!A1928=\"\",P1928,IF(MID('XML a procesar'!A1928,1,1)=\"<\",P1928,P1928+1)),P1928)","v":1}]
[{"$f":"IF('XML a procesar'!A1929>0,'XML a procesar'!A1929,\"\")","v":""},0,0,0,0,"",0,0,0,"","",0,"",0,"",{"$f":"IF(ROW()<$S$4+2,IF('XML a procesar'!A1929=\"\",P1929,IF(MID('XML a procesar'!A1929,1,1)=\"<\",P1929,P1929+1)),P1929)","v":1}]
[{"$f":"IF('XML a procesar'!A1930>0,'XML a procesar'!A1930,\"\")","v":""},0,0,0,0,"",0,0,0,"","",0,"",0,"",{"$f":"IF(ROW()<$S$4+2,IF('XML a procesar'!A1930=\"\",P1930,IF(MID('XML a procesar'!A1930,1,1)=\"<\",P1930,P1930+1)),P1930)","v":1}]
[{"$f":"IF('XML a procesar'!A1931>0,'XML a procesar'!A1931,\"\")","v":""},0,0,0,0,"",0,0,0,"","",0,"",0,"",{"$f":"IF(ROW()<$S$4+2,IF('XML a procesar'!A1931=\"\",P1931,IF(MID('XML a procesar'!A1931,1,1)=\"<\",P1931,P1931+1)),P1931)","v":1}]
[{"$f":"IF('XML a procesar'!A1932>0,'XML a procesar'!A1932,\"\")","v":""},0,0,0,0,"",0,0,0,"","",0,"",0,"",{"$f":"IF(ROW()<$S$4+2,IF('XML a procesar'!A1932=\"\",P1932,IF(MID('XML a procesar'!A1932,1,1)=\"<\",P1932,P1932+1)),P1932)","v":1}]
[{"$f":"IF('XML a procesar'!A1933>0,'XML a procesar'!A1933,\"\")","v":""},0,0,0,0,"",0,0,0,"","",0,"",0,"",{"$f":"IF(ROW()<$S$4+2,IF('XML a procesar'!A1933=\"\",P1933,IF(MID('XML a procesar'!A1933,1,1)=\"<\",P1933,P1933+1)),P1933)","v":1}]
[{"$f":"IF('XML a procesar'!A1934>0,'XML a procesar'!A1934,\"\")","v":""},0,0,0,0,"",0,0,0,"","",0,"",0,"",{"$f":"IF(ROW()<$S$4+2,IF('XML a procesar'!A1934=\"\",P1934,IF(MID('XML a procesar'!A1934,1,1)=\"<\",P1934,P1934+1)),P1934)","v":1}]
[{"$f":"IF('XML a procesar'!A1935>0,'XML a procesar'!A1935,\"\")","v":""},0,0,0,0,"",0,0,0,"","",0,"",0,"",{"$f":"IF(ROW()<$S$4+2,IF('XML a procesar'!A1935=\"\",P1935,IF(MID('XML a procesar'!A1935,1,1)=\"<\",P1935,P1935+1)),P1935)","v":1}]
[{"$f":"IF('XML a procesar'!A1936>0,'XML a procesar'!A1936,\"\")","v":""},0,0,0,0,"",0,0,0,"","",0,"",0,"",{"$f":"IF(ROW()<$S$4+2,IF('XML a procesar'!A1936=\"\",P1936,IF(MID('XML a procesar'!A1936,1,1)=\"<\",P1936,P1936+1)),P1936)","v":1}]
[{"$f":"IF('XML a procesar'!A1937>0,'XML a procesar'!A1937,\"\")","v":""},0,0,0,0,"",0,0,0,"","",0,"",0,"",{"$f":"IF(ROW()<$S$4+2,IF('XML a procesar'!A1937=\"\",P1937,IF(MID('XML a procesar'!A1937,1,1)=\"<\",P1937,P1937+1)),P1937)","v":1}]
[{"$f":"IF('XML a procesar'!A1938>0,'XML a procesar'!A1938,\"\")","v":""},0,0,0,0,"",0,0,0,"","",0,"",0,"",{"$f":"IF(ROW()<$S$4+2,IF('XML a procesar'!A1938=\"\",P1938,IF(MID('XML a procesar'!A1938,1,1)=\"<\",P1938,P1938+1)),P1938)","v":1}]
[{"$f":"IF('XML a procesar'!A1939>0,'XML a procesar'!A1939,\"\")","v":""},0,0,0,0,"",0,0,0,"","",0,"",0,"",{"$f":"IF(ROW()<$S$4+2,IF('XML a procesar'!A1939=\"\",P1939,IF(MID('XML a procesar'!A1939,1,1)=\"<\",P1939,P1939+1)),P1939)","v":1}]
[{"$f":"IF('XML a procesar'!A1940>0,'XML a procesar'!A1940,\"\")","v":""},0,0,0,0,"",0,0,0,"","",0,"",0,"",{"$f":"IF(ROW()<$S$4+2,IF('XML a procesar'!A1940=\"\",P1940,IF(MID('XML a procesar'!A1940,1,1)=\"<\",P1940,P1940+1)),P1940)","v":1}]
[{"$f":"IF('XML a procesar'!A1941>0,'XML a procesar'!A1941,\"\")","v":""},0,0,0,0,"",0,0,0,"","",0,"",0,"",{"$f":"IF(ROW()<$S$4+2,IF('XML a procesar'!A1941=\"\",P1941,IF(MID('XML a procesar'!A1941,1,1)=\"<\",P1941,P1941+1)),P1941)","v":1}]
[{"$f":"IF('XML a procesar'!A1942>0,'XML a procesar'!A1942,\"\")","v":""},0,0,0,0,"",0,0,0,"","",0,"",0,"",{"$f":"IF(ROW()<$S$4+2,IF('XML a procesar'!A1942=\"\",P1942,IF(MID('XML a procesar'!A1942,1,1)=\"<\",P1942,P1942+1)),P1942)","v":1}]
[{"$f":"IF('XML a procesar'!A1943>0,'XML a procesar'!A1943,\"\")","v":""},0,0,0,0,"",0,0,0,"","",0,"",0,"",{"$f":"IF(ROW()<$S$4+2,IF('XML a procesar'!A1943=\"\",P1943,IF(MID('XML a procesar'!A1943,1,1)=\"<\",P1943,P1943+1)),P1943)","v":1}]
[{"$f":"IF('XML a procesar'!A1944>0,'XML a procesar'!A1944,\"\")","v":""},0,0,0,0,"",0,0,0,"","",0,"",0,"",{"$f":"IF(ROW()<$S$4+2,IF('XML a procesar'!A1944=\"\",P1944,IF(MID('XML a procesar'!A1944,1,1)=\"<\",P1944,P1944+1)),P1944)","v":1}]
[{"$f":"IF('XML a procesar'!A1945>0,'XML a procesar'!A1945,\"\")","v":""},0,0,0,0,"",0,0,0,"","",0,"",0,"",{"$f":"IF(ROW()<$S$4+2,IF('XML a procesar'!A1945=\"\",P1945,IF(MID('XML a procesar'!A1945,1,1)=\"<\",P1945,P1945+1)),P1945)","v":1}]
[{"$f":"IF('XML a procesar'!A1946>0,'XML a procesar'!A1946,\"\")","v":""},0,0,0,0,"",0,0,0,"","",0,"",0,"",{"$f":"IF(ROW()<$S$4+2,IF('XML a procesar'!A1946=\"\",P1946,IF(MID('XML a procesar'!A1946,1,1)=\"<\",P1946,P1946+1)),P1946)","v":1}]
[{"$f":"IF('XML a procesar'!A1947>0,'XML a procesar'!A1947,\"\")","v":""},0,0,0,0,"",0,0,0,"","",0,"",0,"",{"$f":"IF(ROW()<$S$4+2,IF('XML a procesar'!A1947=\"\",P1947,IF(MID('XML a procesar'!A1947,1,1)=\"<\",P1947,P1947+1)),P1947)","v":1}]
[{"$f":"IF('XML a procesar'!A1948>0,'XML a procesar'!A1948,\"\")","v":""},0,0,0,0,"",0,0,0,"","",0,"",0,"",{"$f":"IF(ROW()<$S$4+2,IF('XML a procesar'!A1948=\"\",P1948,IF(MID('XML a procesar'!A1948,1,1)=\"<\",P1948,P1948+1)),P1948)","v":1}]
[{"$f":"IF('XML a procesar'!A1949>0,'XML a procesar'!A1949,\"\")","v":""},0,0,0,0,"",0,0,0,"","",0,"",0,"",{"$f":"IF(ROW()<$S$4+2,IF('XML a procesar'!A1949=\"\",P1949,IF(MID('XML a procesar'!A1949,1,1)=\"<\",P1949,P1949+1)),P1949)","v":1}]
[{"$f":"IF('XML a procesar'!A1950>0,'XML a procesar'!A1950,\"\")","v":""},0,0,0,0,"",0,0,0,"","",0,"",0,"",{"$f":"IF(ROW()<$S$4+2,IF('XML a procesar'!A1950=\"\",P1950,IF(MID('XML a procesar'!A1950,1,1)=\"<\",P1950,P1950+1)),P1950)","v":1}]
[{"$f":"IF('XML a procesar'!A1951>0,'XML a procesar'!A1951,\"\")","v":""},0,0,0,0,"",0,0,0,"","",0,"",0,"",{"$f":"IF(ROW()<$S$4+2,IF('XML a procesar'!A1951=\"\",P1951,IF(MID('XML a procesar'!A1951,1,1)=\"<\",P1951,P1951+1)),P1951)","v":1}]
[{"$f":"IF('XML a procesar'!A1952>0,'XML a procesar'!A1952,\"\")","v":""},0,0,0,0,"",0,0,0,"","",0,"",0,"",{"$f":"IF(ROW()<$S$4+2,IF('XML a procesar'!A1952=\"\",P1952,IF(MID('XML a procesar'!A1952,1,1)=\"<\",P1952,P1952+1)),P1952)","v":1}]
[{"$f":"IF('XML a procesar'!A1953>0,'XML a procesar'!A1953,\"\")","v":""},0,0,0,0,"",0,0,0,"","",0,"",0,"",{"$f":"IF(ROW()<$S$4+2,IF('XML a procesar'!A1953=\"\",P1953,IF(MID('XML a procesar'!A1953,1,1)=\"<\",P1953,P1953+1)),P1953)","v":1}]
[{"$f":"IF('XML a procesar'!A1954>0,'XML a procesar'!A1954,\"\")","v":""},0,0,0,0,"",0,0,0,"","",0,"",0,"",{"$f":"IF(ROW()<$S$4+2,IF('XML a procesar'!A1954=\"\",P1954,IF(MID('XML a procesar'!A1954,1,1)=\"<\",P1954,P1954+1)),P1954)","v":1}]
[{"$f":"IF('XML a procesar'!A1955>0,'XML a procesar'!A1955,\"\")","v":""},0,0,0,0,"",0,0,0,"","",0,"",0,"",{"$f":"IF(ROW()<$S$4+2,IF('XML a procesar'!A1955=\"\",P1955,IF(MID('XML a procesar'!A1955,1,1)=\"<\",P1955,P1955+1)),P1955)","v":1}]
[{"$f":"IF('XML a procesar'!A1956>0,'XML a procesar'!A1956,\"\")","v":""},0,0,0,0,"",0,0,0,"","",0,"",0,"",{"$f":"IF(ROW()<$S$4+2,IF('XML a procesar'!A1956=\"\",P1956,IF(MID('XML a procesar'!A1956,1,1)=\"<\",P1956,P1956+1)),P1956)","v":1}]
[{"$f":"IF('XML a procesar'!A1957>0,'XML a procesar'!A1957,\"\")","v":""},0,0,0,0,"",0,0,0,"","",0,"",0,"",{"$f":"IF(ROW()<$S$4+2,IF('XML a procesar'!A1957=\"\",P1957,IF(MID('XML a procesar'!A1957,1,1)=\"<\",P1957,P1957+1)),P1957)","v":1}]
[{"$f":"IF('XML a procesar'!A1958>0,'XML a procesar'!A1958,\"\")","v":""},0,0,0,0,"",0,0,0,"","",0,"",0,"",{"$f":"IF(ROW()<$S$4+2,IF('XML a procesar'!A1958=\"\",P1958,IF(MID('XML a procesar'!A1958,1,1)=\"<\",P1958,P1958+1)),P1958)","v":1}]
[{"$f":"IF('XML a procesar'!A1959>0,'XML a procesar'!A1959,\"\")","v":""},0,0,0,0,"",0,0,0,"","",0,"",0,"",{"$f":"IF(ROW()<$S$4+2,IF('XML a procesar'!A1959=\"\",P1959,IF(MID('XML a procesar'!A1959,1,1)=\"<\",P1959,P1959+1)),P1959)","v":1}]
[{"$f":"IF('XML a procesar'!A1960>0,'XML a procesar'!A1960,\"\")","v":""},0,0,0,0,"",0,0,0,"","",0,"",0,"",{"$f":"IF(ROW()<$S$4+2,IF('XML a procesar'!A1960=\"\",P1960,IF(MID('XML a procesar'!A1960,1,1)=\"<\",P1960,P1960+1)),P1960)","v":1}]
[{"$f":"IF('XML a procesar'!A1961>0,'XML a procesar'!A1961,\"\")","v":""},0,0,0,0,"",0,0,0,"","",0,"",0,"",{"$f":"IF(ROW()<$S$4+2,IF('XML a procesar'!A1961=\"\",P1961,IF(MID('XML a procesar'!A1961,1,1)=\"<\",P1961,P1961+1)),P1961)","v":1}]
[{"$f":"IF('XML a procesar'!A1962>0,'XML a procesar'!A1962,\"\")","v":""},0,0,0,0,"",0,0,0,"","",0,"",0,"",{"$f":"IF(ROW()<$S$4+2,IF('XML a procesar'!A1962=\"\",P1962,IF(MID('XML a procesar'!A1962,1,1)=\"<\",P1962,P1962+1)),P1962)","v":1}]
[{"$f":"IF('XML a procesar'!A1963>0,'XML a procesar'!A1963,\"\")","v":""},0,0,0,0,"",0,0,0,"","",0,"",0,"",{"$f":"IF(ROW()<$S$4+2,IF('XML a procesar'!A1963=\"\",P1963,IF(MID('XML a procesar'!A1963,1,1)=\"<\",P1963,P1963+1)),P1963)","v":1}]
[{"$f":"IF('XML a procesar'!A1964>0,'XML a procesar'!A1964,\"\")","v":""},0,0,0,0,"",0,0,0,"","",0,"",0,"",{"$f":"IF(ROW()<$S$4+2,IF('XML a procesar'!A1964=\"\",P1964,IF(MID('XML a procesar'!A1964,1,1)=\"<\",P1964,P1964+1)),P1964)","v":1}]
[{"$f":"IF('XML a procesar'!A1965>0,'XML a procesar'!A1965,\"\")","v":""},0,0,0,0,"",0,0,0,"","",0,"",0,"",{"$f":"IF(ROW()<$S$4+2,IF('XML a procesar'!A1965=\"\",P1965,IF(MID('XML a procesar'!A1965,1,1)=\"<\",P1965,P1965+1)),P1965)","v":1}]
[{"$f":"IF('XML a procesar'!A1966>0,'XML a procesar'!A1966,\"\")","v":""},0,0,0,0,"",0,0,0,"","",0,"",0,"",{"$f":"IF(ROW()<$S$4+2,IF('XML a procesar'!A1966=\"\",P1966,IF(MID('XML a procesar'!A1966,1,1)=\"<\",P1966,P1966+1)),P1966)","v":1}]
[{"$f":"IF('XML a procesar'!A1967>0,'XML a procesar'!A1967,\"\")","v":""},0,0,0,0,"",0,0,0,"","",0,"",0,"",{"$f":"IF(ROW()<$S$4+2,IF('XML a procesar'!A1967=\"\",P1967,IF(MID('XML a procesar'!A1967,1,1)=\"<\",P1967,P1967+1)),P1967)","v":1}]
[{"$f":"IF('XML a procesar'!A1968>0,'XML a procesar'!A1968,\"\")","v":""},0,0,0,0,"",0,0,0,"","",0,"",0,"",{"$f":"IF(ROW()<$S$4+2,IF('XML a procesar'!A1968=\"\",P1968,IF(MID('XML a procesar'!A1968,1,1)=\"<\",P1968,P1968+1)),P1968)","v":1}]
[{"$f":"IF('XML a procesar'!A1969>0,'XML a procesar'!A1969,\"\")","v":""},0,0,0,0,"",0,0,0,"","",0,"",0,"",{"$f":"IF(ROW()<$S$4+2,IF('XML a procesar'!A1969=\"\",P1969,IF(MID('XML a procesar'!A1969,1,1)=\"<\",P1969,P1969+1)),P1969)","v":1}]
[{"$f":"IF('XML a procesar'!A1970>0,'XML a procesar'!A1970,\"\")","v":""},0,0,0,0,"",0,0,0,"","",0,"",0,"",{"$f":"IF(ROW()<$S$4+2,IF('XML a procesar'!A1970=\"\",P1970,IF(MID('XML a procesar'!A1970,1,1)=\"<\",P1970,P1970+1)),P1970)","v":1}]
[{"$f":"IF('XML a procesar'!A1971>0,'XML a procesar'!A1971,\"\")","v":""},0,0,0,0,"",0,0,0,"","",0,"",0,"",{"$f":"IF(ROW()<$S$4+2,IF('XML a procesar'!A1971=\"\",P1971,IF(MID('XML a procesar'!A1971,1,1)=\"<\",P1971,P1971+1)),P1971)","v":1}]
[{"$f":"IF('XML a procesar'!A1972>0,'XML a procesar'!A1972,\"\")","v":""},0,0,0,0,"",0,0,0,"","",0,"",0,"",{"$f":"IF(ROW()<$S$4+2,IF('XML a procesar'!A1972=\"\",P1972,IF(MID('XML a procesar'!A1972,1,1)=\"<\",P1972,P1972+1)),P1972)","v":1}]
[{"$f":"IF('XML a procesar'!A1973>0,'XML a procesar'!A1973,\"\")","v":""},0,0,0,0,"",0,0,0,"","",0,"",0,"",{"$f":"IF(ROW()<$S$4+2,IF('XML a procesar'!A1973=\"\",P1973,IF(MID('XML a procesar'!A1973,1,1)=\"<\",P1973,P1973+1)),P1973)","v":1}]
[{"$f":"IF('XML a procesar'!A1974>0,'XML a procesar'!A1974,\"\")","v":""},0,0,0,0,"",0,0,0,"","",0,"",0,"",{"$f":"IF(ROW()<$S$4+2,IF('XML a procesar'!A1974=\"\",P1974,IF(MID('XML a procesar'!A1974,1,1)=\"<\",P1974,P1974+1)),P1974)","v":1}]
[{"$f":"IF('XML a procesar'!A1975>0,'XML a procesar'!A1975,\"\")","v":""},0,0,0,0,"",0,0,0,"","",0,"",0,"",{"$f":"IF(ROW()<$S$4+2,IF('XML a procesar'!A1975=\"\",P1975,IF(MID('XML a procesar'!A1975,1,1)=\"<\",P1975,P1975+1)),P1975)","v":1}]
[{"$f":"IF('XML a procesar'!A1976>0,'XML a procesar'!A1976,\"\")","v":""},0,0,0,0,"",0,0,0,"","",0,"",0,"",{"$f":"IF(ROW()<$S$4+2,IF('XML a procesar'!A1976=\"\",P1976,IF(MID('XML a procesar'!A1976,1,1)=\"<\",P1976,P1976+1)),P1976)","v":1}]
[{"$f":"IF('XML a procesar'!A1977>0,'XML a procesar'!A1977,\"\")","v":""},0,0,0,0,"",0,0,0,"","",0,"",0,"",{"$f":"IF(ROW()<$S$4+2,IF('XML a procesar'!A1977=\"\",P1977,IF(MID('XML a procesar'!A1977,1,1)=\"<\",P1977,P1977+1)),P1977)","v":1}]
[{"$f":"IF('XML a procesar'!A1978>0,'XML a procesar'!A1978,\"\")","v":""},0,0,0,0,"",0,0,0,"","",0,"",0,"",{"$f":"IF(ROW()<$S$4+2,IF('XML a procesar'!A1978=\"\",P1978,IF(MID('XML a procesar'!A1978,1,1)=\"<\",P1978,P1978+1)),P1978)","v":1}]
[{"$f":"IF('XML a procesar'!A1979>0,'XML a procesar'!A1979,\"\")","v":""},0,0,0,0,"",0,0,0,"","",0,"",0,"",{"$f":"IF(ROW()<$S$4+2,IF('XML a procesar'!A1979=\"\",P1979,IF(MID('XML a procesar'!A1979,1,1)=\"<\",P1979,P1979+1)),P1979)","v":1}]
[{"$f":"IF('XML a procesar'!A1980>0,'XML a procesar'!A1980,\"\")","v":""},0,0,0,0,"",0,0,0,"","",0,"",0,"",{"$f":"IF(ROW()<$S$4+2,IF('XML a procesar'!A1980=\"\",P1980,IF(MID('XML a procesar'!A1980,1,1)=\"<\",P1980,P1980+1)),P1980)","v":1}]
[{"$f":"IF('XML a procesar'!A1981>0,'XML a procesar'!A1981,\"\")","v":""},0,0,0,0,"",0,0,0,"","",0,"",0,"",{"$f":"IF(ROW()<$S$4+2,IF('XML a procesar'!A1981=\"\",P1981,IF(MID('XML a procesar'!A1981,1,1)=\"<\",P1981,P1981+1)),P1981)","v":1}]
[{"$f":"IF('XML a procesar'!A1982>0,'XML a procesar'!A1982,\"\")","v":""},0,0,0,0,"",0,0,0,"","",0,"",0,"",{"$f":"IF(ROW()<$S$4+2,IF('XML a procesar'!A1982=\"\",P1982,IF(MID('XML a procesar'!A1982,1,1)=\"<\",P1982,P1982+1)),P1982)","v":1}]
[{"$f":"IF('XML a procesar'!A1983>0,'XML a procesar'!A1983,\"\")","v":""},0,0,0,0,"",0,0,0,"","",0,"",0,"",{"$f":"IF(ROW()<$S$4+2,IF('XML a procesar'!A1983=\"\",P1983,IF(MID('XML a procesar'!A1983,1,1)=\"<\",P1983,P1983+1)),P1983)","v":1}]
[{"$f":"IF('XML a procesar'!A1984>0,'XML a procesar'!A1984,\"\")","v":""},{"$f":"IF(ISERROR(FIND(\"/doi.org/\",A1985,1)),0,1)","v":0},{"$f":"IF(LEFT(A1984,16)=\"<contrib contrib\",C1984+1,IF(LEFT(A1984,16)=\"</contrib-group>\",0,IF(LEFT(A1984,10)=\"</contrib>\",C1984,C1984)))","v":0},{"$f":"IF(AND(C1985>0,LEFT(A1985,7)=\"<email>\",ISNUMBER(SEARCH(\"@\",A1985,1))),C1985,IF(LEFT(A1985,10)=\"<alt-text>\",-1,0))","v":0},{"$f":"IF(D1985=0,E1984,E1984+1)","v":0},{"$f":"INDIRECT(ADDRESS(ROW()+INDIRECT(ADDRESS(ROW()+E1985,5)),1))","v":""},{"$f":"IF(LEFT(F1985,7)=\"<aff id\",_xlfn.NUMBERVALUE(MID(F1985,13,LEN(F1985)-14)),IF(F1985=\"</aff>\",G1984+1,G1984))","v":0},0,{"$f":"INDIRECT(ADDRESS(ROW()-INDIRECT(ADDRESS(ROW()-H1985,8)),8))","v":0},{"$f":"IF(J1984=\"Linea_para_MAIL_creada_por_LuXML\",\"</aff>\",IF(I1985>INDIRECT(ADDRESS(ROW()-I1985-1,8)),\"Linea_para_MAIL_creada_por_LuXML\",INDIRECT(ADDRESS(ROW()-I1985,6))))","v":""},"",{"$f":"IF(OR(MID(K1983,3,5)=\"page>\",MID(K1984,3,5)=\"page>\"),L1984,IF(OR(K1984=\"<history>\",K1985=\"<history>\"),L1984+1,L1984))","v":0},{"$f":"IF(L1985>L1984,IF(L1985=1,CONCATENATE(\"<fpage>\",$S$10,\"</fpage>\"),CONCATENATE(\"<lpage>\",$S$10+1,\"</lpage>\")),IF(ISERROR(INDIRECT(ADDRESS(ROW()-L1985,11),1)),\"\",INDIRECT(ADDRESS(ROW()-L1985,11),1)))","v":""},{"$f":"IF(N1984=-1,-1,IF(M1985=\"</counts>\",-1,IF(OR(LEFT(M1985,7)=\"<fpage>\",LEFT(M1985,7)=\"<lpage>\"),VALUE(MID(M1985,8,LEN(M1985)-15)),0)))","v":0},"",{"$f":"IF(ROW()<$S$4+2,IF('XML a procesar'!A1984=\"\",P1984,IF(MID('XML a procesar'!A1984,1,1)=\"<\",P1984,P1984+1)),P1984)","v":1}]
[{"$f":"IF('XML a procesar'!A1985>0,'XML a procesar'!A1985,\"\")","v":""},0,0,0,0,"",0,0,0,"","",0,"",0,{"$f":"IF(N1986>-1,INDIRECT(ADDRESS(ROW(),13)),IF(N1986<N1985,CONCATENATE(\"<page-count count=\",CHAR(34),1+LARGE(N:N,1)-LARGE(N:N,2),CHAR(34),\"/>\"),INDIRECT(ADDRESS(ROW()-1,13))))","v":""},{"$f":"IF(ROW()<$S$4+2,IF('XML a procesar'!A1985=\"\",P1985,IF(MID('XML a procesar'!A1985,1,1)=\"<\",P1985,P1985+1)),P1985)","v":1}]
[{"$f":"IF('XML a procesar'!A1986>0,'XML a procesar'!A1986,\"\")","v":""},0,0,0,0,"",0,{"$f":"IF(AND(G1986>0,G1987>G1986,NOT(ISERROR(MATCH(G1986,D:D,0)))),H1986+1,H1986)","v":0},0,"",{"$f":"IF(J1987=\"Linea_para_MAIL_creada_por_LuXML\",IF(ISERROR(MATCH(INDIRECT(ADDRESS(ROW()-G1987,7)),D:D,0)),J1987,INDIRECT(ADDRESS(MATCH(INDIRECT(ADDRESS(ROW()-G1987,7)),D:D,0),1))),J1987)","v":""},0,"",0,"",{"$f":"IF(ROW()<$S$4+2,IF('XML a procesar'!A1986=\"\",P1986,IF(MID('XML a procesar'!A1986,1,1)=\"<\",P1986,P1986+1)),P1986)","v":1}]
[{"$f":"IF('XML a procesar'!A1987>0,'XML a procesar'!A1987,\"\")","v":""},0,0,0,0,"",0,0,0,"","",0,"",0,"",{"$f":"IF(ROW()<$S$4+2,IF('XML a procesar'!A1987=\"\",P1987,IF(MID('XML a procesar'!A1987,1,1)=\"<\",P1987,P1987+1)),P1987)","v":1}]
[{"$f":"IF('XML a procesar'!A1988>0,'XML a procesar'!A1988,\"\")","v":""},0,0,0,0,"",0,0,0,"","",0,"",0,"",{"$f":"IF(ROW()<$S$4+2,IF('XML a procesar'!A1988=\"\",P1988,IF(MID('XML a procesar'!A1988,1,1)=\"<\",P1988,P1988+1)),P1988)","v":1}]
[{"$f":"IF('XML a procesar'!A1989>0,'XML a procesar'!A1989,\"\")","v":""},0,0,0,0,"",0,0,0,"","",0,"",0,"",{"$f":"IF(ROW()<$S$4+2,IF('XML a procesar'!A1989=\"\",P1989,IF(MID('XML a procesar'!A1989,1,1)=\"<\",P1989,P1989+1)),P1989)","v":1}]
[{"$f":"IF('XML a procesar'!A1990>0,'XML a procesar'!A1990,\"\")","v":""},0,0,0,0,"",0,0,0,"","",0,"",0,"",{"$f":"IF(ROW()<$S$4+2,IF('XML a procesar'!A1990=\"\",P1990,IF(MID('XML a procesar'!A1990,1,1)=\"<\",P1990,P1990+1)),P1990)","v":1}]
[{"$f":"IF('XML a procesar'!A1991>0,'XML a procesar'!A1991,\"\")","v":""},0,0,0,0,"",0,0,0,"","",0,"",0,"",{"$f":"IF(ROW()<$S$4+2,IF('XML a procesar'!A1991=\"\",P1991,IF(MID('XML a procesar'!A1991,1,1)=\"<\",P1991,P1991+1)),P1991)","v":1}]
[{"$f":"IF('XML a procesar'!A1992>0,'XML a procesar'!A1992,\"\")","v":""},0,0,0,0,"",0,0,0,"","",0,"",0,"",{"$f":"IF(ROW()<$S$4+2,IF('XML a procesar'!A1992=\"\",P1992,IF(MID('XML a procesar'!A1992,1,1)=\"<\",P1992,P1992+1)),P1992)","v":1}]
[{"$f":"IF('XML a procesar'!A1993>0,'XML a procesar'!A1993,\"\")","v":""},0,0,0,0,"",0,0,0,"","",0,"",0,"",{"$f":"IF(ROW()<$S$4+2,IF('XML a procesar'!A1993=\"\",P1993,IF(MID('XML a procesar'!A1993,1,1)=\"<\",P1993,P1993+1)),P1993)","v":1}]
[{"$f":"IF('XML a procesar'!A1994>0,'XML a procesar'!A1994,\"\")","v":""},0,0,0,0,"",0,0,0,"","",0,"",0,"",{"$f":"IF(ROW()<$S$4+2,IF('XML a procesar'!A1994=\"\",P1994,IF(MID('XML a procesar'!A1994,1,1)=\"<\",P1994,P1994+1)),P1994)","v":1}]
[{"$f":"IF('XML a procesar'!A1995>0,'XML a procesar'!A1995,\"\")","v":""},0,0,0,0,"",0,0,0,"","",0,"",0,"",{"$f":"IF(ROW()<$S$4+2,IF('XML a procesar'!A1995=\"\",P1995,IF(MID('XML a procesar'!A1995,1,1)=\"<\",P1995,P1995+1)),P1995)","v":1}]
[{"$f":"IF('XML a procesar'!A1996>0,'XML a procesar'!A1996,\"\")","v":""},0,0,0,0,"",0,0,0,"","",0,"",0,"",{"$f":"IF(ROW()<$S$4+2,IF('XML a procesar'!A1996=\"\",P1996,IF(MID('XML a procesar'!A1996,1,1)=\"<\",P1996,P1996+1)),P1996)","v":1}]
[{"$f":"IF('XML a procesar'!A1997>0,'XML a procesar'!A1997,\"\")","v":""},0,0,0,0,"",0,0,0,"","",0,"",0,"",{"$f":"IF(ROW()<$S$4+2,IF('XML a procesar'!A1997=\"\",P1997,IF(MID('XML a procesar'!A1997,1,1)=\"<\",P1997,P1997+1)),P1997)","v":1}]
[{"$f":"IF('XML a procesar'!A1998>0,'XML a procesar'!A1998,\"\")","v":""},0,0,0,0,"",0,0,0,"","",0,"",0,"",{"$f":"IF(ROW()<$S$4+2,IF('XML a procesar'!A1998=\"\",P1998,IF(MID('XML a procesar'!A1998,1,1)=\"<\",P1998,P1998+1)),P1998)","v":1}]
[{"$f":"IF('XML a procesar'!A1999>0,'XML a procesar'!A1999,\"\")","v":""},0,0,0,0,"",0,0,0,"","",0,"",0,"",{"$f":"IF(ROW()<$S$4+2,IF('XML a procesar'!A1999=\"\",P1999,IF(MID('XML a procesar'!A1999,1,1)=\"<\",P1999,P1999+1)),P1999)","v":1}]
[{"$f":"IF('XML a procesar'!A2000>0,'XML a procesar'!A2000,\"\")","v":""},0,0,0,0,"",0,0,0,"","",0,"",0,"",{"$f":"IF(ROW()<$S$4+2,IF('XML a procesar'!A2000=\"\",P2000,IF(MID('XML a procesar'!A2000,1,1)=\"<\",P2000,P2000+1)),P2000)","v":1}]
[{"$f":"IF('XML a procesar'!A2001>0,'XML a procesar'!A2001,\"\")","v":""},0,0,0,0,"",0,0,0,"","",0,"",0,"",{"$f":"IF(ROW()<$S$4+2,IF('XML a procesar'!A2001=\"\",P2001,IF(MID('XML a procesar'!A2001,1,1)=\"<\",P2001,P2001+1)),P2001)","v":1}]
[{"$f":"IF('XML a procesar'!A2002>0,'XML a procesar'!A2002,\"\")","v":""},0,0,0,0,"",0,0,0,"","",0,"",0,"",{"$f":"IF(ROW()<$S$4+2,IF('XML a procesar'!A2002=\"\",P2002,IF(MID('XML a procesar'!A2002,1,1)=\"<\",P2002,P2002+1)),P2002)","v":1}]
[{"$f":"IF('XML a procesar'!A2003>0,'XML a procesar'!A2003,\"\")","v":""},0,0,0,0,"",0,0,0,"","",0,"",0,"",{"$f":"IF(ROW()<$S$4+2,IF('XML a procesar'!A2003=\"\",P2003,IF(MID('XML a procesar'!A2003,1,1)=\"<\",P2003,P2003+1)),P2003)","v":1}]
[{"$f":"IF('XML a procesar'!A2004>0,'XML a procesar'!A2004,\"\")","v":""},0,0,0,0,"",0,0,0,"","",0,"",0,"",{"$f":"IF(ROW()<$S$4+2,IF('XML a procesar'!A2004=\"\",P2004,IF(MID('XML a procesar'!A2004,1,1)=\"<\",P2004,P2004+1)),P2004)","v":1}]
[{"$f":"IF('XML a procesar'!A2005>0,'XML a procesar'!A2005,\"\")","v":""},0,0,0,0,"",0,0,0,"","",0,"",0,"",{"$f":"IF(ROW()<$S$4+2,IF('XML a procesar'!A2005=\"\",P2005,IF(MID('XML a procesar'!A2005,1,1)=\"<\",P2005,P2005+1)),P2005)","v":1}]
[{"$f":"IF('XML a procesar'!A2006>0,'XML a procesar'!A2006,\"\")","v":""},0,0,0,0,"",0,0,0,"","",0,"",0,"",{"$f":"IF(ROW()<$S$4+2,IF('XML a procesar'!A2006=\"\",P2006,IF(MID('XML a procesar'!A2006,1,1)=\"<\",P2006,P2006+1)),P2006)","v":1}]
[{"$f":"IF('XML a procesar'!A2007>0,'XML a procesar'!A2007,\"\")","v":""},0,0,0,0,"",0,0,0,"","",0,"",0,"",{"$f":"IF(ROW()<$S$4+2,IF('XML a procesar'!A2007=\"\",P2007,IF(MID('XML a procesar'!A2007,1,1)=\"<\",P2007,P2007+1)),P2007)","v":1}]
[{"$f":"IF('XML a procesar'!A2008>0,'XML a procesar'!A2008,\"\")","v":""},0,0,0,0,"",0,0,0,"","",0,"",0,"",{"$f":"IF(ROW()<$S$4+2,IF('XML a procesar'!A2008=\"\",P2008,IF(MID('XML a procesar'!A2008,1,1)=\"<\",P2008,P2008+1)),P2008)","v":1}]
[{"$f":"IF('XML a procesar'!A2009>0,'XML a procesar'!A2009,\"\")","v":""},0,0,0,0,"",0,0,0,"","",0,"",0,"",{"$f":"IF(ROW()<$S$4+2,IF('XML a procesar'!A2009=\"\",P2009,IF(MID('XML a procesar'!A2009,1,1)=\"<\",P2009,P2009+1)),P2009)","v":1}]
[{"$f":"IF('XML a procesar'!A2010>0,'XML a procesar'!A2010,\"\")","v":""},0,0,0,0,"",0,0,0,"","",0,"",0,"",{"$f":"IF(ROW()<$S$4+2,IF('XML a procesar'!A2010=\"\",P2010,IF(MID('XML a procesar'!A2010,1,1)=\"<\",P2010,P2010+1)),P2010)","v":1}]
[{"$f":"IF('XML a procesar'!A2011>0,'XML a procesar'!A2011,\"\")","v":""},0,0,0,0,"",0,0,0,"","",0,"",0,"",{"$f":"IF(ROW()<$S$4+2,IF('XML a procesar'!A2011=\"\",P2011,IF(MID('XML a procesar'!A2011,1,1)=\"<\",P2011,P2011+1)),P2011)","v":1}]
[{"$f":"IF('XML a procesar'!A2012>0,'XML a procesar'!A2012,\"\")","v":""},0,0,0,0,"",0,0,0,"","",0,"",0,"",{"$f":"IF(ROW()<$S$4+2,IF('XML a procesar'!A2012=\"\",P2012,IF(MID('XML a procesar'!A2012,1,1)=\"<\",P2012,P2012+1)),P2012)","v":1}]
[{"$f":"IF('XML a procesar'!A2013>0,'XML a procesar'!A2013,\"\")","v":""},0,0,0,0,"",0,0,0,"","",0,"",0,"",{"$f":"IF(ROW()<$S$4+2,IF('XML a procesar'!A2013=\"\",P2013,IF(MID('XML a procesar'!A2013,1,1)=\"<\",P2013,P2013+1)),P2013)","v":1}]
[{"$f":"IF('XML a procesar'!A2014>0,'XML a procesar'!A2014,\"\")","v":""},0,0,0,0,"",0,0,0,"","",0,"",0,"",{"$f":"IF(ROW()<$S$4+2,IF('XML a procesar'!A2014=\"\",P2014,IF(MID('XML a procesar'!A2014,1,1)=\"<\",P2014,P2014+1)),P2014)","v":1}]
[{"$f":"IF('XML a procesar'!A2015>0,'XML a procesar'!A2015,\"\")","v":""},0,0,0,0,"",0,0,0,"","",0,"",0,"",{"$f":"IF(ROW()<$S$4+2,IF('XML a procesar'!A2015=\"\",P2015,IF(MID('XML a procesar'!A2015,1,1)=\"<\",P2015,P2015+1)),P2015)","v":1}]
[{"$f":"IF('XML a procesar'!A2016>0,'XML a procesar'!A2016,\"\")","v":""},0,0,0,0,"",0,0,0,"","",0,"",0,"",{"$f":"IF(ROW()<$S$4+2,IF('XML a procesar'!A2016=\"\",P2016,IF(MID('XML a procesar'!A2016,1,1)=\"<\",P2016,P2016+1)),P2016)","v":1}]
[{"$f":"IF('XML a procesar'!A2017>0,'XML a procesar'!A2017,\"\")","v":""},0,0,0,0,"",0,0,0,"","",0,"",0,"",{"$f":"IF(ROW()<$S$4+2,IF('XML a procesar'!A2017=\"\",P2017,IF(MID('XML a procesar'!A2017,1,1)=\"<\",P2017,P2017+1)),P2017)","v":1}]
[{"$f":"IF('XML a procesar'!A2018>0,'XML a procesar'!A2018,\"\")","v":""},0,0,0,0,"",0,0,0,"","",0,"",0,"",{"$f":"IF(ROW()<$S$4+2,IF('XML a procesar'!A2018=\"\",P2018,IF(MID('XML a procesar'!A2018,1,1)=\"<\",P2018,P2018+1)),P2018)","v":1}]
[{"$f":"IF('XML a procesar'!A2019>0,'XML a procesar'!A2019,\"\")","v":""},0,0,0,0,"",0,0,0,"","",0,"",0,"",{"$f":"IF(ROW()<$S$4+2,IF('XML a procesar'!A2019=\"\",P2019,IF(MID('XML a procesar'!A2019,1,1)=\"<\",P2019,P2019+1)),P2019)","v":1}]
[{"$f":"IF('XML a procesar'!A2020>0,'XML a procesar'!A2020,\"\")","v":""},0,0,0,0,"",0,0,0,"","",0,"",0,"",{"$f":"IF(ROW()<$S$4+2,IF('XML a procesar'!A2020=\"\",P2020,IF(MID('XML a procesar'!A2020,1,1)=\"<\",P2020,P2020+1)),P2020)","v":1}]
[{"$f":"IF('XML a procesar'!A2021>0,'XML a procesar'!A2021,\"\")","v":""},0,0,0,0,"",0,0,0,"","",0,"",0,"",{"$f":"IF(ROW()<$S$4+2,IF('XML a procesar'!A2021=\"\",P2021,IF(MID('XML a procesar'!A2021,1,1)=\"<\",P2021,P2021+1)),P2021)","v":1}]
[{"$f":"IF('XML a procesar'!A2022>0,'XML a procesar'!A2022,\"\")","v":""},0,0,0,0,"",0,0,0,"","",0,"",0,"",{"$f":"IF(ROW()<$S$4+2,IF('XML a procesar'!A2022=\"\",P2022,IF(MID('XML a procesar'!A2022,1,1)=\"<\",P2022,P2022+1)),P2022)","v":1}]
[{"$f":"IF('XML a procesar'!A2023>0,'XML a procesar'!A2023,\"\")","v":""},0,0,0,0,"",0,0,0,"","",0,"",0,"",{"$f":"IF(ROW()<$S$4+2,IF('XML a procesar'!A2023=\"\",P2023,IF(MID('XML a procesar'!A2023,1,1)=\"<\",P2023,P2023+1)),P2023)","v":1}]
[{"$f":"IF('XML a procesar'!A2024>0,'XML a procesar'!A2024,\"\")","v":""},0,0,0,0,"",0,0,0,"","",0,"",0,"",{"$f":"IF(ROW()<$S$4+2,IF('XML a procesar'!A2024=\"\",P2024,IF(MID('XML a procesar'!A2024,1,1)=\"<\",P2024,P2024+1)),P2024)","v":1}]
[{"$f":"IF('XML a procesar'!A2025>0,'XML a procesar'!A2025,\"\")","v":""},0,0,0,0,"",0,0,0,"","",0,"",0,"",{"$f":"IF(ROW()<$S$4+2,IF('XML a procesar'!A2025=\"\",P2025,IF(MID('XML a procesar'!A2025,1,1)=\"<\",P2025,P2025+1)),P2025)","v":1}]
[{"$f":"IF('XML a procesar'!A2026>0,'XML a procesar'!A2026,\"\")","v":""},0,0,0,0,"",0,0,0,"","",0,"",0,"",{"$f":"IF(ROW()<$S$4+2,IF('XML a procesar'!A2026=\"\",P2026,IF(MID('XML a procesar'!A2026,1,1)=\"<\",P2026,P2026+1)),P2026)","v":1}]
[{"$f":"IF('XML a procesar'!A2027>0,'XML a procesar'!A2027,\"\")","v":""},0,0,0,0,"",0,0,0,"","",0,"",0,"",{"$f":"IF(ROW()<$S$4+2,IF('XML a procesar'!A2027=\"\",P2027,IF(MID('XML a procesar'!A2027,1,1)=\"<\",P2027,P2027+1)),P2027)","v":1}]
[{"$f":"IF('XML a procesar'!A2028>0,'XML a procesar'!A2028,\"\")","v":""},0,0,0,0,"",0,0,0,"","",0,"",0,"",{"$f":"IF(ROW()<$S$4+2,IF('XML a procesar'!A2028=\"\",P2028,IF(MID('XML a procesar'!A2028,1,1)=\"<\",P2028,P2028+1)),P2028)","v":1}]
[{"$f":"IF('XML a procesar'!A2029>0,'XML a procesar'!A2029,\"\")","v":""},0,0,0,0,"",0,0,0,"","",0,"",0,"",{"$f":"IF(ROW()<$S$4+2,IF('XML a procesar'!A2029=\"\",P2029,IF(MID('XML a procesar'!A2029,1,1)=\"<\",P2029,P2029+1)),P2029)","v":1}]
[{"$f":"IF('XML a procesar'!A2030>0,'XML a procesar'!A2030,\"\")","v":""},0,0,0,0,"",0,0,0,"","",0,"",0,"",{"$f":"IF(ROW()<$S$4+2,IF('XML a procesar'!A2030=\"\",P2030,IF(MID('XML a procesar'!A2030,1,1)=\"<\",P2030,P2030+1)),P2030)","v":1}]
[{"$f":"IF('XML a procesar'!A2031>0,'XML a procesar'!A2031,\"\")","v":""},0,0,0,0,"",0,0,0,"","",0,"",0,"",{"$f":"IF(ROW()<$S$4+2,IF('XML a procesar'!A2031=\"\",P2031,IF(MID('XML a procesar'!A2031,1,1)=\"<\",P2031,P2031+1)),P2031)","v":1}]
[{"$f":"IF('XML a procesar'!A2032>0,'XML a procesar'!A2032,\"\")","v":""},0,0,0,0,"",0,0,0,"","",0,"",0,"",{"$f":"IF(ROW()<$S$4+2,IF('XML a procesar'!A2032=\"\",P2032,IF(MID('XML a procesar'!A2032,1,1)=\"<\",P2032,P2032+1)),P2032)","v":1}]
[{"$f":"IF('XML a procesar'!A2033>0,'XML a procesar'!A2033,\"\")","v":""},0,0,0,0,"",0,0,0,"","",0,"",0,"",{"$f":"IF(ROW()<$S$4+2,IF('XML a procesar'!A2033=\"\",P2033,IF(MID('XML a procesar'!A2033,1,1)=\"<\",P2033,P2033+1)),P2033)","v":1}]
[{"$f":"IF('XML a procesar'!A2034>0,'XML a procesar'!A2034,\"\")","v":""},0,0,0,0,"",0,0,0,"","",0,"",0,"",{"$f":"IF(ROW()<$S$4+2,IF('XML a procesar'!A2034=\"\",P2034,IF(MID('XML a procesar'!A2034,1,1)=\"<\",P2034,P2034+1)),P2034)","v":1}]
[{"$f":"IF('XML a procesar'!A2035>0,'XML a procesar'!A2035,\"\")","v":""},0,0,0,0,"",0,0,0,"","",0,"",0,"",{"$f":"IF(ROW()<$S$4+2,IF('XML a procesar'!A2035=\"\",P2035,IF(MID('XML a procesar'!A2035,1,1)=\"<\",P2035,P2035+1)),P2035)","v":1}]
[{"$f":"IF('XML a procesar'!A2036>0,'XML a procesar'!A2036,\"\")","v":""},0,0,0,0,"",0,0,0,"","",0,"",0,"",{"$f":"IF(ROW()<$S$4+2,IF('XML a procesar'!A2036=\"\",P2036,IF(MID('XML a procesar'!A2036,1,1)=\"<\",P2036,P2036+1)),P2036)","v":1}]
[{"$f":"IF('XML a procesar'!A2037>0,'XML a procesar'!A2037,\"\")","v":""},0,0,0,0,"",0,0,0,"","",0,"",0,"",{"$f":"IF(ROW()<$S$4+2,IF('XML a procesar'!A2037=\"\",P2037,IF(MID('XML a procesar'!A2037,1,1)=\"<\",P2037,P2037+1)),P2037)","v":1}]
[{"$f":"IF('XML a procesar'!A2038>0,'XML a procesar'!A2038,\"\")","v":""},0,0,0,0,"",0,0,0,"","",0,"",0,"",{"$f":"IF(ROW()<$S$4+2,IF('XML a procesar'!A2038=\"\",P2038,IF(MID('XML a procesar'!A2038,1,1)=\"<\",P2038,P2038+1)),P2038)","v":1}]
[{"$f":"IF('XML a procesar'!A2039>0,'XML a procesar'!A2039,\"\")","v":""},0,0,0,0,"",0,0,0,"","",0,"",0,"",{"$f":"IF(ROW()<$S$4+2,IF('XML a procesar'!A2039=\"\",P2039,IF(MID('XML a procesar'!A2039,1,1)=\"<\",P2039,P2039+1)),P2039)","v":1}]
[{"$f":"IF('XML a procesar'!A2040>0,'XML a procesar'!A2040,\"\")","v":""},0,0,0,0,"",0,0,0,"","",0,"",0,"",{"$f":"IF(ROW()<$S$4+2,IF('XML a procesar'!A2040=\"\",P2040,IF(MID('XML a procesar'!A2040,1,1)=\"<\",P2040,P2040+1)),P2040)","v":1}]
[{"$f":"IF('XML a procesar'!A2041>0,'XML a procesar'!A2041,\"\")","v":""},0,0,0,0,"",0,0,0,"","",0,"",0,"",{"$f":"IF(ROW()<$S$4+2,IF('XML a procesar'!A2041=\"\",P2041,IF(MID('XML a procesar'!A2041,1,1)=\"<\",P2041,P2041+1)),P2041)","v":1}]
[{"$f":"IF('XML a procesar'!A2042>0,'XML a procesar'!A2042,\"\")","v":""},0,0,0,0,"",0,0,0,"","",0,"",0,"",{"$f":"IF(ROW()<$S$4+2,IF('XML a procesar'!A2042=\"\",P2042,IF(MID('XML a procesar'!A2042,1,1)=\"<\",P2042,P2042+1)),P2042)","v":1}]
[{"$f":"IF('XML a procesar'!A2043>0,'XML a procesar'!A2043,\"\")","v":""},0,0,0,0,"",0,0,0,"","",0,"",0,"",{"$f":"IF(ROW()<$S$4+2,IF('XML a procesar'!A2043=\"\",P2043,IF(MID('XML a procesar'!A2043,1,1)=\"<\",P2043,P2043+1)),P2043)","v":1}]
[{"$f":"IF('XML a procesar'!A2044>0,'XML a procesar'!A2044,\"\")","v":""},0,0,0,0,"",0,0,0,"","",0,"",0,"",{"$f":"IF(ROW()<$S$4+2,IF('XML a procesar'!A2044=\"\",P2044,IF(MID('XML a procesar'!A2044,1,1)=\"<\",P2044,P2044+1)),P2044)","v":1}]
[{"$f":"IF('XML a procesar'!A2045>0,'XML a procesar'!A2045,\"\")","v":""},0,0,0,0,"",0,0,0,"","",0,"",0,"",{"$f":"IF(ROW()<$S$4+2,IF('XML a procesar'!A2045=\"\",P2045,IF(MID('XML a procesar'!A2045,1,1)=\"<\",P2045,P2045+1)),P2045)","v":1}]
[{"$f":"IF('XML a procesar'!A2046>0,'XML a procesar'!A2046,\"\")","v":""},0,0,0,0,"",0,0,0,"","",0,"",0,"",{"$f":"IF(ROW()<$S$4+2,IF('XML a procesar'!A2046=\"\",P2046,IF(MID('XML a procesar'!A2046,1,1)=\"<\",P2046,P2046+1)),P2046)","v":1}]
[{"$f":"IF('XML a procesar'!A2047>0,'XML a procesar'!A2047,\"\")","v":""},0,0,0,0,"",0,0,0,"","",0,"",0,"",{"$f":"IF(ROW()<$S$4+2,IF('XML a procesar'!A2047=\"\",P2047,IF(MID('XML a procesar'!A2047,1,1)=\"<\",P2047,P2047+1)),P2047)","v":1}]
[{"$f":"IF('XML a procesar'!A2048>0,'XML a procesar'!A2048,\"\")","v":""},{"$f":"IF(ISERROR(FIND(\"/doi.org/\",A2049,1)),0,1)","v":0},{"$f":"IF(LEFT(A2048,16)=\"<contrib contrib\",C2048+1,IF(LEFT(A2048,16)=\"</contrib-group>\",0,IF(LEFT(A2048,10)=\"</contrib>\",C2048,C2048)))","v":0},{"$f":"IF(AND(C2049>0,LEFT(A2049,7)=\"<email>\",ISNUMBER(SEARCH(\"@\",A2049,1))),C2049,IF(LEFT(A2049,10)=\"<alt-text>\",-1,0))","v":0},{"$f":"IF(D2049=0,E2048,E2048+1)","v":0},{"$f":"INDIRECT(ADDRESS(ROW()+INDIRECT(ADDRESS(ROW()+E2049,5)),1))","v":""},{"$f":"IF(LEFT(F2049,7)=\"<aff id\",_xlfn.NUMBERVALUE(MID(F2049,13,LEN(F2049)-14)),IF(F2049=\"</aff>\",G2048+1,G2048))","v":0},0,{"$f":"INDIRECT(ADDRESS(ROW()-INDIRECT(ADDRESS(ROW()-H2049,8)),8))","v":0},{"$f":"IF(J2048=\"Linea_para_MAIL_creada_por_LuXML\",\"</aff>\",IF(I2049>INDIRECT(ADDRESS(ROW()-I2049-1,8)),\"Linea_para_MAIL_creada_por_LuXML\",INDIRECT(ADDRESS(ROW()-I2049,6))))","v":""},"",{"$f":"IF(OR(MID(K2047,3,5)=\"page>\",MID(K2048,3,5)=\"page>\"),L2048,IF(OR(K2048=\"<history>\",K2049=\"<history>\"),L2048+1,L2048))","v":0},{"$f":"IF(L2049>L2048,IF(L2049=1,CONCATENATE(\"<fpage>\",$S$10,\"</fpage>\"),CONCATENATE(\"<lpage>\",$S$10+1,\"</lpage>\")),IF(ISERROR(INDIRECT(ADDRESS(ROW()-L2049,11),1)),\"\",INDIRECT(ADDRESS(ROW()-L2049,11),1)))","v":""},{"$f":"IF(N2048=-1,-1,IF(M2049=\"</counts>\",-1,IF(OR(LEFT(M2049,7)=\"<fpage>\",LEFT(M2049,7)=\"<lpage>\"),VALUE(MID(M2049,8,LEN(M2049)-15)),0)))","v":0},"",{"$f":"IF(ROW()<$S$4+2,IF('XML a procesar'!A2048=\"\",P2048,IF(MID('XML a procesar'!A2048,1,1)=\"<\",P2048,P2048+1)),P2048)","v":1}]
[{"$f":"IF('XML a procesar'!A2049>0,'XML a procesar'!A2049,\"\")","v":""},0,0,0,0,"",0,0,0,"","",0,"",0,{"$f":"IF(N2050>-1,INDIRECT(ADDRESS(ROW(),13)),IF(N2050<N2049,CONCATENATE(\"<page-count count=\",CHAR(34),1+LARGE(N:N,1)-LARGE(N:N,2),CHAR(34),\"/>\"),INDIRECT(ADDRESS(ROW()-1,13))))","v":""},{"$f":"IF(ROW()<$S$4+2,IF('XML a procesar'!A2049=\"\",P2049,IF(MID('XML a procesar'!A2049,1,1)=\"<\",P2049,P2049+1)),P2049)","v":1}]
[{"$f":"IF('XML a procesar'!A2050>0,'XML a procesar'!A2050,\"\")","v":""},0,0,0,0,"",0,{"$f":"IF(AND(G2050>0,G2051>G2050,NOT(ISERROR(MATCH(G2050,D:D,0)))),H2050+1,H2050)","v":0},0,"",{"$f":"IF(J2051=\"Linea_para_MAIL_creada_por_LuXML\",IF(ISERROR(MATCH(INDIRECT(ADDRESS(ROW()-G2051,7)),D:D,0)),J2051,INDIRECT(ADDRESS(MATCH(INDIRECT(ADDRESS(ROW()-G2051,7)),D:D,0),1))),J2051)","v":""},0,"",0,"",{"$f":"IF(ROW()<$S$4+2,IF('XML a procesar'!A2050=\"\",P2050,IF(MID('XML a procesar'!A2050,1,1)=\"<\",P2050,P2050+1)),P2050)","v":1}]
[{"$f":"IF('XML a procesar'!A2051>0,'XML a procesar'!A2051,\"\")","v":""},0,0,0,0,"",0,0,0,"","",0,"",0,"",{"$f":"IF(ROW()<$S$4+2,IF('XML a procesar'!A2051=\"\",P2051,IF(MID('XML a procesar'!A2051,1,1)=\"<\",P2051,P2051+1)),P2051)","v":1}]
[{"$f":"IF('XML a procesar'!A2052>0,'XML a procesar'!A2052,\"\")","v":""},0,0,0,0,"",0,0,0,"","",0,"",0,"",{"$f":"IF(ROW()<$S$4+2,IF('XML a procesar'!A2052=\"\",P2052,IF(MID('XML a procesar'!A2052,1,1)=\"<\",P2052,P2052+1)),P2052)","v":1}]
[{"$f":"IF('XML a procesar'!A2053>0,'XML a procesar'!A2053,\"\")","v":""},0,0,0,0,"",0,0,0,"","",0,"",0,"",{"$f":"IF(ROW()<$S$4+2,IF('XML a procesar'!A2053=\"\",P2053,IF(MID('XML a procesar'!A2053,1,1)=\"<\",P2053,P2053+1)),P2053)","v":1}]
[{"$f":"IF('XML a procesar'!A2054>0,'XML a procesar'!A2054,\"\")","v":""},0,0,0,0,"",0,0,0,"","",0,"",0,"",{"$f":"IF(ROW()<$S$4+2,IF('XML a procesar'!A2054=\"\",P2054,IF(MID('XML a procesar'!A2054,1,1)=\"<\",P2054,P2054+1)),P2054)","v":1}]
[{"$f":"IF('XML a procesar'!A2055>0,'XML a procesar'!A2055,\"\")","v":""},0,0,0,0,"",0,0,0,"","",0,"",0,"",{"$f":"IF(ROW()<$S$4+2,IF('XML a procesar'!A2055=\"\",P2055,IF(MID('XML a procesar'!A2055,1,1)=\"<\",P2055,P2055+1)),P2055)","v":1}]
[{"$f":"IF('XML a procesar'!A2056>0,'XML a procesar'!A2056,\"\")","v":""},0,0,0,0,"",0,0,0,"","",0,"",0,"",{"$f":"IF(ROW()<$S$4+2,IF('XML a procesar'!A2056=\"\",P2056,IF(MID('XML a procesar'!A2056,1,1)=\"<\",P2056,P2056+1)),P2056)","v":1}]
[{"$f":"IF('XML a procesar'!A2057>0,'XML a procesar'!A2057,\"\")","v":""},0,0,0,0,"",0,0,0,"","",0,"",0,"",{"$f":"IF(ROW()<$S$4+2,IF('XML a procesar'!A2057=\"\",P2057,IF(MID('XML a procesar'!A2057,1,1)=\"<\",P2057,P2057+1)),P2057)","v":1}]
[{"$f":"IF('XML a procesar'!A2058>0,'XML a procesar'!A2058,\"\")","v":""},0,0,0,0,"",0,0,0,"","",0,"",0,"",{"$f":"IF(ROW()<$S$4+2,IF('XML a procesar'!A2058=\"\",P2058,IF(MID('XML a procesar'!A2058,1,1)=\"<\",P2058,P2058+1)),P2058)","v":1}]
[{"$f":"IF('XML a procesar'!A2059>0,'XML a procesar'!A2059,\"\")","v":""},0,0,0,0,"",0,0,0,"","",0,"",0,"",{"$f":"IF(ROW()<$S$4+2,IF('XML a procesar'!A2059=\"\",P2059,IF(MID('XML a procesar'!A2059,1,1)=\"<\",P2059,P2059+1)),P2059)","v":1}]
[{"$f":"IF('XML a procesar'!A2060>0,'XML a procesar'!A2060,\"\")","v":""},0,0,0,0,"",0,0,0,"","",0,"",0,"",{"$f":"IF(ROW()<$S$4+2,IF('XML a procesar'!A2060=\"\",P2060,IF(MID('XML a procesar'!A2060,1,1)=\"<\",P2060,P2060+1)),P2060)","v":1}]
[{"$f":"IF('XML a procesar'!A2061>0,'XML a procesar'!A2061,\"\")","v":""},0,0,0,0,"",0,0,0,"","",0,"",0,"",{"$f":"IF(ROW()<$S$4+2,IF('XML a procesar'!A2061=\"\",P2061,IF(MID('XML a procesar'!A2061,1,1)=\"<\",P2061,P2061+1)),P2061)","v":1}]
[{"$f":"IF('XML a procesar'!A2062>0,'XML a procesar'!A2062,\"\")","v":""},0,0,0,0,"",0,0,0,"","",0,"",0,"",{"$f":"IF(ROW()<$S$4+2,IF('XML a procesar'!A2062=\"\",P2062,IF(MID('XML a procesar'!A2062,1,1)=\"<\",P2062,P2062+1)),P2062)","v":1}]
[{"$f":"IF('XML a procesar'!A2063>0,'XML a procesar'!A2063,\"\")","v":""},0,0,0,0,"",0,0,0,"","",0,"",0,"",{"$f":"IF(ROW()<$S$4+2,IF('XML a procesar'!A2063=\"\",P2063,IF(MID('XML a procesar'!A2063,1,1)=\"<\",P2063,P2063+1)),P2063)","v":1}]
[{"$f":"IF('XML a procesar'!A2064>0,'XML a procesar'!A2064,\"\")","v":""},0,0,0,0,"",0,0,0,"","",0,"",0,"",{"$f":"IF(ROW()<$S$4+2,IF('XML a procesar'!A2064=\"\",P2064,IF(MID('XML a procesar'!A2064,1,1)=\"<\",P2064,P2064+1)),P2064)","v":1}]
[{"$f":"IF('XML a procesar'!A2065>0,'XML a procesar'!A2065,\"\")","v":""},0,0,0,0,"",0,0,0,"","",0,"",0,"",{"$f":"IF(ROW()<$S$4+2,IF('XML a procesar'!A2065=\"\",P2065,IF(MID('XML a procesar'!A2065,1,1)=\"<\",P2065,P2065+1)),P2065)","v":1}]
[{"$f":"IF('XML a procesar'!A2066>0,'XML a procesar'!A2066,\"\")","v":""},0,0,0,0,"",0,0,0,"","",0,"",0,"",{"$f":"IF(ROW()<$S$4+2,IF('XML a procesar'!A2066=\"\",P2066,IF(MID('XML a procesar'!A2066,1,1)=\"<\",P2066,P2066+1)),P2066)","v":1}]
[{"$f":"IF('XML a procesar'!A2067>0,'XML a procesar'!A2067,\"\")","v":""},0,0,0,0,"",0,0,0,"","",0,"",0,"",{"$f":"IF(ROW()<$S$4+2,IF('XML a procesar'!A2067=\"\",P2067,IF(MID('XML a procesar'!A2067,1,1)=\"<\",P2067,P2067+1)),P2067)","v":1}]
[{"$f":"IF('XML a procesar'!A2068>0,'XML a procesar'!A2068,\"\")","v":""},0,0,0,0,"",0,0,0,"","",0,"",0,"",{"$f":"IF(ROW()<$S$4+2,IF('XML a procesar'!A2068=\"\",P2068,IF(MID('XML a procesar'!A2068,1,1)=\"<\",P2068,P2068+1)),P2068)","v":1}]
[{"$f":"IF('XML a procesar'!A2069>0,'XML a procesar'!A2069,\"\")","v":""},0,0,0,0,"",0,0,0,"","",0,"",0,"",{"$f":"IF(ROW()<$S$4+2,IF('XML a procesar'!A2069=\"\",P2069,IF(MID('XML a procesar'!A2069,1,1)=\"<\",P2069,P2069+1)),P2069)","v":1}]
[{"$f":"IF('XML a procesar'!A2070>0,'XML a procesar'!A2070,\"\")","v":""},0,0,0,0,"",0,0,0,"","",0,"",0,"",{"$f":"IF(ROW()<$S$4+2,IF('XML a procesar'!A2070=\"\",P2070,IF(MID('XML a procesar'!A2070,1,1)=\"<\",P2070,P2070+1)),P2070)","v":1}]
[{"$f":"IF('XML a procesar'!A2071>0,'XML a procesar'!A2071,\"\")","v":""},0,0,0,0,"",0,0,0,"","",0,"",0,"",{"$f":"IF(ROW()<$S$4+2,IF('XML a procesar'!A2071=\"\",P2071,IF(MID('XML a procesar'!A2071,1,1)=\"<\",P2071,P2071+1)),P2071)","v":1}]
[{"$f":"IF('XML a procesar'!A2072>0,'XML a procesar'!A2072,\"\")","v":""},0,0,0,0,"",0,0,0,"","",0,"",0,"",{"$f":"IF(ROW()<$S$4+2,IF('XML a procesar'!A2072=\"\",P2072,IF(MID('XML a procesar'!A2072,1,1)=\"<\",P2072,P2072+1)),P2072)","v":1}]
[{"$f":"IF('XML a procesar'!A2073>0,'XML a procesar'!A2073,\"\")","v":""},0,0,0,0,"",0,0,0,"","",0,"",0,"",{"$f":"IF(ROW()<$S$4+2,IF('XML a procesar'!A2073=\"\",P2073,IF(MID('XML a procesar'!A2073,1,1)=\"<\",P2073,P2073+1)),P2073)","v":1}]
[{"$f":"IF('XML a procesar'!A2074>0,'XML a procesar'!A2074,\"\")","v":""},0,0,0,0,"",0,0,0,"","",0,"",0,"",{"$f":"IF(ROW()<$S$4+2,IF('XML a procesar'!A2074=\"\",P2074,IF(MID('XML a procesar'!A2074,1,1)=\"<\",P2074,P2074+1)),P2074)","v":1}]
[{"$f":"IF('XML a procesar'!A2075>0,'XML a procesar'!A2075,\"\")","v":""},0,0,0,0,"",0,0,0,"","",0,"",0,"",{"$f":"IF(ROW()<$S$4+2,IF('XML a procesar'!A2075=\"\",P2075,IF(MID('XML a procesar'!A2075,1,1)=\"<\",P2075,P2075+1)),P2075)","v":1}]
[{"$f":"IF('XML a procesar'!A2076>0,'XML a procesar'!A2076,\"\")","v":""},0,0,0,0,"",0,0,0,"","",0,"",0,"",{"$f":"IF(ROW()<$S$4+2,IF('XML a procesar'!A2076=\"\",P2076,IF(MID('XML a procesar'!A2076,1,1)=\"<\",P2076,P2076+1)),P2076)","v":1}]
[{"$f":"IF('XML a procesar'!A2077>0,'XML a procesar'!A2077,\"\")","v":""},0,0,0,0,"",0,0,0,"","",0,"",0,"",{"$f":"IF(ROW()<$S$4+2,IF('XML a procesar'!A2077=\"\",P2077,IF(MID('XML a procesar'!A2077,1,1)=\"<\",P2077,P2077+1)),P2077)","v":1}]
[{"$f":"IF('XML a procesar'!A2078>0,'XML a procesar'!A2078,\"\")","v":""},0,0,0,0,"",0,0,0,"","",0,"",0,"",{"$f":"IF(ROW()<$S$4+2,IF('XML a procesar'!A2078=\"\",P2078,IF(MID('XML a procesar'!A2078,1,1)=\"<\",P2078,P2078+1)),P2078)","v":1}]
[{"$f":"IF('XML a procesar'!A2079>0,'XML a procesar'!A2079,\"\")","v":""},0,0,0,0,"",0,0,0,"","",0,"",0,"",{"$f":"IF(ROW()<$S$4+2,IF('XML a procesar'!A2079=\"\",P2079,IF(MID('XML a procesar'!A2079,1,1)=\"<\",P2079,P2079+1)),P2079)","v":1}]
[{"$f":"IF('XML a procesar'!A2080>0,'XML a procesar'!A2080,\"\")","v":""},0,0,0,0,"",0,0,0,"","",0,"",0,"",{"$f":"IF(ROW()<$S$4+2,IF('XML a procesar'!A2080=\"\",P2080,IF(MID('XML a procesar'!A2080,1,1)=\"<\",P2080,P2080+1)),P2080)","v":1}]
[{"$f":"IF('XML a procesar'!A2081>0,'XML a procesar'!A2081,\"\")","v":""},0,0,0,0,"",0,0,0,"","",0,"",0,"",{"$f":"IF(ROW()<$S$4+2,IF('XML a procesar'!A2081=\"\",P2081,IF(MID('XML a procesar'!A2081,1,1)=\"<\",P2081,P2081+1)),P2081)","v":1}]
[{"$f":"IF('XML a procesar'!A2082>0,'XML a procesar'!A2082,\"\")","v":""},0,0,0,0,"",0,0,0,"","",0,"",0,"",{"$f":"IF(ROW()<$S$4+2,IF('XML a procesar'!A2082=\"\",P2082,IF(MID('XML a procesar'!A2082,1,1)=\"<\",P2082,P2082+1)),P2082)","v":1}]
[{"$f":"IF('XML a procesar'!A2083>0,'XML a procesar'!A2083,\"\")","v":""},0,0,0,0,"",0,0,0,"","",0,"",0,"",{"$f":"IF(ROW()<$S$4+2,IF('XML a procesar'!A2083=\"\",P2083,IF(MID('XML a procesar'!A2083,1,1)=\"<\",P2083,P2083+1)),P2083)","v":1}]
[{"$f":"IF('XML a procesar'!A2084>0,'XML a procesar'!A2084,\"\")","v":""},0,0,0,0,"",0,0,0,"","",0,"",0,"",{"$f":"IF(ROW()<$S$4+2,IF('XML a procesar'!A2084=\"\",P2084,IF(MID('XML a procesar'!A2084,1,1)=\"<\",P2084,P2084+1)),P2084)","v":1}]
[{"$f":"IF('XML a procesar'!A2085>0,'XML a procesar'!A2085,\"\")","v":""},0,0,0,0,"",0,0,0,"","",0,"",0,"",{"$f":"IF(ROW()<$S$4+2,IF('XML a procesar'!A2085=\"\",P2085,IF(MID('XML a procesar'!A2085,1,1)=\"<\",P2085,P2085+1)),P2085)","v":1}]
[{"$f":"IF('XML a procesar'!A2086>0,'XML a procesar'!A2086,\"\")","v":""},0,0,0,0,"",0,0,0,"","",0,"",0,"",{"$f":"IF(ROW()<$S$4+2,IF('XML a procesar'!A2086=\"\",P2086,IF(MID('XML a procesar'!A2086,1,1)=\"<\",P2086,P2086+1)),P2086)","v":1}]
[{"$f":"IF('XML a procesar'!A2087>0,'XML a procesar'!A2087,\"\")","v":""},0,0,0,0,"",0,0,0,"","",0,"",0,"",{"$f":"IF(ROW()<$S$4+2,IF('XML a procesar'!A2087=\"\",P2087,IF(MID('XML a procesar'!A2087,1,1)=\"<\",P2087,P2087+1)),P2087)","v":1}]
[{"$f":"IF('XML a procesar'!A2088>0,'XML a procesar'!A2088,\"\")","v":""},0,0,0,0,"",0,0,0,"","",0,"",0,"",{"$f":"IF(ROW()<$S$4+2,IF('XML a procesar'!A2088=\"\",P2088,IF(MID('XML a procesar'!A2088,1,1)=\"<\",P2088,P2088+1)),P2088)","v":1}]
[{"$f":"IF('XML a procesar'!A2089>0,'XML a procesar'!A2089,\"\")","v":""},0,0,0,0,"",0,0,0,"","",0,"",0,"",{"$f":"IF(ROW()<$S$4+2,IF('XML a procesar'!A2089=\"\",P2089,IF(MID('XML a procesar'!A2089,1,1)=\"<\",P2089,P2089+1)),P2089)","v":1}]
[{"$f":"IF('XML a procesar'!A2090>0,'XML a procesar'!A2090,\"\")","v":""},0,0,0,0,"",0,0,0,"","",0,"",0,"",{"$f":"IF(ROW()<$S$4+2,IF('XML a procesar'!A2090=\"\",P2090,IF(MID('XML a procesar'!A2090,1,1)=\"<\",P2090,P2090+1)),P2090)","v":1}]
[{"$f":"IF('XML a procesar'!A2091>0,'XML a procesar'!A2091,\"\")","v":""},0,0,0,0,"",0,0,0,"","",0,"",0,"",{"$f":"IF(ROW()<$S$4+2,IF('XML a procesar'!A2091=\"\",P2091,IF(MID('XML a procesar'!A2091,1,1)=\"<\",P2091,P2091+1)),P2091)","v":1}]
[{"$f":"IF('XML a procesar'!A2092>0,'XML a procesar'!A2092,\"\")","v":""},0,0,0,0,"",0,0,0,"","",0,"",0,"",{"$f":"IF(ROW()<$S$4+2,IF('XML a procesar'!A2092=\"\",P2092,IF(MID('XML a procesar'!A2092,1,1)=\"<\",P2092,P2092+1)),P2092)","v":1}]
[{"$f":"IF('XML a procesar'!A2093>0,'XML a procesar'!A2093,\"\")","v":""},0,0,0,0,"",0,0,0,"","",0,"",0,"",{"$f":"IF(ROW()<$S$4+2,IF('XML a procesar'!A2093=\"\",P2093,IF(MID('XML a procesar'!A2093,1,1)=\"<\",P2093,P2093+1)),P2093)","v":1}]
[{"$f":"IF('XML a procesar'!A2094>0,'XML a procesar'!A2094,\"\")","v":""},0,0,0,0,"",0,0,0,"","",0,"",0,"",{"$f":"IF(ROW()<$S$4+2,IF('XML a procesar'!A2094=\"\",P2094,IF(MID('XML a procesar'!A2094,1,1)=\"<\",P2094,P2094+1)),P2094)","v":1}]
[{"$f":"IF('XML a procesar'!A2095>0,'XML a procesar'!A2095,\"\")","v":""},0,0,0,0,"",0,0,0,"","",0,"",0,"",{"$f":"IF(ROW()<$S$4+2,IF('XML a procesar'!A2095=\"\",P2095,IF(MID('XML a procesar'!A2095,1,1)=\"<\",P2095,P2095+1)),P2095)","v":1}]
[{"$f":"IF('XML a procesar'!A2096>0,'XML a procesar'!A2096,\"\")","v":""},0,0,0,0,"",0,0,0,"","",0,"",0,"",{"$f":"IF(ROW()<$S$4+2,IF('XML a procesar'!A2096=\"\",P2096,IF(MID('XML a procesar'!A2096,1,1)=\"<\",P2096,P2096+1)),P2096)","v":1}]
[{"$f":"IF('XML a procesar'!A2097>0,'XML a procesar'!A2097,\"\")","v":""},0,0,0,0,"",0,0,0,"","",0,"",0,"",{"$f":"IF(ROW()<$S$4+2,IF('XML a procesar'!A2097=\"\",P2097,IF(MID('XML a procesar'!A2097,1,1)=\"<\",P2097,P2097+1)),P2097)","v":1}]
[{"$f":"IF('XML a procesar'!A2098>0,'XML a procesar'!A2098,\"\")","v":""},0,0,0,0,"",0,0,0,"","",0,"",0,"",{"$f":"IF(ROW()<$S$4+2,IF('XML a procesar'!A2098=\"\",P2098,IF(MID('XML a procesar'!A2098,1,1)=\"<\",P2098,P2098+1)),P2098)","v":1}]
[{"$f":"IF('XML a procesar'!A2099>0,'XML a procesar'!A2099,\"\")","v":""},0,0,0,0,"",0,0,0,"","",0,"",0,"",{"$f":"IF(ROW()<$S$4+2,IF('XML a procesar'!A2099=\"\",P2099,IF(MID('XML a procesar'!A2099,1,1)=\"<\",P2099,P2099+1)),P2099)","v":1}]
[{"$f":"IF('XML a procesar'!A2100>0,'XML a procesar'!A2100,\"\")","v":""},0,0,0,0,"",0,0,0,"","",0,"",0,"",{"$f":"IF(ROW()<$S$4+2,IF('XML a procesar'!A2100=\"\",P2100,IF(MID('XML a procesar'!A2100,1,1)=\"<\",P2100,P2100+1)),P2100)","v":1}]
[{"$f":"IF('XML a procesar'!A2101>0,'XML a procesar'!A2101,\"\")","v":""},0,0,0,0,"",0,0,0,"","",0,"",0,"",{"$f":"IF(ROW()<$S$4+2,IF('XML a procesar'!A2101=\"\",P2101,IF(MID('XML a procesar'!A2101,1,1)=\"<\",P2101,P2101+1)),P2101)","v":1}]
[{"$f":"IF('XML a procesar'!A2102>0,'XML a procesar'!A2102,\"\")","v":""},0,0,0,0,"",0,0,0,"","",0,"",0,"",{"$f":"IF(ROW()<$S$4+2,IF('XML a procesar'!A2102=\"\",P2102,IF(MID('XML a procesar'!A2102,1,1)=\"<\",P2102,P2102+1)),P2102)","v":1}]
[{"$f":"IF('XML a procesar'!A2103>0,'XML a procesar'!A2103,\"\")","v":""},0,0,0,0,"",0,0,0,"","",0,"",0,"",{"$f":"IF(ROW()<$S$4+2,IF('XML a procesar'!A2103=\"\",P2103,IF(MID('XML a procesar'!A2103,1,1)=\"<\",P2103,P2103+1)),P2103)","v":1}]
[{"$f":"IF('XML a procesar'!A2104>0,'XML a procesar'!A2104,\"\")","v":""},0,0,0,0,"",0,0,0,"","",0,"",0,"",{"$f":"IF(ROW()<$S$4+2,IF('XML a procesar'!A2104=\"\",P2104,IF(MID('XML a procesar'!A2104,1,1)=\"<\",P2104,P2104+1)),P2104)","v":1}]
[{"$f":"IF('XML a procesar'!A2105>0,'XML a procesar'!A2105,\"\")","v":""},0,0,0,0,"",0,0,0,"","",0,"",0,"",{"$f":"IF(ROW()<$S$4+2,IF('XML a procesar'!A2105=\"\",P2105,IF(MID('XML a procesar'!A2105,1,1)=\"<\",P2105,P2105+1)),P2105)","v":1}]
[{"$f":"IF('XML a procesar'!A2106>0,'XML a procesar'!A2106,\"\")","v":""},0,0,0,0,"",0,0,0,"","",0,"",0,"",{"$f":"IF(ROW()<$S$4+2,IF('XML a procesar'!A2106=\"\",P2106,IF(MID('XML a procesar'!A2106,1,1)=\"<\",P2106,P2106+1)),P2106)","v":1}]
[{"$f":"IF('XML a procesar'!A2107>0,'XML a procesar'!A2107,\"\")","v":""},0,0,0,0,"",0,0,0,"","",0,"",0,"",{"$f":"IF(ROW()<$S$4+2,IF('XML a procesar'!A2107=\"\",P2107,IF(MID('XML a procesar'!A2107,1,1)=\"<\",P2107,P2107+1)),P2107)","v":1}]
[{"$f":"IF('XML a procesar'!A2108>0,'XML a procesar'!A2108,\"\")","v":""},0,0,0,0,"",0,0,0,"","",0,"",0,"",{"$f":"IF(ROW()<$S$4+2,IF('XML a procesar'!A2108=\"\",P2108,IF(MID('XML a procesar'!A2108,1,1)=\"<\",P2108,P2108+1)),P2108)","v":1}]
[{"$f":"IF('XML a procesar'!A2109>0,'XML a procesar'!A2109,\"\")","v":""},0,0,0,0,"",0,0,0,"","",0,"",0,"",{"$f":"IF(ROW()<$S$4+2,IF('XML a procesar'!A2109=\"\",P2109,IF(MID('XML a procesar'!A2109,1,1)=\"<\",P2109,P2109+1)),P2109)","v":1}]
[{"$f":"IF('XML a procesar'!A2110>0,'XML a procesar'!A2110,\"\")","v":""},0,0,0,0,"",0,0,0,"","",0,"",0,"",{"$f":"IF(ROW()<$S$4+2,IF('XML a procesar'!A2110=\"\",P2110,IF(MID('XML a procesar'!A2110,1,1)=\"<\",P2110,P2110+1)),P2110)","v":1}]
[{"$f":"IF('XML a procesar'!A2111>0,'XML a procesar'!A2111,\"\")","v":""},0,0,0,0,"",0,0,0,"","",0,"",0,"",{"$f":"IF(ROW()<$S$4+2,IF('XML a procesar'!A2111=\"\",P2111,IF(MID('XML a procesar'!A2111,1,1)=\"<\",P2111,P2111+1)),P2111)","v":1}]
[{"$f":"IF('XML a procesar'!A2112>0,'XML a procesar'!A2112,\"\")","v":""},{"$f":"IF(ISERROR(FIND(\"/doi.org/\",A2113,1)),0,1)","v":0},{"$f":"IF(LEFT(A2112,16)=\"<contrib contrib\",C2112+1,IF(LEFT(A2112,16)=\"</contrib-group>\",0,IF(LEFT(A2112,10)=\"</contrib>\",C2112,C2112)))","v":0},{"$f":"IF(AND(C2113>0,LEFT(A2113,7)=\"<email>\",ISNUMBER(SEARCH(\"@\",A2113,1))),C2113,IF(LEFT(A2113,10)=\"<alt-text>\",-1,0))","v":0},{"$f":"IF(D2113=0,E2112,E2112+1)","v":0},{"$f":"INDIRECT(ADDRESS(ROW()+INDIRECT(ADDRESS(ROW()+E2113,5)),1))","v":""},{"$f":"IF(LEFT(F2113,7)=\"<aff id\",_xlfn.NUMBERVALUE(MID(F2113,13,LEN(F2113)-14)),IF(F2113=\"</aff>\",G2112+1,G2112))","v":0},0,{"$f":"INDIRECT(ADDRESS(ROW()-INDIRECT(ADDRESS(ROW()-H2113,8)),8))","v":0},{"$f":"IF(J2112=\"Linea_para_MAIL_creada_por_LuXML\",\"</aff>\",IF(I2113>INDIRECT(ADDRESS(ROW()-I2113-1,8)),\"Linea_para_MAIL_creada_por_LuXML\",INDIRECT(ADDRESS(ROW()-I2113,6))))","v":""},"",{"$f":"IF(OR(MID(K2111,3,5)=\"page>\",MID(K2112,3,5)=\"page>\"),L2112,IF(OR(K2112=\"<history>\",K2113=\"<history>\"),L2112+1,L2112))","v":0},{"$f":"IF(L2113>L2112,IF(L2113=1,CONCATENATE(\"<fpage>\",$S$10,\"</fpage>\"),CONCATENATE(\"<lpage>\",$S$10+1,\"</lpage>\")),IF(ISERROR(INDIRECT(ADDRESS(ROW()-L2113,11),1)),\"\",INDIRECT(ADDRESS(ROW()-L2113,11),1)))","v":""},{"$f":"IF(N2112=-1,-1,IF(M2113=\"</counts>\",-1,IF(OR(LEFT(M2113,7)=\"<fpage>\",LEFT(M2113,7)=\"<lpage>\"),VALUE(MID(M2113,8,LEN(M2113)-15)),0)))","v":0},"",{"$f":"IF(ROW()<$S$4+2,IF('XML a procesar'!A2112=\"\",P2112,IF(MID('XML a procesar'!A2112,1,1)=\"<\",P2112,P2112+1)),P2112)","v":1}]
[{"$f":"IF('XML a procesar'!A2113>0,'XML a procesar'!A2113,\"\")","v":""},0,0,0,0,"",0,0,0,"","",0,"",0,{"$f":"IF(N2114>-1,INDIRECT(ADDRESS(ROW(),13)),IF(N2114<N2113,CONCATENATE(\"<page-count count=\",CHAR(34),1+LARGE(N:N,1)-LARGE(N:N,2),CHAR(34),\"/>\"),INDIRECT(ADDRESS(ROW()-1,13))))","v":""},{"$f":"IF(ROW()<$S$4+2,IF('XML a procesar'!A2113=\"\",P2113,IF(MID('XML a procesar'!A2113,1,1)=\"<\",P2113,P2113+1)),P2113)","v":1}]
[{"$f":"IF('XML a procesar'!A2114>0,'XML a procesar'!A2114,\"\")","v":""},0,0,0,0,"",0,{"$f":"IF(AND(G2114>0,G2115>G2114,NOT(ISERROR(MATCH(G2114,D:D,0)))),H2114+1,H2114)","v":0},0,"",{"$f":"IF(J2115=\"Linea_para_MAIL_creada_por_LuXML\",IF(ISERROR(MATCH(INDIRECT(ADDRESS(ROW()-G2115,7)),D:D,0)),J2115,INDIRECT(ADDRESS(MATCH(INDIRECT(ADDRESS(ROW()-G2115,7)),D:D,0),1))),J2115)","v":""},0,"",0,"",{"$f":"IF(ROW()<$S$4+2,IF('XML a procesar'!A2114=\"\",P2114,IF(MID('XML a procesar'!A2114,1,1)=\"<\",P2114,P2114+1)),P2114)","v":1}]
[{"$f":"IF('XML a procesar'!A2115>0,'XML a procesar'!A2115,\"\")","v":""},0,0,0,0,"",0,0,0,"","",0,"",0,"",{"$f":"IF(ROW()<$S$4+2,IF('XML a procesar'!A2115=\"\",P2115,IF(MID('XML a procesar'!A2115,1,1)=\"<\",P2115,P2115+1)),P2115)","v":1}]
[{"$f":"IF('XML a procesar'!A2116>0,'XML a procesar'!A2116,\"\")","v":""},0,0,0,0,"",0,0,0,"","",0,"",0,"",{"$f":"IF(ROW()<$S$4+2,IF('XML a procesar'!A2116=\"\",P2116,IF(MID('XML a procesar'!A2116,1,1)=\"<\",P2116,P2116+1)),P2116)","v":1}]
[{"$f":"IF('XML a procesar'!A2117>0,'XML a procesar'!A2117,\"\")","v":""},0,0,0,0,"",0,0,0,"","",0,"",0,"",{"$f":"IF(ROW()<$S$4+2,IF('XML a procesar'!A2117=\"\",P2117,IF(MID('XML a procesar'!A2117,1,1)=\"<\",P2117,P2117+1)),P2117)","v":1}]
[{"$f":"IF('XML a procesar'!A2118>0,'XML a procesar'!A2118,\"\")","v":""},0,0,0,0,"",0,0,0,"","",0,"",0,"",{"$f":"IF(ROW()<$S$4+2,IF('XML a procesar'!A2118=\"\",P2118,IF(MID('XML a procesar'!A2118,1,1)=\"<\",P2118,P2118+1)),P2118)","v":1}]
[{"$f":"IF('XML a procesar'!A2119>0,'XML a procesar'!A2119,\"\")","v":""},0,0,0,0,"",0,0,0,"","",0,"",0,"",{"$f":"IF(ROW()<$S$4+2,IF('XML a procesar'!A2119=\"\",P2119,IF(MID('XML a procesar'!A2119,1,1)=\"<\",P2119,P2119+1)),P2119)","v":1}]
[{"$f":"IF('XML a procesar'!A2120>0,'XML a procesar'!A2120,\"\")","v":""},0,0,0,0,"",0,0,0,"","",0,"",0,"",{"$f":"IF(ROW()<$S$4+2,IF('XML a procesar'!A2120=\"\",P2120,IF(MID('XML a procesar'!A2120,1,1)=\"<\",P2120,P2120+1)),P2120)","v":1}]
[{"$f":"IF('XML a procesar'!A2121>0,'XML a procesar'!A2121,\"\")","v":""},0,0,0,0,"",0,0,0,"","",0,"",0,"",{"$f":"IF(ROW()<$S$4+2,IF('XML a procesar'!A2121=\"\",P2121,IF(MID('XML a procesar'!A2121,1,1)=\"<\",P2121,P2121+1)),P2121)","v":1}]
[{"$f":"IF('XML a procesar'!A2122>0,'XML a procesar'!A2122,\"\")","v":""},0,0,0,0,"",0,0,0,"","",0,"",0,"",{"$f":"IF(ROW()<$S$4+2,IF('XML a procesar'!A2122=\"\",P2122,IF(MID('XML a procesar'!A2122,1,1)=\"<\",P2122,P2122+1)),P2122)","v":1}]
[{"$f":"IF('XML a procesar'!A2123>0,'XML a procesar'!A2123,\"\")","v":""},0,0,0,0,"",0,0,0,"","",0,"",0,"",{"$f":"IF(ROW()<$S$4+2,IF('XML a procesar'!A2123=\"\",P2123,IF(MID('XML a procesar'!A2123,1,1)=\"<\",P2123,P2123+1)),P2123)","v":1}]
[{"$f":"IF('XML a procesar'!A2124>0,'XML a procesar'!A2124,\"\")","v":""},0,0,0,0,"",0,0,0,"","",0,"",0,"",{"$f":"IF(ROW()<$S$4+2,IF('XML a procesar'!A2124=\"\",P2124,IF(MID('XML a procesar'!A2124,1,1)=\"<\",P2124,P2124+1)),P2124)","v":1}]
[{"$f":"IF('XML a procesar'!A2125>0,'XML a procesar'!A2125,\"\")","v":""},0,0,0,0,"",0,0,0,"","",0,"",0,"",{"$f":"IF(ROW()<$S$4+2,IF('XML a procesar'!A2125=\"\",P2125,IF(MID('XML a procesar'!A2125,1,1)=\"<\",P2125,P2125+1)),P2125)","v":1}]
[{"$f":"IF('XML a procesar'!A2126>0,'XML a procesar'!A2126,\"\")","v":""},0,0,0,0,"",0,0,0,"","",0,"",0,"",{"$f":"IF(ROW()<$S$4+2,IF('XML a procesar'!A2126=\"\",P2126,IF(MID('XML a procesar'!A2126,1,1)=\"<\",P2126,P2126+1)),P2126)","v":1}]
[{"$f":"IF('XML a procesar'!A2127>0,'XML a procesar'!A2127,\"\")","v":""},0,0,0,0,"",0,0,0,"","",0,"",0,"",{"$f":"IF(ROW()<$S$4+2,IF('XML a procesar'!A2127=\"\",P2127,IF(MID('XML a procesar'!A2127,1,1)=\"<\",P2127,P2127+1)),P2127)","v":1}]
[{"$f":"IF('XML a procesar'!A2128>0,'XML a procesar'!A2128,\"\")","v":""},0,0,0,0,"",0,0,0,"","",0,"",0,"",{"$f":"IF(ROW()<$S$4+2,IF('XML a procesar'!A2128=\"\",P2128,IF(MID('XML a procesar'!A2128,1,1)=\"<\",P2128,P2128+1)),P2128)","v":1}]
[{"$f":"IF('XML a procesar'!A2129>0,'XML a procesar'!A2129,\"\")","v":""},0,0,0,0,"",0,0,0,"","",0,"",0,"",{"$f":"IF(ROW()<$S$4+2,IF('XML a procesar'!A2129=\"\",P2129,IF(MID('XML a procesar'!A2129,1,1)=\"<\",P2129,P2129+1)),P2129)","v":1}]
[{"$f":"IF('XML a procesar'!A2130>0,'XML a procesar'!A2130,\"\")","v":""},0,0,0,0,"",0,0,0,"","",0,"",0,"",{"$f":"IF(ROW()<$S$4+2,IF('XML a procesar'!A2130=\"\",P2130,IF(MID('XML a procesar'!A2130,1,1)=\"<\",P2130,P2130+1)),P2130)","v":1}]
[{"$f":"IF('XML a procesar'!A2131>0,'XML a procesar'!A2131,\"\")","v":""},0,0,0,0,"",0,0,0,"","",0,"",0,"",{"$f":"IF(ROW()<$S$4+2,IF('XML a procesar'!A2131=\"\",P2131,IF(MID('XML a procesar'!A2131,1,1)=\"<\",P2131,P2131+1)),P2131)","v":1}]
[{"$f":"IF('XML a procesar'!A2132>0,'XML a procesar'!A2132,\"\")","v":""},0,0,0,0,"",0,0,0,"","",0,"",0,"",{"$f":"IF(ROW()<$S$4+2,IF('XML a procesar'!A2132=\"\",P2132,IF(MID('XML a procesar'!A2132,1,1)=\"<\",P2132,P2132+1)),P2132)","v":1}]
[{"$f":"IF('XML a procesar'!A2133>0,'XML a procesar'!A2133,\"\")","v":""},0,0,0,0,"",0,0,0,"","",0,"",0,"",{"$f":"IF(ROW()<$S$4+2,IF('XML a procesar'!A2133=\"\",P2133,IF(MID('XML a procesar'!A2133,1,1)=\"<\",P2133,P2133+1)),P2133)","v":1}]
[{"$f":"IF('XML a procesar'!A2134>0,'XML a procesar'!A2134,\"\")","v":""},0,0,0,0,"",0,0,0,"","",0,"",0,"",{"$f":"IF(ROW()<$S$4+2,IF('XML a procesar'!A2134=\"\",P2134,IF(MID('XML a procesar'!A2134,1,1)=\"<\",P2134,P2134+1)),P2134)","v":1}]
[{"$f":"IF('XML a procesar'!A2135>0,'XML a procesar'!A2135,\"\")","v":""},0,0,0,0,"",0,0,0,"","",0,"",0,"",{"$f":"IF(ROW()<$S$4+2,IF('XML a procesar'!A2135=\"\",P2135,IF(MID('XML a procesar'!A2135,1,1)=\"<\",P2135,P2135+1)),P2135)","v":1}]
[{"$f":"IF('XML a procesar'!A2136>0,'XML a procesar'!A2136,\"\")","v":""},0,0,0,0,"",0,0,0,"","",0,"",0,"",{"$f":"IF(ROW()<$S$4+2,IF('XML a procesar'!A2136=\"\",P2136,IF(MID('XML a procesar'!A2136,1,1)=\"<\",P2136,P2136+1)),P2136)","v":1}]
[{"$f":"IF('XML a procesar'!A2137>0,'XML a procesar'!A2137,\"\")","v":""},0,0,0,0,"",0,0,0,"","",0,"",0,"",{"$f":"IF(ROW()<$S$4+2,IF('XML a procesar'!A2137=\"\",P2137,IF(MID('XML a procesar'!A2137,1,1)=\"<\",P2137,P2137+1)),P2137)","v":1}]
[{"$f":"IF('XML a procesar'!A2138>0,'XML a procesar'!A2138,\"\")","v":""},0,0,0,0,"",0,0,0,"","",0,"",0,"",{"$f":"IF(ROW()<$S$4+2,IF('XML a procesar'!A2138=\"\",P2138,IF(MID('XML a procesar'!A2138,1,1)=\"<\",P2138,P2138+1)),P2138)","v":1}]
[{"$f":"IF('XML a procesar'!A2139>0,'XML a procesar'!A2139,\"\")","v":""},0,0,0,0,"",0,0,0,"","",0,"",0,"",{"$f":"IF(ROW()<$S$4+2,IF('XML a procesar'!A2139=\"\",P2139,IF(MID('XML a procesar'!A2139,1,1)=\"<\",P2139,P2139+1)),P2139)","v":1}]
[{"$f":"IF('XML a procesar'!A2140>0,'XML a procesar'!A2140,\"\")","v":""},0,0,0,0,"",0,0,0,"","",0,"",0,"",{"$f":"IF(ROW()<$S$4+2,IF('XML a procesar'!A2140=\"\",P2140,IF(MID('XML a procesar'!A2140,1,1)=\"<\",P2140,P2140+1)),P2140)","v":1}]
[{"$f":"IF('XML a procesar'!A2141>0,'XML a procesar'!A2141,\"\")","v":""},0,0,0,0,"",0,0,0,"","",0,"",0,"",{"$f":"IF(ROW()<$S$4+2,IF('XML a procesar'!A2141=\"\",P2141,IF(MID('XML a procesar'!A2141,1,1)=\"<\",P2141,P2141+1)),P2141)","v":1}]
[{"$f":"IF('XML a procesar'!A2142>0,'XML a procesar'!A2142,\"\")","v":""},0,0,0,0,"",0,0,0,"","",0,"",0,"",{"$f":"IF(ROW()<$S$4+2,IF('XML a procesar'!A2142=\"\",P2142,IF(MID('XML a procesar'!A2142,1,1)=\"<\",P2142,P2142+1)),P2142)","v":1}]
[{"$f":"IF('XML a procesar'!A2143>0,'XML a procesar'!A2143,\"\")","v":""},0,0,0,0,"",0,0,0,"","",0,"",0,"",{"$f":"IF(ROW()<$S$4+2,IF('XML a procesar'!A2143=\"\",P2143,IF(MID('XML a procesar'!A2143,1,1)=\"<\",P2143,P2143+1)),P2143)","v":1}]
[{"$f":"IF('XML a procesar'!A2144>0,'XML a procesar'!A2144,\"\")","v":""},0,0,0,0,"",0,0,0,"","",0,"",0,"",{"$f":"IF(ROW()<$S$4+2,IF('XML a procesar'!A2144=\"\",P2144,IF(MID('XML a procesar'!A2144,1,1)=\"<\",P2144,P2144+1)),P2144)","v":1}]
[{"$f":"IF('XML a procesar'!A2145>0,'XML a procesar'!A2145,\"\")","v":""},0,0,0,0,"",0,0,0,"","",0,"",0,"",{"$f":"IF(ROW()<$S$4+2,IF('XML a procesar'!A2145=\"\",P2145,IF(MID('XML a procesar'!A2145,1,1)=\"<\",P2145,P2145+1)),P2145)","v":1}]
[{"$f":"IF('XML a procesar'!A2146>0,'XML a procesar'!A2146,\"\")","v":""},0,0,0,0,"",0,0,0,"","",0,"",0,"",{"$f":"IF(ROW()<$S$4+2,IF('XML a procesar'!A2146=\"\",P2146,IF(MID('XML a procesar'!A2146,1,1)=\"<\",P2146,P2146+1)),P2146)","v":1}]
[{"$f":"IF('XML a procesar'!A2147>0,'XML a procesar'!A2147,\"\")","v":""},0,0,0,0,"",0,0,0,"","",0,"",0,"",{"$f":"IF(ROW()<$S$4+2,IF('XML a procesar'!A2147=\"\",P2147,IF(MID('XML a procesar'!A2147,1,1)=\"<\",P2147,P2147+1)),P2147)","v":1}]
[{"$f":"IF('XML a procesar'!A2148>0,'XML a procesar'!A2148,\"\")","v":""},0,0,0,0,"",0,0,0,"","",0,"",0,"",{"$f":"IF(ROW()<$S$4+2,IF('XML a procesar'!A2148=\"\",P2148,IF(MID('XML a procesar'!A2148,1,1)=\"<\",P2148,P2148+1)),P2148)","v":1}]
[{"$f":"IF('XML a procesar'!A2149>0,'XML a procesar'!A2149,\"\")","v":""},0,0,0,0,"",0,0,0,"","",0,"",0,"",{"$f":"IF(ROW()<$S$4+2,IF('XML a procesar'!A2149=\"\",P2149,IF(MID('XML a procesar'!A2149,1,1)=\"<\",P2149,P2149+1)),P2149)","v":1}]
[{"$f":"IF('XML a procesar'!A2150>0,'XML a procesar'!A2150,\"\")","v":""},0,0,0,0,"",0,0,0,"","",0,"",0,"",{"$f":"IF(ROW()<$S$4+2,IF('XML a procesar'!A2150=\"\",P2150,IF(MID('XML a procesar'!A2150,1,1)=\"<\",P2150,P2150+1)),P2150)","v":1}]
[{"$f":"IF('XML a procesar'!A2151>0,'XML a procesar'!A2151,\"\")","v":""},0,0,0,0,"",0,0,0,"","",0,"",0,"",{"$f":"IF(ROW()<$S$4+2,IF('XML a procesar'!A2151=\"\",P2151,IF(MID('XML a procesar'!A2151,1,1)=\"<\",P2151,P2151+1)),P2151)","v":1}]
[{"$f":"IF('XML a procesar'!A2152>0,'XML a procesar'!A2152,\"\")","v":""},0,0,0,0,"",0,0,0,"","",0,"",0,"",{"$f":"IF(ROW()<$S$4+2,IF('XML a procesar'!A2152=\"\",P2152,IF(MID('XML a procesar'!A2152,1,1)=\"<\",P2152,P2152+1)),P2152)","v":1}]
[{"$f":"IF('XML a procesar'!A2153>0,'XML a procesar'!A2153,\"\")","v":""},0,0,0,0,"",0,0,0,"","",0,"",0,"",{"$f":"IF(ROW()<$S$4+2,IF('XML a procesar'!A2153=\"\",P2153,IF(MID('XML a procesar'!A2153,1,1)=\"<\",P2153,P2153+1)),P2153)","v":1}]
[{"$f":"IF('XML a procesar'!A2154>0,'XML a procesar'!A2154,\"\")","v":""},0,0,0,0,"",0,0,0,"","",0,"",0,"",{"$f":"IF(ROW()<$S$4+2,IF('XML a procesar'!A2154=\"\",P2154,IF(MID('XML a procesar'!A2154,1,1)=\"<\",P2154,P2154+1)),P2154)","v":1}]
[{"$f":"IF('XML a procesar'!A2155>0,'XML a procesar'!A2155,\"\")","v":""},0,0,0,0,"",0,0,0,"","",0,"",0,"",{"$f":"IF(ROW()<$S$4+2,IF('XML a procesar'!A2155=\"\",P2155,IF(MID('XML a procesar'!A2155,1,1)=\"<\",P2155,P2155+1)),P2155)","v":1}]
[{"$f":"IF('XML a procesar'!A2156>0,'XML a procesar'!A2156,\"\")","v":""},0,0,0,0,"",0,0,0,"","",0,"",0,"",{"$f":"IF(ROW()<$S$4+2,IF('XML a procesar'!A2156=\"\",P2156,IF(MID('XML a procesar'!A2156,1,1)=\"<\",P2156,P2156+1)),P2156)","v":1}]
[{"$f":"IF('XML a procesar'!A2157>0,'XML a procesar'!A2157,\"\")","v":""},0,0,0,0,"",0,0,0,"","",0,"",0,"",{"$f":"IF(ROW()<$S$4+2,IF('XML a procesar'!A2157=\"\",P2157,IF(MID('XML a procesar'!A2157,1,1)=\"<\",P2157,P2157+1)),P2157)","v":1}]
[{"$f":"IF('XML a procesar'!A2158>0,'XML a procesar'!A2158,\"\")","v":""},0,0,0,0,"",0,0,0,"","",0,"",0,"",{"$f":"IF(ROW()<$S$4+2,IF('XML a procesar'!A2158=\"\",P2158,IF(MID('XML a procesar'!A2158,1,1)=\"<\",P2158,P2158+1)),P2158)","v":1}]
[{"$f":"IF('XML a procesar'!A2159>0,'XML a procesar'!A2159,\"\")","v":""},0,0,0,0,"",0,0,0,"","",0,"",0,"",{"$f":"IF(ROW()<$S$4+2,IF('XML a procesar'!A2159=\"\",P2159,IF(MID('XML a procesar'!A2159,1,1)=\"<\",P2159,P2159+1)),P2159)","v":1}]
[{"$f":"IF('XML a procesar'!A2160>0,'XML a procesar'!A2160,\"\")","v":""},0,0,0,0,"",0,0,0,"","",0,"",0,"",{"$f":"IF(ROW()<$S$4+2,IF('XML a procesar'!A2160=\"\",P2160,IF(MID('XML a procesar'!A2160,1,1)=\"<\",P2160,P2160+1)),P2160)","v":1}]
[{"$f":"IF('XML a procesar'!A2161>0,'XML a procesar'!A2161,\"\")","v":""},0,0,0,0,"",0,0,0,"","",0,"",0,"",{"$f":"IF(ROW()<$S$4+2,IF('XML a procesar'!A2161=\"\",P2161,IF(MID('XML a procesar'!A2161,1,1)=\"<\",P2161,P2161+1)),P2161)","v":1}]
[{"$f":"IF('XML a procesar'!A2162>0,'XML a procesar'!A2162,\"\")","v":""},0,0,0,0,"",0,0,0,"","",0,"",0,"",{"$f":"IF(ROW()<$S$4+2,IF('XML a procesar'!A2162=\"\",P2162,IF(MID('XML a procesar'!A2162,1,1)=\"<\",P2162,P2162+1)),P2162)","v":1}]
[{"$f":"IF('XML a procesar'!A2163>0,'XML a procesar'!A2163,\"\")","v":""},0,0,0,0,"",0,0,0,"","",0,"",0,"",{"$f":"IF(ROW()<$S$4+2,IF('XML a procesar'!A2163=\"\",P2163,IF(MID('XML a procesar'!A2163,1,1)=\"<\",P2163,P2163+1)),P2163)","v":1}]
[{"$f":"IF('XML a procesar'!A2164>0,'XML a procesar'!A2164,\"\")","v":""},0,0,0,0,"",0,0,0,"","",0,"",0,"",{"$f":"IF(ROW()<$S$4+2,IF('XML a procesar'!A2164=\"\",P2164,IF(MID('XML a procesar'!A2164,1,1)=\"<\",P2164,P2164+1)),P2164)","v":1}]
[{"$f":"IF('XML a procesar'!A2165>0,'XML a procesar'!A2165,\"\")","v":""},0,0,0,0,"",0,0,0,"","",0,"",0,"",{"$f":"IF(ROW()<$S$4+2,IF('XML a procesar'!A2165=\"\",P2165,IF(MID('XML a procesar'!A2165,1,1)=\"<\",P2165,P2165+1)),P2165)","v":1}]
[{"$f":"IF('XML a procesar'!A2166>0,'XML a procesar'!A2166,\"\")","v":""},0,0,0,0,"",0,0,0,"","",0,"",0,"",{"$f":"IF(ROW()<$S$4+2,IF('XML a procesar'!A2166=\"\",P2166,IF(MID('XML a procesar'!A2166,1,1)=\"<\",P2166,P2166+1)),P2166)","v":1}]
[{"$f":"IF('XML a procesar'!A2167>0,'XML a procesar'!A2167,\"\")","v":""},0,0,0,0,"",0,0,0,"","",0,"",0,"",{"$f":"IF(ROW()<$S$4+2,IF('XML a procesar'!A2167=\"\",P2167,IF(MID('XML a procesar'!A2167,1,1)=\"<\",P2167,P2167+1)),P2167)","v":1}]
[{"$f":"IF('XML a procesar'!A2168>0,'XML a procesar'!A2168,\"\")","v":""},0,0,0,0,"",0,0,0,"","",0,"",0,"",{"$f":"IF(ROW()<$S$4+2,IF('XML a procesar'!A2168=\"\",P2168,IF(MID('XML a procesar'!A2168,1,1)=\"<\",P2168,P2168+1)),P2168)","v":1}]
[{"$f":"IF('XML a procesar'!A2169>0,'XML a procesar'!A2169,\"\")","v":""},0,0,0,0,"",0,0,0,"","",0,"",0,"",{"$f":"IF(ROW()<$S$4+2,IF('XML a procesar'!A2169=\"\",P2169,IF(MID('XML a procesar'!A2169,1,1)=\"<\",P2169,P2169+1)),P2169)","v":1}]
[{"$f":"IF('XML a procesar'!A2170>0,'XML a procesar'!A2170,\"\")","v":""},0,0,0,0,"",0,0,0,"","",0,"",0,"",{"$f":"IF(ROW()<$S$4+2,IF('XML a procesar'!A2170=\"\",P2170,IF(MID('XML a procesar'!A2170,1,1)=\"<\",P2170,P2170+1)),P2170)","v":1}]
[{"$f":"IF('XML a procesar'!A2171>0,'XML a procesar'!A2171,\"\")","v":""},0,0,0,0,"",0,0,0,"","",0,"",0,"",{"$f":"IF(ROW()<$S$4+2,IF('XML a procesar'!A2171=\"\",P2171,IF(MID('XML a procesar'!A2171,1,1)=\"<\",P2171,P2171+1)),P2171)","v":1}]
[{"$f":"IF('XML a procesar'!A2172>0,'XML a procesar'!A2172,\"\")","v":""},0,0,0,0,"",0,0,0,"","",0,"",0,"",{"$f":"IF(ROW()<$S$4+2,IF('XML a procesar'!A2172=\"\",P2172,IF(MID('XML a procesar'!A2172,1,1)=\"<\",P2172,P2172+1)),P2172)","v":1}]
[{"$f":"IF('XML a procesar'!A2173>0,'XML a procesar'!A2173,\"\")","v":""},0,0,0,0,"",0,0,0,"","",0,"",0,"",{"$f":"IF(ROW()<$S$4+2,IF('XML a procesar'!A2173=\"\",P2173,IF(MID('XML a procesar'!A2173,1,1)=\"<\",P2173,P2173+1)),P2173)","v":1}]
[{"$f":"IF('XML a procesar'!A2174>0,'XML a procesar'!A2174,\"\")","v":""},0,0,0,0,"",0,0,0,"","",0,"",0,"",{"$f":"IF(ROW()<$S$4+2,IF('XML a procesar'!A2174=\"\",P2174,IF(MID('XML a procesar'!A2174,1,1)=\"<\",P2174,P2174+1)),P2174)","v":1}]
[{"$f":"IF('XML a procesar'!A2175>0,'XML a procesar'!A2175,\"\")","v":""},0,0,0,0,"",0,0,0,"","",0,"",0,"",{"$f":"IF(ROW()<$S$4+2,IF('XML a procesar'!A2175=\"\",P2175,IF(MID('XML a procesar'!A2175,1,1)=\"<\",P2175,P2175+1)),P2175)","v":1}]
[{"$f":"IF('XML a procesar'!A2176>0,'XML a procesar'!A2176,\"\")","v":""},{"$f":"IF(ISERROR(FIND(\"/doi.org/\",A2177,1)),0,1)","v":0},{"$f":"IF(LEFT(A2176,16)=\"<contrib contrib\",C2176+1,IF(LEFT(A2176,16)=\"</contrib-group>\",0,IF(LEFT(A2176,10)=\"</contrib>\",C2176,C2176)))","v":0},{"$f":"IF(AND(C2177>0,LEFT(A2177,7)=\"<email>\",ISNUMBER(SEARCH(\"@\",A2177,1))),C2177,IF(LEFT(A2177,10)=\"<alt-text>\",-1,0))","v":0},{"$f":"IF(D2177=0,E2176,E2176+1)","v":0},{"$f":"INDIRECT(ADDRESS(ROW()+INDIRECT(ADDRESS(ROW()+E2177,5)),1))","v":""},{"$f":"IF(LEFT(F2177,7)=\"<aff id\",_xlfn.NUMBERVALUE(MID(F2177,13,LEN(F2177)-14)),IF(F2177=\"</aff>\",G2176+1,G2176))","v":0},0,{"$f":"INDIRECT(ADDRESS(ROW()-INDIRECT(ADDRESS(ROW()-H2177,8)),8))","v":0},{"$f":"IF(J2176=\"Linea_para_MAIL_creada_por_LuXML\",\"</aff>\",IF(I2177>INDIRECT(ADDRESS(ROW()-I2177-1,8)),\"Linea_para_MAIL_creada_por_LuXML\",INDIRECT(ADDRESS(ROW()-I2177,6))))","v":""},"",{"$f":"IF(OR(MID(K2175,3,5)=\"page>\",MID(K2176,3,5)=\"page>\"),L2176,IF(OR(K2176=\"<history>\",K2177=\"<history>\"),L2176+1,L2176))","v":0},{"$f":"IF(L2177>L2176,IF(L2177=1,CONCATENATE(\"<fpage>\",$S$10,\"</fpage>\"),CONCATENATE(\"<lpage>\",$S$10+1,\"</lpage>\")),IF(ISERROR(INDIRECT(ADDRESS(ROW()-L2177,11),1)),\"\",INDIRECT(ADDRESS(ROW()-L2177,11),1)))","v":""},{"$f":"IF(N2176=-1,-1,IF(M2177=\"</counts>\",-1,IF(OR(LEFT(M2177,7)=\"<fpage>\",LEFT(M2177,7)=\"<lpage>\"),VALUE(MID(M2177,8,LEN(M2177)-15)),0)))","v":0},"",{"$f":"IF(ROW()<$S$4+2,IF('XML a procesar'!A2176=\"\",P2176,IF(MID('XML a procesar'!A2176,1,1)=\"<\",P2176,P2176+1)),P2176)","v":1}]
[{"$f":"IF('XML a procesar'!A2177>0,'XML a procesar'!A2177,\"\")","v":""},0,0,0,0,"",0,0,0,"","",0,"",0,{"$f":"IF(N2178>-1,INDIRECT(ADDRESS(ROW(),13)),IF(N2178<N2177,CONCATENATE(\"<page-count count=\",CHAR(34),1+LARGE(N:N,1)-LARGE(N:N,2),CHAR(34),\"/>\"),INDIRECT(ADDRESS(ROW()-1,13))))","v":""},{"$f":"IF(ROW()<$S$4+2,IF('XML a procesar'!A2177=\"\",P2177,IF(MID('XML a procesar'!A2177,1,1)=\"<\",P2177,P2177+1)),P2177)","v":1}]
[{"$f":"IF('XML a procesar'!A2178>0,'XML a procesar'!A2178,\"\")","v":""},0,0,0,0,"",0,{"$f":"IF(AND(G2178>0,G2179>G2178,NOT(ISERROR(MATCH(G2178,D:D,0)))),H2178+1,H2178)","v":0},0,"",{"$f":"IF(J2179=\"Linea_para_MAIL_creada_por_LuXML\",IF(ISERROR(MATCH(INDIRECT(ADDRESS(ROW()-G2179,7)),D:D,0)),J2179,INDIRECT(ADDRESS(MATCH(INDIRECT(ADDRESS(ROW()-G2179,7)),D:D,0),1))),J2179)","v":""},0,"",0,"",{"$f":"IF(ROW()<$S$4+2,IF('XML a procesar'!A2178=\"\",P2178,IF(MID('XML a procesar'!A2178,1,1)=\"<\",P2178,P2178+1)),P2178)","v":1}]
[{"$f":"IF('XML a procesar'!A2179>0,'XML a procesar'!A2179,\"\")","v":""},0,0,0,0,"",0,0,0,"","",0,"",0,"",{"$f":"IF(ROW()<$S$4+2,IF('XML a procesar'!A2179=\"\",P2179,IF(MID('XML a procesar'!A2179,1,1)=\"<\",P2179,P2179+1)),P2179)","v":1}]
[{"$f":"IF('XML a procesar'!A2180>0,'XML a procesar'!A2180,\"\")","v":""},0,0,0,0,"",0,0,0,"","",0,"",0,"",{"$f":"IF(ROW()<$S$4+2,IF('XML a procesar'!A2180=\"\",P2180,IF(MID('XML a procesar'!A2180,1,1)=\"<\",P2180,P2180+1)),P2180)","v":1}]
[{"$f":"IF('XML a procesar'!A2181>0,'XML a procesar'!A2181,\"\")","v":""},0,0,0,0,"",0,0,0,"","",0,"",0,"",{"$f":"IF(ROW()<$S$4+2,IF('XML a procesar'!A2181=\"\",P2181,IF(MID('XML a procesar'!A2181,1,1)=\"<\",P2181,P2181+1)),P2181)","v":1}]
[{"$f":"IF('XML a procesar'!A2182>0,'XML a procesar'!A2182,\"\")","v":""},0,0,0,0,"",0,0,0,"","",0,"",0,"",{"$f":"IF(ROW()<$S$4+2,IF('XML a procesar'!A2182=\"\",P2182,IF(MID('XML a procesar'!A2182,1,1)=\"<\",P2182,P2182+1)),P2182)","v":1}]
[{"$f":"IF('XML a procesar'!A2183>0,'XML a procesar'!A2183,\"\")","v":""},0,0,0,0,"",0,0,0,"","",0,"",0,"",{"$f":"IF(ROW()<$S$4+2,IF('XML a procesar'!A2183=\"\",P2183,IF(MID('XML a procesar'!A2183,1,1)=\"<\",P2183,P2183+1)),P2183)","v":1}]
[{"$f":"IF('XML a procesar'!A2184>0,'XML a procesar'!A2184,\"\")","v":""},0,0,0,0,"",0,0,0,"","",0,"",0,"",{"$f":"IF(ROW()<$S$4+2,IF('XML a procesar'!A2184=\"\",P2184,IF(MID('XML a procesar'!A2184,1,1)=\"<\",P2184,P2184+1)),P2184)","v":1}]
[{"$f":"IF('XML a procesar'!A2185>0,'XML a procesar'!A2185,\"\")","v":""},0,0,0,0,"",0,0,0,"","",0,"",0,"",{"$f":"IF(ROW()<$S$4+2,IF('XML a procesar'!A2185=\"\",P2185,IF(MID('XML a procesar'!A2185,1,1)=\"<\",P2185,P2185+1)),P2185)","v":1}]
[{"$f":"IF('XML a procesar'!A2186>0,'XML a procesar'!A2186,\"\")","v":""},0,0,0,0,"",0,0,0,"","",0,"",0,"",{"$f":"IF(ROW()<$S$4+2,IF('XML a procesar'!A2186=\"\",P2186,IF(MID('XML a procesar'!A2186,1,1)=\"<\",P2186,P2186+1)),P2186)","v":1}]
[{"$f":"IF('XML a procesar'!A2187>0,'XML a procesar'!A2187,\"\")","v":""},0,0,0,0,"",0,0,0,"","",0,"",0,"",{"$f":"IF(ROW()<$S$4+2,IF('XML a procesar'!A2187=\"\",P2187,IF(MID('XML a procesar'!A2187,1,1)=\"<\",P2187,P2187+1)),P2187)","v":1}]
[{"$f":"IF('XML a procesar'!A2188>0,'XML a procesar'!A2188,\"\")","v":""},0,0,0,0,"",0,0,0,"","",0,"",0,"",{"$f":"IF(ROW()<$S$4+2,IF('XML a procesar'!A2188=\"\",P2188,IF(MID('XML a procesar'!A2188,1,1)=\"<\",P2188,P2188+1)),P2188)","v":1}]
[{"$f":"IF('XML a procesar'!A2189>0,'XML a procesar'!A2189,\"\")","v":""},0,0,0,0,"",0,0,0,"","",0,"",0,"",{"$f":"IF(ROW()<$S$4+2,IF('XML a procesar'!A2189=\"\",P2189,IF(MID('XML a procesar'!A2189,1,1)=\"<\",P2189,P2189+1)),P2189)","v":1}]
[{"$f":"IF('XML a procesar'!A2190>0,'XML a procesar'!A2190,\"\")","v":""},0,0,0,0,"",0,0,0,"","",0,"",0,"",{"$f":"IF(ROW()<$S$4+2,IF('XML a procesar'!A2190=\"\",P2190,IF(MID('XML a procesar'!A2190,1,1)=\"<\",P2190,P2190+1)),P2190)","v":1}]
[{"$f":"IF('XML a procesar'!A2191>0,'XML a procesar'!A2191,\"\")","v":""},0,0,0,0,"",0,0,0,"","",0,"",0,"",{"$f":"IF(ROW()<$S$4+2,IF('XML a procesar'!A2191=\"\",P2191,IF(MID('XML a procesar'!A2191,1,1)=\"<\",P2191,P2191+1)),P2191)","v":1}]
[{"$f":"IF('XML a procesar'!A2192>0,'XML a procesar'!A2192,\"\")","v":""},0,0,0,0,"",0,0,0,"","",0,"",0,"",{"$f":"IF(ROW()<$S$4+2,IF('XML a procesar'!A2192=\"\",P2192,IF(MID('XML a procesar'!A2192,1,1)=\"<\",P2192,P2192+1)),P2192)","v":1}]
[{"$f":"IF('XML a procesar'!A2193>0,'XML a procesar'!A2193,\"\")","v":""},0,0,0,0,"",0,0,0,"","",0,"",0,"",{"$f":"IF(ROW()<$S$4+2,IF('XML a procesar'!A2193=\"\",P2193,IF(MID('XML a procesar'!A2193,1,1)=\"<\",P2193,P2193+1)),P2193)","v":1}]
[{"$f":"IF('XML a procesar'!A2194>0,'XML a procesar'!A2194,\"\")","v":""},0,0,0,0,"",0,0,0,"","",0,"",0,"",{"$f":"IF(ROW()<$S$4+2,IF('XML a procesar'!A2194=\"\",P2194,IF(MID('XML a procesar'!A2194,1,1)=\"<\",P2194,P2194+1)),P2194)","v":1}]
[{"$f":"IF('XML a procesar'!A2195>0,'XML a procesar'!A2195,\"\")","v":""},0,0,0,0,"",0,0,0,"","",0,"",0,"",{"$f":"IF(ROW()<$S$4+2,IF('XML a procesar'!A2195=\"\",P2195,IF(MID('XML a procesar'!A2195,1,1)=\"<\",P2195,P2195+1)),P2195)","v":1}]
[{"$f":"IF('XML a procesar'!A2196>0,'XML a procesar'!A2196,\"\")","v":""},0,0,0,0,"",0,0,0,"","",0,"",0,"",{"$f":"IF(ROW()<$S$4+2,IF('XML a procesar'!A2196=\"\",P2196,IF(MID('XML a procesar'!A2196,1,1)=\"<\",P2196,P2196+1)),P2196)","v":1}]
[{"$f":"IF('XML a procesar'!A2197>0,'XML a procesar'!A2197,\"\")","v":""},0,0,0,0,"",0,0,0,"","",0,"",0,"",{"$f":"IF(ROW()<$S$4+2,IF('XML a procesar'!A2197=\"\",P2197,IF(MID('XML a procesar'!A2197,1,1)=\"<\",P2197,P2197+1)),P2197)","v":1}]
[{"$f":"IF('XML a procesar'!A2198>0,'XML a procesar'!A2198,\"\")","v":""},0,0,0,0,"",0,0,0,"","",0,"",0,"",{"$f":"IF(ROW()<$S$4+2,IF('XML a procesar'!A2198=\"\",P2198,IF(MID('XML a procesar'!A2198,1,1)=\"<\",P2198,P2198+1)),P2198)","v":1}]
[{"$f":"IF('XML a procesar'!A2199>0,'XML a procesar'!A2199,\"\")","v":""},0,0,0,0,"",0,0,0,"","",0,"",0,"",{"$f":"IF(ROW()<$S$4+2,IF('XML a procesar'!A2199=\"\",P2199,IF(MID('XML a procesar'!A2199,1,1)=\"<\",P2199,P2199+1)),P2199)","v":1}]
[{"$f":"IF('XML a procesar'!A2200>0,'XML a procesar'!A2200,\"\")","v":""},0,0,0,0,"",0,0,0,"","",0,"",0,"",{"$f":"IF(ROW()<$S$4+2,IF('XML a procesar'!A2200=\"\",P2200,IF(MID('XML a procesar'!A2200,1,1)=\"<\",P2200,P2200+1)),P2200)","v":1}]
[{"$f":"IF('XML a procesar'!A2201>0,'XML a procesar'!A2201,\"\")","v":""},0,0,0,0,"",0,0,0,"","",0,"",0,"",{"$f":"IF(ROW()<$S$4+2,IF('XML a procesar'!A2201=\"\",P2201,IF(MID('XML a procesar'!A2201,1,1)=\"<\",P2201,P2201+1)),P2201)","v":1}]
[{"$f":"IF('XML a procesar'!A2202>0,'XML a procesar'!A2202,\"\")","v":""},0,0,0,0,"",0,0,0,"","",0,"",0,"",{"$f":"IF(ROW()<$S$4+2,IF('XML a procesar'!A2202=\"\",P2202,IF(MID('XML a procesar'!A2202,1,1)=\"<\",P2202,P2202+1)),P2202)","v":1}]
[{"$f":"IF('XML a procesar'!A2203>0,'XML a procesar'!A2203,\"\")","v":""},0,0,0,0,"",0,0,0,"","",0,"",0,"",{"$f":"IF(ROW()<$S$4+2,IF('XML a procesar'!A2203=\"\",P2203,IF(MID('XML a procesar'!A2203,1,1)=\"<\",P2203,P2203+1)),P2203)","v":1}]
[{"$f":"IF('XML a procesar'!A2204>0,'XML a procesar'!A2204,\"\")","v":""},0,0,0,0,"",0,0,0,"","",0,"",0,"",{"$f":"IF(ROW()<$S$4+2,IF('XML a procesar'!A2204=\"\",P2204,IF(MID('XML a procesar'!A2204,1,1)=\"<\",P2204,P2204+1)),P2204)","v":1}]
[{"$f":"IF('XML a procesar'!A2205>0,'XML a procesar'!A2205,\"\")","v":""},0,0,0,0,"",0,0,0,"","",0,"",0,"",{"$f":"IF(ROW()<$S$4+2,IF('XML a procesar'!A2205=\"\",P2205,IF(MID('XML a procesar'!A2205,1,1)=\"<\",P2205,P2205+1)),P2205)","v":1}]
[{"$f":"IF('XML a procesar'!A2206>0,'XML a procesar'!A2206,\"\")","v":""},0,0,0,0,"",0,0,0,"","",0,"",0,"",{"$f":"IF(ROW()<$S$4+2,IF('XML a procesar'!A2206=\"\",P2206,IF(MID('XML a procesar'!A2206,1,1)=\"<\",P2206,P2206+1)),P2206)","v":1}]
[{"$f":"IF('XML a procesar'!A2207>0,'XML a procesar'!A2207,\"\")","v":""},0,0,0,0,"",0,0,0,"","",0,"",0,"",{"$f":"IF(ROW()<$S$4+2,IF('XML a procesar'!A2207=\"\",P2207,IF(MID('XML a procesar'!A2207,1,1)=\"<\",P2207,P2207+1)),P2207)","v":1}]
[{"$f":"IF('XML a procesar'!A2208>0,'XML a procesar'!A2208,\"\")","v":""},0,0,0,0,"",0,0,0,"","",0,"",0,"",{"$f":"IF(ROW()<$S$4+2,IF('XML a procesar'!A2208=\"\",P2208,IF(MID('XML a procesar'!A2208,1,1)=\"<\",P2208,P2208+1)),P2208)","v":1}]
[{"$f":"IF('XML a procesar'!A2209>0,'XML a procesar'!A2209,\"\")","v":""},0,0,0,0,"",0,0,0,"","",0,"",0,"",{"$f":"IF(ROW()<$S$4+2,IF('XML a procesar'!A2209=\"\",P2209,IF(MID('XML a procesar'!A2209,1,1)=\"<\",P2209,P2209+1)),P2209)","v":1}]
[{"$f":"IF('XML a procesar'!A2210>0,'XML a procesar'!A2210,\"\")","v":""},0,0,0,0,"",0,0,0,"","",0,"",0,"",{"$f":"IF(ROW()<$S$4+2,IF('XML a procesar'!A2210=\"\",P2210,IF(MID('XML a procesar'!A2210,1,1)=\"<\",P2210,P2210+1)),P2210)","v":1}]
[{"$f":"IF('XML a procesar'!A2211>0,'XML a procesar'!A2211,\"\")","v":""},0,0,0,0,"",0,0,0,"","",0,"",0,"",{"$f":"IF(ROW()<$S$4+2,IF('XML a procesar'!A2211=\"\",P2211,IF(MID('XML a procesar'!A2211,1,1)=\"<\",P2211,P2211+1)),P2211)","v":1}]
[{"$f":"IF('XML a procesar'!A2212>0,'XML a procesar'!A2212,\"\")","v":""},0,0,0,0,"",0,0,0,"","",0,"",0,"",{"$f":"IF(ROW()<$S$4+2,IF('XML a procesar'!A2212=\"\",P2212,IF(MID('XML a procesar'!A2212,1,1)=\"<\",P2212,P2212+1)),P2212)","v":1}]
[{"$f":"IF('XML a procesar'!A2213>0,'XML a procesar'!A2213,\"\")","v":""},0,0,0,0,"",0,0,0,"","",0,"",0,"",{"$f":"IF(ROW()<$S$4+2,IF('XML a procesar'!A2213=\"\",P2213,IF(MID('XML a procesar'!A2213,1,1)=\"<\",P2213,P2213+1)),P2213)","v":1}]
[{"$f":"IF('XML a procesar'!A2214>0,'XML a procesar'!A2214,\"\")","v":""},0,0,0,0,"",0,0,0,"","",0,"",0,"",{"$f":"IF(ROW()<$S$4+2,IF('XML a procesar'!A2214=\"\",P2214,IF(MID('XML a procesar'!A2214,1,1)=\"<\",P2214,P2214+1)),P2214)","v":1}]
[{"$f":"IF('XML a procesar'!A2215>0,'XML a procesar'!A2215,\"\")","v":""},0,0,0,0,"",0,0,0,"","",0,"",0,"",{"$f":"IF(ROW()<$S$4+2,IF('XML a procesar'!A2215=\"\",P2215,IF(MID('XML a procesar'!A2215,1,1)=\"<\",P2215,P2215+1)),P2215)","v":1}]
[{"$f":"IF('XML a procesar'!A2216>0,'XML a procesar'!A2216,\"\")","v":""},0,0,0,0,"",0,0,0,"","",0,"",0,"",{"$f":"IF(ROW()<$S$4+2,IF('XML a procesar'!A2216=\"\",P2216,IF(MID('XML a procesar'!A2216,1,1)=\"<\",P2216,P2216+1)),P2216)","v":1}]
[{"$f":"IF('XML a procesar'!A2217>0,'XML a procesar'!A2217,\"\")","v":""},0,0,0,0,"",0,0,0,"","",0,"",0,"",{"$f":"IF(ROW()<$S$4+2,IF('XML a procesar'!A2217=\"\",P2217,IF(MID('XML a procesar'!A2217,1,1)=\"<\",P2217,P2217+1)),P2217)","v":1}]
[{"$f":"IF('XML a procesar'!A2218>0,'XML a procesar'!A2218,\"\")","v":""},0,0,0,0,"",0,0,0,"","",0,"",0,"",{"$f":"IF(ROW()<$S$4+2,IF('XML a procesar'!A2218=\"\",P2218,IF(MID('XML a procesar'!A2218,1,1)=\"<\",P2218,P2218+1)),P2218)","v":1}]
[{"$f":"IF('XML a procesar'!A2219>0,'XML a procesar'!A2219,\"\")","v":""},0,0,0,0,"",0,0,0,"","",0,"",0,"",{"$f":"IF(ROW()<$S$4+2,IF('XML a procesar'!A2219=\"\",P2219,IF(MID('XML a procesar'!A2219,1,1)=\"<\",P2219,P2219+1)),P2219)","v":1}]
[{"$f":"IF('XML a procesar'!A2220>0,'XML a procesar'!A2220,\"\")","v":""},0,0,0,0,"",0,0,0,"","",0,"",0,"",{"$f":"IF(ROW()<$S$4+2,IF('XML a procesar'!A2220=\"\",P2220,IF(MID('XML a procesar'!A2220,1,1)=\"<\",P2220,P2220+1)),P2220)","v":1}]
[{"$f":"IF('XML a procesar'!A2221>0,'XML a procesar'!A2221,\"\")","v":""},0,0,0,0,"",0,0,0,"","",0,"",0,"",{"$f":"IF(ROW()<$S$4+2,IF('XML a procesar'!A2221=\"\",P2221,IF(MID('XML a procesar'!A2221,1,1)=\"<\",P2221,P2221+1)),P2221)","v":1}]
[{"$f":"IF('XML a procesar'!A2222>0,'XML a procesar'!A2222,\"\")","v":""},0,0,0,0,"",0,0,0,"","",0,"",0,"",{"$f":"IF(ROW()<$S$4+2,IF('XML a procesar'!A2222=\"\",P2222,IF(MID('XML a procesar'!A2222,1,1)=\"<\",P2222,P2222+1)),P2222)","v":1}]
[{"$f":"IF('XML a procesar'!A2223>0,'XML a procesar'!A2223,\"\")","v":""},0,0,0,0,"",0,0,0,"","",0,"",0,"",{"$f":"IF(ROW()<$S$4+2,IF('XML a procesar'!A2223=\"\",P2223,IF(MID('XML a procesar'!A2223,1,1)=\"<\",P2223,P2223+1)),P2223)","v":1}]
[{"$f":"IF('XML a procesar'!A2224>0,'XML a procesar'!A2224,\"\")","v":""},0,0,0,0,"",0,0,0,"","",0,"",0,"",{"$f":"IF(ROW()<$S$4+2,IF('XML a procesar'!A2224=\"\",P2224,IF(MID('XML a procesar'!A2224,1,1)=\"<\",P2224,P2224+1)),P2224)","v":1}]
[{"$f":"IF('XML a procesar'!A2225>0,'XML a procesar'!A2225,\"\")","v":""},0,0,0,0,"",0,0,0,"","",0,"",0,"",{"$f":"IF(ROW()<$S$4+2,IF('XML a procesar'!A2225=\"\",P2225,IF(MID('XML a procesar'!A2225,1,1)=\"<\",P2225,P2225+1)),P2225)","v":1}]
[{"$f":"IF('XML a procesar'!A2226>0,'XML a procesar'!A2226,\"\")","v":""},0,0,0,0,"",0,0,0,"","",0,"",0,"",{"$f":"IF(ROW()<$S$4+2,IF('XML a procesar'!A2226=\"\",P2226,IF(MID('XML a procesar'!A2226,1,1)=\"<\",P2226,P2226+1)),P2226)","v":1}]
[{"$f":"IF('XML a procesar'!A2227>0,'XML a procesar'!A2227,\"\")","v":""},0,0,0,0,"",0,0,0,"","",0,"",0,"",{"$f":"IF(ROW()<$S$4+2,IF('XML a procesar'!A2227=\"\",P2227,IF(MID('XML a procesar'!A2227,1,1)=\"<\",P2227,P2227+1)),P2227)","v":1}]
[{"$f":"IF('XML a procesar'!A2228>0,'XML a procesar'!A2228,\"\")","v":""},0,0,0,0,"",0,0,0,"","",0,"",0,"",{"$f":"IF(ROW()<$S$4+2,IF('XML a procesar'!A2228=\"\",P2228,IF(MID('XML a procesar'!A2228,1,1)=\"<\",P2228,P2228+1)),P2228)","v":1}]
[{"$f":"IF('XML a procesar'!A2229>0,'XML a procesar'!A2229,\"\")","v":""},0,0,0,0,"",0,0,0,"","",0,"",0,"",{"$f":"IF(ROW()<$S$4+2,IF('XML a procesar'!A2229=\"\",P2229,IF(MID('XML a procesar'!A2229,1,1)=\"<\",P2229,P2229+1)),P2229)","v":1}]
[{"$f":"IF('XML a procesar'!A2230>0,'XML a procesar'!A2230,\"\")","v":""},0,0,0,0,"",0,0,0,"","",0,"",0,"",{"$f":"IF(ROW()<$S$4+2,IF('XML a procesar'!A2230=\"\",P2230,IF(MID('XML a procesar'!A2230,1,1)=\"<\",P2230,P2230+1)),P2230)","v":1}]
[{"$f":"IF('XML a procesar'!A2231>0,'XML a procesar'!A2231,\"\")","v":""},0,0,0,0,"",0,0,0,"","",0,"",0,"",{"$f":"IF(ROW()<$S$4+2,IF('XML a procesar'!A2231=\"\",P2231,IF(MID('XML a procesar'!A2231,1,1)=\"<\",P2231,P2231+1)),P2231)","v":1}]
[{"$f":"IF('XML a procesar'!A2232>0,'XML a procesar'!A2232,\"\")","v":""},0,0,0,0,"",0,0,0,"","",0,"",0,"",{"$f":"IF(ROW()<$S$4+2,IF('XML a procesar'!A2232=\"\",P2232,IF(MID('XML a procesar'!A2232,1,1)=\"<\",P2232,P2232+1)),P2232)","v":1}]
[{"$f":"IF('XML a procesar'!A2233>0,'XML a procesar'!A2233,\"\")","v":""},0,0,0,0,"",0,0,0,"","",0,"",0,"",{"$f":"IF(ROW()<$S$4+2,IF('XML a procesar'!A2233=\"\",P2233,IF(MID('XML a procesar'!A2233,1,1)=\"<\",P2233,P2233+1)),P2233)","v":1}]
[{"$f":"IF('XML a procesar'!A2234>0,'XML a procesar'!A2234,\"\")","v":""},0,0,0,0,"",0,0,0,"","",0,"",0,"",{"$f":"IF(ROW()<$S$4+2,IF('XML a procesar'!A2234=\"\",P2234,IF(MID('XML a procesar'!A2234,1,1)=\"<\",P2234,P2234+1)),P2234)","v":1}]
[{"$f":"IF('XML a procesar'!A2235>0,'XML a procesar'!A2235,\"\")","v":""},0,0,0,0,"",0,0,0,"","",0,"",0,"",{"$f":"IF(ROW()<$S$4+2,IF('XML a procesar'!A2235=\"\",P2235,IF(MID('XML a procesar'!A2235,1,1)=\"<\",P2235,P2235+1)),P2235)","v":1}]
[{"$f":"IF('XML a procesar'!A2236>0,'XML a procesar'!A2236,\"\")","v":""},0,0,0,0,"",0,0,0,"","",0,"",0,"",{"$f":"IF(ROW()<$S$4+2,IF('XML a procesar'!A2236=\"\",P2236,IF(MID('XML a procesar'!A2236,1,1)=\"<\",P2236,P2236+1)),P2236)","v":1}]
[{"$f":"IF('XML a procesar'!A2237>0,'XML a procesar'!A2237,\"\")","v":""},0,0,0,0,"",0,0,0,"","",0,"",0,"",{"$f":"IF(ROW()<$S$4+2,IF('XML a procesar'!A2237=\"\",P2237,IF(MID('XML a procesar'!A2237,1,1)=\"<\",P2237,P2237+1)),P2237)","v":1}]
[{"$f":"IF('XML a procesar'!A2238>0,'XML a procesar'!A2238,\"\")","v":""},0,0,0,0,"",0,0,0,"","",0,"",0,"",{"$f":"IF(ROW()<$S$4+2,IF('XML a procesar'!A2238=\"\",P2238,IF(MID('XML a procesar'!A2238,1,1)=\"<\",P2238,P2238+1)),P2238)","v":1}]
[{"$f":"IF('XML a procesar'!A2239>0,'XML a procesar'!A2239,\"\")","v":""},0,0,0,0,"",0,0,0,"","",0,"",0,"",{"$f":"IF(ROW()<$S$4+2,IF('XML a procesar'!A2239=\"\",P2239,IF(MID('XML a procesar'!A2239,1,1)=\"<\",P2239,P2239+1)),P2239)","v":1}]
[{"$f":"IF('XML a procesar'!A2240>0,'XML a procesar'!A2240,\"\")","v":""},{"$f":"IF(ISERROR(FIND(\"/doi.org/\",A2241,1)),0,1)","v":0},{"$f":"IF(LEFT(A2240,16)=\"<contrib contrib\",C2240+1,IF(LEFT(A2240,16)=\"</contrib-group>\",0,IF(LEFT(A2240,10)=\"</contrib>\",C2240,C2240)))","v":0},{"$f":"IF(AND(C2241>0,LEFT(A2241,7)=\"<email>\",ISNUMBER(SEARCH(\"@\",A2241,1))),C2241,IF(LEFT(A2241,10)=\"<alt-text>\",-1,0))","v":0},{"$f":"IF(D2241=0,E2240,E2240+1)","v":0},{"$f":"INDIRECT(ADDRESS(ROW()+INDIRECT(ADDRESS(ROW()+E2241,5)),1))","v":""},{"$f":"IF(LEFT(F2241,7)=\"<aff id\",_xlfn.NUMBERVALUE(MID(F2241,13,LEN(F2241)-14)),IF(F2241=\"</aff>\",G2240+1,G2240))","v":0},0,{"$f":"INDIRECT(ADDRESS(ROW()-INDIRECT(ADDRESS(ROW()-H2241,8)),8))","v":0},{"$f":"IF(J2240=\"Linea_para_MAIL_creada_por_LuXML\",\"</aff>\",IF(I2241>INDIRECT(ADDRESS(ROW()-I2241-1,8)),\"Linea_para_MAIL_creada_por_LuXML\",INDIRECT(ADDRESS(ROW()-I2241,6))))","v":""},"",{"$f":"IF(OR(MID(K2239,3,5)=\"page>\",MID(K2240,3,5)=\"page>\"),L2240,IF(OR(K2240=\"<history>\",K2241=\"<history>\"),L2240+1,L2240))","v":0},{"$f":"IF(L2241>L2240,IF(L2241=1,CONCATENATE(\"<fpage>\",$S$10,\"</fpage>\"),CONCATENATE(\"<lpage>\",$S$10+1,\"</lpage>\")),IF(ISERROR(INDIRECT(ADDRESS(ROW()-L2241,11),1)),\"\",INDIRECT(ADDRESS(ROW()-L2241,11),1)))","v":""},{"$f":"IF(N2240=-1,-1,IF(M2241=\"</counts>\",-1,IF(OR(LEFT(M2241,7)=\"<fpage>\",LEFT(M2241,7)=\"<lpage>\"),VALUE(MID(M2241,8,LEN(M2241)-15)),0)))","v":0},"",{"$f":"IF(ROW()<$S$4+2,IF('XML a procesar'!A2240=\"\",P2240,IF(MID('XML a procesar'!A2240,1,1)=\"<\",P2240,P2240+1)),P2240)","v":1}]
[{"$f":"IF('XML a procesar'!A2241>0,'XML a procesar'!A2241,\"\")","v":""},0,0,0,0,"",0,0,0,"","",0,"",0,{"$f":"IF(N2242>-1,INDIRECT(ADDRESS(ROW(),13)),IF(N2242<N2241,CONCATENATE(\"<page-count count=\",CHAR(34),1+LARGE(N:N,1)-LARGE(N:N,2),CHAR(34),\"/>\"),INDIRECT(ADDRESS(ROW()-1,13))))","v":""},{"$f":"IF(ROW()<$S$4+2,IF('XML a procesar'!A2241=\"\",P2241,IF(MID('XML a procesar'!A2241,1,1)=\"<\",P2241,P2241+1)),P2241)","v":1}]
[{"$f":"IF('XML a procesar'!A2242>0,'XML a procesar'!A2242,\"\")","v":""},0,0,0,0,"",0,{"$f":"IF(AND(G2242>0,G2243>G2242,NOT(ISERROR(MATCH(G2242,D:D,0)))),H2242+1,H2242)","v":0},0,"",{"$f":"IF(J2243=\"Linea_para_MAIL_creada_por_LuXML\",IF(ISERROR(MATCH(INDIRECT(ADDRESS(ROW()-G2243,7)),D:D,0)),J2243,INDIRECT(ADDRESS(MATCH(INDIRECT(ADDRESS(ROW()-G2243,7)),D:D,0),1))),J2243)","v":""},0,"",0,"",{"$f":"IF(ROW()<$S$4+2,IF('XML a procesar'!A2242=\"\",P2242,IF(MID('XML a procesar'!A2242,1,1)=\"<\",P2242,P2242+1)),P2242)","v":1}]
[{"$f":"IF('XML a procesar'!A2243>0,'XML a procesar'!A2243,\"\")","v":""},0,0,0,0,"",0,0,0,"","",0,"",0,"",{"$f":"IF(ROW()<$S$4+2,IF('XML a procesar'!A2243=\"\",P2243,IF(MID('XML a procesar'!A2243,1,1)=\"<\",P2243,P2243+1)),P2243)","v":1}]
[{"$f":"IF('XML a procesar'!A2244>0,'XML a procesar'!A2244,\"\")","v":""},0,0,0,0,"",0,0,0,"","",0,"",0,"",{"$f":"IF(ROW()<$S$4+2,IF('XML a procesar'!A2244=\"\",P2244,IF(MID('XML a procesar'!A2244,1,1)=\"<\",P2244,P2244+1)),P2244)","v":1}]
[{"$f":"IF('XML a procesar'!A2245>0,'XML a procesar'!A2245,\"\")","v":""},0,0,0,0,"",0,0,0,"","",0,"",0,"",{"$f":"IF(ROW()<$S$4+2,IF('XML a procesar'!A2245=\"\",P2245,IF(MID('XML a procesar'!A2245,1,1)=\"<\",P2245,P2245+1)),P2245)","v":1}]
[{"$f":"IF('XML a procesar'!A2246>0,'XML a procesar'!A2246,\"\")","v":""},0,0,0,0,"",0,0,0,"","",0,"",0,"",{"$f":"IF(ROW()<$S$4+2,IF('XML a procesar'!A2246=\"\",P2246,IF(MID('XML a procesar'!A2246,1,1)=\"<\",P2246,P2246+1)),P2246)","v":1}]
[{"$f":"IF('XML a procesar'!A2247>0,'XML a procesar'!A2247,\"\")","v":""},0,0,0,0,"",0,0,0,"","",0,"",0,"",{"$f":"IF(ROW()<$S$4+2,IF('XML a procesar'!A2247=\"\",P2247,IF(MID('XML a procesar'!A2247,1,1)=\"<\",P2247,P2247+1)),P2247)","v":1}]
[{"$f":"IF('XML a procesar'!A2248>0,'XML a procesar'!A2248,\"\")","v":""},0,0,0,0,"",0,0,0,"","",0,"",0,"",{"$f":"IF(ROW()<$S$4+2,IF('XML a procesar'!A2248=\"\",P2248,IF(MID('XML a procesar'!A2248,1,1)=\"<\",P2248,P2248+1)),P2248)","v":1}]
[{"$f":"IF('XML a procesar'!A2249>0,'XML a procesar'!A2249,\"\")","v":""},0,0,0,0,"",0,0,0,"","",0,"",0,"",{"$f":"IF(ROW()<$S$4+2,IF('XML a procesar'!A2249=\"\",P2249,IF(MID('XML a procesar'!A2249,1,1)=\"<\",P2249,P2249+1)),P2249)","v":1}]
[{"$f":"IF('XML a procesar'!A2250>0,'XML a procesar'!A2250,\"\")","v":""},0,0,0,0,"",0,0,0,"","",0,"",0,"",{"$f":"IF(ROW()<$S$4+2,IF('XML a procesar'!A2250=\"\",P2250,IF(MID('XML a procesar'!A2250,1,1)=\"<\",P2250,P2250+1)),P2250)","v":1}]
[{"$f":"IF('XML a procesar'!A2251>0,'XML a procesar'!A2251,\"\")","v":""},0,0,0,0,"",0,0,0,"","",0,"",0,"",{"$f":"IF(ROW()<$S$4+2,IF('XML a procesar'!A2251=\"\",P2251,IF(MID('XML a procesar'!A2251,1,1)=\"<\",P2251,P2251+1)),P2251)","v":1}]
[{"$f":"IF('XML a procesar'!A2252>0,'XML a procesar'!A2252,\"\")","v":""},0,0,0,0,"",0,0,0,"","",0,"",0,"",{"$f":"IF(ROW()<$S$4+2,IF('XML a procesar'!A2252=\"\",P2252,IF(MID('XML a procesar'!A2252,1,1)=\"<\",P2252,P2252+1)),P2252)","v":1}]
[{"$f":"IF('XML a procesar'!A2253>0,'XML a procesar'!A2253,\"\")","v":""},0,0,0,0,"",0,0,0,"","",0,"",0,"",{"$f":"IF(ROW()<$S$4+2,IF('XML a procesar'!A2253=\"\",P2253,IF(MID('XML a procesar'!A2253,1,1)=\"<\",P2253,P2253+1)),P2253)","v":1}]
[{"$f":"IF('XML a procesar'!A2254>0,'XML a procesar'!A2254,\"\")","v":""},0,0,0,0,"",0,0,0,"","",0,"",0,"",{"$f":"IF(ROW()<$S$4+2,IF('XML a procesar'!A2254=\"\",P2254,IF(MID('XML a procesar'!A2254,1,1)=\"<\",P2254,P2254+1)),P2254)","v":1}]
[{"$f":"IF('XML a procesar'!A2255>0,'XML a procesar'!A2255,\"\")","v":""},0,0,0,0,"",0,0,0,"","",0,"",0,"",{"$f":"IF(ROW()<$S$4+2,IF('XML a procesar'!A2255=\"\",P2255,IF(MID('XML a procesar'!A2255,1,1)=\"<\",P2255,P2255+1)),P2255)","v":1}]
[{"$f":"IF('XML a procesar'!A2256>0,'XML a procesar'!A2256,\"\")","v":""},0,0,0,0,"",0,0,0,"","",0,"",0,"",{"$f":"IF(ROW()<$S$4+2,IF('XML a procesar'!A2256=\"\",P2256,IF(MID('XML a procesar'!A2256,1,1)=\"<\",P2256,P2256+1)),P2256)","v":1}]
[{"$f":"IF('XML a procesar'!A2257>0,'XML a procesar'!A2257,\"\")","v":""},0,0,0,0,"",0,0,0,"","",0,"",0,"",{"$f":"IF(ROW()<$S$4+2,IF('XML a procesar'!A2257=\"\",P2257,IF(MID('XML a procesar'!A2257,1,1)=\"<\",P2257,P2257+1)),P2257)","v":1}]
[{"$f":"IF('XML a procesar'!A2258>0,'XML a procesar'!A2258,\"\")","v":""},0,0,0,0,"",0,0,0,"","",0,"",0,"",{"$f":"IF(ROW()<$S$4+2,IF('XML a procesar'!A2258=\"\",P2258,IF(MID('XML a procesar'!A2258,1,1)=\"<\",P2258,P2258+1)),P2258)","v":1}]
[{"$f":"IF('XML a procesar'!A2259>0,'XML a procesar'!A2259,\"\")","v":""},0,0,0,0,"",0,0,0,"","",0,"",0,"",{"$f":"IF(ROW()<$S$4+2,IF('XML a procesar'!A2259=\"\",P2259,IF(MID('XML a procesar'!A2259,1,1)=\"<\",P2259,P2259+1)),P2259)","v":1}]
[{"$f":"IF('XML a procesar'!A2260>0,'XML a procesar'!A2260,\"\")","v":""},0,0,0,0,"",0,0,0,"","",0,"",0,"",{"$f":"IF(ROW()<$S$4+2,IF('XML a procesar'!A2260=\"\",P2260,IF(MID('XML a procesar'!A2260,1,1)=\"<\",P2260,P2260+1)),P2260)","v":1}]
[{"$f":"IF('XML a procesar'!A2261>0,'XML a procesar'!A2261,\"\")","v":""},0,0,0,0,"",0,0,0,"","",0,"",0,"",{"$f":"IF(ROW()<$S$4+2,IF('XML a procesar'!A2261=\"\",P2261,IF(MID('XML a procesar'!A2261,1,1)=\"<\",P2261,P2261+1)),P2261)","v":1}]
[{"$f":"IF('XML a procesar'!A2262>0,'XML a procesar'!A2262,\"\")","v":""},0,0,0,0,"",0,0,0,"","",0,"",0,"",{"$f":"IF(ROW()<$S$4+2,IF('XML a procesar'!A2262=\"\",P2262,IF(MID('XML a procesar'!A2262,1,1)=\"<\",P2262,P2262+1)),P2262)","v":1}]
[{"$f":"IF('XML a procesar'!A2263>0,'XML a procesar'!A2263,\"\")","v":""},0,0,0,0,"",0,0,0,"","",0,"",0,"",{"$f":"IF(ROW()<$S$4+2,IF('XML a procesar'!A2263=\"\",P2263,IF(MID('XML a procesar'!A2263,1,1)=\"<\",P2263,P2263+1)),P2263)","v":1}]
[{"$f":"IF('XML a procesar'!A2264>0,'XML a procesar'!A2264,\"\")","v":""},0,0,0,0,"",0,0,0,"","",0,"",0,"",{"$f":"IF(ROW()<$S$4+2,IF('XML a procesar'!A2264=\"\",P2264,IF(MID('XML a procesar'!A2264,1,1)=\"<\",P2264,P2264+1)),P2264)","v":1}]
[{"$f":"IF('XML a procesar'!A2265>0,'XML a procesar'!A2265,\"\")","v":""},0,0,0,0,"",0,0,0,"","",0,"",0,"",{"$f":"IF(ROW()<$S$4+2,IF('XML a procesar'!A2265=\"\",P2265,IF(MID('XML a procesar'!A2265,1,1)=\"<\",P2265,P2265+1)),P2265)","v":1}]
[{"$f":"IF('XML a procesar'!A2266>0,'XML a procesar'!A2266,\"\")","v":""},0,0,0,0,"",0,0,0,"","",0,"",0,"",{"$f":"IF(ROW()<$S$4+2,IF('XML a procesar'!A2266=\"\",P2266,IF(MID('XML a procesar'!A2266,1,1)=\"<\",P2266,P2266+1)),P2266)","v":1}]
[{"$f":"IF('XML a procesar'!A2267>0,'XML a procesar'!A2267,\"\")","v":""},0,0,0,0,"",0,0,0,"","",0,"",0,"",{"$f":"IF(ROW()<$S$4+2,IF('XML a procesar'!A2267=\"\",P2267,IF(MID('XML a procesar'!A2267,1,1)=\"<\",P2267,P2267+1)),P2267)","v":1}]
[{"$f":"IF('XML a procesar'!A2268>0,'XML a procesar'!A2268,\"\")","v":""},0,0,0,0,"",0,0,0,"","",0,"",0,"",{"$f":"IF(ROW()<$S$4+2,IF('XML a procesar'!A2268=\"\",P2268,IF(MID('XML a procesar'!A2268,1,1)=\"<\",P2268,P2268+1)),P2268)","v":1}]
[{"$f":"IF('XML a procesar'!A2269>0,'XML a procesar'!A2269,\"\")","v":""},0,0,0,0,"",0,0,0,"","",0,"",0,"",{"$f":"IF(ROW()<$S$4+2,IF('XML a procesar'!A2269=\"\",P2269,IF(MID('XML a procesar'!A2269,1,1)=\"<\",P2269,P2269+1)),P2269)","v":1}]
[{"$f":"IF('XML a procesar'!A2270>0,'XML a procesar'!A2270,\"\")","v":""},0,0,0,0,"",0,0,0,"","",0,"",0,"",{"$f":"IF(ROW()<$S$4+2,IF('XML a procesar'!A2270=\"\",P2270,IF(MID('XML a procesar'!A2270,1,1)=\"<\",P2270,P2270+1)),P2270)","v":1}]
[{"$f":"IF('XML a procesar'!A2271>0,'XML a procesar'!A2271,\"\")","v":""},0,0,0,0,"",0,0,0,"","",0,"",0,"",{"$f":"IF(ROW()<$S$4+2,IF('XML a procesar'!A2271=\"\",P2271,IF(MID('XML a procesar'!A2271,1,1)=\"<\",P2271,P2271+1)),P2271)","v":1}]
[{"$f":"IF('XML a procesar'!A2272>0,'XML a procesar'!A2272,\"\")","v":""},0,0,0,0,"",0,0,0,"","",0,"",0,"",{"$f":"IF(ROW()<$S$4+2,IF('XML a procesar'!A2272=\"\",P2272,IF(MID('XML a procesar'!A2272,1,1)=\"<\",P2272,P2272+1)),P2272)","v":1}]
[{"$f":"IF('XML a procesar'!A2273>0,'XML a procesar'!A2273,\"\")","v":""},0,0,0,0,"",0,0,0,"","",0,"",0,"",{"$f":"IF(ROW()<$S$4+2,IF('XML a procesar'!A2273=\"\",P2273,IF(MID('XML a procesar'!A2273,1,1)=\"<\",P2273,P2273+1)),P2273)","v":1}]
[{"$f":"IF('XML a procesar'!A2274>0,'XML a procesar'!A2274,\"\")","v":""},0,0,0,0,"",0,0,0,"","",0,"",0,"",{"$f":"IF(ROW()<$S$4+2,IF('XML a procesar'!A2274=\"\",P2274,IF(MID('XML a procesar'!A2274,1,1)=\"<\",P2274,P2274+1)),P2274)","v":1}]
[{"$f":"IF('XML a procesar'!A2275>0,'XML a procesar'!A2275,\"\")","v":""},0,0,0,0,"",0,0,0,"","",0,"",0,"",{"$f":"IF(ROW()<$S$4+2,IF('XML a procesar'!A2275=\"\",P2275,IF(MID('XML a procesar'!A2275,1,1)=\"<\",P2275,P2275+1)),P2275)","v":1}]
[{"$f":"IF('XML a procesar'!A2276>0,'XML a procesar'!A2276,\"\")","v":""},0,0,0,0,"",0,0,0,"","",0,"",0,"",{"$f":"IF(ROW()<$S$4+2,IF('XML a procesar'!A2276=\"\",P2276,IF(MID('XML a procesar'!A2276,1,1)=\"<\",P2276,P2276+1)),P2276)","v":1}]
[{"$f":"IF('XML a procesar'!A2277>0,'XML a procesar'!A2277,\"\")","v":""},0,0,0,0,"",0,0,0,"","",0,"",0,"",{"$f":"IF(ROW()<$S$4+2,IF('XML a procesar'!A2277=\"\",P2277,IF(MID('XML a procesar'!A2277,1,1)=\"<\",P2277,P2277+1)),P2277)","v":1}]
[{"$f":"IF('XML a procesar'!A2278>0,'XML a procesar'!A2278,\"\")","v":""},0,0,0,0,"",0,0,0,"","",0,"",0,"",{"$f":"IF(ROW()<$S$4+2,IF('XML a procesar'!A2278=\"\",P2278,IF(MID('XML a procesar'!A2278,1,1)=\"<\",P2278,P2278+1)),P2278)","v":1}]
[{"$f":"IF('XML a procesar'!A2279>0,'XML a procesar'!A2279,\"\")","v":""},0,0,0,0,"",0,0,0,"","",0,"",0,"",{"$f":"IF(ROW()<$S$4+2,IF('XML a procesar'!A2279=\"\",P2279,IF(MID('XML a procesar'!A2279,1,1)=\"<\",P2279,P2279+1)),P2279)","v":1}]
[{"$f":"IF('XML a procesar'!A2280>0,'XML a procesar'!A2280,\"\")","v":""},0,0,0,0,"",0,0,0,"","",0,"",0,"",{"$f":"IF(ROW()<$S$4+2,IF('XML a procesar'!A2280=\"\",P2280,IF(MID('XML a procesar'!A2280,1,1)=\"<\",P2280,P2280+1)),P2280)","v":1}]
[{"$f":"IF('XML a procesar'!A2281>0,'XML a procesar'!A2281,\"\")","v":""},0,0,0,0,"",0,0,0,"","",0,"",0,"",{"$f":"IF(ROW()<$S$4+2,IF('XML a procesar'!A2281=\"\",P2281,IF(MID('XML a procesar'!A2281,1,1)=\"<\",P2281,P2281+1)),P2281)","v":1}]
[{"$f":"IF('XML a procesar'!A2282>0,'XML a procesar'!A2282,\"\")","v":""},0,0,0,0,"",0,0,0,"","",0,"",0,"",{"$f":"IF(ROW()<$S$4+2,IF('XML a procesar'!A2282=\"\",P2282,IF(MID('XML a procesar'!A2282,1,1)=\"<\",P2282,P2282+1)),P2282)","v":1}]
[{"$f":"IF('XML a procesar'!A2283>0,'XML a procesar'!A2283,\"\")","v":""},0,0,0,0,"",0,0,0,"","",0,"",0,"",{"$f":"IF(ROW()<$S$4+2,IF('XML a procesar'!A2283=\"\",P2283,IF(MID('XML a procesar'!A2283,1,1)=\"<\",P2283,P2283+1)),P2283)","v":1}]
[{"$f":"IF('XML a procesar'!A2284>0,'XML a procesar'!A2284,\"\")","v":""},0,0,0,0,"",0,0,0,"","",0,"",0,"",{"$f":"IF(ROW()<$S$4+2,IF('XML a procesar'!A2284=\"\",P2284,IF(MID('XML a procesar'!A2284,1,1)=\"<\",P2284,P2284+1)),P2284)","v":1}]
[{"$f":"IF('XML a procesar'!A2285>0,'XML a procesar'!A2285,\"\")","v":""},0,0,0,0,"",0,0,0,"","",0,"",0,"",{"$f":"IF(ROW()<$S$4+2,IF('XML a procesar'!A2285=\"\",P2285,IF(MID('XML a procesar'!A2285,1,1)=\"<\",P2285,P2285+1)),P2285)","v":1}]
[{"$f":"IF('XML a procesar'!A2286>0,'XML a procesar'!A2286,\"\")","v":""},0,0,0,0,"",0,0,0,"","",0,"",0,"",{"$f":"IF(ROW()<$S$4+2,IF('XML a procesar'!A2286=\"\",P2286,IF(MID('XML a procesar'!A2286,1,1)=\"<\",P2286,P2286+1)),P2286)","v":1}]
[{"$f":"IF('XML a procesar'!A2287>0,'XML a procesar'!A2287,\"\")","v":""},0,0,0,0,"",0,0,0,"","",0,"",0,"",{"$f":"IF(ROW()<$S$4+2,IF('XML a procesar'!A2287=\"\",P2287,IF(MID('XML a procesar'!A2287,1,1)=\"<\",P2287,P2287+1)),P2287)","v":1}]
[{"$f":"IF('XML a procesar'!A2288>0,'XML a procesar'!A2288,\"\")","v":""},0,0,0,0,"",0,0,0,"","",0,"",0,"",{"$f":"IF(ROW()<$S$4+2,IF('XML a procesar'!A2288=\"\",P2288,IF(MID('XML a procesar'!A2288,1,1)=\"<\",P2288,P2288+1)),P2288)","v":1}]
[{"$f":"IF('XML a procesar'!A2289>0,'XML a procesar'!A2289,\"\")","v":""},0,0,0,0,"",0,0,0,"","",0,"",0,"",{"$f":"IF(ROW()<$S$4+2,IF('XML a procesar'!A2289=\"\",P2289,IF(MID('XML a procesar'!A2289,1,1)=\"<\",P2289,P2289+1)),P2289)","v":1}]
[{"$f":"IF('XML a procesar'!A2290>0,'XML a procesar'!A2290,\"\")","v":""},0,0,0,0,"",0,0,0,"","",0,"",0,"",{"$f":"IF(ROW()<$S$4+2,IF('XML a procesar'!A2290=\"\",P2290,IF(MID('XML a procesar'!A2290,1,1)=\"<\",P2290,P2290+1)),P2290)","v":1}]
[{"$f":"IF('XML a procesar'!A2291>0,'XML a procesar'!A2291,\"\")","v":""},0,0,0,0,"",0,0,0,"","",0,"",0,"",{"$f":"IF(ROW()<$S$4+2,IF('XML a procesar'!A2291=\"\",P2291,IF(MID('XML a procesar'!A2291,1,1)=\"<\",P2291,P2291+1)),P2291)","v":1}]
[{"$f":"IF('XML a procesar'!A2292>0,'XML a procesar'!A2292,\"\")","v":""},0,0,0,0,"",0,0,0,"","",0,"",0,"",{"$f":"IF(ROW()<$S$4+2,IF('XML a procesar'!A2292=\"\",P2292,IF(MID('XML a procesar'!A2292,1,1)=\"<\",P2292,P2292+1)),P2292)","v":1}]
[{"$f":"IF('XML a procesar'!A2293>0,'XML a procesar'!A2293,\"\")","v":""},0,0,0,0,"",0,0,0,"","",0,"",0,"",{"$f":"IF(ROW()<$S$4+2,IF('XML a procesar'!A2293=\"\",P2293,IF(MID('XML a procesar'!A2293,1,1)=\"<\",P2293,P2293+1)),P2293)","v":1}]
[{"$f":"IF('XML a procesar'!A2294>0,'XML a procesar'!A2294,\"\")","v":""},0,0,0,0,"",0,0,0,"","",0,"",0,"",{"$f":"IF(ROW()<$S$4+2,IF('XML a procesar'!A2294=\"\",P2294,IF(MID('XML a procesar'!A2294,1,1)=\"<\",P2294,P2294+1)),P2294)","v":1}]
[{"$f":"IF('XML a procesar'!A2295>0,'XML a procesar'!A2295,\"\")","v":""},0,0,0,0,"",0,0,0,"","",0,"",0,"",{"$f":"IF(ROW()<$S$4+2,IF('XML a procesar'!A2295=\"\",P2295,IF(MID('XML a procesar'!A2295,1,1)=\"<\",P2295,P2295+1)),P2295)","v":1}]
[{"$f":"IF('XML a procesar'!A2296>0,'XML a procesar'!A2296,\"\")","v":""},0,0,0,0,"",0,0,0,"","",0,"",0,"",{"$f":"IF(ROW()<$S$4+2,IF('XML a procesar'!A2296=\"\",P2296,IF(MID('XML a procesar'!A2296,1,1)=\"<\",P2296,P2296+1)),P2296)","v":1}]
[{"$f":"IF('XML a procesar'!A2297>0,'XML a procesar'!A2297,\"\")","v":""},0,0,0,0,"",0,0,0,"","",0,"",0,"",{"$f":"IF(ROW()<$S$4+2,IF('XML a procesar'!A2297=\"\",P2297,IF(MID('XML a procesar'!A2297,1,1)=\"<\",P2297,P2297+1)),P2297)","v":1}]
[{"$f":"IF('XML a procesar'!A2298>0,'XML a procesar'!A2298,\"\")","v":""},0,0,0,0,"",0,0,0,"","",0,"",0,"",{"$f":"IF(ROW()<$S$4+2,IF('XML a procesar'!A2298=\"\",P2298,IF(MID('XML a procesar'!A2298,1,1)=\"<\",P2298,P2298+1)),P2298)","v":1}]
[{"$f":"IF('XML a procesar'!A2299>0,'XML a procesar'!A2299,\"\")","v":""},0,0,0,0,"",0,0,0,"","",0,"",0,"",{"$f":"IF(ROW()<$S$4+2,IF('XML a procesar'!A2299=\"\",P2299,IF(MID('XML a procesar'!A2299,1,1)=\"<\",P2299,P2299+1)),P2299)","v":1}]
[{"$f":"IF('XML a procesar'!A2300>0,'XML a procesar'!A2300,\"\")","v":""},0,0,0,0,"",0,0,0,"","",0,"",0,"",{"$f":"IF(ROW()<$S$4+2,IF('XML a procesar'!A2300=\"\",P2300,IF(MID('XML a procesar'!A2300,1,1)=\"<\",P2300,P2300+1)),P2300)","v":1}]
[{"$f":"IF('XML a procesar'!A2301>0,'XML a procesar'!A2301,\"\")","v":""},0,0,0,0,"",0,0,0,"","",0,"",0,"",{"$f":"IF(ROW()<$S$4+2,IF('XML a procesar'!A2301=\"\",P2301,IF(MID('XML a procesar'!A2301,1,1)=\"<\",P2301,P2301+1)),P2301)","v":1}]
[{"$f":"IF('XML a procesar'!A2302>0,'XML a procesar'!A2302,\"\")","v":""},0,0,0,0,"",0,0,0,"","",0,"",0,"",{"$f":"IF(ROW()<$S$4+2,IF('XML a procesar'!A2302=\"\",P2302,IF(MID('XML a procesar'!A2302,1,1)=\"<\",P2302,P2302+1)),P2302)","v":1}]
[{"$f":"IF('XML a procesar'!A2303>0,'XML a procesar'!A2303,\"\")","v":""},0,0,0,0,"",0,0,0,"","",0,"",0,"",{"$f":"IF(ROW()<$S$4+2,IF('XML a procesar'!A2303=\"\",P2303,IF(MID('XML a procesar'!A2303,1,1)=\"<\",P2303,P2303+1)),P2303)","v":1}]
[{"$f":"IF('XML a procesar'!A2304>0,'XML a procesar'!A2304,\"\")","v":""},{"$f":"IF(ISERROR(FIND(\"/doi.org/\",A2305,1)),0,1)","v":0},{"$f":"IF(LEFT(A2304,16)=\"<contrib contrib\",C2304+1,IF(LEFT(A2304,16)=\"</contrib-group>\",0,IF(LEFT(A2304,10)=\"</contrib>\",C2304,C2304)))","v":0},{"$f":"IF(AND(C2305>0,LEFT(A2305,7)=\"<email>\",ISNUMBER(SEARCH(\"@\",A2305,1))),C2305,IF(LEFT(A2305,10)=\"<alt-text>\",-1,0))","v":0},{"$f":"IF(D2305=0,E2304,E2304+1)","v":0},{"$f":"INDIRECT(ADDRESS(ROW()+INDIRECT(ADDRESS(ROW()+E2305,5)),1))","v":""},{"$f":"IF(LEFT(F2305,7)=\"<aff id\",_xlfn.NUMBERVALUE(MID(F2305,13,LEN(F2305)-14)),IF(F2305=\"</aff>\",G2304+1,G2304))","v":0},0,{"$f":"INDIRECT(ADDRESS(ROW()-INDIRECT(ADDRESS(ROW()-H2305,8)),8))","v":0},{"$f":"IF(J2304=\"Linea_para_MAIL_creada_por_LuXML\",\"</aff>\",IF(I2305>INDIRECT(ADDRESS(ROW()-I2305-1,8)),\"Linea_para_MAIL_creada_por_LuXML\",INDIRECT(ADDRESS(ROW()-I2305,6))))","v":""},"",{"$f":"IF(OR(MID(K2303,3,5)=\"page>\",MID(K2304,3,5)=\"page>\"),L2304,IF(OR(K2304=\"<history>\",K2305=\"<history>\"),L2304+1,L2304))","v":0},{"$f":"IF(L2305>L2304,IF(L2305=1,CONCATENATE(\"<fpage>\",$S$10,\"</fpage>\"),CONCATENATE(\"<lpage>\",$S$10+1,\"</lpage>\")),IF(ISERROR(INDIRECT(ADDRESS(ROW()-L2305,11),1)),\"\",INDIRECT(ADDRESS(ROW()-L2305,11),1)))","v":""},{"$f":"IF(N2304=-1,-1,IF(M2305=\"</counts>\",-1,IF(OR(LEFT(M2305,7)=\"<fpage>\",LEFT(M2305,7)=\"<lpage>\"),VALUE(MID(M2305,8,LEN(M2305)-15)),0)))","v":0},"",{"$f":"IF(ROW()<$S$4+2,IF('XML a procesar'!A2304=\"\",P2304,IF(MID('XML a procesar'!A2304,1,1)=\"<\",P2304,P2304+1)),P2304)","v":1}]
[{"$f":"IF('XML a procesar'!A2305>0,'XML a procesar'!A2305,\"\")","v":""},0,0,0,0,"",0,0,0,"","",0,"",0,{"$f":"IF(N2306>-1,INDIRECT(ADDRESS(ROW(),13)),IF(N2306<N2305,CONCATENATE(\"<page-count count=\",CHAR(34),1+LARGE(N:N,1)-LARGE(N:N,2),CHAR(34),\"/>\"),INDIRECT(ADDRESS(ROW()-1,13))))","v":""},{"$f":"IF(ROW()<$S$4+2,IF('XML a procesar'!A2305=\"\",P2305,IF(MID('XML a procesar'!A2305,1,1)=\"<\",P2305,P2305+1)),P2305)","v":1}]
[{"$f":"IF('XML a procesar'!A2306>0,'XML a procesar'!A2306,\"\")","v":""},0,0,0,0,"",0,{"$f":"IF(AND(G2306>0,G2307>G2306,NOT(ISERROR(MATCH(G2306,D:D,0)))),H2306+1,H2306)","v":0},0,"",{"$f":"IF(J2307=\"Linea_para_MAIL_creada_por_LuXML\",IF(ISERROR(MATCH(INDIRECT(ADDRESS(ROW()-G2307,7)),D:D,0)),J2307,INDIRECT(ADDRESS(MATCH(INDIRECT(ADDRESS(ROW()-G2307,7)),D:D,0),1))),J2307)","v":""},0,"",0,"",{"$f":"IF(ROW()<$S$4+2,IF('XML a procesar'!A2306=\"\",P2306,IF(MID('XML a procesar'!A2306,1,1)=\"<\",P2306,P2306+1)),P2306)","v":1}]
[{"$f":"IF('XML a procesar'!A2307>0,'XML a procesar'!A2307,\"\")","v":""},0,0,0,0,"",0,0,0,"","",0,"",0,"",{"$f":"IF(ROW()<$S$4+2,IF('XML a procesar'!A2307=\"\",P2307,IF(MID('XML a procesar'!A2307,1,1)=\"<\",P2307,P2307+1)),P2307)","v":1}]
[{"$f":"IF('XML a procesar'!A2308>0,'XML a procesar'!A2308,\"\")","v":""},0,0,0,0,"",0,0,0,"","",0,"",0,"",{"$f":"IF(ROW()<$S$4+2,IF('XML a procesar'!A2308=\"\",P2308,IF(MID('XML a procesar'!A2308,1,1)=\"<\",P2308,P2308+1)),P2308)","v":1}]
[{"$f":"IF('XML a procesar'!A2309>0,'XML a procesar'!A2309,\"\")","v":""},0,0,0,0,"",0,0,0,"","",0,"",0,"",{"$f":"IF(ROW()<$S$4+2,IF('XML a procesar'!A2309=\"\",P2309,IF(MID('XML a procesar'!A2309,1,1)=\"<\",P2309,P2309+1)),P2309)","v":1}]
[{"$f":"IF('XML a procesar'!A2310>0,'XML a procesar'!A2310,\"\")","v":""},0,0,0,0,"",0,0,0,"","",0,"",0,"",{"$f":"IF(ROW()<$S$4+2,IF('XML a procesar'!A2310=\"\",P2310,IF(MID('XML a procesar'!A2310,1,1)=\"<\",P2310,P2310+1)),P2310)","v":1}]
[{"$f":"IF('XML a procesar'!A2311>0,'XML a procesar'!A2311,\"\")","v":""},0,0,0,0,"",0,0,0,"","",0,"",0,"",{"$f":"IF(ROW()<$S$4+2,IF('XML a procesar'!A2311=\"\",P2311,IF(MID('XML a procesar'!A2311,1,1)=\"<\",P2311,P2311+1)),P2311)","v":1}]
[{"$f":"IF('XML a procesar'!A2312>0,'XML a procesar'!A2312,\"\")","v":""},0,0,0,0,"",0,0,0,"","",0,"",0,"",{"$f":"IF(ROW()<$S$4+2,IF('XML a procesar'!A2312=\"\",P2312,IF(MID('XML a procesar'!A2312,1,1)=\"<\",P2312,P2312+1)),P2312)","v":1}]
[{"$f":"IF('XML a procesar'!A2313>0,'XML a procesar'!A2313,\"\")","v":""},0,0,0,0,"",0,0,0,"","",0,"",0,"",{"$f":"IF(ROW()<$S$4+2,IF('XML a procesar'!A2313=\"\",P2313,IF(MID('XML a procesar'!A2313,1,1)=\"<\",P2313,P2313+1)),P2313)","v":1}]
[{"$f":"IF('XML a procesar'!A2314>0,'XML a procesar'!A2314,\"\")","v":""},0,0,0,0,"",0,0,0,"","",0,"",0,"",{"$f":"IF(ROW()<$S$4+2,IF('XML a procesar'!A2314=\"\",P2314,IF(MID('XML a procesar'!A2314,1,1)=\"<\",P2314,P2314+1)),P2314)","v":1}]
[{"$f":"IF('XML a procesar'!A2315>0,'XML a procesar'!A2315,\"\")","v":""},0,0,0,0,"",0,0,0,"","",0,"",0,"",{"$f":"IF(ROW()<$S$4+2,IF('XML a procesar'!A2315=\"\",P2315,IF(MID('XML a procesar'!A2315,1,1)=\"<\",P2315,P2315+1)),P2315)","v":1}]
[{"$f":"IF('XML a procesar'!A2316>0,'XML a procesar'!A2316,\"\")","v":""},0,0,0,0,"",0,0,0,"","",0,"",0,"",{"$f":"IF(ROW()<$S$4+2,IF('XML a procesar'!A2316=\"\",P2316,IF(MID('XML a procesar'!A2316,1,1)=\"<\",P2316,P2316+1)),P2316)","v":1}]
[{"$f":"IF('XML a procesar'!A2317>0,'XML a procesar'!A2317,\"\")","v":""},0,0,0,0,"",0,0,0,"","",0,"",0,"",{"$f":"IF(ROW()<$S$4+2,IF('XML a procesar'!A2317=\"\",P2317,IF(MID('XML a procesar'!A2317,1,1)=\"<\",P2317,P2317+1)),P2317)","v":1}]
[{"$f":"IF('XML a procesar'!A2318>0,'XML a procesar'!A2318,\"\")","v":""},0,0,0,0,"",0,0,0,"","",0,"",0,"",{"$f":"IF(ROW()<$S$4+2,IF('XML a procesar'!A2318=\"\",P2318,IF(MID('XML a procesar'!A2318,1,1)=\"<\",P2318,P2318+1)),P2318)","v":1}]
[{"$f":"IF('XML a procesar'!A2319>0,'XML a procesar'!A2319,\"\")","v":""},0,0,0,0,"",0,0,0,"","",0,"",0,"",{"$f":"IF(ROW()<$S$4+2,IF('XML a procesar'!A2319=\"\",P2319,IF(MID('XML a procesar'!A2319,1,1)=\"<\",P2319,P2319+1)),P2319)","v":1}]
[{"$f":"IF('XML a procesar'!A2320>0,'XML a procesar'!A2320,\"\")","v":""},0,0,0,0,"",0,0,0,"","",0,"",0,"",{"$f":"IF(ROW()<$S$4+2,IF('XML a procesar'!A2320=\"\",P2320,IF(MID('XML a procesar'!A2320,1,1)=\"<\",P2320,P2320+1)),P2320)","v":1}]
[{"$f":"IF('XML a procesar'!A2321>0,'XML a procesar'!A2321,\"\")","v":""},0,0,0,0,"",0,0,0,"","",0,"",0,"",{"$f":"IF(ROW()<$S$4+2,IF('XML a procesar'!A2321=\"\",P2321,IF(MID('XML a procesar'!A2321,1,1)=\"<\",P2321,P2321+1)),P2321)","v":1}]
[{"$f":"IF('XML a procesar'!A2322>0,'XML a procesar'!A2322,\"\")","v":""},0,0,0,0,"",0,0,0,"","",0,"",0,"",{"$f":"IF(ROW()<$S$4+2,IF('XML a procesar'!A2322=\"\",P2322,IF(MID('XML a procesar'!A2322,1,1)=\"<\",P2322,P2322+1)),P2322)","v":1}]
[{"$f":"IF('XML a procesar'!A2323>0,'XML a procesar'!A2323,\"\")","v":""},0,0,0,0,"",0,0,0,"","",0,"",0,"",{"$f":"IF(ROW()<$S$4+2,IF('XML a procesar'!A2323=\"\",P2323,IF(MID('XML a procesar'!A2323,1,1)=\"<\",P2323,P2323+1)),P2323)","v":1}]
[{"$f":"IF('XML a procesar'!A2324>0,'XML a procesar'!A2324,\"\")","v":""},0,0,0,0,"",0,0,0,"","",0,"",0,"",{"$f":"IF(ROW()<$S$4+2,IF('XML a procesar'!A2324=\"\",P2324,IF(MID('XML a procesar'!A2324,1,1)=\"<\",P2324,P2324+1)),P2324)","v":1}]
[{"$f":"IF('XML a procesar'!A2325>0,'XML a procesar'!A2325,\"\")","v":""},0,0,0,0,"",0,0,0,"","",0,"",0,"",{"$f":"IF(ROW()<$S$4+2,IF('XML a procesar'!A2325=\"\",P2325,IF(MID('XML a procesar'!A2325,1,1)=\"<\",P2325,P2325+1)),P2325)","v":1}]
[{"$f":"IF('XML a procesar'!A2326>0,'XML a procesar'!A2326,\"\")","v":""},0,0,0,0,"",0,0,0,"","",0,"",0,"",{"$f":"IF(ROW()<$S$4+2,IF('XML a procesar'!A2326=\"\",P2326,IF(MID('XML a procesar'!A2326,1,1)=\"<\",P2326,P2326+1)),P2326)","v":1}]
[{"$f":"IF('XML a procesar'!A2327>0,'XML a procesar'!A2327,\"\")","v":""},0,0,0,0,"",0,0,0,"","",0,"",0,"",{"$f":"IF(ROW()<$S$4+2,IF('XML a procesar'!A2327=\"\",P2327,IF(MID('XML a procesar'!A2327,1,1)=\"<\",P2327,P2327+1)),P2327)","v":1}]
[{"$f":"IF('XML a procesar'!A2328>0,'XML a procesar'!A2328,\"\")","v":""},0,0,0,0,"",0,0,0,"","",0,"",0,"",{"$f":"IF(ROW()<$S$4+2,IF('XML a procesar'!A2328=\"\",P2328,IF(MID('XML a procesar'!A2328,1,1)=\"<\",P2328,P2328+1)),P2328)","v":1}]
[{"$f":"IF('XML a procesar'!A2329>0,'XML a procesar'!A2329,\"\")","v":""},0,0,0,0,"",0,0,0,"","",0,"",0,"",{"$f":"IF(ROW()<$S$4+2,IF('XML a procesar'!A2329=\"\",P2329,IF(MID('XML a procesar'!A2329,1,1)=\"<\",P2329,P2329+1)),P2329)","v":1}]
[{"$f":"IF('XML a procesar'!A2330>0,'XML a procesar'!A2330,\"\")","v":""},0,0,0,0,"",0,0,0,"","",0,"",0,"",{"$f":"IF(ROW()<$S$4+2,IF('XML a procesar'!A2330=\"\",P2330,IF(MID('XML a procesar'!A2330,1,1)=\"<\",P2330,P2330+1)),P2330)","v":1}]
[{"$f":"IF('XML a procesar'!A2331>0,'XML a procesar'!A2331,\"\")","v":""},0,0,0,0,"",0,0,0,"","",0,"",0,"",{"$f":"IF(ROW()<$S$4+2,IF('XML a procesar'!A2331=\"\",P2331,IF(MID('XML a procesar'!A2331,1,1)=\"<\",P2331,P2331+1)),P2331)","v":1}]
[{"$f":"IF('XML a procesar'!A2332>0,'XML a procesar'!A2332,\"\")","v":""},0,0,0,0,"",0,0,0,"","",0,"",0,"",{"$f":"IF(ROW()<$S$4+2,IF('XML a procesar'!A2332=\"\",P2332,IF(MID('XML a procesar'!A2332,1,1)=\"<\",P2332,P2332+1)),P2332)","v":1}]
[{"$f":"IF('XML a procesar'!A2333>0,'XML a procesar'!A2333,\"\")","v":""},0,0,0,0,"",0,0,0,"","",0,"",0,"",{"$f":"IF(ROW()<$S$4+2,IF('XML a procesar'!A2333=\"\",P2333,IF(MID('XML a procesar'!A2333,1,1)=\"<\",P2333,P2333+1)),P2333)","v":1}]
[{"$f":"IF('XML a procesar'!A2334>0,'XML a procesar'!A2334,\"\")","v":""},0,0,0,0,"",0,0,0,"","",0,"",0,"",{"$f":"IF(ROW()<$S$4+2,IF('XML a procesar'!A2334=\"\",P2334,IF(MID('XML a procesar'!A2334,1,1)=\"<\",P2334,P2334+1)),P2334)","v":1}]
[{"$f":"IF('XML a procesar'!A2335>0,'XML a procesar'!A2335,\"\")","v":""},0,0,0,0,"",0,0,0,"","",0,"",0,"",{"$f":"IF(ROW()<$S$4+2,IF('XML a procesar'!A2335=\"\",P2335,IF(MID('XML a procesar'!A2335,1,1)=\"<\",P2335,P2335+1)),P2335)","v":1}]
[{"$f":"IF('XML a procesar'!A2336>0,'XML a procesar'!A2336,\"\")","v":""},0,0,0,0,"",0,0,0,"","",0,"",0,"",{"$f":"IF(ROW()<$S$4+2,IF('XML a procesar'!A2336=\"\",P2336,IF(MID('XML a procesar'!A2336,1,1)=\"<\",P2336,P2336+1)),P2336)","v":1}]
[{"$f":"IF('XML a procesar'!A2337>0,'XML a procesar'!A2337,\"\")","v":""},0,0,0,0,"",0,0,0,"","",0,"",0,"",{"$f":"IF(ROW()<$S$4+2,IF('XML a procesar'!A2337=\"\",P2337,IF(MID('XML a procesar'!A2337,1,1)=\"<\",P2337,P2337+1)),P2337)","v":1}]
[{"$f":"IF('XML a procesar'!A2338>0,'XML a procesar'!A2338,\"\")","v":""},0,0,0,0,"",0,0,0,"","",0,"",0,"",{"$f":"IF(ROW()<$S$4+2,IF('XML a procesar'!A2338=\"\",P2338,IF(MID('XML a procesar'!A2338,1,1)=\"<\",P2338,P2338+1)),P2338)","v":1}]
[{"$f":"IF('XML a procesar'!A2339>0,'XML a procesar'!A2339,\"\")","v":""},0,0,0,0,"",0,0,0,"","",0,"",0,"",{"$f":"IF(ROW()<$S$4+2,IF('XML a procesar'!A2339=\"\",P2339,IF(MID('XML a procesar'!A2339,1,1)=\"<\",P2339,P2339+1)),P2339)","v":1}]
[{"$f":"IF('XML a procesar'!A2340>0,'XML a procesar'!A2340,\"\")","v":""},0,0,0,0,"",0,0,0,"","",0,"",0,"",{"$f":"IF(ROW()<$S$4+2,IF('XML a procesar'!A2340=\"\",P2340,IF(MID('XML a procesar'!A2340,1,1)=\"<\",P2340,P2340+1)),P2340)","v":1}]
[{"$f":"IF('XML a procesar'!A2341>0,'XML a procesar'!A2341,\"\")","v":""},0,0,0,0,"",0,0,0,"","",0,"",0,"",{"$f":"IF(ROW()<$S$4+2,IF('XML a procesar'!A2341=\"\",P2341,IF(MID('XML a procesar'!A2341,1,1)=\"<\",P2341,P2341+1)),P2341)","v":1}]
[{"$f":"IF('XML a procesar'!A2342>0,'XML a procesar'!A2342,\"\")","v":""},0,0,0,0,"",0,0,0,"","",0,"",0,"",{"$f":"IF(ROW()<$S$4+2,IF('XML a procesar'!A2342=\"\",P2342,IF(MID('XML a procesar'!A2342,1,1)=\"<\",P2342,P2342+1)),P2342)","v":1}]
[{"$f":"IF('XML a procesar'!A2343>0,'XML a procesar'!A2343,\"\")","v":""},0,0,0,0,"",0,0,0,"","",0,"",0,"",{"$f":"IF(ROW()<$S$4+2,IF('XML a procesar'!A2343=\"\",P2343,IF(MID('XML a procesar'!A2343,1,1)=\"<\",P2343,P2343+1)),P2343)","v":1}]
[{"$f":"IF('XML a procesar'!A2344>0,'XML a procesar'!A2344,\"\")","v":""},0,0,0,0,"",0,0,0,"","",0,"",0,"",{"$f":"IF(ROW()<$S$4+2,IF('XML a procesar'!A2344=\"\",P2344,IF(MID('XML a procesar'!A2344,1,1)=\"<\",P2344,P2344+1)),P2344)","v":1}]
[{"$f":"IF('XML a procesar'!A2345>0,'XML a procesar'!A2345,\"\")","v":""},0,0,0,0,"",0,0,0,"","",0,"",0,"",{"$f":"IF(ROW()<$S$4+2,IF('XML a procesar'!A2345=\"\",P2345,IF(MID('XML a procesar'!A2345,1,1)=\"<\",P2345,P2345+1)),P2345)","v":1}]
[{"$f":"IF('XML a procesar'!A2346>0,'XML a procesar'!A2346,\"\")","v":""},0,0,0,0,"",0,0,0,"","",0,"",0,"",{"$f":"IF(ROW()<$S$4+2,IF('XML a procesar'!A2346=\"\",P2346,IF(MID('XML a procesar'!A2346,1,1)=\"<\",P2346,P2346+1)),P2346)","v":1}]
[{"$f":"IF('XML a procesar'!A2347>0,'XML a procesar'!A2347,\"\")","v":""},0,0,0,0,"",0,0,0,"","",0,"",0,"",{"$f":"IF(ROW()<$S$4+2,IF('XML a procesar'!A2347=\"\",P2347,IF(MID('XML a procesar'!A2347,1,1)=\"<\",P2347,P2347+1)),P2347)","v":1}]
[{"$f":"IF('XML a procesar'!A2348>0,'XML a procesar'!A2348,\"\")","v":""},0,0,0,0,"",0,0,0,"","",0,"",0,"",{"$f":"IF(ROW()<$S$4+2,IF('XML a procesar'!A2348=\"\",P2348,IF(MID('XML a procesar'!A2348,1,1)=\"<\",P2348,P2348+1)),P2348)","v":1}]
[{"$f":"IF('XML a procesar'!A2349>0,'XML a procesar'!A2349,\"\")","v":""},0,0,0,0,"",0,0,0,"","",0,"",0,"",{"$f":"IF(ROW()<$S$4+2,IF('XML a procesar'!A2349=\"\",P2349,IF(MID('XML a procesar'!A2349,1,1)=\"<\",P2349,P2349+1)),P2349)","v":1}]
[{"$f":"IF('XML a procesar'!A2350>0,'XML a procesar'!A2350,\"\")","v":""},0,0,0,0,"",0,0,0,"","",0,"",0,"",{"$f":"IF(ROW()<$S$4+2,IF('XML a procesar'!A2350=\"\",P2350,IF(MID('XML a procesar'!A2350,1,1)=\"<\",P2350,P2350+1)),P2350)","v":1}]
[{"$f":"IF('XML a procesar'!A2351>0,'XML a procesar'!A2351,\"\")","v":""},0,0,0,0,"",0,0,0,"","",0,"",0,"",{"$f":"IF(ROW()<$S$4+2,IF('XML a procesar'!A2351=\"\",P2351,IF(MID('XML a procesar'!A2351,1,1)=\"<\",P2351,P2351+1)),P2351)","v":1}]
[{"$f":"IF('XML a procesar'!A2352>0,'XML a procesar'!A2352,\"\")","v":""},0,0,0,0,"",0,0,0,"","",0,"",0,"",{"$f":"IF(ROW()<$S$4+2,IF('XML a procesar'!A2352=\"\",P2352,IF(MID('XML a procesar'!A2352,1,1)=\"<\",P2352,P2352+1)),P2352)","v":1}]
[{"$f":"IF('XML a procesar'!A2353>0,'XML a procesar'!A2353,\"\")","v":""},0,0,0,0,"",0,0,0,"","",0,"",0,"",{"$f":"IF(ROW()<$S$4+2,IF('XML a procesar'!A2353=\"\",P2353,IF(MID('XML a procesar'!A2353,1,1)=\"<\",P2353,P2353+1)),P2353)","v":1}]
[{"$f":"IF('XML a procesar'!A2354>0,'XML a procesar'!A2354,\"\")","v":""},0,0,0,0,"",0,0,0,"","",0,"",0,"",{"$f":"IF(ROW()<$S$4+2,IF('XML a procesar'!A2354=\"\",P2354,IF(MID('XML a procesar'!A2354,1,1)=\"<\",P2354,P2354+1)),P2354)","v":1}]
[{"$f":"IF('XML a procesar'!A2355>0,'XML a procesar'!A2355,\"\")","v":""},0,0,0,0,"",0,0,0,"","",0,"",0,"",{"$f":"IF(ROW()<$S$4+2,IF('XML a procesar'!A2355=\"\",P2355,IF(MID('XML a procesar'!A2355,1,1)=\"<\",P2355,P2355+1)),P2355)","v":1}]
[{"$f":"IF('XML a procesar'!A2356>0,'XML a procesar'!A2356,\"\")","v":""},0,0,0,0,"",0,0,0,"","",0,"",0,"",{"$f":"IF(ROW()<$S$4+2,IF('XML a procesar'!A2356=\"\",P2356,IF(MID('XML a procesar'!A2356,1,1)=\"<\",P2356,P2356+1)),P2356)","v":1}]
[{"$f":"IF('XML a procesar'!A2357>0,'XML a procesar'!A2357,\"\")","v":""},0,0,0,0,"",0,0,0,"","",0,"",0,"",{"$f":"IF(ROW()<$S$4+2,IF('XML a procesar'!A2357=\"\",P2357,IF(MID('XML a procesar'!A2357,1,1)=\"<\",P2357,P2357+1)),P2357)","v":1}]
[{"$f":"IF('XML a procesar'!A2358>0,'XML a procesar'!A2358,\"\")","v":""},0,0,0,0,"",0,0,0,"","",0,"",0,"",{"$f":"IF(ROW()<$S$4+2,IF('XML a procesar'!A2358=\"\",P2358,IF(MID('XML a procesar'!A2358,1,1)=\"<\",P2358,P2358+1)),P2358)","v":1}]
[{"$f":"IF('XML a procesar'!A2359>0,'XML a procesar'!A2359,\"\")","v":""},0,0,0,0,"",0,0,0,"","",0,"",0,"",{"$f":"IF(ROW()<$S$4+2,IF('XML a procesar'!A2359=\"\",P2359,IF(MID('XML a procesar'!A2359,1,1)=\"<\",P2359,P2359+1)),P2359)","v":1}]
[{"$f":"IF('XML a procesar'!A2360>0,'XML a procesar'!A2360,\"\")","v":""},0,0,0,0,"",0,0,0,"","",0,"",0,"",{"$f":"IF(ROW()<$S$4+2,IF('XML a procesar'!A2360=\"\",P2360,IF(MID('XML a procesar'!A2360,1,1)=\"<\",P2360,P2360+1)),P2360)","v":1}]
[{"$f":"IF('XML a procesar'!A2361>0,'XML a procesar'!A2361,\"\")","v":""},0,0,0,0,"",0,0,0,"","",0,"",0,"",{"$f":"IF(ROW()<$S$4+2,IF('XML a procesar'!A2361=\"\",P2361,IF(MID('XML a procesar'!A2361,1,1)=\"<\",P2361,P2361+1)),P2361)","v":1}]
[{"$f":"IF('XML a procesar'!A2362>0,'XML a procesar'!A2362,\"\")","v":""},0,0,0,0,"",0,0,0,"","",0,"",0,"",{"$f":"IF(ROW()<$S$4+2,IF('XML a procesar'!A2362=\"\",P2362,IF(MID('XML a procesar'!A2362,1,1)=\"<\",P2362,P2362+1)),P2362)","v":1}]
[{"$f":"IF('XML a procesar'!A2363>0,'XML a procesar'!A2363,\"\")","v":""},0,0,0,0,"",0,0,0,"","",0,"",0,"",{"$f":"IF(ROW()<$S$4+2,IF('XML a procesar'!A2363=\"\",P2363,IF(MID('XML a procesar'!A2363,1,1)=\"<\",P2363,P2363+1)),P2363)","v":1}]
[{"$f":"IF('XML a procesar'!A2364>0,'XML a procesar'!A2364,\"\")","v":""},0,0,0,0,"",0,0,0,"","",0,"",0,"",{"$f":"IF(ROW()<$S$4+2,IF('XML a procesar'!A2364=\"\",P2364,IF(MID('XML a procesar'!A2364,1,1)=\"<\",P2364,P2364+1)),P2364)","v":1}]
[{"$f":"IF('XML a procesar'!A2365>0,'XML a procesar'!A2365,\"\")","v":""},0,0,0,0,"",0,0,0,"","",0,"",0,"",{"$f":"IF(ROW()<$S$4+2,IF('XML a procesar'!A2365=\"\",P2365,IF(MID('XML a procesar'!A2365,1,1)=\"<\",P2365,P2365+1)),P2365)","v":1}]
[{"$f":"IF('XML a procesar'!A2366>0,'XML a procesar'!A2366,\"\")","v":""},0,0,0,0,"",0,0,0,"","",0,"",0,"",{"$f":"IF(ROW()<$S$4+2,IF('XML a procesar'!A2366=\"\",P2366,IF(MID('XML a procesar'!A2366,1,1)=\"<\",P2366,P2366+1)),P2366)","v":1}]
[{"$f":"IF('XML a procesar'!A2367>0,'XML a procesar'!A2367,\"\")","v":""},0,0,0,0,"",0,0,0,"","",0,"",0,"",{"$f":"IF(ROW()<$S$4+2,IF('XML a procesar'!A2367=\"\",P2367,IF(MID('XML a procesar'!A2367,1,1)=\"<\",P2367,P2367+1)),P2367)","v":1}]
[{"$f":"IF('XML a procesar'!A2368>0,'XML a procesar'!A2368,\"\")","v":""},{"$f":"IF(ISERROR(FIND(\"/doi.org/\",A2369,1)),0,1)","v":0},{"$f":"IF(LEFT(A2368,16)=\"<contrib contrib\",C2368+1,IF(LEFT(A2368,16)=\"</contrib-group>\",0,IF(LEFT(A2368,10)=\"</contrib>\",C2368,C2368)))","v":0},{"$f":"IF(AND(C2369>0,LEFT(A2369,7)=\"<email>\",ISNUMBER(SEARCH(\"@\",A2369,1))),C2369,IF(LEFT(A2369,10)=\"<alt-text>\",-1,0))","v":0},{"$f":"IF(D2369=0,E2368,E2368+1)","v":0},{"$f":"INDIRECT(ADDRESS(ROW()+INDIRECT(ADDRESS(ROW()+E2369,5)),1))","v":""},{"$f":"IF(LEFT(F2369,7)=\"<aff id\",_xlfn.NUMBERVALUE(MID(F2369,13,LEN(F2369)-14)),IF(F2369=\"</aff>\",G2368+1,G2368))","v":0},0,{"$f":"INDIRECT(ADDRESS(ROW()-INDIRECT(ADDRESS(ROW()-H2369,8)),8))","v":0},{"$f":"IF(J2368=\"Linea_para_MAIL_creada_por_LuXML\",\"</aff>\",IF(I2369>INDIRECT(ADDRESS(ROW()-I2369-1,8)),\"Linea_para_MAIL_creada_por_LuXML\",INDIRECT(ADDRESS(ROW()-I2369,6))))","v":""},"",{"$f":"IF(OR(MID(K2367,3,5)=\"page>\",MID(K2368,3,5)=\"page>\"),L2368,IF(OR(K2368=\"<history>\",K2369=\"<history>\"),L2368+1,L2368))","v":0},{"$f":"IF(L2369>L2368,IF(L2369=1,CONCATENATE(\"<fpage>\",$S$10,\"</fpage>\"),CONCATENATE(\"<lpage>\",$S$10+1,\"</lpage>\")),IF(ISERROR(INDIRECT(ADDRESS(ROW()-L2369,11),1)),\"\",INDIRECT(ADDRESS(ROW()-L2369,11),1)))","v":""},{"$f":"IF(N2368=-1,-1,IF(M2369=\"</counts>\",-1,IF(OR(LEFT(M2369,7)=\"<fpage>\",LEFT(M2369,7)=\"<lpage>\"),VALUE(MID(M2369,8,LEN(M2369)-15)),0)))","v":0},"",{"$f":"IF(ROW()<$S$4+2,IF('XML a procesar'!A2368=\"\",P2368,IF(MID('XML a procesar'!A2368,1,1)=\"<\",P2368,P2368+1)),P2368)","v":1}]
[{"$f":"IF('XML a procesar'!A2369>0,'XML a procesar'!A2369,\"\")","v":""},0,0,0,0,"",0,0,0,"","",0,"",0,{"$f":"IF(N2370>-1,INDIRECT(ADDRESS(ROW(),13)),IF(N2370<N2369,CONCATENATE(\"<page-count count=\",CHAR(34),1+LARGE(N:N,1)-LARGE(N:N,2),CHAR(34),\"/>\"),INDIRECT(ADDRESS(ROW()-1,13))))","v":""},{"$f":"IF(ROW()<$S$4+2,IF('XML a procesar'!A2369=\"\",P2369,IF(MID('XML a procesar'!A2369,1,1)=\"<\",P2369,P2369+1)),P2369)","v":1}]
[{"$f":"IF('XML a procesar'!A2370>0,'XML a procesar'!A2370,\"\")","v":""},0,0,0,0,"",0,{"$f":"IF(AND(G2370>0,G2371>G2370,NOT(ISERROR(MATCH(G2370,D:D,0)))),H2370+1,H2370)","v":0},0,"",{"$f":"IF(J2371=\"Linea_para_MAIL_creada_por_LuXML\",IF(ISERROR(MATCH(INDIRECT(ADDRESS(ROW()-G2371,7)),D:D,0)),J2371,INDIRECT(ADDRESS(MATCH(INDIRECT(ADDRESS(ROW()-G2371,7)),D:D,0),1))),J2371)","v":""},0,"",0,"",{"$f":"IF(ROW()<$S$4+2,IF('XML a procesar'!A2370=\"\",P2370,IF(MID('XML a procesar'!A2370,1,1)=\"<\",P2370,P2370+1)),P2370)","v":1}]
[{"$f":"IF('XML a procesar'!A2371>0,'XML a procesar'!A2371,\"\")","v":""},0,0,0,0,"",0,0,0,"","",0,"",0,"",{"$f":"IF(ROW()<$S$4+2,IF('XML a procesar'!A2371=\"\",P2371,IF(MID('XML a procesar'!A2371,1,1)=\"<\",P2371,P2371+1)),P2371)","v":1}]
[{"$f":"IF('XML a procesar'!A2372>0,'XML a procesar'!A2372,\"\")","v":""},0,0,0,0,"",0,0,0,"","",0,"",0,"",{"$f":"IF(ROW()<$S$4+2,IF('XML a procesar'!A2372=\"\",P2372,IF(MID('XML a procesar'!A2372,1,1)=\"<\",P2372,P2372+1)),P2372)","v":1}]
[{"$f":"IF('XML a procesar'!A2373>0,'XML a procesar'!A2373,\"\")","v":""},0,0,0,0,"",0,0,0,"","",0,"",0,"",{"$f":"IF(ROW()<$S$4+2,IF('XML a procesar'!A2373=\"\",P2373,IF(MID('XML a procesar'!A2373,1,1)=\"<\",P2373,P2373+1)),P2373)","v":1}]
[{"$f":"IF('XML a procesar'!A2374>0,'XML a procesar'!A2374,\"\")","v":""},0,0,0,0,"",0,0,0,"","",0,"",0,"",{"$f":"IF(ROW()<$S$4+2,IF('XML a procesar'!A2374=\"\",P2374,IF(MID('XML a procesar'!A2374,1,1)=\"<\",P2374,P2374+1)),P2374)","v":1}]
[{"$f":"IF('XML a procesar'!A2375>0,'XML a procesar'!A2375,\"\")","v":""},0,0,0,0,"",0,0,0,"","",0,"",0,"",{"$f":"IF(ROW()<$S$4+2,IF('XML a procesar'!A2375=\"\",P2375,IF(MID('XML a procesar'!A2375,1,1)=\"<\",P2375,P2375+1)),P2375)","v":1}]
[{"$f":"IF('XML a procesar'!A2376>0,'XML a procesar'!A2376,\"\")","v":""},0,0,0,0,"",0,0,0,"","",0,"",0,"",{"$f":"IF(ROW()<$S$4+2,IF('XML a procesar'!A2376=\"\",P2376,IF(MID('XML a procesar'!A2376,1,1)=\"<\",P2376,P2376+1)),P2376)","v":1}]
[{"$f":"IF('XML a procesar'!A2377>0,'XML a procesar'!A2377,\"\")","v":""},0,0,0,0,"",0,0,0,"","",0,"",0,"",{"$f":"IF(ROW()<$S$4+2,IF('XML a procesar'!A2377=\"\",P2377,IF(MID('XML a procesar'!A2377,1,1)=\"<\",P2377,P2377+1)),P2377)","v":1}]
[{"$f":"IF('XML a procesar'!A2378>0,'XML a procesar'!A2378,\"\")","v":""},0,0,0,0,"",0,0,0,"","",0,"",0,"",{"$f":"IF(ROW()<$S$4+2,IF('XML a procesar'!A2378=\"\",P2378,IF(MID('XML a procesar'!A2378,1,1)=\"<\",P2378,P2378+1)),P2378)","v":1}]
[{"$f":"IF('XML a procesar'!A2379>0,'XML a procesar'!A2379,\"\")","v":""},0,0,0,0,"",0,0,0,"","",0,"",0,"",{"$f":"IF(ROW()<$S$4+2,IF('XML a procesar'!A2379=\"\",P2379,IF(MID('XML a procesar'!A2379,1,1)=\"<\",P2379,P2379+1)),P2379)","v":1}]
[{"$f":"IF('XML a procesar'!A2380>0,'XML a procesar'!A2380,\"\")","v":""},0,0,0,0,"",0,0,0,"","",0,"",0,"",{"$f":"IF(ROW()<$S$4+2,IF('XML a procesar'!A2380=\"\",P2380,IF(MID('XML a procesar'!A2380,1,1)=\"<\",P2380,P2380+1)),P2380)","v":1}]
[{"$f":"IF('XML a procesar'!A2381>0,'XML a procesar'!A2381,\"\")","v":""},0,0,0,0,"",0,0,0,"","",0,"",0,"",{"$f":"IF(ROW()<$S$4+2,IF('XML a procesar'!A2381=\"\",P2381,IF(MID('XML a procesar'!A2381,1,1)=\"<\",P2381,P2381+1)),P2381)","v":1}]
[{"$f":"IF('XML a procesar'!A2382>0,'XML a procesar'!A2382,\"\")","v":""},0,0,0,0,"",0,0,0,"","",0,"",0,"",{"$f":"IF(ROW()<$S$4+2,IF('XML a procesar'!A2382=\"\",P2382,IF(MID('XML a procesar'!A2382,1,1)=\"<\",P2382,P2382+1)),P2382)","v":1}]
[{"$f":"IF('XML a procesar'!A2383>0,'XML a procesar'!A2383,\"\")","v":""},0,0,0,0,"",0,0,0,"","",0,"",0,"",{"$f":"IF(ROW()<$S$4+2,IF('XML a procesar'!A2383=\"\",P2383,IF(MID('XML a procesar'!A2383,1,1)=\"<\",P2383,P2383+1)),P2383)","v":1}]
[{"$f":"IF('XML a procesar'!A2384>0,'XML a procesar'!A2384,\"\")","v":""},0,0,0,0,"",0,0,0,"","",0,"",0,"",{"$f":"IF(ROW()<$S$4+2,IF('XML a procesar'!A2384=\"\",P2384,IF(MID('XML a procesar'!A2384,1,1)=\"<\",P2384,P2384+1)),P2384)","v":1}]
[{"$f":"IF('XML a procesar'!A2385>0,'XML a procesar'!A2385,\"\")","v":""},0,0,0,0,"",0,0,0,"","",0,"",0,"",{"$f":"IF(ROW()<$S$4+2,IF('XML a procesar'!A2385=\"\",P2385,IF(MID('XML a procesar'!A2385,1,1)=\"<\",P2385,P2385+1)),P2385)","v":1}]
[{"$f":"IF('XML a procesar'!A2386>0,'XML a procesar'!A2386,\"\")","v":""},0,0,0,0,"",0,0,0,"","",0,"",0,"",{"$f":"IF(ROW()<$S$4+2,IF('XML a procesar'!A2386=\"\",P2386,IF(MID('XML a procesar'!A2386,1,1)=\"<\",P2386,P2386+1)),P2386)","v":1}]
[{"$f":"IF('XML a procesar'!A2387>0,'XML a procesar'!A2387,\"\")","v":""},0,0,0,0,"",0,0,0,"","",0,"",0,"",{"$f":"IF(ROW()<$S$4+2,IF('XML a procesar'!A2387=\"\",P2387,IF(MID('XML a procesar'!A2387,1,1)=\"<\",P2387,P2387+1)),P2387)","v":1}]
[{"$f":"IF('XML a procesar'!A2388>0,'XML a procesar'!A2388,\"\")","v":""},0,0,0,0,"",0,0,0,"","",0,"",0,"",{"$f":"IF(ROW()<$S$4+2,IF('XML a procesar'!A2388=\"\",P2388,IF(MID('XML a procesar'!A2388,1,1)=\"<\",P2388,P2388+1)),P2388)","v":1}]
[{"$f":"IF('XML a procesar'!A2389>0,'XML a procesar'!A2389,\"\")","v":""},0,0,0,0,"",0,0,0,"","",0,"",0,"",{"$f":"IF(ROW()<$S$4+2,IF('XML a procesar'!A2389=\"\",P2389,IF(MID('XML a procesar'!A2389,1,1)=\"<\",P2389,P2389+1)),P2389)","v":1}]
[{"$f":"IF('XML a procesar'!A2390>0,'XML a procesar'!A2390,\"\")","v":""},0,0,0,0,"",0,0,0,"","",0,"",0,"",{"$f":"IF(ROW()<$S$4+2,IF('XML a procesar'!A2390=\"\",P2390,IF(MID('XML a procesar'!A2390,1,1)=\"<\",P2390,P2390+1)),P2390)","v":1}]
[{"$f":"IF('XML a procesar'!A2391>0,'XML a procesar'!A2391,\"\")","v":""},0,0,0,0,"",0,0,0,"","",0,"",0,"",{"$f":"IF(ROW()<$S$4+2,IF('XML a procesar'!A2391=\"\",P2391,IF(MID('XML a procesar'!A2391,1,1)=\"<\",P2391,P2391+1)),P2391)","v":1}]
[{"$f":"IF('XML a procesar'!A2392>0,'XML a procesar'!A2392,\"\")","v":""},0,0,0,0,"",0,0,0,"","",0,"",0,"",{"$f":"IF(ROW()<$S$4+2,IF('XML a procesar'!A2392=\"\",P2392,IF(MID('XML a procesar'!A2392,1,1)=\"<\",P2392,P2392+1)),P2392)","v":1}]
[{"$f":"IF('XML a procesar'!A2393>0,'XML a procesar'!A2393,\"\")","v":""},0,0,0,0,"",0,0,0,"","",0,"",0,"",{"$f":"IF(ROW()<$S$4+2,IF('XML a procesar'!A2393=\"\",P2393,IF(MID('XML a procesar'!A2393,1,1)=\"<\",P2393,P2393+1)),P2393)","v":1}]
[{"$f":"IF('XML a procesar'!A2394>0,'XML a procesar'!A2394,\"\")","v":""},0,0,0,0,"",0,0,0,"","",0,"",0,"",{"$f":"IF(ROW()<$S$4+2,IF('XML a procesar'!A2394=\"\",P2394,IF(MID('XML a procesar'!A2394,1,1)=\"<\",P2394,P2394+1)),P2394)","v":1}]
[{"$f":"IF('XML a procesar'!A2395>0,'XML a procesar'!A2395,\"\")","v":""},0,0,0,0,"",0,0,0,"","",0,"",0,"",{"$f":"IF(ROW()<$S$4+2,IF('XML a procesar'!A2395=\"\",P2395,IF(MID('XML a procesar'!A2395,1,1)=\"<\",P2395,P2395+1)),P2395)","v":1}]
[{"$f":"IF('XML a procesar'!A2396>0,'XML a procesar'!A2396,\"\")","v":""},0,0,0,0,"",0,0,0,"","",0,"",0,"",{"$f":"IF(ROW()<$S$4+2,IF('XML a procesar'!A2396=\"\",P2396,IF(MID('XML a procesar'!A2396,1,1)=\"<\",P2396,P2396+1)),P2396)","v":1}]
[{"$f":"IF('XML a procesar'!A2397>0,'XML a procesar'!A2397,\"\")","v":""},0,0,0,0,"",0,0,0,"","",0,"",0,"",{"$f":"IF(ROW()<$S$4+2,IF('XML a procesar'!A2397=\"\",P2397,IF(MID('XML a procesar'!A2397,1,1)=\"<\",P2397,P2397+1)),P2397)","v":1}]
[{"$f":"IF('XML a procesar'!A2398>0,'XML a procesar'!A2398,\"\")","v":""},0,0,0,0,"",0,0,0,"","",0,"",0,"",{"$f":"IF(ROW()<$S$4+2,IF('XML a procesar'!A2398=\"\",P2398,IF(MID('XML a procesar'!A2398,1,1)=\"<\",P2398,P2398+1)),P2398)","v":1}]
[{"$f":"IF('XML a procesar'!A2399>0,'XML a procesar'!A2399,\"\")","v":""},0,0,0,0,"",0,0,0,"","",0,"",0,"",{"$f":"IF(ROW()<$S$4+2,IF('XML a procesar'!A2399=\"\",P2399,IF(MID('XML a procesar'!A2399,1,1)=\"<\",P2399,P2399+1)),P2399)","v":1}]
[{"$f":"IF('XML a procesar'!A2400>0,'XML a procesar'!A2400,\"\")","v":""},0,0,0,0,"",0,0,0,"","",0,"",0,"",{"$f":"IF(ROW()<$S$4+2,IF('XML a procesar'!A2400=\"\",P2400,IF(MID('XML a procesar'!A2400,1,1)=\"<\",P2400,P2400+1)),P2400)","v":1}]
[{"$f":"IF('XML a procesar'!A2401>0,'XML a procesar'!A2401,\"\")","v":""},0,0,0,0,"",0,0,0,"","",0,"",0,"",{"$f":"IF(ROW()<$S$4+2,IF('XML a procesar'!A2401=\"\",P2401,IF(MID('XML a procesar'!A2401,1,1)=\"<\",P2401,P2401+1)),P2401)","v":1}]
[{"$f":"IF('XML a procesar'!A2402>0,'XML a procesar'!A2402,\"\")","v":""},0,0,0,0,"",0,0,0,"","",0,"",0,"",{"$f":"IF(ROW()<$S$4+2,IF('XML a procesar'!A2402=\"\",P2402,IF(MID('XML a procesar'!A2402,1,1)=\"<\",P2402,P2402+1)),P2402)","v":1}]
[{"$f":"IF('XML a procesar'!A2403>0,'XML a procesar'!A2403,\"\")","v":""},0,0,0,0,"",0,0,0,"","",0,"",0,"",{"$f":"IF(ROW()<$S$4+2,IF('XML a procesar'!A2403=\"\",P2403,IF(MID('XML a procesar'!A2403,1,1)=\"<\",P2403,P2403+1)),P2403)","v":1}]
[{"$f":"IF('XML a procesar'!A2404>0,'XML a procesar'!A2404,\"\")","v":""},0,0,0,0,"",0,0,0,"","",0,"",0,"",{"$f":"IF(ROW()<$S$4+2,IF('XML a procesar'!A2404=\"\",P2404,IF(MID('XML a procesar'!A2404,1,1)=\"<\",P2404,P2404+1)),P2404)","v":1}]
[{"$f":"IF('XML a procesar'!A2405>0,'XML a procesar'!A2405,\"\")","v":""},0,0,0,0,"",0,0,0,"","",0,"",0,"",{"$f":"IF(ROW()<$S$4+2,IF('XML a procesar'!A2405=\"\",P2405,IF(MID('XML a procesar'!A2405,1,1)=\"<\",P2405,P2405+1)),P2405)","v":1}]
[{"$f":"IF('XML a procesar'!A2406>0,'XML a procesar'!A2406,\"\")","v":""},0,0,0,0,"",0,0,0,"","",0,"",0,"",{"$f":"IF(ROW()<$S$4+2,IF('XML a procesar'!A2406=\"\",P2406,IF(MID('XML a procesar'!A2406,1,1)=\"<\",P2406,P2406+1)),P2406)","v":1}]
[{"$f":"IF('XML a procesar'!A2407>0,'XML a procesar'!A2407,\"\")","v":""},0,0,0,0,"",0,0,0,"","",0,"",0,"",{"$f":"IF(ROW()<$S$4+2,IF('XML a procesar'!A2407=\"\",P2407,IF(MID('XML a procesar'!A2407,1,1)=\"<\",P2407,P2407+1)),P2407)","v":1}]
[{"$f":"IF('XML a procesar'!A2408>0,'XML a procesar'!A2408,\"\")","v":""},0,0,0,0,"",0,0,0,"","",0,"",0,"",{"$f":"IF(ROW()<$S$4+2,IF('XML a procesar'!A2408=\"\",P2408,IF(MID('XML a procesar'!A2408,1,1)=\"<\",P2408,P2408+1)),P2408)","v":1}]
[{"$f":"IF('XML a procesar'!A2409>0,'XML a procesar'!A2409,\"\")","v":""},0,0,0,0,"",0,0,0,"","",0,"",0,"",{"$f":"IF(ROW()<$S$4+2,IF('XML a procesar'!A2409=\"\",P2409,IF(MID('XML a procesar'!A2409,1,1)=\"<\",P2409,P2409+1)),P2409)","v":1}]
[{"$f":"IF('XML a procesar'!A2410>0,'XML a procesar'!A2410,\"\")","v":""},0,0,0,0,"",0,0,0,"","",0,"",0,"",{"$f":"IF(ROW()<$S$4+2,IF('XML a procesar'!A2410=\"\",P2410,IF(MID('XML a procesar'!A2410,1,1)=\"<\",P2410,P2410+1)),P2410)","v":1}]
[{"$f":"IF('XML a procesar'!A2411>0,'XML a procesar'!A2411,\"\")","v":""},0,0,0,0,"",0,0,0,"","",0,"",0,"",{"$f":"IF(ROW()<$S$4+2,IF('XML a procesar'!A2411=\"\",P2411,IF(MID('XML a procesar'!A2411,1,1)=\"<\",P2411,P2411+1)),P2411)","v":1}]
[{"$f":"IF('XML a procesar'!A2412>0,'XML a procesar'!A2412,\"\")","v":""},0,0,0,0,"",0,0,0,"","",0,"",0,"",{"$f":"IF(ROW()<$S$4+2,IF('XML a procesar'!A2412=\"\",P2412,IF(MID('XML a procesar'!A2412,1,1)=\"<\",P2412,P2412+1)),P2412)","v":1}]
[{"$f":"IF('XML a procesar'!A2413>0,'XML a procesar'!A2413,\"\")","v":""},0,0,0,0,"",0,0,0,"","",0,"",0,"",{"$f":"IF(ROW()<$S$4+2,IF('XML a procesar'!A2413=\"\",P2413,IF(MID('XML a procesar'!A2413,1,1)=\"<\",P2413,P2413+1)),P2413)","v":1}]
[{"$f":"IF('XML a procesar'!A2414>0,'XML a procesar'!A2414,\"\")","v":""},0,0,0,0,"",0,0,0,"","",0,"",0,"",{"$f":"IF(ROW()<$S$4+2,IF('XML a procesar'!A2414=\"\",P2414,IF(MID('XML a procesar'!A2414,1,1)=\"<\",P2414,P2414+1)),P2414)","v":1}]
[{"$f":"IF('XML a procesar'!A2415>0,'XML a procesar'!A2415,\"\")","v":""},0,0,0,0,"",0,0,0,"","",0,"",0,"",{"$f":"IF(ROW()<$S$4+2,IF('XML a procesar'!A2415=\"\",P2415,IF(MID('XML a procesar'!A2415,1,1)=\"<\",P2415,P2415+1)),P2415)","v":1}]
[{"$f":"IF('XML a procesar'!A2416>0,'XML a procesar'!A2416,\"\")","v":""},0,0,0,0,"",0,0,0,"","",0,"",0,"",{"$f":"IF(ROW()<$S$4+2,IF('XML a procesar'!A2416=\"\",P2416,IF(MID('XML a procesar'!A2416,1,1)=\"<\",P2416,P2416+1)),P2416)","v":1}]
[{"$f":"IF('XML a procesar'!A2417>0,'XML a procesar'!A2417,\"\")","v":""},0,0,0,0,"",0,0,0,"","",0,"",0,"",{"$f":"IF(ROW()<$S$4+2,IF('XML a procesar'!A2417=\"\",P2417,IF(MID('XML a procesar'!A2417,1,1)=\"<\",P2417,P2417+1)),P2417)","v":1}]
[{"$f":"IF('XML a procesar'!A2418>0,'XML a procesar'!A2418,\"\")","v":""},0,0,0,0,"",0,0,0,"","",0,"",0,"",{"$f":"IF(ROW()<$S$4+2,IF('XML a procesar'!A2418=\"\",P2418,IF(MID('XML a procesar'!A2418,1,1)=\"<\",P2418,P2418+1)),P2418)","v":1}]
[{"$f":"IF('XML a procesar'!A2419>0,'XML a procesar'!A2419,\"\")","v":""},0,0,0,0,"",0,0,0,"","",0,"",0,"",{"$f":"IF(ROW()<$S$4+2,IF('XML a procesar'!A2419=\"\",P2419,IF(MID('XML a procesar'!A2419,1,1)=\"<\",P2419,P2419+1)),P2419)","v":1}]
[{"$f":"IF('XML a procesar'!A2420>0,'XML a procesar'!A2420,\"\")","v":""},0,0,0,0,"",0,0,0,"","",0,"",0,"",{"$f":"IF(ROW()<$S$4+2,IF('XML a procesar'!A2420=\"\",P2420,IF(MID('XML a procesar'!A2420,1,1)=\"<\",P2420,P2420+1)),P2420)","v":1}]
[{"$f":"IF('XML a procesar'!A2421>0,'XML a procesar'!A2421,\"\")","v":""},0,0,0,0,"",0,0,0,"","",0,"",0,"",{"$f":"IF(ROW()<$S$4+2,IF('XML a procesar'!A2421=\"\",P2421,IF(MID('XML a procesar'!A2421,1,1)=\"<\",P2421,P2421+1)),P2421)","v":1}]
[{"$f":"IF('XML a procesar'!A2422>0,'XML a procesar'!A2422,\"\")","v":""},0,0,0,0,"",0,0,0,"","",0,"",0,"",{"$f":"IF(ROW()<$S$4+2,IF('XML a procesar'!A2422=\"\",P2422,IF(MID('XML a procesar'!A2422,1,1)=\"<\",P2422,P2422+1)),P2422)","v":1}]
[{"$f":"IF('XML a procesar'!A2423>0,'XML a procesar'!A2423,\"\")","v":""},0,0,0,0,"",0,0,0,"","",0,"",0,"",{"$f":"IF(ROW()<$S$4+2,IF('XML a procesar'!A2423=\"\",P2423,IF(MID('XML a procesar'!A2423,1,1)=\"<\",P2423,P2423+1)),P2423)","v":1}]
[{"$f":"IF('XML a procesar'!A2424>0,'XML a procesar'!A2424,\"\")","v":""},0,0,0,0,"",0,0,0,"","",0,"",0,"",{"$f":"IF(ROW()<$S$4+2,IF('XML a procesar'!A2424=\"\",P2424,IF(MID('XML a procesar'!A2424,1,1)=\"<\",P2424,P2424+1)),P2424)","v":1}]
[{"$f":"IF('XML a procesar'!A2425>0,'XML a procesar'!A2425,\"\")","v":""},0,0,0,0,"",0,0,0,"","",0,"",0,"",{"$f":"IF(ROW()<$S$4+2,IF('XML a procesar'!A2425=\"\",P2425,IF(MID('XML a procesar'!A2425,1,1)=\"<\",P2425,P2425+1)),P2425)","v":1}]
[{"$f":"IF('XML a procesar'!A2426>0,'XML a procesar'!A2426,\"\")","v":""},0,0,0,0,"",0,0,0,"","",0,"",0,"",{"$f":"IF(ROW()<$S$4+2,IF('XML a procesar'!A2426=\"\",P2426,IF(MID('XML a procesar'!A2426,1,1)=\"<\",P2426,P2426+1)),P2426)","v":1}]
[{"$f":"IF('XML a procesar'!A2427>0,'XML a procesar'!A2427,\"\")","v":""},0,0,0,0,"",0,0,0,"","",0,"",0,"",{"$f":"IF(ROW()<$S$4+2,IF('XML a procesar'!A2427=\"\",P2427,IF(MID('XML a procesar'!A2427,1,1)=\"<\",P2427,P2427+1)),P2427)","v":1}]
[{"$f":"IF('XML a procesar'!A2428>0,'XML a procesar'!A2428,\"\")","v":""},0,0,0,0,"",0,0,0,"","",0,"",0,"",{"$f":"IF(ROW()<$S$4+2,IF('XML a procesar'!A2428=\"\",P2428,IF(MID('XML a procesar'!A2428,1,1)=\"<\",P2428,P2428+1)),P2428)","v":1}]
[{"$f":"IF('XML a procesar'!A2429>0,'XML a procesar'!A2429,\"\")","v":""},0,0,0,0,"",0,0,0,"","",0,"",0,"",{"$f":"IF(ROW()<$S$4+2,IF('XML a procesar'!A2429=\"\",P2429,IF(MID('XML a procesar'!A2429,1,1)=\"<\",P2429,P2429+1)),P2429)","v":1}]
[{"$f":"IF('XML a procesar'!A2430>0,'XML a procesar'!A2430,\"\")","v":""},0,0,0,0,"",0,0,0,"","",0,"",0,"",{"$f":"IF(ROW()<$S$4+2,IF('XML a procesar'!A2430=\"\",P2430,IF(MID('XML a procesar'!A2430,1,1)=\"<\",P2430,P2430+1)),P2430)","v":1}]
[{"$f":"IF('XML a procesar'!A2431>0,'XML a procesar'!A2431,\"\")","v":""},0,0,0,0,"",0,0,0,"","",0,"",0,"",{"$f":"IF(ROW()<$S$4+2,IF('XML a procesar'!A2431=\"\",P2431,IF(MID('XML a procesar'!A2431,1,1)=\"<\",P2431,P2431+1)),P2431)","v":1}]
[{"$f":"IF('XML a procesar'!A2432>0,'XML a procesar'!A2432,\"\")","v":""},{"$f":"IF(ISERROR(FIND(\"/doi.org/\",A2433,1)),0,1)","v":0},{"$f":"IF(LEFT(A2432,16)=\"<contrib contrib\",C2432+1,IF(LEFT(A2432,16)=\"</contrib-group>\",0,IF(LEFT(A2432,10)=\"</contrib>\",C2432,C2432)))","v":0},{"$f":"IF(AND(C2433>0,LEFT(A2433,7)=\"<email>\",ISNUMBER(SEARCH(\"@\",A2433,1))),C2433,IF(LEFT(A2433,10)=\"<alt-text>\",-1,0))","v":0},{"$f":"IF(D2433=0,E2432,E2432+1)","v":0},{"$f":"INDIRECT(ADDRESS(ROW()+INDIRECT(ADDRESS(ROW()+E2433,5)),1))","v":""},{"$f":"IF(LEFT(F2433,7)=\"<aff id\",_xlfn.NUMBERVALUE(MID(F2433,13,LEN(F2433)-14)),IF(F2433=\"</aff>\",G2432+1,G2432))","v":0},0,{"$f":"INDIRECT(ADDRESS(ROW()-INDIRECT(ADDRESS(ROW()-H2433,8)),8))","v":0},{"$f":"IF(J2432=\"Linea_para_MAIL_creada_por_LuXML\",\"</aff>\",IF(I2433>INDIRECT(ADDRESS(ROW()-I2433-1,8)),\"Linea_para_MAIL_creada_por_LuXML\",INDIRECT(ADDRESS(ROW()-I2433,6))))","v":""},"",{"$f":"IF(OR(MID(K2431,3,5)=\"page>\",MID(K2432,3,5)=\"page>\"),L2432,IF(OR(K2432=\"<history>\",K2433=\"<history>\"),L2432+1,L2432))","v":0},{"$f":"IF(L2433>L2432,IF(L2433=1,CONCATENATE(\"<fpage>\",$S$10,\"</fpage>\"),CONCATENATE(\"<lpage>\",$S$10+1,\"</lpage>\")),IF(ISERROR(INDIRECT(ADDRESS(ROW()-L2433,11),1)),\"\",INDIRECT(ADDRESS(ROW()-L2433,11),1)))","v":""},{"$f":"IF(N2432=-1,-1,IF(M2433=\"</counts>\",-1,IF(OR(LEFT(M2433,7)=\"<fpage>\",LEFT(M2433,7)=\"<lpage>\"),VALUE(MID(M2433,8,LEN(M2433)-15)),0)))","v":0},"",{"$f":"IF(ROW()<$S$4+2,IF('XML a procesar'!A2432=\"\",P2432,IF(MID('XML a procesar'!A2432,1,1)=\"<\",P2432,P2432+1)),P2432)","v":1}]
[{"$f":"IF('XML a procesar'!A2433>0,'XML a procesar'!A2433,\"\")","v":""},0,0,0,0,"",0,0,0,"","",0,"",0,{"$f":"IF(N2434>-1,INDIRECT(ADDRESS(ROW(),13)),IF(N2434<N2433,CONCATENATE(\"<page-count count=\",CHAR(34),1+LARGE(N:N,1)-LARGE(N:N,2),CHAR(34),\"/>\"),INDIRECT(ADDRESS(ROW()-1,13))))","v":""},{"$f":"IF(ROW()<$S$4+2,IF('XML a procesar'!A2433=\"\",P2433,IF(MID('XML a procesar'!A2433,1,1)=\"<\",P2433,P2433+1)),P2433)","v":1}]
[{"$f":"IF('XML a procesar'!A2434>0,'XML a procesar'!A2434,\"\")","v":""},0,0,0,0,"",0,{"$f":"IF(AND(G2434>0,G2435>G2434,NOT(ISERROR(MATCH(G2434,D:D,0)))),H2434+1,H2434)","v":0},0,"",{"$f":"IF(J2435=\"Linea_para_MAIL_creada_por_LuXML\",IF(ISERROR(MATCH(INDIRECT(ADDRESS(ROW()-G2435,7)),D:D,0)),J2435,INDIRECT(ADDRESS(MATCH(INDIRECT(ADDRESS(ROW()-G2435,7)),D:D,0),1))),J2435)","v":""},0,"",0,"",{"$f":"IF(ROW()<$S$4+2,IF('XML a procesar'!A2434=\"\",P2434,IF(MID('XML a procesar'!A2434,1,1)=\"<\",P2434,P2434+1)),P2434)","v":1}]
[{"$f":"IF('XML a procesar'!A2435>0,'XML a procesar'!A2435,\"\")","v":""},0,0,0,0,"",0,0,0,"","",0,"",0,"",{"$f":"IF(ROW()<$S$4+2,IF('XML a procesar'!A2435=\"\",P2435,IF(MID('XML a procesar'!A2435,1,1)=\"<\",P2435,P2435+1)),P2435)","v":1}]
[{"$f":"IF('XML a procesar'!A2436>0,'XML a procesar'!A2436,\"\")","v":""},0,0,0,0,"",0,0,0,"","",0,"",0,"",{"$f":"IF(ROW()<$S$4+2,IF('XML a procesar'!A2436=\"\",P2436,IF(MID('XML a procesar'!A2436,1,1)=\"<\",P2436,P2436+1)),P2436)","v":1}]
[{"$f":"IF('XML a procesar'!A2437>0,'XML a procesar'!A2437,\"\")","v":""},0,0,0,0,"",0,0,0,"","",0,"",0,"",{"$f":"IF(ROW()<$S$4+2,IF('XML a procesar'!A2437=\"\",P2437,IF(MID('XML a procesar'!A2437,1,1)=\"<\",P2437,P2437+1)),P2437)","v":1}]
[{"$f":"IF('XML a procesar'!A2438>0,'XML a procesar'!A2438,\"\")","v":""},0,0,0,0,"",0,0,0,"","",0,"",0,"",{"$f":"IF(ROW()<$S$4+2,IF('XML a procesar'!A2438=\"\",P2438,IF(MID('XML a procesar'!A2438,1,1)=\"<\",P2438,P2438+1)),P2438)","v":1}]
[{"$f":"IF('XML a procesar'!A2439>0,'XML a procesar'!A2439,\"\")","v":""},0,0,0,0,"",0,0,0,"","",0,"",0,"",{"$f":"IF(ROW()<$S$4+2,IF('XML a procesar'!A2439=\"\",P2439,IF(MID('XML a procesar'!A2439,1,1)=\"<\",P2439,P2439+1)),P2439)","v":1}]
[{"$f":"IF('XML a procesar'!A2440>0,'XML a procesar'!A2440,\"\")","v":""},0,0,0,0,"",0,0,0,"","",0,"",0,"",{"$f":"IF(ROW()<$S$4+2,IF('XML a procesar'!A2440=\"\",P2440,IF(MID('XML a procesar'!A2440,1,1)=\"<\",P2440,P2440+1)),P2440)","v":1}]
[{"$f":"IF('XML a procesar'!A2441>0,'XML a procesar'!A2441,\"\")","v":""},0,0,0,0,"",0,0,0,"","",0,"",0,"",{"$f":"IF(ROW()<$S$4+2,IF('XML a procesar'!A2441=\"\",P2441,IF(MID('XML a procesar'!A2441,1,1)=\"<\",P2441,P2441+1)),P2441)","v":1}]
[{"$f":"IF('XML a procesar'!A2442>0,'XML a procesar'!A2442,\"\")","v":""},0,0,0,0,"",0,0,0,"","",0,"",0,"",{"$f":"IF(ROW()<$S$4+2,IF('XML a procesar'!A2442=\"\",P2442,IF(MID('XML a procesar'!A2442,1,1)=\"<\",P2442,P2442+1)),P2442)","v":1}]
[{"$f":"IF('XML a procesar'!A2443>0,'XML a procesar'!A2443,\"\")","v":""},0,0,0,0,"",0,0,0,"","",0,"",0,"",{"$f":"IF(ROW()<$S$4+2,IF('XML a procesar'!A2443=\"\",P2443,IF(MID('XML a procesar'!A2443,1,1)=\"<\",P2443,P2443+1)),P2443)","v":1}]
[{"$f":"IF('XML a procesar'!A2444>0,'XML a procesar'!A2444,\"\")","v":""},0,0,0,0,"",0,0,0,"","",0,"",0,"",{"$f":"IF(ROW()<$S$4+2,IF('XML a procesar'!A2444=\"\",P2444,IF(MID('XML a procesar'!A2444,1,1)=\"<\",P2444,P2444+1)),P2444)","v":1}]
[{"$f":"IF('XML a procesar'!A2445>0,'XML a procesar'!A2445,\"\")","v":""},0,0,0,0,"",0,0,0,"","",0,"",0,"",{"$f":"IF(ROW()<$S$4+2,IF('XML a procesar'!A2445=\"\",P2445,IF(MID('XML a procesar'!A2445,1,1)=\"<\",P2445,P2445+1)),P2445)","v":1}]
[{"$f":"IF('XML a procesar'!A2446>0,'XML a procesar'!A2446,\"\")","v":""},0,0,0,0,"",0,0,0,"","",0,"",0,"",{"$f":"IF(ROW()<$S$4+2,IF('XML a procesar'!A2446=\"\",P2446,IF(MID('XML a procesar'!A2446,1,1)=\"<\",P2446,P2446+1)),P2446)","v":1}]
[{"$f":"IF('XML a procesar'!A2447>0,'XML a procesar'!A2447,\"\")","v":""},0,0,0,0,"",0,0,0,"","",0,"",0,"",{"$f":"IF(ROW()<$S$4+2,IF('XML a procesar'!A2447=\"\",P2447,IF(MID('XML a procesar'!A2447,1,1)=\"<\",P2447,P2447+1)),P2447)","v":1}]
[{"$f":"IF('XML a procesar'!A2448>0,'XML a procesar'!A2448,\"\")","v":""},0,0,0,0,"",0,0,0,"","",0,"",0,"",{"$f":"IF(ROW()<$S$4+2,IF('XML a procesar'!A2448=\"\",P2448,IF(MID('XML a procesar'!A2448,1,1)=\"<\",P2448,P2448+1)),P2448)","v":1}]
[{"$f":"IF('XML a procesar'!A2449>0,'XML a procesar'!A2449,\"\")","v":""},0,0,0,0,"",0,0,0,"","",0,"",0,"",{"$f":"IF(ROW()<$S$4+2,IF('XML a procesar'!A2449=\"\",P2449,IF(MID('XML a procesar'!A2449,1,1)=\"<\",P2449,P2449+1)),P2449)","v":1}]
[{"$f":"IF('XML a procesar'!A2450>0,'XML a procesar'!A2450,\"\")","v":""},0,0,0,0,"",0,0,0,"","",0,"",0,"",{"$f":"IF(ROW()<$S$4+2,IF('XML a procesar'!A2450=\"\",P2450,IF(MID('XML a procesar'!A2450,1,1)=\"<\",P2450,P2450+1)),P2450)","v":1}]
[{"$f":"IF('XML a procesar'!A2451>0,'XML a procesar'!A2451,\"\")","v":""},0,0,0,0,"",0,0,0,"","",0,"",0,"",{"$f":"IF(ROW()<$S$4+2,IF('XML a procesar'!A2451=\"\",P2451,IF(MID('XML a procesar'!A2451,1,1)=\"<\",P2451,P2451+1)),P2451)","v":1}]
[{"$f":"IF('XML a procesar'!A2452>0,'XML a procesar'!A2452,\"\")","v":""},0,0,0,0,"",0,0,0,"","",0,"",0,"",{"$f":"IF(ROW()<$S$4+2,IF('XML a procesar'!A2452=\"\",P2452,IF(MID('XML a procesar'!A2452,1,1)=\"<\",P2452,P2452+1)),P2452)","v":1}]
[{"$f":"IF('XML a procesar'!A2453>0,'XML a procesar'!A2453,\"\")","v":""},0,0,0,0,"",0,0,0,"","",0,"",0,"",{"$f":"IF(ROW()<$S$4+2,IF('XML a procesar'!A2453=\"\",P2453,IF(MID('XML a procesar'!A2453,1,1)=\"<\",P2453,P2453+1)),P2453)","v":1}]
[{"$f":"IF('XML a procesar'!A2454>0,'XML a procesar'!A2454,\"\")","v":""},0,0,0,0,"",0,0,0,"","",0,"",0,"",{"$f":"IF(ROW()<$S$4+2,IF('XML a procesar'!A2454=\"\",P2454,IF(MID('XML a procesar'!A2454,1,1)=\"<\",P2454,P2454+1)),P2454)","v":1}]
[{"$f":"IF('XML a procesar'!A2455>0,'XML a procesar'!A2455,\"\")","v":""},0,0,0,0,"",0,0,0,"","",0,"",0,"",{"$f":"IF(ROW()<$S$4+2,IF('XML a procesar'!A2455=\"\",P2455,IF(MID('XML a procesar'!A2455,1,1)=\"<\",P2455,P2455+1)),P2455)","v":1}]
[{"$f":"IF('XML a procesar'!A2456>0,'XML a procesar'!A2456,\"\")","v":""},0,0,0,0,"",0,0,0,"","",0,"",0,"",{"$f":"IF(ROW()<$S$4+2,IF('XML a procesar'!A2456=\"\",P2456,IF(MID('XML a procesar'!A2456,1,1)=\"<\",P2456,P2456+1)),P2456)","v":1}]
[{"$f":"IF('XML a procesar'!A2457>0,'XML a procesar'!A2457,\"\")","v":""},0,0,0,0,"",0,0,0,"","",0,"",0,"",{"$f":"IF(ROW()<$S$4+2,IF('XML a procesar'!A2457=\"\",P2457,IF(MID('XML a procesar'!A2457,1,1)=\"<\",P2457,P2457+1)),P2457)","v":1}]
[{"$f":"IF('XML a procesar'!A2458>0,'XML a procesar'!A2458,\"\")","v":""},0,0,0,0,"",0,0,0,"","",0,"",0,"",{"$f":"IF(ROW()<$S$4+2,IF('XML a procesar'!A2458=\"\",P2458,IF(MID('XML a procesar'!A2458,1,1)=\"<\",P2458,P2458+1)),P2458)","v":1}]
[{"$f":"IF('XML a procesar'!A2459>0,'XML a procesar'!A2459,\"\")","v":""},0,0,0,0,"",0,0,0,"","",0,"",0,"",{"$f":"IF(ROW()<$S$4+2,IF('XML a procesar'!A2459=\"\",P2459,IF(MID('XML a procesar'!A2459,1,1)=\"<\",P2459,P2459+1)),P2459)","v":1}]
[{"$f":"IF('XML a procesar'!A2460>0,'XML a procesar'!A2460,\"\")","v":""},0,0,0,0,"",0,0,0,"","",0,"",0,"",{"$f":"IF(ROW()<$S$4+2,IF('XML a procesar'!A2460=\"\",P2460,IF(MID('XML a procesar'!A2460,1,1)=\"<\",P2460,P2460+1)),P2460)","v":1}]
[{"$f":"IF('XML a procesar'!A2461>0,'XML a procesar'!A2461,\"\")","v":""},0,0,0,0,"",0,0,0,"","",0,"",0,"",{"$f":"IF(ROW()<$S$4+2,IF('XML a procesar'!A2461=\"\",P2461,IF(MID('XML a procesar'!A2461,1,1)=\"<\",P2461,P2461+1)),P2461)","v":1}]
[{"$f":"IF('XML a procesar'!A2462>0,'XML a procesar'!A2462,\"\")","v":""},0,0,0,0,"",0,0,0,"","",0,"",0,"",{"$f":"IF(ROW()<$S$4+2,IF('XML a procesar'!A2462=\"\",P2462,IF(MID('XML a procesar'!A2462,1,1)=\"<\",P2462,P2462+1)),P2462)","v":1}]
[{"$f":"IF('XML a procesar'!A2463>0,'XML a procesar'!A2463,\"\")","v":""},0,0,0,0,"",0,0,0,"","",0,"",0,"",{"$f":"IF(ROW()<$S$4+2,IF('XML a procesar'!A2463=\"\",P2463,IF(MID('XML a procesar'!A2463,1,1)=\"<\",P2463,P2463+1)),P2463)","v":1}]
[{"$f":"IF('XML a procesar'!A2464>0,'XML a procesar'!A2464,\"\")","v":""},0,0,0,0,"",0,0,0,"","",0,"",0,"",{"$f":"IF(ROW()<$S$4+2,IF('XML a procesar'!A2464=\"\",P2464,IF(MID('XML a procesar'!A2464,1,1)=\"<\",P2464,P2464+1)),P2464)","v":1}]
[{"$f":"IF('XML a procesar'!A2465>0,'XML a procesar'!A2465,\"\")","v":""},0,0,0,0,"",0,0,0,"","",0,"",0,"",{"$f":"IF(ROW()<$S$4+2,IF('XML a procesar'!A2465=\"\",P2465,IF(MID('XML a procesar'!A2465,1,1)=\"<\",P2465,P2465+1)),P2465)","v":1}]
[{"$f":"IF('XML a procesar'!A2466>0,'XML a procesar'!A2466,\"\")","v":""},0,0,0,0,"",0,0,0,"","",0,"",0,"",{"$f":"IF(ROW()<$S$4+2,IF('XML a procesar'!A2466=\"\",P2466,IF(MID('XML a procesar'!A2466,1,1)=\"<\",P2466,P2466+1)),P2466)","v":1}]
[{"$f":"IF('XML a procesar'!A2467>0,'XML a procesar'!A2467,\"\")","v":""},0,0,0,0,"",0,0,0,"","",0,"",0,"",{"$f":"IF(ROW()<$S$4+2,IF('XML a procesar'!A2467=\"\",P2467,IF(MID('XML a procesar'!A2467,1,1)=\"<\",P2467,P2467+1)),P2467)","v":1}]
[{"$f":"IF('XML a procesar'!A2468>0,'XML a procesar'!A2468,\"\")","v":""},0,0,0,0,"",0,0,0,"","",0,"",0,"",{"$f":"IF(ROW()<$S$4+2,IF('XML a procesar'!A2468=\"\",P2468,IF(MID('XML a procesar'!A2468,1,1)=\"<\",P2468,P2468+1)),P2468)","v":1}]
[{"$f":"IF('XML a procesar'!A2469>0,'XML a procesar'!A2469,\"\")","v":""},0,0,0,0,"",0,0,0,"","",0,"",0,"",{"$f":"IF(ROW()<$S$4+2,IF('XML a procesar'!A2469=\"\",P2469,IF(MID('XML a procesar'!A2469,1,1)=\"<\",P2469,P2469+1)),P2469)","v":1}]
[{"$f":"IF('XML a procesar'!A2470>0,'XML a procesar'!A2470,\"\")","v":""},0,0,0,0,"",0,0,0,"","",0,"",0,"",{"$f":"IF(ROW()<$S$4+2,IF('XML a procesar'!A2470=\"\",P2470,IF(MID('XML a procesar'!A2470,1,1)=\"<\",P2470,P2470+1)),P2470)","v":1}]
[{"$f":"IF('XML a procesar'!A2471>0,'XML a procesar'!A2471,\"\")","v":""},0,0,0,0,"",0,0,0,"","",0,"",0,"",{"$f":"IF(ROW()<$S$4+2,IF('XML a procesar'!A2471=\"\",P2471,IF(MID('XML a procesar'!A2471,1,1)=\"<\",P2471,P2471+1)),P2471)","v":1}]
[{"$f":"IF('XML a procesar'!A2472>0,'XML a procesar'!A2472,\"\")","v":""},0,0,0,0,"",0,0,0,"","",0,"",0,"",{"$f":"IF(ROW()<$S$4+2,IF('XML a procesar'!A2472=\"\",P2472,IF(MID('XML a procesar'!A2472,1,1)=\"<\",P2472,P2472+1)),P2472)","v":1}]
[{"$f":"IF('XML a procesar'!A2473>0,'XML a procesar'!A2473,\"\")","v":""},0,0,0,0,"",0,0,0,"","",0,"",0,"",{"$f":"IF(ROW()<$S$4+2,IF('XML a procesar'!A2473=\"\",P2473,IF(MID('XML a procesar'!A2473,1,1)=\"<\",P2473,P2473+1)),P2473)","v":1}]
[{"$f":"IF('XML a procesar'!A2474>0,'XML a procesar'!A2474,\"\")","v":""},0,0,0,0,"",0,0,0,"","",0,"",0,"",{"$f":"IF(ROW()<$S$4+2,IF('XML a procesar'!A2474=\"\",P2474,IF(MID('XML a procesar'!A2474,1,1)=\"<\",P2474,P2474+1)),P2474)","v":1}]
[{"$f":"IF('XML a procesar'!A2475>0,'XML a procesar'!A2475,\"\")","v":""},0,0,0,0,"",0,0,0,"","",0,"",0,"",{"$f":"IF(ROW()<$S$4+2,IF('XML a procesar'!A2475=\"\",P2475,IF(MID('XML a procesar'!A2475,1,1)=\"<\",P2475,P2475+1)),P2475)","v":1}]
[{"$f":"IF('XML a procesar'!A2476>0,'XML a procesar'!A2476,\"\")","v":""},0,0,0,0,"",0,0,0,"","",0,"",0,"",{"$f":"IF(ROW()<$S$4+2,IF('XML a procesar'!A2476=\"\",P2476,IF(MID('XML a procesar'!A2476,1,1)=\"<\",P2476,P2476+1)),P2476)","v":1}]
[{"$f":"IF('XML a procesar'!A2477>0,'XML a procesar'!A2477,\"\")","v":""},0,0,0,0,"",0,0,0,"","",0,"",0,"",{"$f":"IF(ROW()<$S$4+2,IF('XML a procesar'!A2477=\"\",P2477,IF(MID('XML a procesar'!A2477,1,1)=\"<\",P2477,P2477+1)),P2477)","v":1}]
[{"$f":"IF('XML a procesar'!A2478>0,'XML a procesar'!A2478,\"\")","v":""},0,0,0,0,"",0,0,0,"","",0,"",0,"",{"$f":"IF(ROW()<$S$4+2,IF('XML a procesar'!A2478=\"\",P2478,IF(MID('XML a procesar'!A2478,1,1)=\"<\",P2478,P2478+1)),P2478)","v":1}]
[{"$f":"IF('XML a procesar'!A2479>0,'XML a procesar'!A2479,\"\")","v":""},0,0,0,0,"",0,0,0,"","",0,"",0,"",{"$f":"IF(ROW()<$S$4+2,IF('XML a procesar'!A2479=\"\",P2479,IF(MID('XML a procesar'!A2479,1,1)=\"<\",P2479,P2479+1)),P2479)","v":1}]
[{"$f":"IF('XML a procesar'!A2480>0,'XML a procesar'!A2480,\"\")","v":""},0,0,0,0,"",0,0,0,"","",0,"",0,"",{"$f":"IF(ROW()<$S$4+2,IF('XML a procesar'!A2480=\"\",P2480,IF(MID('XML a procesar'!A2480,1,1)=\"<\",P2480,P2480+1)),P2480)","v":1}]
[{"$f":"IF('XML a procesar'!A2481>0,'XML a procesar'!A2481,\"\")","v":""},0,0,0,0,"",0,0,0,"","",0,"",0,"",{"$f":"IF(ROW()<$S$4+2,IF('XML a procesar'!A2481=\"\",P2481,IF(MID('XML a procesar'!A2481,1,1)=\"<\",P2481,P2481+1)),P2481)","v":1}]
[{"$f":"IF('XML a procesar'!A2482>0,'XML a procesar'!A2482,\"\")","v":""},0,0,0,0,"",0,0,0,"","",0,"",0,"",{"$f":"IF(ROW()<$S$4+2,IF('XML a procesar'!A2482=\"\",P2482,IF(MID('XML a procesar'!A2482,1,1)=\"<\",P2482,P2482+1)),P2482)","v":1}]
[{"$f":"IF('XML a procesar'!A2483>0,'XML a procesar'!A2483,\"\")","v":""},0,0,0,0,"",0,0,0,"","",0,"",0,"",{"$f":"IF(ROW()<$S$4+2,IF('XML a procesar'!A2483=\"\",P2483,IF(MID('XML a procesar'!A2483,1,1)=\"<\",P2483,P2483+1)),P2483)","v":1}]
[{"$f":"IF('XML a procesar'!A2484>0,'XML a procesar'!A2484,\"\")","v":""},0,0,0,0,"",0,0,0,"","",0,"",0,"",{"$f":"IF(ROW()<$S$4+2,IF('XML a procesar'!A2484=\"\",P2484,IF(MID('XML a procesar'!A2484,1,1)=\"<\",P2484,P2484+1)),P2484)","v":1}]
[{"$f":"IF('XML a procesar'!A2485>0,'XML a procesar'!A2485,\"\")","v":""},0,0,0,0,"",0,0,0,"","",0,"",0,"",{"$f":"IF(ROW()<$S$4+2,IF('XML a procesar'!A2485=\"\",P2485,IF(MID('XML a procesar'!A2485,1,1)=\"<\",P2485,P2485+1)),P2485)","v":1}]
[{"$f":"IF('XML a procesar'!A2486>0,'XML a procesar'!A2486,\"\")","v":""},0,0,0,0,"",0,0,0,"","",0,"",0,"",{"$f":"IF(ROW()<$S$4+2,IF('XML a procesar'!A2486=\"\",P2486,IF(MID('XML a procesar'!A2486,1,1)=\"<\",P2486,P2486+1)),P2486)","v":1}]
[{"$f":"IF('XML a procesar'!A2487>0,'XML a procesar'!A2487,\"\")","v":""},0,0,0,0,"",0,0,0,"","",0,"",0,"",{"$f":"IF(ROW()<$S$4+2,IF('XML a procesar'!A2487=\"\",P2487,IF(MID('XML a procesar'!A2487,1,1)=\"<\",P2487,P2487+1)),P2487)","v":1}]
[{"$f":"IF('XML a procesar'!A2488>0,'XML a procesar'!A2488,\"\")","v":""},0,0,0,0,"",0,0,0,"","",0,"",0,"",{"$f":"IF(ROW()<$S$4+2,IF('XML a procesar'!A2488=\"\",P2488,IF(MID('XML a procesar'!A2488,1,1)=\"<\",P2488,P2488+1)),P2488)","v":1}]
[{"$f":"IF('XML a procesar'!A2489>0,'XML a procesar'!A2489,\"\")","v":""},0,0,0,0,"",0,0,0,"","",0,"",0,"",{"$f":"IF(ROW()<$S$4+2,IF('XML a procesar'!A2489=\"\",P2489,IF(MID('XML a procesar'!A2489,1,1)=\"<\",P2489,P2489+1)),P2489)","v":1}]
[{"$f":"IF('XML a procesar'!A2490>0,'XML a procesar'!A2490,\"\")","v":""},0,0,0,0,"",0,0,0,"","",0,"",0,"",{"$f":"IF(ROW()<$S$4+2,IF('XML a procesar'!A2490=\"\",P2490,IF(MID('XML a procesar'!A2490,1,1)=\"<\",P2490,P2490+1)),P2490)","v":1}]
[{"$f":"IF('XML a procesar'!A2491>0,'XML a procesar'!A2491,\"\")","v":""},0,0,0,0,"",0,0,0,"","",0,"",0,"",{"$f":"IF(ROW()<$S$4+2,IF('XML a procesar'!A2491=\"\",P2491,IF(MID('XML a procesar'!A2491,1,1)=\"<\",P2491,P2491+1)),P2491)","v":1}]
[{"$f":"IF('XML a procesar'!A2492>0,'XML a procesar'!A2492,\"\")","v":""},0,0,0,0,"",0,0,0,"","",0,"",0,"",{"$f":"IF(ROW()<$S$4+2,IF('XML a procesar'!A2492=\"\",P2492,IF(MID('XML a procesar'!A2492,1,1)=\"<\",P2492,P2492+1)),P2492)","v":1}]
[{"$f":"IF('XML a procesar'!A2493>0,'XML a procesar'!A2493,\"\")","v":""},0,0,0,0,"",0,0,0,"","",0,"",0,"",{"$f":"IF(ROW()<$S$4+2,IF('XML a procesar'!A2493=\"\",P2493,IF(MID('XML a procesar'!A2493,1,1)=\"<\",P2493,P2493+1)),P2493)","v":1}]
[{"$f":"IF('XML a procesar'!A2494>0,'XML a procesar'!A2494,\"\")","v":""},0,0,0,0,"",0,0,0,"","",0,"",0,"",{"$f":"IF(ROW()<$S$4+2,IF('XML a procesar'!A2494=\"\",P2494,IF(MID('XML a procesar'!A2494,1,1)=\"<\",P2494,P2494+1)),P2494)","v":1}]
[{"$f":"IF('XML a procesar'!A2495>0,'XML a procesar'!A2495,\"\")","v":""},0,0,0,0,"",0,0,0,"","",0,"",0,"",{"$f":"IF(ROW()<$S$4+2,IF('XML a procesar'!A2495=\"\",P2495,IF(MID('XML a procesar'!A2495,1,1)=\"<\",P2495,P2495+1)),P2495)","v":1}]
[{"$f":"IF('XML a procesar'!A2496>0,'XML a procesar'!A2496,\"\")","v":""},{"$f":"IF(ISERROR(FIND(\"/doi.org/\",A2497,1)),0,1)","v":0},{"$f":"IF(LEFT(A2496,16)=\"<contrib contrib\",C2496+1,IF(LEFT(A2496,16)=\"</contrib-group>\",0,IF(LEFT(A2496,10)=\"</contrib>\",C2496,C2496)))","v":0},{"$f":"IF(AND(C2497>0,LEFT(A2497,7)=\"<email>\",ISNUMBER(SEARCH(\"@\",A2497,1))),C2497,IF(LEFT(A2497,10)=\"<alt-text>\",-1,0))","v":0},{"$f":"IF(D2497=0,E2496,E2496+1)","v":0},{"$f":"INDIRECT(ADDRESS(ROW()+INDIRECT(ADDRESS(ROW()+E2497,5)),1))","v":""},{"$f":"IF(LEFT(F2497,7)=\"<aff id\",_xlfn.NUMBERVALUE(MID(F2497,13,LEN(F2497)-14)),IF(F2497=\"</aff>\",G2496+1,G2496))","v":0},0,{"$f":"INDIRECT(ADDRESS(ROW()-INDIRECT(ADDRESS(ROW()-H2497,8)),8))","v":0},{"$f":"IF(J2496=\"Linea_para_MAIL_creada_por_LuXML\",\"</aff>\",IF(I2497>INDIRECT(ADDRESS(ROW()-I2497-1,8)),\"Linea_para_MAIL_creada_por_LuXML\",INDIRECT(ADDRESS(ROW()-I2497,6))))","v":""},"",{"$f":"IF(OR(MID(K2495,3,5)=\"page>\",MID(K2496,3,5)=\"page>\"),L2496,IF(OR(K2496=\"<history>\",K2497=\"<history>\"),L2496+1,L2496))","v":0},{"$f":"IF(L2497>L2496,IF(L2497=1,CONCATENATE(\"<fpage>\",$S$10,\"</fpage>\"),CONCATENATE(\"<lpage>\",$S$10+1,\"</lpage>\")),IF(ISERROR(INDIRECT(ADDRESS(ROW()-L2497,11),1)),\"\",INDIRECT(ADDRESS(ROW()-L2497,11),1)))","v":""},{"$f":"IF(N2496=-1,-1,IF(M2497=\"</counts>\",-1,IF(OR(LEFT(M2497,7)=\"<fpage>\",LEFT(M2497,7)=\"<lpage>\"),VALUE(MID(M2497,8,LEN(M2497)-15)),0)))","v":0},"",{"$f":"IF(ROW()<$S$4+2,IF('XML a procesar'!A2496=\"\",P2496,IF(MID('XML a procesar'!A2496,1,1)=\"<\",P2496,P2496+1)),P2496)","v":1}]
[{"$f":"IF('XML a procesar'!A2497>0,'XML a procesar'!A2497,\"\")","v":""},0,0,0,0,"",0,0,0,"","",0,"",0,{"$f":"IF(N2498>-1,INDIRECT(ADDRESS(ROW(),13)),IF(N2498<N2497,CONCATENATE(\"<page-count count=\",CHAR(34),1+LARGE(N:N,1)-LARGE(N:N,2),CHAR(34),\"/>\"),INDIRECT(ADDRESS(ROW()-1,13))))","v":""},{"$f":"IF(ROW()<$S$4+2,IF('XML a procesar'!A2497=\"\",P2497,IF(MID('XML a procesar'!A2497,1,1)=\"<\",P2497,P2497+1)),P2497)","v":1}]
[{"$f":"IF('XML a procesar'!A2498>0,'XML a procesar'!A2498,\"\")","v":""},0,0,0,0,"",0,{"$f":"IF(AND(G2498>0,G2499>G2498,NOT(ISERROR(MATCH(G2498,D:D,0)))),H2498+1,H2498)","v":0},0,"",{"$f":"IF(J2499=\"Linea_para_MAIL_creada_por_LuXML\",IF(ISERROR(MATCH(INDIRECT(ADDRESS(ROW()-G2499,7)),D:D,0)),J2499,INDIRECT(ADDRESS(MATCH(INDIRECT(ADDRESS(ROW()-G2499,7)),D:D,0),1))),J2499)","v":""},0,"",0,"",{"$f":"IF(ROW()<$S$4+2,IF('XML a procesar'!A2498=\"\",P2498,IF(MID('XML a procesar'!A2498,1,1)=\"<\",P2498,P2498+1)),P2498)","v":1}]
[{"$f":"IF('XML a procesar'!A2499>0,'XML a procesar'!A2499,\"\")","v":""},0,0,0,0,"",0,0,0,"","",0,"",0,"",{"$f":"IF(ROW()<$S$4+2,IF('XML a procesar'!A2499=\"\",P2499,IF(MID('XML a procesar'!A2499,1,1)=\"<\",P2499,P2499+1)),P2499)","v":1}]
[{"$f":"IF('XML a procesar'!A2500>0,'XML a procesar'!A2500,\"\")","v":""},0,0,0,0,"",0,0,0,"","",0,"",0,"",{"$f":"IF(ROW()<$S$4+2,IF('XML a procesar'!A2500=\"\",P2500,IF(MID('XML a procesar'!A2500,1,1)=\"<\",P2500,P2500+1)),P2500)","v":1}]
[{"$f":"IF('XML a procesar'!A2501>0,'XML a procesar'!A2501,\"\")","v":""},0,0,0,0,"",0,0,0,"","",0,"",0,"",{"$f":"IF(ROW()<$S$4+2,IF('XML a procesar'!A2501=\"\",P2501,IF(MID('XML a procesar'!A2501,1,1)=\"<\",P2501,P2501+1)),P2501)","v":1}]
[{"$f":"IF('XML a procesar'!A2502>0,'XML a procesar'!A2502,\"\")","v":""},0,0,0,0,"",0,0,0,"","",0,"",0,"",{"$f":"IF(ROW()<$S$4+2,IF('XML a procesar'!A2502=\"\",P2502,IF(MID('XML a procesar'!A2502,1,1)=\"<\",P2502,P2502+1)),P2502)","v":1}]
[{"$f":"IF('XML a procesar'!A2503>0,'XML a procesar'!A2503,\"\")","v":""},0,0,0,0,"",0,0,0,"","",0,"",0,"",{"$f":"IF(ROW()<$S$4+2,IF('XML a procesar'!A2503=\"\",P2503,IF(MID('XML a procesar'!A2503,1,1)=\"<\",P2503,P2503+1)),P2503)","v":1}]
[{"$f":"IF('XML a procesar'!A2504>0,'XML a procesar'!A2504,\"\")","v":""},0,0,0,0,"",0,0,0,"","",0,"",0,"",{"$f":"IF(ROW()<$S$4+2,IF('XML a procesar'!A2504=\"\",P2504,IF(MID('XML a procesar'!A2504,1,1)=\"<\",P2504,P2504+1)),P2504)","v":1}]
[{"$f":"IF('XML a procesar'!A2505>0,'XML a procesar'!A2505,\"\")","v":""},0,0,0,0,"",0,0,0,"","",0,"",0,"",{"$f":"IF(ROW()<$S$4+2,IF('XML a procesar'!A2505=\"\",P2505,IF(MID('XML a procesar'!A2505,1,1)=\"<\",P2505,P2505+1)),P2505)","v":1}]
[{"$f":"IF('XML a procesar'!A2506>0,'XML a procesar'!A2506,\"\")","v":""},0,0,0,0,"",0,0,0,"","",0,"",0,"",{"$f":"IF(ROW()<$S$4+2,IF('XML a procesar'!A2506=\"\",P2506,IF(MID('XML a procesar'!A2506,1,1)=\"<\",P2506,P2506+1)),P2506)","v":1}]
[{"$f":"IF('XML a procesar'!A2507>0,'XML a procesar'!A2507,\"\")","v":""},0,0,0,0,"",0,0,0,"","",0,"",0,"",{"$f":"IF(ROW()<$S$4+2,IF('XML a procesar'!A2507=\"\",P2507,IF(MID('XML a procesar'!A2507,1,1)=\"<\",P2507,P2507+1)),P2507)","v":1}]
[{"$f":"IF('XML a procesar'!A2508>0,'XML a procesar'!A2508,\"\")","v":""},0,0,0,0,"",0,0,0,"","",0,"",0,"",{"$f":"IF(ROW()<$S$4+2,IF('XML a procesar'!A2508=\"\",P2508,IF(MID('XML a procesar'!A2508,1,1)=\"<\",P2508,P2508+1)),P2508)","v":1}]
[{"$f":"IF('XML a procesar'!A2509>0,'XML a procesar'!A2509,\"\")","v":""},0,0,0,0,"",0,0,0,"","",0,"",0,"",{"$f":"IF(ROW()<$S$4+2,IF('XML a procesar'!A2509=\"\",P2509,IF(MID('XML a procesar'!A2509,1,1)=\"<\",P2509,P2509+1)),P2509)","v":1}]
[{"$f":"IF('XML a procesar'!A2510>0,'XML a procesar'!A2510,\"\")","v":""},0,0,0,0,"",0,0,0,"","",0,"",0,"",{"$f":"IF(ROW()<$S$4+2,IF('XML a procesar'!A2510=\"\",P2510,IF(MID('XML a procesar'!A2510,1,1)=\"<\",P2510,P2510+1)),P2510)","v":1}]
[{"$f":"IF('XML a procesar'!A2511>0,'XML a procesar'!A2511,\"\")","v":""},0,0,0,0,"",0,0,0,"","",0,"",0,"",{"$f":"IF(ROW()<$S$4+2,IF('XML a procesar'!A2511=\"\",P2511,IF(MID('XML a procesar'!A2511,1,1)=\"<\",P2511,P2511+1)),P2511)","v":1}]
[{"$f":"IF('XML a procesar'!A2512>0,'XML a procesar'!A2512,\"\")","v":""},0,0,0,0,"",0,0,0,"","",0,"",0,"",{"$f":"IF(ROW()<$S$4+2,IF('XML a procesar'!A2512=\"\",P2512,IF(MID('XML a procesar'!A2512,1,1)=\"<\",P2512,P2512+1)),P2512)","v":1}]
[{"$f":"IF('XML a procesar'!A2513>0,'XML a procesar'!A2513,\"\")","v":""},0,0,0,0,"",0,0,0,"","",0,"",0,"",{"$f":"IF(ROW()<$S$4+2,IF('XML a procesar'!A2513=\"\",P2513,IF(MID('XML a procesar'!A2513,1,1)=\"<\",P2513,P2513+1)),P2513)","v":1}]
[{"$f":"IF('XML a procesar'!A2514>0,'XML a procesar'!A2514,\"\")","v":""},0,0,0,0,"",0,0,0,"","",0,"",0,"",{"$f":"IF(ROW()<$S$4+2,IF('XML a procesar'!A2514=\"\",P2514,IF(MID('XML a procesar'!A2514,1,1)=\"<\",P2514,P2514+1)),P2514)","v":1}]
[{"$f":"IF('XML a procesar'!A2515>0,'XML a procesar'!A2515,\"\")","v":""},0,0,0,0,"",0,0,0,"","",0,"",0,"",{"$f":"IF(ROW()<$S$4+2,IF('XML a procesar'!A2515=\"\",P2515,IF(MID('XML a procesar'!A2515,1,1)=\"<\",P2515,P2515+1)),P2515)","v":1}]
[{"$f":"IF('XML a procesar'!A2516>0,'XML a procesar'!A2516,\"\")","v":""},0,0,0,0,"",0,0,0,"","",0,"",0,"",{"$f":"IF(ROW()<$S$4+2,IF('XML a procesar'!A2516=\"\",P2516,IF(MID('XML a procesar'!A2516,1,1)=\"<\",P2516,P2516+1)),P2516)","v":1}]
[{"$f":"IF('XML a procesar'!A2517>0,'XML a procesar'!A2517,\"\")","v":""},0,0,0,0,"",0,0,0,"","",0,"",0,"",{"$f":"IF(ROW()<$S$4+2,IF('XML a procesar'!A2517=\"\",P2517,IF(MID('XML a procesar'!A2517,1,1)=\"<\",P2517,P2517+1)),P2517)","v":1}]
[{"$f":"IF('XML a procesar'!A2518>0,'XML a procesar'!A2518,\"\")","v":""},0,0,0,0,"",0,0,0,"","",0,"",0,"",{"$f":"IF(ROW()<$S$4+2,IF('XML a procesar'!A2518=\"\",P2518,IF(MID('XML a procesar'!A2518,1,1)=\"<\",P2518,P2518+1)),P2518)","v":1}]
[{"$f":"IF('XML a procesar'!A2519>0,'XML a procesar'!A2519,\"\")","v":""},0,0,0,0,"",0,0,0,"","",0,"",0,"",{"$f":"IF(ROW()<$S$4+2,IF('XML a procesar'!A2519=\"\",P2519,IF(MID('XML a procesar'!A2519,1,1)=\"<\",P2519,P2519+1)),P2519)","v":1}]
[{"$f":"IF('XML a procesar'!A2520>0,'XML a procesar'!A2520,\"\")","v":""},0,0,0,0,"",0,0,0,"","",0,"",0,"",{"$f":"IF(ROW()<$S$4+2,IF('XML a procesar'!A2520=\"\",P2520,IF(MID('XML a procesar'!A2520,1,1)=\"<\",P2520,P2520+1)),P2520)","v":1}]
[{"$f":"IF('XML a procesar'!A2521>0,'XML a procesar'!A2521,\"\")","v":""},0,0,0,0,"",0,0,0,"","",0,"",0,"",{"$f":"IF(ROW()<$S$4+2,IF('XML a procesar'!A2521=\"\",P2521,IF(MID('XML a procesar'!A2521,1,1)=\"<\",P2521,P2521+1)),P2521)","v":1}]
[{"$f":"IF('XML a procesar'!A2522>0,'XML a procesar'!A2522,\"\")","v":""},0,0,0,0,"",0,0,0,"","",0,"",0,"",{"$f":"IF(ROW()<$S$4+2,IF('XML a procesar'!A2522=\"\",P2522,IF(MID('XML a procesar'!A2522,1,1)=\"<\",P2522,P2522+1)),P2522)","v":1}]
[{"$f":"IF('XML a procesar'!A2523>0,'XML a procesar'!A2523,\"\")","v":""},0,0,0,0,"",0,0,0,"","",0,"",0,"",{"$f":"IF(ROW()<$S$4+2,IF('XML a procesar'!A2523=\"\",P2523,IF(MID('XML a procesar'!A2523,1,1)=\"<\",P2523,P2523+1)),P2523)","v":1}]
[{"$f":"IF('XML a procesar'!A2524>0,'XML a procesar'!A2524,\"\")","v":""},0,0,0,0,"",0,0,0,"","",0,"",0,"",{"$f":"IF(ROW()<$S$4+2,IF('XML a procesar'!A2524=\"\",P2524,IF(MID('XML a procesar'!A2524,1,1)=\"<\",P2524,P2524+1)),P2524)","v":1}]
[{"$f":"IF('XML a procesar'!A2525>0,'XML a procesar'!A2525,\"\")","v":""},0,0,0,0,"",0,0,0,"","",0,"",0,"",{"$f":"IF(ROW()<$S$4+2,IF('XML a procesar'!A2525=\"\",P2525,IF(MID('XML a procesar'!A2525,1,1)=\"<\",P2525,P2525+1)),P2525)","v":1}]
[{"$f":"IF('XML a procesar'!A2526>0,'XML a procesar'!A2526,\"\")","v":""},0,0,0,0,"",0,0,0,"","",0,"",0,"",{"$f":"IF(ROW()<$S$4+2,IF('XML a procesar'!A2526=\"\",P2526,IF(MID('XML a procesar'!A2526,1,1)=\"<\",P2526,P2526+1)),P2526)","v":1}]
[{"$f":"IF('XML a procesar'!A2527>0,'XML a procesar'!A2527,\"\")","v":""},0,0,0,0,"",0,0,0,"","",0,"",0,"",{"$f":"IF(ROW()<$S$4+2,IF('XML a procesar'!A2527=\"\",P2527,IF(MID('XML a procesar'!A2527,1,1)=\"<\",P2527,P2527+1)),P2527)","v":1}]
[{"$f":"IF('XML a procesar'!A2528>0,'XML a procesar'!A2528,\"\")","v":""},0,0,0,0,"",0,0,0,"","",0,"",0,"",{"$f":"IF(ROW()<$S$4+2,IF('XML a procesar'!A2528=\"\",P2528,IF(MID('XML a procesar'!A2528,1,1)=\"<\",P2528,P2528+1)),P2528)","v":1}]
[{"$f":"IF('XML a procesar'!A2529>0,'XML a procesar'!A2529,\"\")","v":""},0,0,0,0,"",0,0,0,"","",0,"",0,"",{"$f":"IF(ROW()<$S$4+2,IF('XML a procesar'!A2529=\"\",P2529,IF(MID('XML a procesar'!A2529,1,1)=\"<\",P2529,P2529+1)),P2529)","v":1}]
[{"$f":"IF('XML a procesar'!A2530>0,'XML a procesar'!A2530,\"\")","v":""},0,0,0,0,"",0,0,0,"","",0,"",0,"",{"$f":"IF(ROW()<$S$4+2,IF('XML a procesar'!A2530=\"\",P2530,IF(MID('XML a procesar'!A2530,1,1)=\"<\",P2530,P2530+1)),P2530)","v":1}]
[{"$f":"IF('XML a procesar'!A2531>0,'XML a procesar'!A2531,\"\")","v":""},0,0,0,0,"",0,0,0,"","",0,"",0,"",{"$f":"IF(ROW()<$S$4+2,IF('XML a procesar'!A2531=\"\",P2531,IF(MID('XML a procesar'!A2531,1,1)=\"<\",P2531,P2531+1)),P2531)","v":1}]
[{"$f":"IF('XML a procesar'!A2532>0,'XML a procesar'!A2532,\"\")","v":""},0,0,0,0,"",0,0,0,"","",0,"",0,"",{"$f":"IF(ROW()<$S$4+2,IF('XML a procesar'!A2532=\"\",P2532,IF(MID('XML a procesar'!A2532,1,1)=\"<\",P2532,P2532+1)),P2532)","v":1}]
[{"$f":"IF('XML a procesar'!A2533>0,'XML a procesar'!A2533,\"\")","v":""},0,0,0,0,"",0,0,0,"","",0,"",0,"",{"$f":"IF(ROW()<$S$4+2,IF('XML a procesar'!A2533=\"\",P2533,IF(MID('XML a procesar'!A2533,1,1)=\"<\",P2533,P2533+1)),P2533)","v":1}]
[{"$f":"IF('XML a procesar'!A2534>0,'XML a procesar'!A2534,\"\")","v":""},0,0,0,0,"",0,0,0,"","",0,"",0,"",{"$f":"IF(ROW()<$S$4+2,IF('XML a procesar'!A2534=\"\",P2534,IF(MID('XML a procesar'!A2534,1,1)=\"<\",P2534,P2534+1)),P2534)","v":1}]
[{"$f":"IF('XML a procesar'!A2535>0,'XML a procesar'!A2535,\"\")","v":""},0,0,0,0,"",0,0,0,"","",0,"",0,"",{"$f":"IF(ROW()<$S$4+2,IF('XML a procesar'!A2535=\"\",P2535,IF(MID('XML a procesar'!A2535,1,1)=\"<\",P2535,P2535+1)),P2535)","v":1}]
[{"$f":"IF('XML a procesar'!A2536>0,'XML a procesar'!A2536,\"\")","v":""},0,0,0,0,"",0,0,0,"","",0,"",0,"",{"$f":"IF(ROW()<$S$4+2,IF('XML a procesar'!A2536=\"\",P2536,IF(MID('XML a procesar'!A2536,1,1)=\"<\",P2536,P2536+1)),P2536)","v":1}]
[{"$f":"IF('XML a procesar'!A2537>0,'XML a procesar'!A2537,\"\")","v":""},0,0,0,0,"",0,0,0,"","",0,"",0,"",{"$f":"IF(ROW()<$S$4+2,IF('XML a procesar'!A2537=\"\",P2537,IF(MID('XML a procesar'!A2537,1,1)=\"<\",P2537,P2537+1)),P2537)","v":1}]
[{"$f":"IF('XML a procesar'!A2538>0,'XML a procesar'!A2538,\"\")","v":""},0,0,0,0,"",0,0,0,"","",0,"",0,"",{"$f":"IF(ROW()<$S$4+2,IF('XML a procesar'!A2538=\"\",P2538,IF(MID('XML a procesar'!A2538,1,1)=\"<\",P2538,P2538+1)),P2538)","v":1}]
[{"$f":"IF('XML a procesar'!A2539>0,'XML a procesar'!A2539,\"\")","v":""},0,0,0,0,"",0,0,0,"","",0,"",0,"",{"$f":"IF(ROW()<$S$4+2,IF('XML a procesar'!A2539=\"\",P2539,IF(MID('XML a procesar'!A2539,1,1)=\"<\",P2539,P2539+1)),P2539)","v":1}]
[{"$f":"IF('XML a procesar'!A2540>0,'XML a procesar'!A2540,\"\")","v":""},0,0,0,0,"",0,0,0,"","",0,"",0,"",{"$f":"IF(ROW()<$S$4+2,IF('XML a procesar'!A2540=\"\",P2540,IF(MID('XML a procesar'!A2540,1,1)=\"<\",P2540,P2540+1)),P2540)","v":1}]
[{"$f":"IF('XML a procesar'!A2541>0,'XML a procesar'!A2541,\"\")","v":""},0,0,0,0,"",0,0,0,"","",0,"",0,"",{"$f":"IF(ROW()<$S$4+2,IF('XML a procesar'!A2541=\"\",P2541,IF(MID('XML a procesar'!A2541,1,1)=\"<\",P2541,P2541+1)),P2541)","v":1}]
[{"$f":"IF('XML a procesar'!A2542>0,'XML a procesar'!A2542,\"\")","v":""},0,0,0,0,"",0,0,0,"","",0,"",0,"",{"$f":"IF(ROW()<$S$4+2,IF('XML a procesar'!A2542=\"\",P2542,IF(MID('XML a procesar'!A2542,1,1)=\"<\",P2542,P2542+1)),P2542)","v":1}]
[{"$f":"IF('XML a procesar'!A2543>0,'XML a procesar'!A2543,\"\")","v":""},0,0,0,0,"",0,0,0,"","",0,"",0,"",{"$f":"IF(ROW()<$S$4+2,IF('XML a procesar'!A2543=\"\",P2543,IF(MID('XML a procesar'!A2543,1,1)=\"<\",P2543,P2543+1)),P2543)","v":1}]
[{"$f":"IF('XML a procesar'!A2544>0,'XML a procesar'!A2544,\"\")","v":""},0,0,0,0,"",0,0,0,"","",0,"",0,"",{"$f":"IF(ROW()<$S$4+2,IF('XML a procesar'!A2544=\"\",P2544,IF(MID('XML a procesar'!A2544,1,1)=\"<\",P2544,P2544+1)),P2544)","v":1}]
[{"$f":"IF('XML a procesar'!A2545>0,'XML a procesar'!A2545,\"\")","v":""},0,0,0,0,"",0,0,0,"","",0,"",0,"",{"$f":"IF(ROW()<$S$4+2,IF('XML a procesar'!A2545=\"\",P2545,IF(MID('XML a procesar'!A2545,1,1)=\"<\",P2545,P2545+1)),P2545)","v":1}]
[{"$f":"IF('XML a procesar'!A2546>0,'XML a procesar'!A2546,\"\")","v":""},0,0,0,0,"",0,0,0,"","",0,"",0,"",{"$f":"IF(ROW()<$S$4+2,IF('XML a procesar'!A2546=\"\",P2546,IF(MID('XML a procesar'!A2546,1,1)=\"<\",P2546,P2546+1)),P2546)","v":1}]
[{"$f":"IF('XML a procesar'!A2547>0,'XML a procesar'!A2547,\"\")","v":""},0,0,0,0,"",0,0,0,"","",0,"",0,"",{"$f":"IF(ROW()<$S$4+2,IF('XML a procesar'!A2547=\"\",P2547,IF(MID('XML a procesar'!A2547,1,1)=\"<\",P2547,P2547+1)),P2547)","v":1}]
[{"$f":"IF('XML a procesar'!A2548>0,'XML a procesar'!A2548,\"\")","v":""},0,0,0,0,"",0,0,0,"","",0,"",0,"",{"$f":"IF(ROW()<$S$4+2,IF('XML a procesar'!A2548=\"\",P2548,IF(MID('XML a procesar'!A2548,1,1)=\"<\",P2548,P2548+1)),P2548)","v":1}]
[{"$f":"IF('XML a procesar'!A2549>0,'XML a procesar'!A2549,\"\")","v":""},0,0,0,0,"",0,0,0,"","",0,"",0,"",{"$f":"IF(ROW()<$S$4+2,IF('XML a procesar'!A2549=\"\",P2549,IF(MID('XML a procesar'!A2549,1,1)=\"<\",P2549,P2549+1)),P2549)","v":1}]
[{"$f":"IF('XML a procesar'!A2550>0,'XML a procesar'!A2550,\"\")","v":""},0,0,0,0,"",0,0,0,"","",0,"",0,"",{"$f":"IF(ROW()<$S$4+2,IF('XML a procesar'!A2550=\"\",P2550,IF(MID('XML a procesar'!A2550,1,1)=\"<\",P2550,P2550+1)),P2550)","v":1}]
[{"$f":"IF('XML a procesar'!A2551>0,'XML a procesar'!A2551,\"\")","v":""},0,0,0,0,"",0,0,0,"","",0,"",0,"",{"$f":"IF(ROW()<$S$4+2,IF('XML a procesar'!A2551=\"\",P2551,IF(MID('XML a procesar'!A2551,1,1)=\"<\",P2551,P2551+1)),P2551)","v":1}]
[{"$f":"IF('XML a procesar'!A2552>0,'XML a procesar'!A2552,\"\")","v":""},0,0,0,0,"",0,0,0,"","",0,"",0,"",{"$f":"IF(ROW()<$S$4+2,IF('XML a procesar'!A2552=\"\",P2552,IF(MID('XML a procesar'!A2552,1,1)=\"<\",P2552,P2552+1)),P2552)","v":1}]
[{"$f":"IF('XML a procesar'!A2553>0,'XML a procesar'!A2553,\"\")","v":""},0,0,0,0,"",0,0,0,"","",0,"",0,"",{"$f":"IF(ROW()<$S$4+2,IF('XML a procesar'!A2553=\"\",P2553,IF(MID('XML a procesar'!A2553,1,1)=\"<\",P2553,P2553+1)),P2553)","v":1}]
[{"$f":"IF('XML a procesar'!A2554>0,'XML a procesar'!A2554,\"\")","v":""},0,0,0,0,"",0,0,0,"","",0,"",0,"",{"$f":"IF(ROW()<$S$4+2,IF('XML a procesar'!A2554=\"\",P2554,IF(MID('XML a procesar'!A2554,1,1)=\"<\",P2554,P2554+1)),P2554)","v":1}]
[{"$f":"IF('XML a procesar'!A2555>0,'XML a procesar'!A2555,\"\")","v":""},0,0,0,0,"",0,0,0,"","",0,"",0,"",{"$f":"IF(ROW()<$S$4+2,IF('XML a procesar'!A2555=\"\",P2555,IF(MID('XML a procesar'!A2555,1,1)=\"<\",P2555,P2555+1)),P2555)","v":1}]
[{"$f":"IF('XML a procesar'!A2556>0,'XML a procesar'!A2556,\"\")","v":""},0,0,0,0,"",0,0,0,"","",0,"",0,"",{"$f":"IF(ROW()<$S$4+2,IF('XML a procesar'!A2556=\"\",P2556,IF(MID('XML a procesar'!A2556,1,1)=\"<\",P2556,P2556+1)),P2556)","v":1}]
[{"$f":"IF('XML a procesar'!A2557>0,'XML a procesar'!A2557,\"\")","v":""},0,0,0,0,"",0,0,0,"","",0,"",0,"",{"$f":"IF(ROW()<$S$4+2,IF('XML a procesar'!A2557=\"\",P2557,IF(MID('XML a procesar'!A2557,1,1)=\"<\",P2557,P2557+1)),P2557)","v":1}]
[{"$f":"IF('XML a procesar'!A2558>0,'XML a procesar'!A2558,\"\")","v":""},0,0,0,0,"",0,0,0,"","",0,"",0,"",{"$f":"IF(ROW()<$S$4+2,IF('XML a procesar'!A2558=\"\",P2558,IF(MID('XML a procesar'!A2558,1,1)=\"<\",P2558,P2558+1)),P2558)","v":1}]
[{"$f":"IF('XML a procesar'!A2559>0,'XML a procesar'!A2559,\"\")","v":""},0,0,0,0,"",0,0,0,"","",0,"",0,"",{"$f":"IF(ROW()<$S$4+2,IF('XML a procesar'!A2559=\"\",P2559,IF(MID('XML a procesar'!A2559,1,1)=\"<\",P2559,P2559+1)),P2559)","v":1}]
[{"$f":"IF('XML a procesar'!A2560>0,'XML a procesar'!A2560,\"\")","v":""},{"$f":"IF(ISERROR(FIND(\"/doi.org/\",A2561,1)),0,1)","v":0},{"$f":"IF(LEFT(A2560,16)=\"<contrib contrib\",C2560+1,IF(LEFT(A2560,16)=\"</contrib-group>\",0,IF(LEFT(A2560,10)=\"</contrib>\",C2560,C2560)))","v":0},{"$f":"IF(AND(C2561>0,LEFT(A2561,7)=\"<email>\",ISNUMBER(SEARCH(\"@\",A2561,1))),C2561,IF(LEFT(A2561,10)=\"<alt-text>\",-1,0))","v":0},{"$f":"IF(D2561=0,E2560,E2560+1)","v":0},{"$f":"INDIRECT(ADDRESS(ROW()+INDIRECT(ADDRESS(ROW()+E2561,5)),1))","v":""},{"$f":"IF(LEFT(F2561,7)=\"<aff id\",_xlfn.NUMBERVALUE(MID(F2561,13,LEN(F2561)-14)),IF(F2561=\"</aff>\",G2560+1,G2560))","v":0},0,{"$f":"INDIRECT(ADDRESS(ROW()-INDIRECT(ADDRESS(ROW()-H2561,8)),8))","v":0},{"$f":"IF(J2560=\"Linea_para_MAIL_creada_por_LuXML\",\"</aff>\",IF(I2561>INDIRECT(ADDRESS(ROW()-I2561-1,8)),\"Linea_para_MAIL_creada_por_LuXML\",INDIRECT(ADDRESS(ROW()-I2561,6))))","v":""},"",{"$f":"IF(OR(MID(K2559,3,5)=\"page>\",MID(K2560,3,5)=\"page>\"),L2560,IF(OR(K2560=\"<history>\",K2561=\"<history>\"),L2560+1,L2560))","v":0},{"$f":"IF(L2561>L2560,IF(L2561=1,CONCATENATE(\"<fpage>\",$S$10,\"</fpage>\"),CONCATENATE(\"<lpage>\",$S$10+1,\"</lpage>\")),IF(ISERROR(INDIRECT(ADDRESS(ROW()-L2561,11),1)),\"\",INDIRECT(ADDRESS(ROW()-L2561,11),1)))","v":""},{"$f":"IF(N2560=-1,-1,IF(M2561=\"</counts>\",-1,IF(OR(LEFT(M2561,7)=\"<fpage>\",LEFT(M2561,7)=\"<lpage>\"),VALUE(MID(M2561,8,LEN(M2561)-15)),0)))","v":0},"",{"$f":"IF(ROW()<$S$4+2,IF('XML a procesar'!A2560=\"\",P2560,IF(MID('XML a procesar'!A2560,1,1)=\"<\",P2560,P2560+1)),P2560)","v":1}]
[{"$f":"IF('XML a procesar'!A2561>0,'XML a procesar'!A2561,\"\")","v":""},0,0,0,0,"",0,0,0,"","",0,"",0,{"$f":"IF(N2562>-1,INDIRECT(ADDRESS(ROW(),13)),IF(N2562<N2561,CONCATENATE(\"<page-count count=\",CHAR(34),1+LARGE(N:N,1)-LARGE(N:N,2),CHAR(34),\"/>\"),INDIRECT(ADDRESS(ROW()-1,13))))","v":""},{"$f":"IF(ROW()<$S$4+2,IF('XML a procesar'!A2561=\"\",P2561,IF(MID('XML a procesar'!A2561,1,1)=\"<\",P2561,P2561+1)),P2561)","v":1}]
[{"$f":"IF('XML a procesar'!A2562>0,'XML a procesar'!A2562,\"\")","v":""},0,0,0,0,"",0,{"$f":"IF(AND(G2562>0,G2563>G2562,NOT(ISERROR(MATCH(G2562,D:D,0)))),H2562+1,H2562)","v":0},0,"",{"$f":"IF(J2563=\"Linea_para_MAIL_creada_por_LuXML\",IF(ISERROR(MATCH(INDIRECT(ADDRESS(ROW()-G2563,7)),D:D,0)),J2563,INDIRECT(ADDRESS(MATCH(INDIRECT(ADDRESS(ROW()-G2563,7)),D:D,0),1))),J2563)","v":""},0,"",0,"",{"$f":"IF(ROW()<$S$4+2,IF('XML a procesar'!A2562=\"\",P2562,IF(MID('XML a procesar'!A2562,1,1)=\"<\",P2562,P2562+1)),P2562)","v":1}]
[{"$f":"IF('XML a procesar'!A2563>0,'XML a procesar'!A2563,\"\")","v":""},0,0,0,0,"",0,0,0,"","",0,"",0,"",{"$f":"IF(ROW()<$S$4+2,IF('XML a procesar'!A2563=\"\",P2563,IF(MID('XML a procesar'!A2563,1,1)=\"<\",P2563,P2563+1)),P2563)","v":1}]
[{"$f":"IF('XML a procesar'!A2564>0,'XML a procesar'!A2564,\"\")","v":""},0,0,0,0,"",0,0,0,"","",0,"",0,"",{"$f":"IF(ROW()<$S$4+2,IF('XML a procesar'!A2564=\"\",P2564,IF(MID('XML a procesar'!A2564,1,1)=\"<\",P2564,P2564+1)),P2564)","v":1}]
[{"$f":"IF('XML a procesar'!A2565>0,'XML a procesar'!A2565,\"\")","v":""},0,0,0,0,"",0,0,0,"","",0,"",0,"",{"$f":"IF(ROW()<$S$4+2,IF('XML a procesar'!A2565=\"\",P2565,IF(MID('XML a procesar'!A2565,1,1)=\"<\",P2565,P2565+1)),P2565)","v":1}]
[{"$f":"IF('XML a procesar'!A2566>0,'XML a procesar'!A2566,\"\")","v":""},0,0,0,0,"",0,0,0,"","",0,"",0,"",{"$f":"IF(ROW()<$S$4+2,IF('XML a procesar'!A2566=\"\",P2566,IF(MID('XML a procesar'!A2566,1,1)=\"<\",P2566,P2566+1)),P2566)","v":1}]
[{"$f":"IF('XML a procesar'!A2567>0,'XML a procesar'!A2567,\"\")","v":""},0,0,0,0,"",0,0,0,"","",0,"",0,"",{"$f":"IF(ROW()<$S$4+2,IF('XML a procesar'!A2567=\"\",P2567,IF(MID('XML a procesar'!A2567,1,1)=\"<\",P2567,P2567+1)),P2567)","v":1}]
[{"$f":"IF('XML a procesar'!A2568>0,'XML a procesar'!A2568,\"\")","v":""},0,0,0,0,"",0,0,0,"","",0,"",0,"",{"$f":"IF(ROW()<$S$4+2,IF('XML a procesar'!A2568=\"\",P2568,IF(MID('XML a procesar'!A2568,1,1)=\"<\",P2568,P2568+1)),P2568)","v":1}]
[{"$f":"IF('XML a procesar'!A2569>0,'XML a procesar'!A2569,\"\")","v":""},0,0,0,0,"",0,0,0,"","",0,"",0,"",{"$f":"IF(ROW()<$S$4+2,IF('XML a procesar'!A2569=\"\",P2569,IF(MID('XML a procesar'!A2569,1,1)=\"<\",P2569,P2569+1)),P2569)","v":1}]
[{"$f":"IF('XML a procesar'!A2570>0,'XML a procesar'!A2570,\"\")","v":""},0,0,0,0,"",0,0,0,"","",0,"",0,"",{"$f":"IF(ROW()<$S$4+2,IF('XML a procesar'!A2570=\"\",P2570,IF(MID('XML a procesar'!A2570,1,1)=\"<\",P2570,P2570+1)),P2570)","v":1}]
[{"$f":"IF('XML a procesar'!A2571>0,'XML a procesar'!A2571,\"\")","v":""},0,0,0,0,"",0,0,0,"","",0,"",0,"",{"$f":"IF(ROW()<$S$4+2,IF('XML a procesar'!A2571=\"\",P2571,IF(MID('XML a procesar'!A2571,1,1)=\"<\",P2571,P2571+1)),P2571)","v":1}]
[{"$f":"IF('XML a procesar'!A2572>0,'XML a procesar'!A2572,\"\")","v":""},0,0,0,0,"",0,0,0,"","",0,"",0,"",{"$f":"IF(ROW()<$S$4+2,IF('XML a procesar'!A2572=\"\",P2572,IF(MID('XML a procesar'!A2572,1,1)=\"<\",P2572,P2572+1)),P2572)","v":1}]
[{"$f":"IF('XML a procesar'!A2573>0,'XML a procesar'!A2573,\"\")","v":""},0,0,0,0,"",0,0,0,"","",0,"",0,"",{"$f":"IF(ROW()<$S$4+2,IF('XML a procesar'!A2573=\"\",P2573,IF(MID('XML a procesar'!A2573,1,1)=\"<\",P2573,P2573+1)),P2573)","v":1}]
[{"$f":"IF('XML a procesar'!A2574>0,'XML a procesar'!A2574,\"\")","v":""},0,0,0,0,"",0,0,0,"","",0,"",0,"",{"$f":"IF(ROW()<$S$4+2,IF('XML a procesar'!A2574=\"\",P2574,IF(MID('XML a procesar'!A2574,1,1)=\"<\",P2574,P2574+1)),P2574)","v":1}]
[{"$f":"IF('XML a procesar'!A2575>0,'XML a procesar'!A2575,\"\")","v":""},0,0,0,0,"",0,0,0,"","",0,"",0,"",{"$f":"IF(ROW()<$S$4+2,IF('XML a procesar'!A2575=\"\",P2575,IF(MID('XML a procesar'!A2575,1,1)=\"<\",P2575,P2575+1)),P2575)","v":1}]
[{"$f":"IF('XML a procesar'!A2576>0,'XML a procesar'!A2576,\"\")","v":""},0,0,0,0,"",0,0,0,"","",0,"",0,"",{"$f":"IF(ROW()<$S$4+2,IF('XML a procesar'!A2576=\"\",P2576,IF(MID('XML a procesar'!A2576,1,1)=\"<\",P2576,P2576+1)),P2576)","v":1}]
[{"$f":"IF('XML a procesar'!A2577>0,'XML a procesar'!A2577,\"\")","v":""},0,0,0,0,"",0,0,0,"","",0,"",0,"",{"$f":"IF(ROW()<$S$4+2,IF('XML a procesar'!A2577=\"\",P2577,IF(MID('XML a procesar'!A2577,1,1)=\"<\",P2577,P2577+1)),P2577)","v":1}]
[{"$f":"IF('XML a procesar'!A2578>0,'XML a procesar'!A2578,\"\")","v":""},0,0,0,0,"",0,0,0,"","",0,"",0,"",{"$f":"IF(ROW()<$S$4+2,IF('XML a procesar'!A2578=\"\",P2578,IF(MID('XML a procesar'!A2578,1,1)=\"<\",P2578,P2578+1)),P2578)","v":1}]
[{"$f":"IF('XML a procesar'!A2579>0,'XML a procesar'!A2579,\"\")","v":""},0,0,0,0,"",0,0,0,"","",0,"",0,"",{"$f":"IF(ROW()<$S$4+2,IF('XML a procesar'!A2579=\"\",P2579,IF(MID('XML a procesar'!A2579,1,1)=\"<\",P2579,P2579+1)),P2579)","v":1}]
[{"$f":"IF('XML a procesar'!A2580>0,'XML a procesar'!A2580,\"\")","v":""},0,0,0,0,"",0,0,0,"","",0,"",0,"",{"$f":"IF(ROW()<$S$4+2,IF('XML a procesar'!A2580=\"\",P2580,IF(MID('XML a procesar'!A2580,1,1)=\"<\",P2580,P2580+1)),P2580)","v":1}]
[{"$f":"IF('XML a procesar'!A2581>0,'XML a procesar'!A2581,\"\")","v":""},0,0,0,0,"",0,0,0,"","",0,"",0,"",{"$f":"IF(ROW()<$S$4+2,IF('XML a procesar'!A2581=\"\",P2581,IF(MID('XML a procesar'!A2581,1,1)=\"<\",P2581,P2581+1)),P2581)","v":1}]
[{"$f":"IF('XML a procesar'!A2582>0,'XML a procesar'!A2582,\"\")","v":""},0,0,0,0,"",0,0,0,"","",0,"",0,"",{"$f":"IF(ROW()<$S$4+2,IF('XML a procesar'!A2582=\"\",P2582,IF(MID('XML a procesar'!A2582,1,1)=\"<\",P2582,P2582+1)),P2582)","v":1}]
[{"$f":"IF('XML a procesar'!A2583>0,'XML a procesar'!A2583,\"\")","v":""},0,0,0,0,"",0,0,0,"","",0,"",0,"",{"$f":"IF(ROW()<$S$4+2,IF('XML a procesar'!A2583=\"\",P2583,IF(MID('XML a procesar'!A2583,1,1)=\"<\",P2583,P2583+1)),P2583)","v":1}]
[{"$f":"IF('XML a procesar'!A2584>0,'XML a procesar'!A2584,\"\")","v":""},0,0,0,0,"",0,0,0,"","",0,"",0,"",{"$f":"IF(ROW()<$S$4+2,IF('XML a procesar'!A2584=\"\",P2584,IF(MID('XML a procesar'!A2584,1,1)=\"<\",P2584,P2584+1)),P2584)","v":1}]
[{"$f":"IF('XML a procesar'!A2585>0,'XML a procesar'!A2585,\"\")","v":""},0,0,0,0,"",0,0,0,"","",0,"",0,"",{"$f":"IF(ROW()<$S$4+2,IF('XML a procesar'!A2585=\"\",P2585,IF(MID('XML a procesar'!A2585,1,1)=\"<\",P2585,P2585+1)),P2585)","v":1}]
[{"$f":"IF('XML a procesar'!A2586>0,'XML a procesar'!A2586,\"\")","v":""},0,0,0,0,"",0,0,0,"","",0,"",0,"",{"$f":"IF(ROW()<$S$4+2,IF('XML a procesar'!A2586=\"\",P2586,IF(MID('XML a procesar'!A2586,1,1)=\"<\",P2586,P2586+1)),P2586)","v":1}]
[{"$f":"IF('XML a procesar'!A2587>0,'XML a procesar'!A2587,\"\")","v":""},0,0,0,0,"",0,0,0,"","",0,"",0,"",{"$f":"IF(ROW()<$S$4+2,IF('XML a procesar'!A2587=\"\",P2587,IF(MID('XML a procesar'!A2587,1,1)=\"<\",P2587,P2587+1)),P2587)","v":1}]
[{"$f":"IF('XML a procesar'!A2588>0,'XML a procesar'!A2588,\"\")","v":""},0,0,0,0,"",0,0,0,"","",0,"",0,"",{"$f":"IF(ROW()<$S$4+2,IF('XML a procesar'!A2588=\"\",P2588,IF(MID('XML a procesar'!A2588,1,1)=\"<\",P2588,P2588+1)),P2588)","v":1}]
[{"$f":"IF('XML a procesar'!A2589>0,'XML a procesar'!A2589,\"\")","v":""},0,0,0,0,"",0,0,0,"","",0,"",0,"",{"$f":"IF(ROW()<$S$4+2,IF('XML a procesar'!A2589=\"\",P2589,IF(MID('XML a procesar'!A2589,1,1)=\"<\",P2589,P2589+1)),P2589)","v":1}]
[{"$f":"IF('XML a procesar'!A2590>0,'XML a procesar'!A2590,\"\")","v":""},0,0,0,0,"",0,0,0,"","",0,"",0,"",{"$f":"IF(ROW()<$S$4+2,IF('XML a procesar'!A2590=\"\",P2590,IF(MID('XML a procesar'!A2590,1,1)=\"<\",P2590,P2590+1)),P2590)","v":1}]
[{"$f":"IF('XML a procesar'!A2591>0,'XML a procesar'!A2591,\"\")","v":""},0,0,0,0,"",0,0,0,"","",0,"",0,"",{"$f":"IF(ROW()<$S$4+2,IF('XML a procesar'!A2591=\"\",P2591,IF(MID('XML a procesar'!A2591,1,1)=\"<\",P2591,P2591+1)),P2591)","v":1}]
[{"$f":"IF('XML a procesar'!A2592>0,'XML a procesar'!A2592,\"\")","v":""},0,0,0,0,"",0,0,0,"","",0,"",0,"",{"$f":"IF(ROW()<$S$4+2,IF('XML a procesar'!A2592=\"\",P2592,IF(MID('XML a procesar'!A2592,1,1)=\"<\",P2592,P2592+1)),P2592)","v":1}]
[{"$f":"IF('XML a procesar'!A2593>0,'XML a procesar'!A2593,\"\")","v":""},0,0,0,0,"",0,0,0,"","",0,"",0,"",{"$f":"IF(ROW()<$S$4+2,IF('XML a procesar'!A2593=\"\",P2593,IF(MID('XML a procesar'!A2593,1,1)=\"<\",P2593,P2593+1)),P2593)","v":1}]
[{"$f":"IF('XML a procesar'!A2594>0,'XML a procesar'!A2594,\"\")","v":""},0,0,0,0,"",0,0,0,"","",0,"",0,"",{"$f":"IF(ROW()<$S$4+2,IF('XML a procesar'!A2594=\"\",P2594,IF(MID('XML a procesar'!A2594,1,1)=\"<\",P2594,P2594+1)),P2594)","v":1}]
[{"$f":"IF('XML a procesar'!A2595>0,'XML a procesar'!A2595,\"\")","v":""},0,0,0,0,"",0,0,0,"","",0,"",0,"",{"$f":"IF(ROW()<$S$4+2,IF('XML a procesar'!A2595=\"\",P2595,IF(MID('XML a procesar'!A2595,1,1)=\"<\",P2595,P2595+1)),P2595)","v":1}]
[{"$f":"IF('XML a procesar'!A2596>0,'XML a procesar'!A2596,\"\")","v":""},0,0,0,0,"",0,0,0,"","",0,"",0,"",{"$f":"IF(ROW()<$S$4+2,IF('XML a procesar'!A2596=\"\",P2596,IF(MID('XML a procesar'!A2596,1,1)=\"<\",P2596,P2596+1)),P2596)","v":1}]
[{"$f":"IF('XML a procesar'!A2597>0,'XML a procesar'!A2597,\"\")","v":""},0,0,0,0,"",0,0,0,"","",0,"",0,"",{"$f":"IF(ROW()<$S$4+2,IF('XML a procesar'!A2597=\"\",P2597,IF(MID('XML a procesar'!A2597,1,1)=\"<\",P2597,P2597+1)),P2597)","v":1}]
[{"$f":"IF('XML a procesar'!A2598>0,'XML a procesar'!A2598,\"\")","v":""},0,0,0,0,"",0,0,0,"","",0,"",0,"",{"$f":"IF(ROW()<$S$4+2,IF('XML a procesar'!A2598=\"\",P2598,IF(MID('XML a procesar'!A2598,1,1)=\"<\",P2598,P2598+1)),P2598)","v":1}]
[{"$f":"IF('XML a procesar'!A2599>0,'XML a procesar'!A2599,\"\")","v":""},0,0,0,0,"",0,0,0,"","",0,"",0,"",{"$f":"IF(ROW()<$S$4+2,IF('XML a procesar'!A2599=\"\",P2599,IF(MID('XML a procesar'!A2599,1,1)=\"<\",P2599,P2599+1)),P2599)","v":1}]
[{"$f":"IF('XML a procesar'!A2600>0,'XML a procesar'!A2600,\"\")","v":""},0,0,0,0,"",0,0,0,"","",0,"",0,"",{"$f":"IF(ROW()<$S$4+2,IF('XML a procesar'!A2600=\"\",P2600,IF(MID('XML a procesar'!A2600,1,1)=\"<\",P2600,P2600+1)),P2600)","v":1}]
[{"$f":"IF('XML a procesar'!A2601>0,'XML a procesar'!A2601,\"\")","v":""},0,0,0,0,"",0,0,0,"","",0,"",0,"",{"$f":"IF(ROW()<$S$4+2,IF('XML a procesar'!A2601=\"\",P2601,IF(MID('XML a procesar'!A2601,1,1)=\"<\",P2601,P2601+1)),P2601)","v":1}]
[{"$f":"IF('XML a procesar'!A2602>0,'XML a procesar'!A2602,\"\")","v":""},0,0,0,0,"",0,0,0,"","",0,"",0,"",{"$f":"IF(ROW()<$S$4+2,IF('XML a procesar'!A2602=\"\",P2602,IF(MID('XML a procesar'!A2602,1,1)=\"<\",P2602,P2602+1)),P2602)","v":1}]
[{"$f":"IF('XML a procesar'!A2603>0,'XML a procesar'!A2603,\"\")","v":""},0,0,0,0,"",0,0,0,"","",0,"",0,"",{"$f":"IF(ROW()<$S$4+2,IF('XML a procesar'!A2603=\"\",P2603,IF(MID('XML a procesar'!A2603,1,1)=\"<\",P2603,P2603+1)),P2603)","v":1}]
[{"$f":"IF('XML a procesar'!A2604>0,'XML a procesar'!A2604,\"\")","v":""},0,0,0,0,"",0,0,0,"","",0,"",0,"",{"$f":"IF(ROW()<$S$4+2,IF('XML a procesar'!A2604=\"\",P2604,IF(MID('XML a procesar'!A2604,1,1)=\"<\",P2604,P2604+1)),P2604)","v":1}]
[{"$f":"IF('XML a procesar'!A2605>0,'XML a procesar'!A2605,\"\")","v":""},0,0,0,0,"",0,0,0,"","",0,"",0,"",{"$f":"IF(ROW()<$S$4+2,IF('XML a procesar'!A2605=\"\",P2605,IF(MID('XML a procesar'!A2605,1,1)=\"<\",P2605,P2605+1)),P2605)","v":1}]
[{"$f":"IF('XML a procesar'!A2606>0,'XML a procesar'!A2606,\"\")","v":""},0,0,0,0,"",0,0,0,"","",0,"",0,"",{"$f":"IF(ROW()<$S$4+2,IF('XML a procesar'!A2606=\"\",P2606,IF(MID('XML a procesar'!A2606,1,1)=\"<\",P2606,P2606+1)),P2606)","v":1}]
[{"$f":"IF('XML a procesar'!A2607>0,'XML a procesar'!A2607,\"\")","v":""},0,0,0,0,"",0,0,0,"","",0,"",0,"",{"$f":"IF(ROW()<$S$4+2,IF('XML a procesar'!A2607=\"\",P2607,IF(MID('XML a procesar'!A2607,1,1)=\"<\",P2607,P2607+1)),P2607)","v":1}]
[{"$f":"IF('XML a procesar'!A2608>0,'XML a procesar'!A2608,\"\")","v":""},0,0,0,0,"",0,0,0,"","",0,"",0,"",{"$f":"IF(ROW()<$S$4+2,IF('XML a procesar'!A2608=\"\",P2608,IF(MID('XML a procesar'!A2608,1,1)=\"<\",P2608,P2608+1)),P2608)","v":1}]
[{"$f":"IF('XML a procesar'!A2609>0,'XML a procesar'!A2609,\"\")","v":""},0,0,0,0,"",0,0,0,"","",0,"",0,"",{"$f":"IF(ROW()<$S$4+2,IF('XML a procesar'!A2609=\"\",P2609,IF(MID('XML a procesar'!A2609,1,1)=\"<\",P2609,P2609+1)),P2609)","v":1}]
[{"$f":"IF('XML a procesar'!A2610>0,'XML a procesar'!A2610,\"\")","v":""},0,0,0,0,"",0,0,0,"","",0,"",0,"",{"$f":"IF(ROW()<$S$4+2,IF('XML a procesar'!A2610=\"\",P2610,IF(MID('XML a procesar'!A2610,1,1)=\"<\",P2610,P2610+1)),P2610)","v":1}]
[{"$f":"IF('XML a procesar'!A2611>0,'XML a procesar'!A2611,\"\")","v":""},0,0,0,0,"",0,0,0,"","",0,"",0,"",{"$f":"IF(ROW()<$S$4+2,IF('XML a procesar'!A2611=\"\",P2611,IF(MID('XML a procesar'!A2611,1,1)=\"<\",P2611,P2611+1)),P2611)","v":1}]
[{"$f":"IF('XML a procesar'!A2612>0,'XML a procesar'!A2612,\"\")","v":""},0,0,0,0,"",0,0,0,"","",0,"",0,"",{"$f":"IF(ROW()<$S$4+2,IF('XML a procesar'!A2612=\"\",P2612,IF(MID('XML a procesar'!A2612,1,1)=\"<\",P2612,P2612+1)),P2612)","v":1}]
[{"$f":"IF('XML a procesar'!A2613>0,'XML a procesar'!A2613,\"\")","v":""},0,0,0,0,"",0,0,0,"","",0,"",0,"",{"$f":"IF(ROW()<$S$4+2,IF('XML a procesar'!A2613=\"\",P2613,IF(MID('XML a procesar'!A2613,1,1)=\"<\",P2613,P2613+1)),P2613)","v":1}]
[{"$f":"IF('XML a procesar'!A2614>0,'XML a procesar'!A2614,\"\")","v":""},0,0,0,0,"",0,0,0,"","",0,"",0,"",{"$f":"IF(ROW()<$S$4+2,IF('XML a procesar'!A2614=\"\",P2614,IF(MID('XML a procesar'!A2614,1,1)=\"<\",P2614,P2614+1)),P2614)","v":1}]
[{"$f":"IF('XML a procesar'!A2615>0,'XML a procesar'!A2615,\"\")","v":""},0,0,0,0,"",0,0,0,"","",0,"",0,"",{"$f":"IF(ROW()<$S$4+2,IF('XML a procesar'!A2615=\"\",P2615,IF(MID('XML a procesar'!A2615,1,1)=\"<\",P2615,P2615+1)),P2615)","v":1}]
[{"$f":"IF('XML a procesar'!A2616>0,'XML a procesar'!A2616,\"\")","v":""},0,0,0,0,"",0,0,0,"","",0,"",0,"",{"$f":"IF(ROW()<$S$4+2,IF('XML a procesar'!A2616=\"\",P2616,IF(MID('XML a procesar'!A2616,1,1)=\"<\",P2616,P2616+1)),P2616)","v":1}]
[{"$f":"IF('XML a procesar'!A2617>0,'XML a procesar'!A2617,\"\")","v":""},0,0,0,0,"",0,0,0,"","",0,"",0,"",{"$f":"IF(ROW()<$S$4+2,IF('XML a procesar'!A2617=\"\",P2617,IF(MID('XML a procesar'!A2617,1,1)=\"<\",P2617,P2617+1)),P2617)","v":1}]
[{"$f":"IF('XML a procesar'!A2618>0,'XML a procesar'!A2618,\"\")","v":""},0,0,0,0,"",0,0,0,"","",0,"",0,"",{"$f":"IF(ROW()<$S$4+2,IF('XML a procesar'!A2618=\"\",P2618,IF(MID('XML a procesar'!A2618,1,1)=\"<\",P2618,P2618+1)),P2618)","v":1}]
[{"$f":"IF('XML a procesar'!A2619>0,'XML a procesar'!A2619,\"\")","v":""},0,0,0,0,"",0,0,0,"","",0,"",0,"",{"$f":"IF(ROW()<$S$4+2,IF('XML a procesar'!A2619=\"\",P2619,IF(MID('XML a procesar'!A2619,1,1)=\"<\",P2619,P2619+1)),P2619)","v":1}]
[{"$f":"IF('XML a procesar'!A2620>0,'XML a procesar'!A2620,\"\")","v":""},0,0,0,0,"",0,0,0,"","",0,"",0,"",{"$f":"IF(ROW()<$S$4+2,IF('XML a procesar'!A2620=\"\",P2620,IF(MID('XML a procesar'!A2620,1,1)=\"<\",P2620,P2620+1)),P2620)","v":1}]
[{"$f":"IF('XML a procesar'!A2621>0,'XML a procesar'!A2621,\"\")","v":""},0,0,0,0,"",0,0,0,"","",0,"",0,"",{"$f":"IF(ROW()<$S$4+2,IF('XML a procesar'!A2621=\"\",P2621,IF(MID('XML a procesar'!A2621,1,1)=\"<\",P2621,P2621+1)),P2621)","v":1}]
[{"$f":"IF('XML a procesar'!A2622>0,'XML a procesar'!A2622,\"\")","v":""},0,0,0,0,"",0,0,0,"","",0,"",0,"",{"$f":"IF(ROW()<$S$4+2,IF('XML a procesar'!A2622=\"\",P2622,IF(MID('XML a procesar'!A2622,1,1)=\"<\",P2622,P2622+1)),P2622)","v":1}]
[{"$f":"IF('XML a procesar'!A2623>0,'XML a procesar'!A2623,\"\")","v":""},0,0,0,0,"",0,0,0,"","",0,"",0,"",{"$f":"IF(ROW()<$S$4+2,IF('XML a procesar'!A2623=\"\",P2623,IF(MID('XML a procesar'!A2623,1,1)=\"<\",P2623,P2623+1)),P2623)","v":1}]
[{"$f":"IF('XML a procesar'!A2624>0,'XML a procesar'!A2624,\"\")","v":""},{"$f":"IF(ISERROR(FIND(\"/doi.org/\",A2625,1)),0,1)","v":0},{"$f":"IF(LEFT(A2624,16)=\"<contrib contrib\",C2624+1,IF(LEFT(A2624,16)=\"</contrib-group>\",0,IF(LEFT(A2624,10)=\"</contrib>\",C2624,C2624)))","v":0},{"$f":"IF(AND(C2625>0,LEFT(A2625,7)=\"<email>\",ISNUMBER(SEARCH(\"@\",A2625,1))),C2625,IF(LEFT(A2625,10)=\"<alt-text>\",-1,0))","v":0},{"$f":"IF(D2625=0,E2624,E2624+1)","v":0},{"$f":"INDIRECT(ADDRESS(ROW()+INDIRECT(ADDRESS(ROW()+E2625,5)),1))","v":""},{"$f":"IF(LEFT(F2625,7)=\"<aff id\",_xlfn.NUMBERVALUE(MID(F2625,13,LEN(F2625)-14)),IF(F2625=\"</aff>\",G2624+1,G2624))","v":0},0,{"$f":"INDIRECT(ADDRESS(ROW()-INDIRECT(ADDRESS(ROW()-H2625,8)),8))","v":0},{"$f":"IF(J2624=\"Linea_para_MAIL_creada_por_LuXML\",\"</aff>\",IF(I2625>INDIRECT(ADDRESS(ROW()-I2625-1,8)),\"Linea_para_MAIL_creada_por_LuXML\",INDIRECT(ADDRESS(ROW()-I2625,6))))","v":""},"",{"$f":"IF(OR(MID(K2623,3,5)=\"page>\",MID(K2624,3,5)=\"page>\"),L2624,IF(OR(K2624=\"<history>\",K2625=\"<history>\"),L2624+1,L2624))","v":0},{"$f":"IF(L2625>L2624,IF(L2625=1,CONCATENATE(\"<fpage>\",$S$10,\"</fpage>\"),CONCATENATE(\"<lpage>\",$S$10+1,\"</lpage>\")),IF(ISERROR(INDIRECT(ADDRESS(ROW()-L2625,11),1)),\"\",INDIRECT(ADDRESS(ROW()-L2625,11),1)))","v":""},{"$f":"IF(N2624=-1,-1,IF(M2625=\"</counts>\",-1,IF(OR(LEFT(M2625,7)=\"<fpage>\",LEFT(M2625,7)=\"<lpage>\"),VALUE(MID(M2625,8,LEN(M2625)-15)),0)))","v":0},"",{"$f":"IF(ROW()<$S$4+2,IF('XML a procesar'!A2624=\"\",P2624,IF(MID('XML a procesar'!A2624,1,1)=\"<\",P2624,P2624+1)),P2624)","v":1}]
[{"$f":"IF('XML a procesar'!A2625>0,'XML a procesar'!A2625,\"\")","v":""},0,0,0,0,"",0,0,0,"","",0,"",0,{"$f":"IF(N2626>-1,INDIRECT(ADDRESS(ROW(),13)),IF(N2626<N2625,CONCATENATE(\"<page-count count=\",CHAR(34),1+LARGE(N:N,1)-LARGE(N:N,2),CHAR(34),\"/>\"),INDIRECT(ADDRESS(ROW()-1,13))))","v":""},{"$f":"IF(ROW()<$S$4+2,IF('XML a procesar'!A2625=\"\",P2625,IF(MID('XML a procesar'!A2625,1,1)=\"<\",P2625,P2625+1)),P2625)","v":1}]
[{"$f":"IF('XML a procesar'!A2626>0,'XML a procesar'!A2626,\"\")","v":""},0,0,0,0,"",0,{"$f":"IF(AND(G2626>0,G2627>G2626,NOT(ISERROR(MATCH(G2626,D:D,0)))),H2626+1,H2626)","v":0},0,"",{"$f":"IF(J2627=\"Linea_para_MAIL_creada_por_LuXML\",IF(ISERROR(MATCH(INDIRECT(ADDRESS(ROW()-G2627,7)),D:D,0)),J2627,INDIRECT(ADDRESS(MATCH(INDIRECT(ADDRESS(ROW()-G2627,7)),D:D,0),1))),J2627)","v":""},0,"",0,"",{"$f":"IF(ROW()<$S$4+2,IF('XML a procesar'!A2626=\"\",P2626,IF(MID('XML a procesar'!A2626,1,1)=\"<\",P2626,P2626+1)),P2626)","v":1}]
[{"$f":"IF('XML a procesar'!A2627>0,'XML a procesar'!A2627,\"\")","v":""},0,0,0,0,"",0,0,0,"","",0,"",0,"",{"$f":"IF(ROW()<$S$4+2,IF('XML a procesar'!A2627=\"\",P2627,IF(MID('XML a procesar'!A2627,1,1)=\"<\",P2627,P2627+1)),P2627)","v":1}]
[{"$f":"IF('XML a procesar'!A2628>0,'XML a procesar'!A2628,\"\")","v":""},0,0,0,0,"",0,0,0,"","",0,"",0,"",{"$f":"IF(ROW()<$S$4+2,IF('XML a procesar'!A2628=\"\",P2628,IF(MID('XML a procesar'!A2628,1,1)=\"<\",P2628,P2628+1)),P2628)","v":1}]
[{"$f":"IF('XML a procesar'!A2629>0,'XML a procesar'!A2629,\"\")","v":""},0,0,0,0,"",0,0,0,"","",0,"",0,"",{"$f":"IF(ROW()<$S$4+2,IF('XML a procesar'!A2629=\"\",P2629,IF(MID('XML a procesar'!A2629,1,1)=\"<\",P2629,P2629+1)),P2629)","v":1}]
[{"$f":"IF('XML a procesar'!A2630>0,'XML a procesar'!A2630,\"\")","v":""},0,0,0,0,"",0,0,0,"","",0,"",0,"",{"$f":"IF(ROW()<$S$4+2,IF('XML a procesar'!A2630=\"\",P2630,IF(MID('XML a procesar'!A2630,1,1)=\"<\",P2630,P2630+1)),P2630)","v":1}]
[{"$f":"IF('XML a procesar'!A2631>0,'XML a procesar'!A2631,\"\")","v":""},0,0,0,0,"",0,0,0,"","",0,"",0,"",{"$f":"IF(ROW()<$S$4+2,IF('XML a procesar'!A2631=\"\",P2631,IF(MID('XML a procesar'!A2631,1,1)=\"<\",P2631,P2631+1)),P2631)","v":1}]
[{"$f":"IF('XML a procesar'!A2632>0,'XML a procesar'!A2632,\"\")","v":""},0,0,0,0,"",0,0,0,"","",0,"",0,"",{"$f":"IF(ROW()<$S$4+2,IF('XML a procesar'!A2632=\"\",P2632,IF(MID('XML a procesar'!A2632,1,1)=\"<\",P2632,P2632+1)),P2632)","v":1}]
[{"$f":"IF('XML a procesar'!A2633>0,'XML a procesar'!A2633,\"\")","v":""},0,0,0,0,"",0,0,0,"","",0,"",0,"",{"$f":"IF(ROW()<$S$4+2,IF('XML a procesar'!A2633=\"\",P2633,IF(MID('XML a procesar'!A2633,1,1)=\"<\",P2633,P2633+1)),P2633)","v":1}]
[{"$f":"IF('XML a procesar'!A2634>0,'XML a procesar'!A2634,\"\")","v":""},0,0,0,0,"",0,0,0,"","",0,"",0,"",{"$f":"IF(ROW()<$S$4+2,IF('XML a procesar'!A2634=\"\",P2634,IF(MID('XML a procesar'!A2634,1,1)=\"<\",P2634,P2634+1)),P2634)","v":1}]
[{"$f":"IF('XML a procesar'!A2635>0,'XML a procesar'!A2635,\"\")","v":""},0,0,0,0,"",0,0,0,"","",0,"",0,"",{"$f":"IF(ROW()<$S$4+2,IF('XML a procesar'!A2635=\"\",P2635,IF(MID('XML a procesar'!A2635,1,1)=\"<\",P2635,P2635+1)),P2635)","v":1}]
[{"$f":"IF('XML a procesar'!A2636>0,'XML a procesar'!A2636,\"\")","v":""},0,0,0,0,"",0,0,0,"","",0,"",0,"",{"$f":"IF(ROW()<$S$4+2,IF('XML a procesar'!A2636=\"\",P2636,IF(MID('XML a procesar'!A2636,1,1)=\"<\",P2636,P2636+1)),P2636)","v":1}]
[{"$f":"IF('XML a procesar'!A2637>0,'XML a procesar'!A2637,\"\")","v":""},0,0,0,0,"",0,0,0,"","",0,"",0,"",{"$f":"IF(ROW()<$S$4+2,IF('XML a procesar'!A2637=\"\",P2637,IF(MID('XML a procesar'!A2637,1,1)=\"<\",P2637,P2637+1)),P2637)","v":1}]
[{"$f":"IF('XML a procesar'!A2638>0,'XML a procesar'!A2638,\"\")","v":""},0,0,0,0,"",0,0,0,"","",0,"",0,"",{"$f":"IF(ROW()<$S$4+2,IF('XML a procesar'!A2638=\"\",P2638,IF(MID('XML a procesar'!A2638,1,1)=\"<\",P2638,P2638+1)),P2638)","v":1}]
[{"$f":"IF('XML a procesar'!A2639>0,'XML a procesar'!A2639,\"\")","v":""},0,0,0,0,"",0,0,0,"","",0,"",0,"",{"$f":"IF(ROW()<$S$4+2,IF('XML a procesar'!A2639=\"\",P2639,IF(MID('XML a procesar'!A2639,1,1)=\"<\",P2639,P2639+1)),P2639)","v":1}]
[{"$f":"IF('XML a procesar'!A2640>0,'XML a procesar'!A2640,\"\")","v":""},0,0,0,0,"",0,0,0,"","",0,"",0,"",{"$f":"IF(ROW()<$S$4+2,IF('XML a procesar'!A2640=\"\",P2640,IF(MID('XML a procesar'!A2640,1,1)=\"<\",P2640,P2640+1)),P2640)","v":1}]
[{"$f":"IF('XML a procesar'!A2641>0,'XML a procesar'!A2641,\"\")","v":""},0,0,0,0,"",0,0,0,"","",0,"",0,"",{"$f":"IF(ROW()<$S$4+2,IF('XML a procesar'!A2641=\"\",P2641,IF(MID('XML a procesar'!A2641,1,1)=\"<\",P2641,P2641+1)),P2641)","v":1}]
[{"$f":"IF('XML a procesar'!A2642>0,'XML a procesar'!A2642,\"\")","v":""},0,0,0,0,"",0,0,0,"","",0,"",0,"",{"$f":"IF(ROW()<$S$4+2,IF('XML a procesar'!A2642=\"\",P2642,IF(MID('XML a procesar'!A2642,1,1)=\"<\",P2642,P2642+1)),P2642)","v":1}]
[{"$f":"IF('XML a procesar'!A2643>0,'XML a procesar'!A2643,\"\")","v":""},0,0,0,0,"",0,0,0,"","",0,"",0,"",{"$f":"IF(ROW()<$S$4+2,IF('XML a procesar'!A2643=\"\",P2643,IF(MID('XML a procesar'!A2643,1,1)=\"<\",P2643,P2643+1)),P2643)","v":1}]
[{"$f":"IF('XML a procesar'!A2644>0,'XML a procesar'!A2644,\"\")","v":""},0,0,0,0,"",0,0,0,"","",0,"",0,"",{"$f":"IF(ROW()<$S$4+2,IF('XML a procesar'!A2644=\"\",P2644,IF(MID('XML a procesar'!A2644,1,1)=\"<\",P2644,P2644+1)),P2644)","v":1}]
[{"$f":"IF('XML a procesar'!A2645>0,'XML a procesar'!A2645,\"\")","v":""},0,0,0,0,"",0,0,0,"","",0,"",0,"",{"$f":"IF(ROW()<$S$4+2,IF('XML a procesar'!A2645=\"\",P2645,IF(MID('XML a procesar'!A2645,1,1)=\"<\",P2645,P2645+1)),P2645)","v":1}]
[{"$f":"IF('XML a procesar'!A2646>0,'XML a procesar'!A2646,\"\")","v":""},0,0,0,0,"",0,0,0,"","",0,"",0,"",{"$f":"IF(ROW()<$S$4+2,IF('XML a procesar'!A2646=\"\",P2646,IF(MID('XML a procesar'!A2646,1,1)=\"<\",P2646,P2646+1)),P2646)","v":1}]
[{"$f":"IF('XML a procesar'!A2647>0,'XML a procesar'!A2647,\"\")","v":""},0,0,0,0,"",0,0,0,"","",0,"",0,"",{"$f":"IF(ROW()<$S$4+2,IF('XML a procesar'!A2647=\"\",P2647,IF(MID('XML a procesar'!A2647,1,1)=\"<\",P2647,P2647+1)),P2647)","v":1}]
[{"$f":"IF('XML a procesar'!A2648>0,'XML a procesar'!A2648,\"\")","v":""},0,0,0,0,"",0,0,0,"","",0,"",0,"",{"$f":"IF(ROW()<$S$4+2,IF('XML a procesar'!A2648=\"\",P2648,IF(MID('XML a procesar'!A2648,1,1)=\"<\",P2648,P2648+1)),P2648)","v":1}]
[{"$f":"IF('XML a procesar'!A2649>0,'XML a procesar'!A2649,\"\")","v":""},0,0,0,0,"",0,0,0,"","",0,"",0,"",{"$f":"IF(ROW()<$S$4+2,IF('XML a procesar'!A2649=\"\",P2649,IF(MID('XML a procesar'!A2649,1,1)=\"<\",P2649,P2649+1)),P2649)","v":1}]
[{"$f":"IF('XML a procesar'!A2650>0,'XML a procesar'!A2650,\"\")","v":""},0,0,0,0,"",0,0,0,"","",0,"",0,"",{"$f":"IF(ROW()<$S$4+2,IF('XML a procesar'!A2650=\"\",P2650,IF(MID('XML a procesar'!A2650,1,1)=\"<\",P2650,P2650+1)),P2650)","v":1}]
[{"$f":"IF('XML a procesar'!A2651>0,'XML a procesar'!A2651,\"\")","v":""},0,0,0,0,"",0,0,0,"","",0,"",0,"",{"$f":"IF(ROW()<$S$4+2,IF('XML a procesar'!A2651=\"\",P2651,IF(MID('XML a procesar'!A2651,1,1)=\"<\",P2651,P2651+1)),P2651)","v":1}]
[{"$f":"IF('XML a procesar'!A2652>0,'XML a procesar'!A2652,\"\")","v":""},0,0,0,0,"",0,0,0,"","",0,"",0,"",{"$f":"IF(ROW()<$S$4+2,IF('XML a procesar'!A2652=\"\",P2652,IF(MID('XML a procesar'!A2652,1,1)=\"<\",P2652,P2652+1)),P2652)","v":1}]
[{"$f":"IF('XML a procesar'!A2653>0,'XML a procesar'!A2653,\"\")","v":""},0,0,0,0,"",0,0,0,"","",0,"",0,"",{"$f":"IF(ROW()<$S$4+2,IF('XML a procesar'!A2653=\"\",P2653,IF(MID('XML a procesar'!A2653,1,1)=\"<\",P2653,P2653+1)),P2653)","v":1}]
[{"$f":"IF('XML a procesar'!A2654>0,'XML a procesar'!A2654,\"\")","v":""},0,0,0,0,"",0,0,0,"","",0,"",0,"",{"$f":"IF(ROW()<$S$4+2,IF('XML a procesar'!A2654=\"\",P2654,IF(MID('XML a procesar'!A2654,1,1)=\"<\",P2654,P2654+1)),P2654)","v":1}]
[{"$f":"IF('XML a procesar'!A2655>0,'XML a procesar'!A2655,\"\")","v":""},0,0,0,0,"",0,0,0,"","",0,"",0,"",{"$f":"IF(ROW()<$S$4+2,IF('XML a procesar'!A2655=\"\",P2655,IF(MID('XML a procesar'!A2655,1,1)=\"<\",P2655,P2655+1)),P2655)","v":1}]
[{"$f":"IF('XML a procesar'!A2656>0,'XML a procesar'!A2656,\"\")","v":""},0,0,0,0,"",0,0,0,"","",0,"",0,"",{"$f":"IF(ROW()<$S$4+2,IF('XML a procesar'!A2656=\"\",P2656,IF(MID('XML a procesar'!A2656,1,1)=\"<\",P2656,P2656+1)),P2656)","v":1}]
[{"$f":"IF('XML a procesar'!A2657>0,'XML a procesar'!A2657,\"\")","v":""},0,0,0,0,"",0,0,0,"","",0,"",0,"",{"$f":"IF(ROW()<$S$4+2,IF('XML a procesar'!A2657=\"\",P2657,IF(MID('XML a procesar'!A2657,1,1)=\"<\",P2657,P2657+1)),P2657)","v":1}]
[{"$f":"IF('XML a procesar'!A2658>0,'XML a procesar'!A2658,\"\")","v":""},0,0,0,0,"",0,0,0,"","",0,"",0,"",{"$f":"IF(ROW()<$S$4+2,IF('XML a procesar'!A2658=\"\",P2658,IF(MID('XML a procesar'!A2658,1,1)=\"<\",P2658,P2658+1)),P2658)","v":1}]
[{"$f":"IF('XML a procesar'!A2659>0,'XML a procesar'!A2659,\"\")","v":""},0,0,0,0,"",0,0,0,"","",0,"",0,"",{"$f":"IF(ROW()<$S$4+2,IF('XML a procesar'!A2659=\"\",P2659,IF(MID('XML a procesar'!A2659,1,1)=\"<\",P2659,P2659+1)),P2659)","v":1}]
[{"$f":"IF('XML a procesar'!A2660>0,'XML a procesar'!A2660,\"\")","v":""},0,0,0,0,"",0,0,0,"","",0,"",0,"",{"$f":"IF(ROW()<$S$4+2,IF('XML a procesar'!A2660=\"\",P2660,IF(MID('XML a procesar'!A2660,1,1)=\"<\",P2660,P2660+1)),P2660)","v":1}]
[{"$f":"IF('XML a procesar'!A2661>0,'XML a procesar'!A2661,\"\")","v":""},0,0,0,0,"",0,0,0,"","",0,"",0,"",{"$f":"IF(ROW()<$S$4+2,IF('XML a procesar'!A2661=\"\",P2661,IF(MID('XML a procesar'!A2661,1,1)=\"<\",P2661,P2661+1)),P2661)","v":1}]
[{"$f":"IF('XML a procesar'!A2662>0,'XML a procesar'!A2662,\"\")","v":""},0,0,0,0,"",0,0,0,"","",0,"",0,"",{"$f":"IF(ROW()<$S$4+2,IF('XML a procesar'!A2662=\"\",P2662,IF(MID('XML a procesar'!A2662,1,1)=\"<\",P2662,P2662+1)),P2662)","v":1}]
[{"$f":"IF('XML a procesar'!A2663>0,'XML a procesar'!A2663,\"\")","v":""},0,0,0,0,"",0,0,0,"","",0,"",0,"",{"$f":"IF(ROW()<$S$4+2,IF('XML a procesar'!A2663=\"\",P2663,IF(MID('XML a procesar'!A2663,1,1)=\"<\",P2663,P2663+1)),P2663)","v":1}]
[{"$f":"IF('XML a procesar'!A2664>0,'XML a procesar'!A2664,\"\")","v":""},0,0,0,0,"",0,0,0,"","",0,"",0,"",{"$f":"IF(ROW()<$S$4+2,IF('XML a procesar'!A2664=\"\",P2664,IF(MID('XML a procesar'!A2664,1,1)=\"<\",P2664,P2664+1)),P2664)","v":1}]
[{"$f":"IF('XML a procesar'!A2665>0,'XML a procesar'!A2665,\"\")","v":""},0,0,0,0,"",0,0,0,"","",0,"",0,"",{"$f":"IF(ROW()<$S$4+2,IF('XML a procesar'!A2665=\"\",P2665,IF(MID('XML a procesar'!A2665,1,1)=\"<\",P2665,P2665+1)),P2665)","v":1}]
[{"$f":"IF('XML a procesar'!A2666>0,'XML a procesar'!A2666,\"\")","v":""},0,0,0,0,"",0,0,0,"","",0,"",0,"",{"$f":"IF(ROW()<$S$4+2,IF('XML a procesar'!A2666=\"\",P2666,IF(MID('XML a procesar'!A2666,1,1)=\"<\",P2666,P2666+1)),P2666)","v":1}]
[{"$f":"IF('XML a procesar'!A2667>0,'XML a procesar'!A2667,\"\")","v":""},0,0,0,0,"",0,0,0,"","",0,"",0,"",{"$f":"IF(ROW()<$S$4+2,IF('XML a procesar'!A2667=\"\",P2667,IF(MID('XML a procesar'!A2667,1,1)=\"<\",P2667,P2667+1)),P2667)","v":1}]
[{"$f":"IF('XML a procesar'!A2668>0,'XML a procesar'!A2668,\"\")","v":""},0,0,0,0,"",0,0,0,"","",0,"",0,"",{"$f":"IF(ROW()<$S$4+2,IF('XML a procesar'!A2668=\"\",P2668,IF(MID('XML a procesar'!A2668,1,1)=\"<\",P2668,P2668+1)),P2668)","v":1}]
[{"$f":"IF('XML a procesar'!A2669>0,'XML a procesar'!A2669,\"\")","v":""},0,0,0,0,"",0,0,0,"","",0,"",0,"",{"$f":"IF(ROW()<$S$4+2,IF('XML a procesar'!A2669=\"\",P2669,IF(MID('XML a procesar'!A2669,1,1)=\"<\",P2669,P2669+1)),P2669)","v":1}]
[{"$f":"IF('XML a procesar'!A2670>0,'XML a procesar'!A2670,\"\")","v":""},0,0,0,0,"",0,0,0,"","",0,"",0,"",{"$f":"IF(ROW()<$S$4+2,IF('XML a procesar'!A2670=\"\",P2670,IF(MID('XML a procesar'!A2670,1,1)=\"<\",P2670,P2670+1)),P2670)","v":1}]
[{"$f":"IF('XML a procesar'!A2671>0,'XML a procesar'!A2671,\"\")","v":""},0,0,0,0,"",0,0,0,"","",0,"",0,"",{"$f":"IF(ROW()<$S$4+2,IF('XML a procesar'!A2671=\"\",P2671,IF(MID('XML a procesar'!A2671,1,1)=\"<\",P2671,P2671+1)),P2671)","v":1}]
[{"$f":"IF('XML a procesar'!A2672>0,'XML a procesar'!A2672,\"\")","v":""},0,0,0,0,"",0,0,0,"","",0,"",0,"",{"$f":"IF(ROW()<$S$4+2,IF('XML a procesar'!A2672=\"\",P2672,IF(MID('XML a procesar'!A2672,1,1)=\"<\",P2672,P2672+1)),P2672)","v":1}]
[{"$f":"IF('XML a procesar'!A2673>0,'XML a procesar'!A2673,\"\")","v":""},0,0,0,0,"",0,0,0,"","",0,"",0,"",{"$f":"IF(ROW()<$S$4+2,IF('XML a procesar'!A2673=\"\",P2673,IF(MID('XML a procesar'!A2673,1,1)=\"<\",P2673,P2673+1)),P2673)","v":1}]
[{"$f":"IF('XML a procesar'!A2674>0,'XML a procesar'!A2674,\"\")","v":""},0,0,0,0,"",0,0,0,"","",0,"",0,"",{"$f":"IF(ROW()<$S$4+2,IF('XML a procesar'!A2674=\"\",P2674,IF(MID('XML a procesar'!A2674,1,1)=\"<\",P2674,P2674+1)),P2674)","v":1}]
[{"$f":"IF('XML a procesar'!A2675>0,'XML a procesar'!A2675,\"\")","v":""},0,0,0,0,"",0,0,0,"","",0,"",0,"",{"$f":"IF(ROW()<$S$4+2,IF('XML a procesar'!A2675=\"\",P2675,IF(MID('XML a procesar'!A2675,1,1)=\"<\",P2675,P2675+1)),P2675)","v":1}]
[{"$f":"IF('XML a procesar'!A2676>0,'XML a procesar'!A2676,\"\")","v":""},0,0,0,0,"",0,0,0,"","",0,"",0,"",{"$f":"IF(ROW()<$S$4+2,IF('XML a procesar'!A2676=\"\",P2676,IF(MID('XML a procesar'!A2676,1,1)=\"<\",P2676,P2676+1)),P2676)","v":1}]
[{"$f":"IF('XML a procesar'!A2677>0,'XML a procesar'!A2677,\"\")","v":""},0,0,0,0,"",0,0,0,"","",0,"",0,"",{"$f":"IF(ROW()<$S$4+2,IF('XML a procesar'!A2677=\"\",P2677,IF(MID('XML a procesar'!A2677,1,1)=\"<\",P2677,P2677+1)),P2677)","v":1}]
[{"$f":"IF('XML a procesar'!A2678>0,'XML a procesar'!A2678,\"\")","v":""},0,0,0,0,"",0,0,0,"","",0,"",0,"",{"$f":"IF(ROW()<$S$4+2,IF('XML a procesar'!A2678=\"\",P2678,IF(MID('XML a procesar'!A2678,1,1)=\"<\",P2678,P2678+1)),P2678)","v":1}]
[{"$f":"IF('XML a procesar'!A2679>0,'XML a procesar'!A2679,\"\")","v":""},0,0,0,0,"",0,0,0,"","",0,"",0,"",{"$f":"IF(ROW()<$S$4+2,IF('XML a procesar'!A2679=\"\",P2679,IF(MID('XML a procesar'!A2679,1,1)=\"<\",P2679,P2679+1)),P2679)","v":1}]
[{"$f":"IF('XML a procesar'!A2680>0,'XML a procesar'!A2680,\"\")","v":""},0,0,0,0,"",0,0,0,"","",0,"",0,"",{"$f":"IF(ROW()<$S$4+2,IF('XML a procesar'!A2680=\"\",P2680,IF(MID('XML a procesar'!A2680,1,1)=\"<\",P2680,P2680+1)),P2680)","v":1}]
[{"$f":"IF('XML a procesar'!A2681>0,'XML a procesar'!A2681,\"\")","v":""},0,0,0,0,"",0,0,0,"","",0,"",0,"",{"$f":"IF(ROW()<$S$4+2,IF('XML a procesar'!A2681=\"\",P2681,IF(MID('XML a procesar'!A2681,1,1)=\"<\",P2681,P2681+1)),P2681)","v":1}]
[{"$f":"IF('XML a procesar'!A2682>0,'XML a procesar'!A2682,\"\")","v":""},0,0,0,0,"",0,0,0,"","",0,"",0,"",{"$f":"IF(ROW()<$S$4+2,IF('XML a procesar'!A2682=\"\",P2682,IF(MID('XML a procesar'!A2682,1,1)=\"<\",P2682,P2682+1)),P2682)","v":1}]
[{"$f":"IF('XML a procesar'!A2683>0,'XML a procesar'!A2683,\"\")","v":""},0,0,0,0,"",0,0,0,"","",0,"",0,"",{"$f":"IF(ROW()<$S$4+2,IF('XML a procesar'!A2683=\"\",P2683,IF(MID('XML a procesar'!A2683,1,1)=\"<\",P2683,P2683+1)),P2683)","v":1}]
[{"$f":"IF('XML a procesar'!A2684>0,'XML a procesar'!A2684,\"\")","v":""},0,0,0,0,"",0,0,0,"","",0,"",0,"",{"$f":"IF(ROW()<$S$4+2,IF('XML a procesar'!A2684=\"\",P2684,IF(MID('XML a procesar'!A2684,1,1)=\"<\",P2684,P2684+1)),P2684)","v":1}]
[{"$f":"IF('XML a procesar'!A2685>0,'XML a procesar'!A2685,\"\")","v":""},0,0,0,0,"",0,0,0,"","",0,"",0,"",{"$f":"IF(ROW()<$S$4+2,IF('XML a procesar'!A2685=\"\",P2685,IF(MID('XML a procesar'!A2685,1,1)=\"<\",P2685,P2685+1)),P2685)","v":1}]
[{"$f":"IF('XML a procesar'!A2686>0,'XML a procesar'!A2686,\"\")","v":""},0,0,0,0,"",0,0,0,"","",0,"",0,"",{"$f":"IF(ROW()<$S$4+2,IF('XML a procesar'!A2686=\"\",P2686,IF(MID('XML a procesar'!A2686,1,1)=\"<\",P2686,P2686+1)),P2686)","v":1}]
[{"$f":"IF('XML a procesar'!A2687>0,'XML a procesar'!A2687,\"\")","v":""},0,0,0,0,"",0,0,0,"","",0,"",0,"",{"$f":"IF(ROW()<$S$4+2,IF('XML a procesar'!A2687=\"\",P2687,IF(MID('XML a procesar'!A2687,1,1)=\"<\",P2687,P2687+1)),P2687)","v":1}]
[{"$f":"IF('XML a procesar'!A2688>0,'XML a procesar'!A2688,\"\")","v":""},{"$f":"IF(ISERROR(FIND(\"/doi.org/\",A2689,1)),0,1)","v":0},{"$f":"IF(LEFT(A2688,16)=\"<contrib contrib\",C2688+1,IF(LEFT(A2688,16)=\"</contrib-group>\",0,IF(LEFT(A2688,10)=\"</contrib>\",C2688,C2688)))","v":0},{"$f":"IF(AND(C2689>0,LEFT(A2689,7)=\"<email>\",ISNUMBER(SEARCH(\"@\",A2689,1))),C2689,IF(LEFT(A2689,10)=\"<alt-text>\",-1,0))","v":0},{"$f":"IF(D2689=0,E2688,E2688+1)","v":0},{"$f":"INDIRECT(ADDRESS(ROW()+INDIRECT(ADDRESS(ROW()+E2689,5)),1))","v":""},{"$f":"IF(LEFT(F2689,7)=\"<aff id\",_xlfn.NUMBERVALUE(MID(F2689,13,LEN(F2689)-14)),IF(F2689=\"</aff>\",G2688+1,G2688))","v":0},0,{"$f":"INDIRECT(ADDRESS(ROW()-INDIRECT(ADDRESS(ROW()-H2689,8)),8))","v":0},{"$f":"IF(J2688=\"Linea_para_MAIL_creada_por_LuXML\",\"</aff>\",IF(I2689>INDIRECT(ADDRESS(ROW()-I2689-1,8)),\"Linea_para_MAIL_creada_por_LuXML\",INDIRECT(ADDRESS(ROW()-I2689,6))))","v":""},"",{"$f":"IF(OR(MID(K2687,3,5)=\"page>\",MID(K2688,3,5)=\"page>\"),L2688,IF(OR(K2688=\"<history>\",K2689=\"<history>\"),L2688+1,L2688))","v":0},{"$f":"IF(L2689>L2688,IF(L2689=1,CONCATENATE(\"<fpage>\",$S$10,\"</fpage>\"),CONCATENATE(\"<lpage>\",$S$10+1,\"</lpage>\")),IF(ISERROR(INDIRECT(ADDRESS(ROW()-L2689,11),1)),\"\",INDIRECT(ADDRESS(ROW()-L2689,11),1)))","v":""},{"$f":"IF(N2688=-1,-1,IF(M2689=\"</counts>\",-1,IF(OR(LEFT(M2689,7)=\"<fpage>\",LEFT(M2689,7)=\"<lpage>\"),VALUE(MID(M2689,8,LEN(M2689)-15)),0)))","v":0},"",{"$f":"IF(ROW()<$S$4+2,IF('XML a procesar'!A2688=\"\",P2688,IF(MID('XML a procesar'!A2688,1,1)=\"<\",P2688,P2688+1)),P2688)","v":1}]
[{"$f":"IF('XML a procesar'!A2689>0,'XML a procesar'!A2689,\"\")","v":""},0,0,0,0,"",0,0,0,"","",0,"",0,{"$f":"IF(N2690>-1,INDIRECT(ADDRESS(ROW(),13)),IF(N2690<N2689,CONCATENATE(\"<page-count count=\",CHAR(34),1+LARGE(N:N,1)-LARGE(N:N,2),CHAR(34),\"/>\"),INDIRECT(ADDRESS(ROW()-1,13))))","v":""},{"$f":"IF(ROW()<$S$4+2,IF('XML a procesar'!A2689=\"\",P2689,IF(MID('XML a procesar'!A2689,1,1)=\"<\",P2689,P2689+1)),P2689)","v":1}]
[{"$f":"IF('XML a procesar'!A2690>0,'XML a procesar'!A2690,\"\")","v":""},0,0,0,0,"",0,{"$f":"IF(AND(G2690>0,G2691>G2690,NOT(ISERROR(MATCH(G2690,D:D,0)))),H2690+1,H2690)","v":0},0,"",{"$f":"IF(J2691=\"Linea_para_MAIL_creada_por_LuXML\",IF(ISERROR(MATCH(INDIRECT(ADDRESS(ROW()-G2691,7)),D:D,0)),J2691,INDIRECT(ADDRESS(MATCH(INDIRECT(ADDRESS(ROW()-G2691,7)),D:D,0),1))),J2691)","v":""},0,"",0,"",{"$f":"IF(ROW()<$S$4+2,IF('XML a procesar'!A2690=\"\",P2690,IF(MID('XML a procesar'!A2690,1,1)=\"<\",P2690,P2690+1)),P2690)","v":1}]
[{"$f":"IF('XML a procesar'!A2691>0,'XML a procesar'!A2691,\"\")","v":""},0,0,0,0,"",0,0,0,"","",0,"",0,"",{"$f":"IF(ROW()<$S$4+2,IF('XML a procesar'!A2691=\"\",P2691,IF(MID('XML a procesar'!A2691,1,1)=\"<\",P2691,P2691+1)),P2691)","v":1}]
[{"$f":"IF('XML a procesar'!A2692>0,'XML a procesar'!A2692,\"\")","v":""},0,0,0,0,"",0,0,0,"","",0,"",0,"",{"$f":"IF(ROW()<$S$4+2,IF('XML a procesar'!A2692=\"\",P2692,IF(MID('XML a procesar'!A2692,1,1)=\"<\",P2692,P2692+1)),P2692)","v":1}]
[{"$f":"IF('XML a procesar'!A2693>0,'XML a procesar'!A2693,\"\")","v":""},0,0,0,0,"",0,0,0,"","",0,"",0,"",{"$f":"IF(ROW()<$S$4+2,IF('XML a procesar'!A2693=\"\",P2693,IF(MID('XML a procesar'!A2693,1,1)=\"<\",P2693,P2693+1)),P2693)","v":1}]
[{"$f":"IF('XML a procesar'!A2694>0,'XML a procesar'!A2694,\"\")","v":""},0,0,0,0,"",0,0,0,"","",0,"",0,"",{"$f":"IF(ROW()<$S$4+2,IF('XML a procesar'!A2694=\"\",P2694,IF(MID('XML a procesar'!A2694,1,1)=\"<\",P2694,P2694+1)),P2694)","v":1}]
[{"$f":"IF('XML a procesar'!A2695>0,'XML a procesar'!A2695,\"\")","v":""},0,0,0,0,"",0,0,0,"","",0,"",0,"",{"$f":"IF(ROW()<$S$4+2,IF('XML a procesar'!A2695=\"\",P2695,IF(MID('XML a procesar'!A2695,1,1)=\"<\",P2695,P2695+1)),P2695)","v":1}]
[{"$f":"IF('XML a procesar'!A2696>0,'XML a procesar'!A2696,\"\")","v":""},0,0,0,0,"",0,0,0,"","",0,"",0,"",{"$f":"IF(ROW()<$S$4+2,IF('XML a procesar'!A2696=\"\",P2696,IF(MID('XML a procesar'!A2696,1,1)=\"<\",P2696,P2696+1)),P2696)","v":1}]
[{"$f":"IF('XML a procesar'!A2697>0,'XML a procesar'!A2697,\"\")","v":""},0,0,0,0,"",0,0,0,"","",0,"",0,"",{"$f":"IF(ROW()<$S$4+2,IF('XML a procesar'!A2697=\"\",P2697,IF(MID('XML a procesar'!A2697,1,1)=\"<\",P2697,P2697+1)),P2697)","v":1}]
[{"$f":"IF('XML a procesar'!A2698>0,'XML a procesar'!A2698,\"\")","v":""},0,0,0,0,"",0,0,0,"","",0,"",0,"",{"$f":"IF(ROW()<$S$4+2,IF('XML a procesar'!A2698=\"\",P2698,IF(MID('XML a procesar'!A2698,1,1)=\"<\",P2698,P2698+1)),P2698)","v":1}]
[{"$f":"IF('XML a procesar'!A2699>0,'XML a procesar'!A2699,\"\")","v":""},0,0,0,0,"",0,0,0,"","",0,"",0,"",{"$f":"IF(ROW()<$S$4+2,IF('XML a procesar'!A2699=\"\",P2699,IF(MID('XML a procesar'!A2699,1,1)=\"<\",P2699,P2699+1)),P2699)","v":1}]
[{"$f":"IF('XML a procesar'!A2700>0,'XML a procesar'!A2700,\"\")","v":""},0,0,0,0,"",0,0,0,"","",0,"",0,"",{"$f":"IF(ROW()<$S$4+2,IF('XML a procesar'!A2700=\"\",P2700,IF(MID('XML a procesar'!A2700,1,1)=\"<\",P2700,P2700+1)),P2700)","v":1}]
[{"$f":"IF('XML a procesar'!A2701>0,'XML a procesar'!A2701,\"\")","v":""},0,0,0,0,"",0,0,0,"","",0,"",0,"",{"$f":"IF(ROW()<$S$4+2,IF('XML a procesar'!A2701=\"\",P2701,IF(MID('XML a procesar'!A2701,1,1)=\"<\",P2701,P2701+1)),P2701)","v":1}]
[{"$f":"IF('XML a procesar'!A2702>0,'XML a procesar'!A2702,\"\")","v":""},0,0,0,0,"",0,0,0,"","",0,"",0,"",{"$f":"IF(ROW()<$S$4+2,IF('XML a procesar'!A2702=\"\",P2702,IF(MID('XML a procesar'!A2702,1,1)=\"<\",P2702,P2702+1)),P2702)","v":1}]
[{"$f":"IF('XML a procesar'!A2703>0,'XML a procesar'!A2703,\"\")","v":""},0,0,0,0,"",0,0,0,"","",0,"",0,"",{"$f":"IF(ROW()<$S$4+2,IF('XML a procesar'!A2703=\"\",P2703,IF(MID('XML a procesar'!A2703,1,1)=\"<\",P2703,P2703+1)),P2703)","v":1}]
[{"$f":"IF('XML a procesar'!A2704>0,'XML a procesar'!A2704,\"\")","v":""},0,0,0,0,"",0,0,0,"","",0,"",0,"",{"$f":"IF(ROW()<$S$4+2,IF('XML a procesar'!A2704=\"\",P2704,IF(MID('XML a procesar'!A2704,1,1)=\"<\",P2704,P2704+1)),P2704)","v":1}]
[{"$f":"IF('XML a procesar'!A2705>0,'XML a procesar'!A2705,\"\")","v":""},0,0,0,0,"",0,0,0,"","",0,"",0,"",{"$f":"IF(ROW()<$S$4+2,IF('XML a procesar'!A2705=\"\",P2705,IF(MID('XML a procesar'!A2705,1,1)=\"<\",P2705,P2705+1)),P2705)","v":1}]
[{"$f":"IF('XML a procesar'!A2706>0,'XML a procesar'!A2706,\"\")","v":""},0,0,0,0,"",0,0,0,"","",0,"",0,"",{"$f":"IF(ROW()<$S$4+2,IF('XML a procesar'!A2706=\"\",P2706,IF(MID('XML a procesar'!A2706,1,1)=\"<\",P2706,P2706+1)),P2706)","v":1}]
[{"$f":"IF('XML a procesar'!A2707>0,'XML a procesar'!A2707,\"\")","v":""},0,0,0,0,"",0,0,0,"","",0,"",0,"",{"$f":"IF(ROW()<$S$4+2,IF('XML a procesar'!A2707=\"\",P2707,IF(MID('XML a procesar'!A2707,1,1)=\"<\",P2707,P2707+1)),P2707)","v":1}]
[{"$f":"IF('XML a procesar'!A2708>0,'XML a procesar'!A2708,\"\")","v":""},0,0,0,0,"",0,0,0,"","",0,"",0,"",{"$f":"IF(ROW()<$S$4+2,IF('XML a procesar'!A2708=\"\",P2708,IF(MID('XML a procesar'!A2708,1,1)=\"<\",P2708,P2708+1)),P2708)","v":1}]
[{"$f":"IF('XML a procesar'!A2709>0,'XML a procesar'!A2709,\"\")","v":""},0,0,0,0,"",0,0,0,"","",0,"",0,"",{"$f":"IF(ROW()<$S$4+2,IF('XML a procesar'!A2709=\"\",P2709,IF(MID('XML a procesar'!A2709,1,1)=\"<\",P2709,P2709+1)),P2709)","v":1}]
[{"$f":"IF('XML a procesar'!A2710>0,'XML a procesar'!A2710,\"\")","v":""},0,0,0,0,"",0,0,0,"","",0,"",0,"",{"$f":"IF(ROW()<$S$4+2,IF('XML a procesar'!A2710=\"\",P2710,IF(MID('XML a procesar'!A2710,1,1)=\"<\",P2710,P2710+1)),P2710)","v":1}]
[{"$f":"IF('XML a procesar'!A2711>0,'XML a procesar'!A2711,\"\")","v":""},0,0,0,0,"",0,0,0,"","",0,"",0,"",{"$f":"IF(ROW()<$S$4+2,IF('XML a procesar'!A2711=\"\",P2711,IF(MID('XML a procesar'!A2711,1,1)=\"<\",P2711,P2711+1)),P2711)","v":1}]
[{"$f":"IF('XML a procesar'!A2712>0,'XML a procesar'!A2712,\"\")","v":""},0,0,0,0,"",0,0,0,"","",0,"",0,"",{"$f":"IF(ROW()<$S$4+2,IF('XML a procesar'!A2712=\"\",P2712,IF(MID('XML a procesar'!A2712,1,1)=\"<\",P2712,P2712+1)),P2712)","v":1}]
[{"$f":"IF('XML a procesar'!A2713>0,'XML a procesar'!A2713,\"\")","v":""},0,0,0,0,"",0,0,0,"","",0,"",0,"",{"$f":"IF(ROW()<$S$4+2,IF('XML a procesar'!A2713=\"\",P2713,IF(MID('XML a procesar'!A2713,1,1)=\"<\",P2713,P2713+1)),P2713)","v":1}]
[{"$f":"IF('XML a procesar'!A2714>0,'XML a procesar'!A2714,\"\")","v":""},0,0,0,0,"",0,0,0,"","",0,"",0,"",{"$f":"IF(ROW()<$S$4+2,IF('XML a procesar'!A2714=\"\",P2714,IF(MID('XML a procesar'!A2714,1,1)=\"<\",P2714,P2714+1)),P2714)","v":1}]
[{"$f":"IF('XML a procesar'!A2715>0,'XML a procesar'!A2715,\"\")","v":""},0,0,0,0,"",0,0,0,"","",0,"",0,"",{"$f":"IF(ROW()<$S$4+2,IF('XML a procesar'!A2715=\"\",P2715,IF(MID('XML a procesar'!A2715,1,1)=\"<\",P2715,P2715+1)),P2715)","v":1}]
[{"$f":"IF('XML a procesar'!A2716>0,'XML a procesar'!A2716,\"\")","v":""},0,0,0,0,"",0,0,0,"","",0,"",0,"",{"$f":"IF(ROW()<$S$4+2,IF('XML a procesar'!A2716=\"\",P2716,IF(MID('XML a procesar'!A2716,1,1)=\"<\",P2716,P2716+1)),P2716)","v":1}]
[{"$f":"IF('XML a procesar'!A2717>0,'XML a procesar'!A2717,\"\")","v":""},0,0,0,0,"",0,0,0,"","",0,"",0,"",{"$f":"IF(ROW()<$S$4+2,IF('XML a procesar'!A2717=\"\",P2717,IF(MID('XML a procesar'!A2717,1,1)=\"<\",P2717,P2717+1)),P2717)","v":1}]
[{"$f":"IF('XML a procesar'!A2718>0,'XML a procesar'!A2718,\"\")","v":""},0,0,0,0,"",0,0,0,"","",0,"",0,"",{"$f":"IF(ROW()<$S$4+2,IF('XML a procesar'!A2718=\"\",P2718,IF(MID('XML a procesar'!A2718,1,1)=\"<\",P2718,P2718+1)),P2718)","v":1}]
[{"$f":"IF('XML a procesar'!A2719>0,'XML a procesar'!A2719,\"\")","v":""},0,0,0,0,"",0,0,0,"","",0,"",0,"",{"$f":"IF(ROW()<$S$4+2,IF('XML a procesar'!A2719=\"\",P2719,IF(MID('XML a procesar'!A2719,1,1)=\"<\",P2719,P2719+1)),P2719)","v":1}]
[{"$f":"IF('XML a procesar'!A2720>0,'XML a procesar'!A2720,\"\")","v":""},0,0,0,0,"",0,0,0,"","",0,"",0,"",{"$f":"IF(ROW()<$S$4+2,IF('XML a procesar'!A2720=\"\",P2720,IF(MID('XML a procesar'!A2720,1,1)=\"<\",P2720,P2720+1)),P2720)","v":1}]
[{"$f":"IF('XML a procesar'!A2721>0,'XML a procesar'!A2721,\"\")","v":""},0,0,0,0,"",0,0,0,"","",0,"",0,"",{"$f":"IF(ROW()<$S$4+2,IF('XML a procesar'!A2721=\"\",P2721,IF(MID('XML a procesar'!A2721,1,1)=\"<\",P2721,P2721+1)),P2721)","v":1}]
[{"$f":"IF('XML a procesar'!A2722>0,'XML a procesar'!A2722,\"\")","v":""},0,0,0,0,"",0,0,0,"","",0,"",0,"",{"$f":"IF(ROW()<$S$4+2,IF('XML a procesar'!A2722=\"\",P2722,IF(MID('XML a procesar'!A2722,1,1)=\"<\",P2722,P2722+1)),P2722)","v":1}]
[{"$f":"IF('XML a procesar'!A2723>0,'XML a procesar'!A2723,\"\")","v":""},0,0,0,0,"",0,0,0,"","",0,"",0,"",{"$f":"IF(ROW()<$S$4+2,IF('XML a procesar'!A2723=\"\",P2723,IF(MID('XML a procesar'!A2723,1,1)=\"<\",P2723,P2723+1)),P2723)","v":1}]
[{"$f":"IF('XML a procesar'!A2724>0,'XML a procesar'!A2724,\"\")","v":""},0,0,0,0,"",0,0,0,"","",0,"",0,"",{"$f":"IF(ROW()<$S$4+2,IF('XML a procesar'!A2724=\"\",P2724,IF(MID('XML a procesar'!A2724,1,1)=\"<\",P2724,P2724+1)),P2724)","v":1}]
[{"$f":"IF('XML a procesar'!A2725>0,'XML a procesar'!A2725,\"\")","v":""},0,0,0,0,"",0,0,0,"","",0,"",0,"",{"$f":"IF(ROW()<$S$4+2,IF('XML a procesar'!A2725=\"\",P2725,IF(MID('XML a procesar'!A2725,1,1)=\"<\",P2725,P2725+1)),P2725)","v":1}]
[{"$f":"IF('XML a procesar'!A2726>0,'XML a procesar'!A2726,\"\")","v":""},0,0,0,0,"",0,0,0,"","",0,"",0,"",{"$f":"IF(ROW()<$S$4+2,IF('XML a procesar'!A2726=\"\",P2726,IF(MID('XML a procesar'!A2726,1,1)=\"<\",P2726,P2726+1)),P2726)","v":1}]
[{"$f":"IF('XML a procesar'!A2727>0,'XML a procesar'!A2727,\"\")","v":""},0,0,0,0,"",0,0,0,"","",0,"",0,"",{"$f":"IF(ROW()<$S$4+2,IF('XML a procesar'!A2727=\"\",P2727,IF(MID('XML a procesar'!A2727,1,1)=\"<\",P2727,P2727+1)),P2727)","v":1}]
[{"$f":"IF('XML a procesar'!A2728>0,'XML a procesar'!A2728,\"\")","v":""},0,0,0,0,"",0,0,0,"","",0,"",0,"",{"$f":"IF(ROW()<$S$4+2,IF('XML a procesar'!A2728=\"\",P2728,IF(MID('XML a procesar'!A2728,1,1)=\"<\",P2728,P2728+1)),P2728)","v":1}]
[{"$f":"IF('XML a procesar'!A2729>0,'XML a procesar'!A2729,\"\")","v":""},0,0,0,0,"",0,0,0,"","",0,"",0,"",{"$f":"IF(ROW()<$S$4+2,IF('XML a procesar'!A2729=\"\",P2729,IF(MID('XML a procesar'!A2729,1,1)=\"<\",P2729,P2729+1)),P2729)","v":1}]
[{"$f":"IF('XML a procesar'!A2730>0,'XML a procesar'!A2730,\"\")","v":""},0,0,0,0,"",0,0,0,"","",0,"",0,"",{"$f":"IF(ROW()<$S$4+2,IF('XML a procesar'!A2730=\"\",P2730,IF(MID('XML a procesar'!A2730,1,1)=\"<\",P2730,P2730+1)),P2730)","v":1}]
[{"$f":"IF('XML a procesar'!A2731>0,'XML a procesar'!A2731,\"\")","v":""},0,0,0,0,"",0,0,0,"","",0,"",0,"",{"$f":"IF(ROW()<$S$4+2,IF('XML a procesar'!A2731=\"\",P2731,IF(MID('XML a procesar'!A2731,1,1)=\"<\",P2731,P2731+1)),P2731)","v":1}]
[{"$f":"IF('XML a procesar'!A2732>0,'XML a procesar'!A2732,\"\")","v":""},0,0,0,0,"",0,0,0,"","",0,"",0,"",{"$f":"IF(ROW()<$S$4+2,IF('XML a procesar'!A2732=\"\",P2732,IF(MID('XML a procesar'!A2732,1,1)=\"<\",P2732,P2732+1)),P2732)","v":1}]
[{"$f":"IF('XML a procesar'!A2733>0,'XML a procesar'!A2733,\"\")","v":""},0,0,0,0,"",0,0,0,"","",0,"",0,"",{"$f":"IF(ROW()<$S$4+2,IF('XML a procesar'!A2733=\"\",P2733,IF(MID('XML a procesar'!A2733,1,1)=\"<\",P2733,P2733+1)),P2733)","v":1}]
[{"$f":"IF('XML a procesar'!A2734>0,'XML a procesar'!A2734,\"\")","v":""},0,0,0,0,"",0,0,0,"","",0,"",0,"",{"$f":"IF(ROW()<$S$4+2,IF('XML a procesar'!A2734=\"\",P2734,IF(MID('XML a procesar'!A2734,1,1)=\"<\",P2734,P2734+1)),P2734)","v":1}]
[{"$f":"IF('XML a procesar'!A2735>0,'XML a procesar'!A2735,\"\")","v":""},0,0,0,0,"",0,0,0,"","",0,"",0,"",{"$f":"IF(ROW()<$S$4+2,IF('XML a procesar'!A2735=\"\",P2735,IF(MID('XML a procesar'!A2735,1,1)=\"<\",P2735,P2735+1)),P2735)","v":1}]
[{"$f":"IF('XML a procesar'!A2736>0,'XML a procesar'!A2736,\"\")","v":""},0,0,0,0,"",0,0,0,"","",0,"",0,"",{"$f":"IF(ROW()<$S$4+2,IF('XML a procesar'!A2736=\"\",P2736,IF(MID('XML a procesar'!A2736,1,1)=\"<\",P2736,P2736+1)),P2736)","v":1}]
[{"$f":"IF('XML a procesar'!A2737>0,'XML a procesar'!A2737,\"\")","v":""},0,0,0,0,"",0,0,0,"","",0,"",0,"",{"$f":"IF(ROW()<$S$4+2,IF('XML a procesar'!A2737=\"\",P2737,IF(MID('XML a procesar'!A2737,1,1)=\"<\",P2737,P2737+1)),P2737)","v":1}]
[{"$f":"IF('XML a procesar'!A2738>0,'XML a procesar'!A2738,\"\")","v":""},0,0,0,0,"",0,0,0,"","",0,"",0,"",{"$f":"IF(ROW()<$S$4+2,IF('XML a procesar'!A2738=\"\",P2738,IF(MID('XML a procesar'!A2738,1,1)=\"<\",P2738,P2738+1)),P2738)","v":1}]
[{"$f":"IF('XML a procesar'!A2739>0,'XML a procesar'!A2739,\"\")","v":""},0,0,0,0,"",0,0,0,"","",0,"",0,"",{"$f":"IF(ROW()<$S$4+2,IF('XML a procesar'!A2739=\"\",P2739,IF(MID('XML a procesar'!A2739,1,1)=\"<\",P2739,P2739+1)),P2739)","v":1}]
[{"$f":"IF('XML a procesar'!A2740>0,'XML a procesar'!A2740,\"\")","v":""},0,0,0,0,"",0,0,0,"","",0,"",0,"",{"$f":"IF(ROW()<$S$4+2,IF('XML a procesar'!A2740=\"\",P2740,IF(MID('XML a procesar'!A2740,1,1)=\"<\",P2740,P2740+1)),P2740)","v":1}]
[{"$f":"IF('XML a procesar'!A2741>0,'XML a procesar'!A2741,\"\")","v":""},0,0,0,0,"",0,0,0,"","",0,"",0,"",{"$f":"IF(ROW()<$S$4+2,IF('XML a procesar'!A2741=\"\",P2741,IF(MID('XML a procesar'!A2741,1,1)=\"<\",P2741,P2741+1)),P2741)","v":1}]
[{"$f":"IF('XML a procesar'!A2742>0,'XML a procesar'!A2742,\"\")","v":""},0,0,0,0,"",0,0,0,"","",0,"",0,"",{"$f":"IF(ROW()<$S$4+2,IF('XML a procesar'!A2742=\"\",P2742,IF(MID('XML a procesar'!A2742,1,1)=\"<\",P2742,P2742+1)),P2742)","v":1}]
[{"$f":"IF('XML a procesar'!A2743>0,'XML a procesar'!A2743,\"\")","v":""},0,0,0,0,"",0,0,0,"","",0,"",0,"",{"$f":"IF(ROW()<$S$4+2,IF('XML a procesar'!A2743=\"\",P2743,IF(MID('XML a procesar'!A2743,1,1)=\"<\",P2743,P2743+1)),P2743)","v":1}]
[{"$f":"IF('XML a procesar'!A2744>0,'XML a procesar'!A2744,\"\")","v":""},0,0,0,0,"",0,0,0,"","",0,"",0,"",{"$f":"IF(ROW()<$S$4+2,IF('XML a procesar'!A2744=\"\",P2744,IF(MID('XML a procesar'!A2744,1,1)=\"<\",P2744,P2744+1)),P2744)","v":1}]
[{"$f":"IF('XML a procesar'!A2745>0,'XML a procesar'!A2745,\"\")","v":""},0,0,0,0,"",0,0,0,"","",0,"",0,"",{"$f":"IF(ROW()<$S$4+2,IF('XML a procesar'!A2745=\"\",P2745,IF(MID('XML a procesar'!A2745,1,1)=\"<\",P2745,P2745+1)),P2745)","v":1}]
[{"$f":"IF('XML a procesar'!A2746>0,'XML a procesar'!A2746,\"\")","v":""},0,0,0,0,"",0,0,0,"","",0,"",0,"",{"$f":"IF(ROW()<$S$4+2,IF('XML a procesar'!A2746=\"\",P2746,IF(MID('XML a procesar'!A2746,1,1)=\"<\",P2746,P2746+1)),P2746)","v":1}]
[{"$f":"IF('XML a procesar'!A2747>0,'XML a procesar'!A2747,\"\")","v":""},0,0,0,0,"",0,0,0,"","",0,"",0,"",{"$f":"IF(ROW()<$S$4+2,IF('XML a procesar'!A2747=\"\",P2747,IF(MID('XML a procesar'!A2747,1,1)=\"<\",P2747,P2747+1)),P2747)","v":1}]
[{"$f":"IF('XML a procesar'!A2748>0,'XML a procesar'!A2748,\"\")","v":""},0,0,0,0,"",0,0,0,"","",0,"",0,"",{"$f":"IF(ROW()<$S$4+2,IF('XML a procesar'!A2748=\"\",P2748,IF(MID('XML a procesar'!A2748,1,1)=\"<\",P2748,P2748+1)),P2748)","v":1}]
[{"$f":"IF('XML a procesar'!A2749>0,'XML a procesar'!A2749,\"\")","v":""},0,0,0,0,"",0,0,0,"","",0,"",0,"",{"$f":"IF(ROW()<$S$4+2,IF('XML a procesar'!A2749=\"\",P2749,IF(MID('XML a procesar'!A2749,1,1)=\"<\",P2749,P2749+1)),P2749)","v":1}]
[{"$f":"IF('XML a procesar'!A2750>0,'XML a procesar'!A2750,\"\")","v":""},0,0,0,0,"",0,0,0,"","",0,"",0,"",{"$f":"IF(ROW()<$S$4+2,IF('XML a procesar'!A2750=\"\",P2750,IF(MID('XML a procesar'!A2750,1,1)=\"<\",P2750,P2750+1)),P2750)","v":1}]
[{"$f":"IF('XML a procesar'!A2751>0,'XML a procesar'!A2751,\"\")","v":""},0,0,0,0,"",0,0,0,"","",0,"",0,"",{"$f":"IF(ROW()<$S$4+2,IF('XML a procesar'!A2751=\"\",P2751,IF(MID('XML a procesar'!A2751,1,1)=\"<\",P2751,P2751+1)),P2751)","v":1}]
[{"$f":"IF('XML a procesar'!A2752>0,'XML a procesar'!A2752,\"\")","v":""},{"$f":"IF(ISERROR(FIND(\"/doi.org/\",A2753,1)),0,1)","v":0},{"$f":"IF(LEFT(A2752,16)=\"<contrib contrib\",C2752+1,IF(LEFT(A2752,16)=\"</contrib-group>\",0,IF(LEFT(A2752,10)=\"</contrib>\",C2752,C2752)))","v":0},{"$f":"IF(AND(C2753>0,LEFT(A2753,7)=\"<email>\",ISNUMBER(SEARCH(\"@\",A2753,1))),C2753,IF(LEFT(A2753,10)=\"<alt-text>\",-1,0))","v":0},{"$f":"IF(D2753=0,E2752,E2752+1)","v":0},{"$f":"INDIRECT(ADDRESS(ROW()+INDIRECT(ADDRESS(ROW()+E2753,5)),1))","v":""},{"$f":"IF(LEFT(F2753,7)=\"<aff id\",_xlfn.NUMBERVALUE(MID(F2753,13,LEN(F2753)-14)),IF(F2753=\"</aff>\",G2752+1,G2752))","v":0},0,{"$f":"INDIRECT(ADDRESS(ROW()-INDIRECT(ADDRESS(ROW()-H2753,8)),8))","v":0},{"$f":"IF(J2752=\"Linea_para_MAIL_creada_por_LuXML\",\"</aff>\",IF(I2753>INDIRECT(ADDRESS(ROW()-I2753-1,8)),\"Linea_para_MAIL_creada_por_LuXML\",INDIRECT(ADDRESS(ROW()-I2753,6))))","v":""},"",{"$f":"IF(OR(MID(K2751,3,5)=\"page>\",MID(K2752,3,5)=\"page>\"),L2752,IF(OR(K2752=\"<history>\",K2753=\"<history>\"),L2752+1,L2752))","v":0},{"$f":"IF(L2753>L2752,IF(L2753=1,CONCATENATE(\"<fpage>\",$S$10,\"</fpage>\"),CONCATENATE(\"<lpage>\",$S$10+1,\"</lpage>\")),IF(ISERROR(INDIRECT(ADDRESS(ROW()-L2753,11),1)),\"\",INDIRECT(ADDRESS(ROW()-L2753,11),1)))","v":""},{"$f":"IF(N2752=-1,-1,IF(M2753=\"</counts>\",-1,IF(OR(LEFT(M2753,7)=\"<fpage>\",LEFT(M2753,7)=\"<lpage>\"),VALUE(MID(M2753,8,LEN(M2753)-15)),0)))","v":0},"",{"$f":"IF(ROW()<$S$4+2,IF('XML a procesar'!A2752=\"\",P2752,IF(MID('XML a procesar'!A2752,1,1)=\"<\",P2752,P2752+1)),P2752)","v":1}]
[{"$f":"IF('XML a procesar'!A2753>0,'XML a procesar'!A2753,\"\")","v":""},0,0,0,0,"",0,0,0,"","",0,"",0,{"$f":"IF(N2754>-1,INDIRECT(ADDRESS(ROW(),13)),IF(N2754<N2753,CONCATENATE(\"<page-count count=\",CHAR(34),1+LARGE(N:N,1)-LARGE(N:N,2),CHAR(34),\"/>\"),INDIRECT(ADDRESS(ROW()-1,13))))","v":""},{"$f":"IF(ROW()<$S$4+2,IF('XML a procesar'!A2753=\"\",P2753,IF(MID('XML a procesar'!A2753,1,1)=\"<\",P2753,P2753+1)),P2753)","v":1}]
[{"$f":"IF('XML a procesar'!A2754>0,'XML a procesar'!A2754,\"\")","v":""},0,0,0,0,"",0,{"$f":"IF(AND(G2754>0,G2755>G2754,NOT(ISERROR(MATCH(G2754,D:D,0)))),H2754+1,H2754)","v":0},0,"",{"$f":"IF(J2755=\"Linea_para_MAIL_creada_por_LuXML\",IF(ISERROR(MATCH(INDIRECT(ADDRESS(ROW()-G2755,7)),D:D,0)),J2755,INDIRECT(ADDRESS(MATCH(INDIRECT(ADDRESS(ROW()-G2755,7)),D:D,0),1))),J2755)","v":""},0,"",0,"",{"$f":"IF(ROW()<$S$4+2,IF('XML a procesar'!A2754=\"\",P2754,IF(MID('XML a procesar'!A2754,1,1)=\"<\",P2754,P2754+1)),P2754)","v":1}]
[{"$f":"IF('XML a procesar'!A2755>0,'XML a procesar'!A2755,\"\")","v":""},0,0,0,0,"",0,0,0,"","",0,"",0,"",{"$f":"IF(ROW()<$S$4+2,IF('XML a procesar'!A2755=\"\",P2755,IF(MID('XML a procesar'!A2755,1,1)=\"<\",P2755,P2755+1)),P2755)","v":1}]
[{"$f":"IF('XML a procesar'!A2756>0,'XML a procesar'!A2756,\"\")","v":""},0,0,0,0,"",0,0,0,"","",0,"",0,"",{"$f":"IF(ROW()<$S$4+2,IF('XML a procesar'!A2756=\"\",P2756,IF(MID('XML a procesar'!A2756,1,1)=\"<\",P2756,P2756+1)),P2756)","v":1}]
[{"$f":"IF('XML a procesar'!A2757>0,'XML a procesar'!A2757,\"\")","v":""},0,0,0,0,"",0,0,0,"","",0,"",0,"",{"$f":"IF(ROW()<$S$4+2,IF('XML a procesar'!A2757=\"\",P2757,IF(MID('XML a procesar'!A2757,1,1)=\"<\",P2757,P2757+1)),P2757)","v":1}]
[{"$f":"IF('XML a procesar'!A2758>0,'XML a procesar'!A2758,\"\")","v":""},0,0,0,0,"",0,0,0,"","",0,"",0,"",{"$f":"IF(ROW()<$S$4+2,IF('XML a procesar'!A2758=\"\",P2758,IF(MID('XML a procesar'!A2758,1,1)=\"<\",P2758,P2758+1)),P2758)","v":1}]
[{"$f":"IF('XML a procesar'!A2759>0,'XML a procesar'!A2759,\"\")","v":""},0,0,0,0,"",0,0,0,"","",0,"",0,"",{"$f":"IF(ROW()<$S$4+2,IF('XML a procesar'!A2759=\"\",P2759,IF(MID('XML a procesar'!A2759,1,1)=\"<\",P2759,P2759+1)),P2759)","v":1}]
[{"$f":"IF('XML a procesar'!A2760>0,'XML a procesar'!A2760,\"\")","v":""},0,0,0,0,"",0,0,0,"","",0,"",0,"",{"$f":"IF(ROW()<$S$4+2,IF('XML a procesar'!A2760=\"\",P2760,IF(MID('XML a procesar'!A2760,1,1)=\"<\",P2760,P2760+1)),P2760)","v":1}]
[{"$f":"IF('XML a procesar'!A2761>0,'XML a procesar'!A2761,\"\")","v":""},0,0,0,0,"",0,0,0,"","",0,"",0,"",{"$f":"IF(ROW()<$S$4+2,IF('XML a procesar'!A2761=\"\",P2761,IF(MID('XML a procesar'!A2761,1,1)=\"<\",P2761,P2761+1)),P2761)","v":1}]
[{"$f":"IF('XML a procesar'!A2762>0,'XML a procesar'!A2762,\"\")","v":""},0,0,0,0,"",0,0,0,"","",0,"",0,"",{"$f":"IF(ROW()<$S$4+2,IF('XML a procesar'!A2762=\"\",P2762,IF(MID('XML a procesar'!A2762,1,1)=\"<\",P2762,P2762+1)),P2762)","v":1}]
[{"$f":"IF('XML a procesar'!A2763>0,'XML a procesar'!A2763,\"\")","v":""},0,0,0,0,"",0,0,0,"","",0,"",0,"",{"$f":"IF(ROW()<$S$4+2,IF('XML a procesar'!A2763=\"\",P2763,IF(MID('XML a procesar'!A2763,1,1)=\"<\",P2763,P2763+1)),P2763)","v":1}]
[{"$f":"IF('XML a procesar'!A2764>0,'XML a procesar'!A2764,\"\")","v":""},0,0,0,0,"",0,0,0,"","",0,"",0,"",{"$f":"IF(ROW()<$S$4+2,IF('XML a procesar'!A2764=\"\",P2764,IF(MID('XML a procesar'!A2764,1,1)=\"<\",P2764,P2764+1)),P2764)","v":1}]
[{"$f":"IF('XML a procesar'!A2765>0,'XML a procesar'!A2765,\"\")","v":""},0,0,0,0,"",0,0,0,"","",0,"",0,"",{"$f":"IF(ROW()<$S$4+2,IF('XML a procesar'!A2765=\"\",P2765,IF(MID('XML a procesar'!A2765,1,1)=\"<\",P2765,P2765+1)),P2765)","v":1}]
[{"$f":"IF('XML a procesar'!A2766>0,'XML a procesar'!A2766,\"\")","v":""},0,0,0,0,"",0,0,0,"","",0,"",0,"",{"$f":"IF(ROW()<$S$4+2,IF('XML a procesar'!A2766=\"\",P2766,IF(MID('XML a procesar'!A2766,1,1)=\"<\",P2766,P2766+1)),P2766)","v":1}]
[{"$f":"IF('XML a procesar'!A2767>0,'XML a procesar'!A2767,\"\")","v":""},0,0,0,0,"",0,0,0,"","",0,"",0,"",{"$f":"IF(ROW()<$S$4+2,IF('XML a procesar'!A2767=\"\",P2767,IF(MID('XML a procesar'!A2767,1,1)=\"<\",P2767,P2767+1)),P2767)","v":1}]
[{"$f":"IF('XML a procesar'!A2768>0,'XML a procesar'!A2768,\"\")","v":""},0,0,0,0,"",0,0,0,"","",0,"",0,"",{"$f":"IF(ROW()<$S$4+2,IF('XML a procesar'!A2768=\"\",P2768,IF(MID('XML a procesar'!A2768,1,1)=\"<\",P2768,P2768+1)),P2768)","v":1}]
[{"$f":"IF('XML a procesar'!A2769>0,'XML a procesar'!A2769,\"\")","v":""},0,0,0,0,"",0,0,0,"","",0,"",0,"",{"$f":"IF(ROW()<$S$4+2,IF('XML a procesar'!A2769=\"\",P2769,IF(MID('XML a procesar'!A2769,1,1)=\"<\",P2769,P2769+1)),P2769)","v":1}]
[{"$f":"IF('XML a procesar'!A2770>0,'XML a procesar'!A2770,\"\")","v":""},0,0,0,0,"",0,0,0,"","",0,"",0,"",{"$f":"IF(ROW()<$S$4+2,IF('XML a procesar'!A2770=\"\",P2770,IF(MID('XML a procesar'!A2770,1,1)=\"<\",P2770,P2770+1)),P2770)","v":1}]
[{"$f":"IF('XML a procesar'!A2771>0,'XML a procesar'!A2771,\"\")","v":""},0,0,0,0,"",0,0,0,"","",0,"",0,"",{"$f":"IF(ROW()<$S$4+2,IF('XML a procesar'!A2771=\"\",P2771,IF(MID('XML a procesar'!A2771,1,1)=\"<\",P2771,P2771+1)),P2771)","v":1}]
[{"$f":"IF('XML a procesar'!A2772>0,'XML a procesar'!A2772,\"\")","v":""},0,0,0,0,"",0,0,0,"","",0,"",0,"",{"$f":"IF(ROW()<$S$4+2,IF('XML a procesar'!A2772=\"\",P2772,IF(MID('XML a procesar'!A2772,1,1)=\"<\",P2772,P2772+1)),P2772)","v":1}]
[{"$f":"IF('XML a procesar'!A2773>0,'XML a procesar'!A2773,\"\")","v":""},0,0,0,0,"",0,0,0,"","",0,"",0,"",{"$f":"IF(ROW()<$S$4+2,IF('XML a procesar'!A2773=\"\",P2773,IF(MID('XML a procesar'!A2773,1,1)=\"<\",P2773,P2773+1)),P2773)","v":1}]
[{"$f":"IF('XML a procesar'!A2774>0,'XML a procesar'!A2774,\"\")","v":""},0,0,0,0,"",0,0,0,"","",0,"",0,"",{"$f":"IF(ROW()<$S$4+2,IF('XML a procesar'!A2774=\"\",P2774,IF(MID('XML a procesar'!A2774,1,1)=\"<\",P2774,P2774+1)),P2774)","v":1}]
[{"$f":"IF('XML a procesar'!A2775>0,'XML a procesar'!A2775,\"\")","v":""},0,0,0,0,"",0,0,0,"","",0,"",0,"",{"$f":"IF(ROW()<$S$4+2,IF('XML a procesar'!A2775=\"\",P2775,IF(MID('XML a procesar'!A2775,1,1)=\"<\",P2775,P2775+1)),P2775)","v":1}]
[{"$f":"IF('XML a procesar'!A2776>0,'XML a procesar'!A2776,\"\")","v":""},0,0,0,0,"",0,0,0,"","",0,"",0,"",{"$f":"IF(ROW()<$S$4+2,IF('XML a procesar'!A2776=\"\",P2776,IF(MID('XML a procesar'!A2776,1,1)=\"<\",P2776,P2776+1)),P2776)","v":1}]
[{"$f":"IF('XML a procesar'!A2777>0,'XML a procesar'!A2777,\"\")","v":""},0,0,0,0,"",0,0,0,"","",0,"",0,"",{"$f":"IF(ROW()<$S$4+2,IF('XML a procesar'!A2777=\"\",P2777,IF(MID('XML a procesar'!A2777,1,1)=\"<\",P2777,P2777+1)),P2777)","v":1}]
[{"$f":"IF('XML a procesar'!A2778>0,'XML a procesar'!A2778,\"\")","v":""},0,0,0,0,"",0,0,0,"","",0,"",0,"",{"$f":"IF(ROW()<$S$4+2,IF('XML a procesar'!A2778=\"\",P2778,IF(MID('XML a procesar'!A2778,1,1)=\"<\",P2778,P2778+1)),P2778)","v":1}]
[{"$f":"IF('XML a procesar'!A2779>0,'XML a procesar'!A2779,\"\")","v":""},0,0,0,0,"",0,0,0,"","",0,"",0,"",{"$f":"IF(ROW()<$S$4+2,IF('XML a procesar'!A2779=\"\",P2779,IF(MID('XML a procesar'!A2779,1,1)=\"<\",P2779,P2779+1)),P2779)","v":1}]
[{"$f":"IF('XML a procesar'!A2780>0,'XML a procesar'!A2780,\"\")","v":""},0,0,0,0,"",0,0,0,"","",0,"",0,"",{"$f":"IF(ROW()<$S$4+2,IF('XML a procesar'!A2780=\"\",P2780,IF(MID('XML a procesar'!A2780,1,1)=\"<\",P2780,P2780+1)),P2780)","v":1}]
[{"$f":"IF('XML a procesar'!A2781>0,'XML a procesar'!A2781,\"\")","v":""},0,0,0,0,"",0,0,0,"","",0,"",0,"",{"$f":"IF(ROW()<$S$4+2,IF('XML a procesar'!A2781=\"\",P2781,IF(MID('XML a procesar'!A2781,1,1)=\"<\",P2781,P2781+1)),P2781)","v":1}]
[{"$f":"IF('XML a procesar'!A2782>0,'XML a procesar'!A2782,\"\")","v":""},0,0,0,0,"",0,0,0,"","",0,"",0,"",{"$f":"IF(ROW()<$S$4+2,IF('XML a procesar'!A2782=\"\",P2782,IF(MID('XML a procesar'!A2782,1,1)=\"<\",P2782,P2782+1)),P2782)","v":1}]
[{"$f":"IF('XML a procesar'!A2783>0,'XML a procesar'!A2783,\"\")","v":""},0,0,0,0,"",0,0,0,"","",0,"",0,"",{"$f":"IF(ROW()<$S$4+2,IF('XML a procesar'!A2783=\"\",P2783,IF(MID('XML a procesar'!A2783,1,1)=\"<\",P2783,P2783+1)),P2783)","v":1}]
[{"$f":"IF('XML a procesar'!A2784>0,'XML a procesar'!A2784,\"\")","v":""},0,0,0,0,"",0,0,0,"","",0,"",0,"",{"$f":"IF(ROW()<$S$4+2,IF('XML a procesar'!A2784=\"\",P2784,IF(MID('XML a procesar'!A2784,1,1)=\"<\",P2784,P2784+1)),P2784)","v":1}]
[{"$f":"IF('XML a procesar'!A2785>0,'XML a procesar'!A2785,\"\")","v":""},0,0,0,0,"",0,0,0,"","",0,"",0,"",{"$f":"IF(ROW()<$S$4+2,IF('XML a procesar'!A2785=\"\",P2785,IF(MID('XML a procesar'!A2785,1,1)=\"<\",P2785,P2785+1)),P2785)","v":1}]
[{"$f":"IF('XML a procesar'!A2786>0,'XML a procesar'!A2786,\"\")","v":""},0,0,0,0,"",0,0,0,"","",0,"",0,"",{"$f":"IF(ROW()<$S$4+2,IF('XML a procesar'!A2786=\"\",P2786,IF(MID('XML a procesar'!A2786,1,1)=\"<\",P2786,P2786+1)),P2786)","v":1}]
[{"$f":"IF('XML a procesar'!A2787>0,'XML a procesar'!A2787,\"\")","v":""},0,0,0,0,"",0,0,0,"","",0,"",0,"",{"$f":"IF(ROW()<$S$4+2,IF('XML a procesar'!A2787=\"\",P2787,IF(MID('XML a procesar'!A2787,1,1)=\"<\",P2787,P2787+1)),P2787)","v":1}]
[{"$f":"IF('XML a procesar'!A2788>0,'XML a procesar'!A2788,\"\")","v":""},0,0,0,0,"",0,0,0,"","",0,"",0,"",{"$f":"IF(ROW()<$S$4+2,IF('XML a procesar'!A2788=\"\",P2788,IF(MID('XML a procesar'!A2788,1,1)=\"<\",P2788,P2788+1)),P2788)","v":1}]
[{"$f":"IF('XML a procesar'!A2789>0,'XML a procesar'!A2789,\"\")","v":""},0,0,0,0,"",0,0,0,"","",0,"",0,"",{"$f":"IF(ROW()<$S$4+2,IF('XML a procesar'!A2789=\"\",P2789,IF(MID('XML a procesar'!A2789,1,1)=\"<\",P2789,P2789+1)),P2789)","v":1}]
[{"$f":"IF('XML a procesar'!A2790>0,'XML a procesar'!A2790,\"\")","v":""},0,0,0,0,"",0,0,0,"","",0,"",0,"",{"$f":"IF(ROW()<$S$4+2,IF('XML a procesar'!A2790=\"\",P2790,IF(MID('XML a procesar'!A2790,1,1)=\"<\",P2790,P2790+1)),P2790)","v":1}]
[{"$f":"IF('XML a procesar'!A2791>0,'XML a procesar'!A2791,\"\")","v":""},0,0,0,0,"",0,0,0,"","",0,"",0,"",{"$f":"IF(ROW()<$S$4+2,IF('XML a procesar'!A2791=\"\",P2791,IF(MID('XML a procesar'!A2791,1,1)=\"<\",P2791,P2791+1)),P2791)","v":1}]
[{"$f":"IF('XML a procesar'!A2792>0,'XML a procesar'!A2792,\"\")","v":""},0,0,0,0,"",0,0,0,"","",0,"",0,"",{"$f":"IF(ROW()<$S$4+2,IF('XML a procesar'!A2792=\"\",P2792,IF(MID('XML a procesar'!A2792,1,1)=\"<\",P2792,P2792+1)),P2792)","v":1}]
[{"$f":"IF('XML a procesar'!A2793>0,'XML a procesar'!A2793,\"\")","v":""},0,0,0,0,"",0,0,0,"","",0,"",0,"",{"$f":"IF(ROW()<$S$4+2,IF('XML a procesar'!A2793=\"\",P2793,IF(MID('XML a procesar'!A2793,1,1)=\"<\",P2793,P2793+1)),P2793)","v":1}]
[{"$f":"IF('XML a procesar'!A2794>0,'XML a procesar'!A2794,\"\")","v":""},0,0,0,0,"",0,0,0,"","",0,"",0,"",{"$f":"IF(ROW()<$S$4+2,IF('XML a procesar'!A2794=\"\",P2794,IF(MID('XML a procesar'!A2794,1,1)=\"<\",P2794,P2794+1)),P2794)","v":1}]
[{"$f":"IF('XML a procesar'!A2795>0,'XML a procesar'!A2795,\"\")","v":""},0,0,0,0,"",0,0,0,"","",0,"",0,"",{"$f":"IF(ROW()<$S$4+2,IF('XML a procesar'!A2795=\"\",P2795,IF(MID('XML a procesar'!A2795,1,1)=\"<\",P2795,P2795+1)),P2795)","v":1}]
[{"$f":"IF('XML a procesar'!A2796>0,'XML a procesar'!A2796,\"\")","v":""},0,0,0,0,"",0,0,0,"","",0,"",0,"",{"$f":"IF(ROW()<$S$4+2,IF('XML a procesar'!A2796=\"\",P2796,IF(MID('XML a procesar'!A2796,1,1)=\"<\",P2796,P2796+1)),P2796)","v":1}]
[{"$f":"IF('XML a procesar'!A2797>0,'XML a procesar'!A2797,\"\")","v":""},0,0,0,0,"",0,0,0,"","",0,"",0,"",{"$f":"IF(ROW()<$S$4+2,IF('XML a procesar'!A2797=\"\",P2797,IF(MID('XML a procesar'!A2797,1,1)=\"<\",P2797,P2797+1)),P2797)","v":1}]
[{"$f":"IF('XML a procesar'!A2798>0,'XML a procesar'!A2798,\"\")","v":""},0,0,0,0,"",0,0,0,"","",0,"",0,"",{"$f":"IF(ROW()<$S$4+2,IF('XML a procesar'!A2798=\"\",P2798,IF(MID('XML a procesar'!A2798,1,1)=\"<\",P2798,P2798+1)),P2798)","v":1}]
[{"$f":"IF('XML a procesar'!A2799>0,'XML a procesar'!A2799,\"\")","v":""},0,0,0,0,"",0,0,0,"","",0,"",0,"",{"$f":"IF(ROW()<$S$4+2,IF('XML a procesar'!A2799=\"\",P2799,IF(MID('XML a procesar'!A2799,1,1)=\"<\",P2799,P2799+1)),P2799)","v":1}]
[{"$f":"IF('XML a procesar'!A2800>0,'XML a procesar'!A2800,\"\")","v":""},0,0,0,0,"",0,0,0,"","",0,"",0,"",{"$f":"IF(ROW()<$S$4+2,IF('XML a procesar'!A2800=\"\",P2800,IF(MID('XML a procesar'!A2800,1,1)=\"<\",P2800,P2800+1)),P2800)","v":1}]
[{"$f":"IF('XML a procesar'!A2801>0,'XML a procesar'!A2801,\"\")","v":""},0,0,0,0,"",0,0,0,"","",0,"",0,"",{"$f":"IF(ROW()<$S$4+2,IF('XML a procesar'!A2801=\"\",P2801,IF(MID('XML a procesar'!A2801,1,1)=\"<\",P2801,P2801+1)),P2801)","v":1}]
[{"$f":"IF('XML a procesar'!A2802>0,'XML a procesar'!A2802,\"\")","v":""},0,0,0,0,"",0,0,0,"","",0,"",0,"",{"$f":"IF(ROW()<$S$4+2,IF('XML a procesar'!A2802=\"\",P2802,IF(MID('XML a procesar'!A2802,1,1)=\"<\",P2802,P2802+1)),P2802)","v":1}]
[{"$f":"IF('XML a procesar'!A2803>0,'XML a procesar'!A2803,\"\")","v":""},0,0,0,0,"",0,0,0,"","",0,"",0,"",{"$f":"IF(ROW()<$S$4+2,IF('XML a procesar'!A2803=\"\",P2803,IF(MID('XML a procesar'!A2803,1,1)=\"<\",P2803,P2803+1)),P2803)","v":1}]
[{"$f":"IF('XML a procesar'!A2804>0,'XML a procesar'!A2804,\"\")","v":""},0,0,0,0,"",0,0,0,"","",0,"",0,"",{"$f":"IF(ROW()<$S$4+2,IF('XML a procesar'!A2804=\"\",P2804,IF(MID('XML a procesar'!A2804,1,1)=\"<\",P2804,P2804+1)),P2804)","v":1}]
[{"$f":"IF('XML a procesar'!A2805>0,'XML a procesar'!A2805,\"\")","v":""},0,0,0,0,"",0,0,0,"","",0,"",0,"",{"$f":"IF(ROW()<$S$4+2,IF('XML a procesar'!A2805=\"\",P2805,IF(MID('XML a procesar'!A2805,1,1)=\"<\",P2805,P2805+1)),P2805)","v":1}]
[{"$f":"IF('XML a procesar'!A2806>0,'XML a procesar'!A2806,\"\")","v":""},0,0,0,0,"",0,0,0,"","",0,"",0,"",{"$f":"IF(ROW()<$S$4+2,IF('XML a procesar'!A2806=\"\",P2806,IF(MID('XML a procesar'!A2806,1,1)=\"<\",P2806,P2806+1)),P2806)","v":1}]
[{"$f":"IF('XML a procesar'!A2807>0,'XML a procesar'!A2807,\"\")","v":""},0,0,0,0,"",0,0,0,"","",0,"",0,"",{"$f":"IF(ROW()<$S$4+2,IF('XML a procesar'!A2807=\"\",P2807,IF(MID('XML a procesar'!A2807,1,1)=\"<\",P2807,P2807+1)),P2807)","v":1}]
[{"$f":"IF('XML a procesar'!A2808>0,'XML a procesar'!A2808,\"\")","v":""},0,0,0,0,"",0,0,0,"","",0,"",0,"",{"$f":"IF(ROW()<$S$4+2,IF('XML a procesar'!A2808=\"\",P2808,IF(MID('XML a procesar'!A2808,1,1)=\"<\",P2808,P2808+1)),P2808)","v":1}]
[{"$f":"IF('XML a procesar'!A2809>0,'XML a procesar'!A2809,\"\")","v":""},0,0,0,0,"",0,0,0,"","",0,"",0,"",{"$f":"IF(ROW()<$S$4+2,IF('XML a procesar'!A2809=\"\",P2809,IF(MID('XML a procesar'!A2809,1,1)=\"<\",P2809,P2809+1)),P2809)","v":1}]
[{"$f":"IF('XML a procesar'!A2810>0,'XML a procesar'!A2810,\"\")","v":""},0,0,0,0,"",0,0,0,"","",0,"",0,"",{"$f":"IF(ROW()<$S$4+2,IF('XML a procesar'!A2810=\"\",P2810,IF(MID('XML a procesar'!A2810,1,1)=\"<\",P2810,P2810+1)),P2810)","v":1}]
[{"$f":"IF('XML a procesar'!A2811>0,'XML a procesar'!A2811,\"\")","v":""},0,0,0,0,"",0,0,0,"","",0,"",0,"",{"$f":"IF(ROW()<$S$4+2,IF('XML a procesar'!A2811=\"\",P2811,IF(MID('XML a procesar'!A2811,1,1)=\"<\",P2811,P2811+1)),P2811)","v":1}]
[{"$f":"IF('XML a procesar'!A2812>0,'XML a procesar'!A2812,\"\")","v":""},0,0,0,0,"",0,0,0,"","",0,"",0,"",{"$f":"IF(ROW()<$S$4+2,IF('XML a procesar'!A2812=\"\",P2812,IF(MID('XML a procesar'!A2812,1,1)=\"<\",P2812,P2812+1)),P2812)","v":1}]
[{"$f":"IF('XML a procesar'!A2813>0,'XML a procesar'!A2813,\"\")","v":""},0,0,0,0,"",0,0,0,"","",0,"",0,"",{"$f":"IF(ROW()<$S$4+2,IF('XML a procesar'!A2813=\"\",P2813,IF(MID('XML a procesar'!A2813,1,1)=\"<\",P2813,P2813+1)),P2813)","v":1}]
[{"$f":"IF('XML a procesar'!A2814>0,'XML a procesar'!A2814,\"\")","v":""},0,0,0,0,"",0,0,0,"","",0,"",0,"",{"$f":"IF(ROW()<$S$4+2,IF('XML a procesar'!A2814=\"\",P2814,IF(MID('XML a procesar'!A2814,1,1)=\"<\",P2814,P2814+1)),P2814)","v":1}]
[{"$f":"IF('XML a procesar'!A2815>0,'XML a procesar'!A2815,\"\")","v":""},0,0,0,0,"",0,0,0,"","",0,"",0,"",{"$f":"IF(ROW()<$S$4+2,IF('XML a procesar'!A2815=\"\",P2815,IF(MID('XML a procesar'!A2815,1,1)=\"<\",P2815,P2815+1)),P2815)","v":1}]
[{"$f":"IF('XML a procesar'!A2816>0,'XML a procesar'!A2816,\"\")","v":""},{"$f":"IF(ISERROR(FIND(\"/doi.org/\",A2817,1)),0,1)","v":0},{"$f":"IF(LEFT(A2816,16)=\"<contrib contrib\",C2816+1,IF(LEFT(A2816,16)=\"</contrib-group>\",0,IF(LEFT(A2816,10)=\"</contrib>\",C2816,C2816)))","v":0},{"$f":"IF(AND(C2817>0,LEFT(A2817,7)=\"<email>\",ISNUMBER(SEARCH(\"@\",A2817,1))),C2817,IF(LEFT(A2817,10)=\"<alt-text>\",-1,0))","v":0},{"$f":"IF(D2817=0,E2816,E2816+1)","v":0},{"$f":"INDIRECT(ADDRESS(ROW()+INDIRECT(ADDRESS(ROW()+E2817,5)),1))","v":""},{"$f":"IF(LEFT(F2817,7)=\"<aff id\",_xlfn.NUMBERVALUE(MID(F2817,13,LEN(F2817)-14)),IF(F2817=\"</aff>\",G2816+1,G2816))","v":0},0,{"$f":"INDIRECT(ADDRESS(ROW()-INDIRECT(ADDRESS(ROW()-H2817,8)),8))","v":0},{"$f":"IF(J2816=\"Linea_para_MAIL_creada_por_LuXML\",\"</aff>\",IF(I2817>INDIRECT(ADDRESS(ROW()-I2817-1,8)),\"Linea_para_MAIL_creada_por_LuXML\",INDIRECT(ADDRESS(ROW()-I2817,6))))","v":""},"",{"$f":"IF(OR(MID(K2815,3,5)=\"page>\",MID(K2816,3,5)=\"page>\"),L2816,IF(OR(K2816=\"<history>\",K2817=\"<history>\"),L2816+1,L2816))","v":0},{"$f":"IF(L2817>L2816,IF(L2817=1,CONCATENATE(\"<fpage>\",$S$10,\"</fpage>\"),CONCATENATE(\"<lpage>\",$S$10+1,\"</lpage>\")),IF(ISERROR(INDIRECT(ADDRESS(ROW()-L2817,11),1)),\"\",INDIRECT(ADDRESS(ROW()-L2817,11),1)))","v":""},{"$f":"IF(N2816=-1,-1,IF(M2817=\"</counts>\",-1,IF(OR(LEFT(M2817,7)=\"<fpage>\",LEFT(M2817,7)=\"<lpage>\"),VALUE(MID(M2817,8,LEN(M2817)-15)),0)))","v":0},"",{"$f":"IF(ROW()<$S$4+2,IF('XML a procesar'!A2816=\"\",P2816,IF(MID('XML a procesar'!A2816,1,1)=\"<\",P2816,P2816+1)),P2816)","v":1}]
[{"$f":"IF('XML a procesar'!A2817>0,'XML a procesar'!A2817,\"\")","v":""},0,0,0,0,"",0,0,0,"","",0,"",0,{"$f":"IF(N2818>-1,INDIRECT(ADDRESS(ROW(),13)),IF(N2818<N2817,CONCATENATE(\"<page-count count=\",CHAR(34),1+LARGE(N:N,1)-LARGE(N:N,2),CHAR(34),\"/>\"),INDIRECT(ADDRESS(ROW()-1,13))))","v":""},{"$f":"IF(ROW()<$S$4+2,IF('XML a procesar'!A2817=\"\",P2817,IF(MID('XML a procesar'!A2817,1,1)=\"<\",P2817,P2817+1)),P2817)","v":1}]
[{"$f":"IF('XML a procesar'!A2818>0,'XML a procesar'!A2818,\"\")","v":""},0,0,0,0,"",0,{"$f":"IF(AND(G2818>0,G2819>G2818,NOT(ISERROR(MATCH(G2818,D:D,0)))),H2818+1,H2818)","v":0},0,"",{"$f":"IF(J2819=\"Linea_para_MAIL_creada_por_LuXML\",IF(ISERROR(MATCH(INDIRECT(ADDRESS(ROW()-G2819,7)),D:D,0)),J2819,INDIRECT(ADDRESS(MATCH(INDIRECT(ADDRESS(ROW()-G2819,7)),D:D,0),1))),J2819)","v":""},0,"",0,"",{"$f":"IF(ROW()<$S$4+2,IF('XML a procesar'!A2818=\"\",P2818,IF(MID('XML a procesar'!A2818,1,1)=\"<\",P2818,P2818+1)),P2818)","v":1}]
[{"$f":"IF('XML a procesar'!A2819>0,'XML a procesar'!A2819,\"\")","v":""},0,0,0,0,"",0,0,0,"","",0,"",0,"",{"$f":"IF(ROW()<$S$4+2,IF('XML a procesar'!A2819=\"\",P2819,IF(MID('XML a procesar'!A2819,1,1)=\"<\",P2819,P2819+1)),P2819)","v":1}]
[{"$f":"IF('XML a procesar'!A2820>0,'XML a procesar'!A2820,\"\")","v":""},0,0,0,0,"",0,0,0,"","",0,"",0,"",{"$f":"IF(ROW()<$S$4+2,IF('XML a procesar'!A2820=\"\",P2820,IF(MID('XML a procesar'!A2820,1,1)=\"<\",P2820,P2820+1)),P2820)","v":1}]
[{"$f":"IF('XML a procesar'!A2821>0,'XML a procesar'!A2821,\"\")","v":""},0,0,0,0,"",0,0,0,"","",0,"",0,"",{"$f":"IF(ROW()<$S$4+2,IF('XML a procesar'!A2821=\"\",P2821,IF(MID('XML a procesar'!A2821,1,1)=\"<\",P2821,P2821+1)),P2821)","v":1}]
[{"$f":"IF('XML a procesar'!A2822>0,'XML a procesar'!A2822,\"\")","v":""},0,0,0,0,"",0,0,0,"","",0,"",0,"",{"$f":"IF(ROW()<$S$4+2,IF('XML a procesar'!A2822=\"\",P2822,IF(MID('XML a procesar'!A2822,1,1)=\"<\",P2822,P2822+1)),P2822)","v":1}]
[{"$f":"IF('XML a procesar'!A2823>0,'XML a procesar'!A2823,\"\")","v":""},0,0,0,0,"",0,0,0,"","",0,"",0,"",{"$f":"IF(ROW()<$S$4+2,IF('XML a procesar'!A2823=\"\",P2823,IF(MID('XML a procesar'!A2823,1,1)=\"<\",P2823,P2823+1)),P2823)","v":1}]
[{"$f":"IF('XML a procesar'!A2824>0,'XML a procesar'!A2824,\"\")","v":""},0,0,0,0,"",0,0,0,"","",0,"",0,"",{"$f":"IF(ROW()<$S$4+2,IF('XML a procesar'!A2824=\"\",P2824,IF(MID('XML a procesar'!A2824,1,1)=\"<\",P2824,P2824+1)),P2824)","v":1}]
[{"$f":"IF('XML a procesar'!A2825>0,'XML a procesar'!A2825,\"\")","v":""},0,0,0,0,"",0,0,0,"","",0,"",0,"",{"$f":"IF(ROW()<$S$4+2,IF('XML a procesar'!A2825=\"\",P2825,IF(MID('XML a procesar'!A2825,1,1)=\"<\",P2825,P2825+1)),P2825)","v":1}]
[{"$f":"IF('XML a procesar'!A2826>0,'XML a procesar'!A2826,\"\")","v":""},0,0,0,0,"",0,0,0,"","",0,"",0,"",{"$f":"IF(ROW()<$S$4+2,IF('XML a procesar'!A2826=\"\",P2826,IF(MID('XML a procesar'!A2826,1,1)=\"<\",P2826,P2826+1)),P2826)","v":1}]
[{"$f":"IF('XML a procesar'!A2827>0,'XML a procesar'!A2827,\"\")","v":""},0,0,0,0,"",0,0,0,"","",0,"",0,"",{"$f":"IF(ROW()<$S$4+2,IF('XML a procesar'!A2827=\"\",P2827,IF(MID('XML a procesar'!A2827,1,1)=\"<\",P2827,P2827+1)),P2827)","v":1}]
[{"$f":"IF('XML a procesar'!A2828>0,'XML a procesar'!A2828,\"\")","v":""},0,0,0,0,"",0,0,0,"","",0,"",0,"",{"$f":"IF(ROW()<$S$4+2,IF('XML a procesar'!A2828=\"\",P2828,IF(MID('XML a procesar'!A2828,1,1)=\"<\",P2828,P2828+1)),P2828)","v":1}]
[{"$f":"IF('XML a procesar'!A2829>0,'XML a procesar'!A2829,\"\")","v":""},0,0,0,0,"",0,0,0,"","",0,"",0,"",{"$f":"IF(ROW()<$S$4+2,IF('XML a procesar'!A2829=\"\",P2829,IF(MID('XML a procesar'!A2829,1,1)=\"<\",P2829,P2829+1)),P2829)","v":1}]
[{"$f":"IF('XML a procesar'!A2830>0,'XML a procesar'!A2830,\"\")","v":""},0,0,0,0,"",0,0,0,"","",0,"",0,"",{"$f":"IF(ROW()<$S$4+2,IF('XML a procesar'!A2830=\"\",P2830,IF(MID('XML a procesar'!A2830,1,1)=\"<\",P2830,P2830+1)),P2830)","v":1}]
[{"$f":"IF('XML a procesar'!A2831>0,'XML a procesar'!A2831,\"\")","v":""},0,0,0,0,"",0,0,0,"","",0,"",0,"",{"$f":"IF(ROW()<$S$4+2,IF('XML a procesar'!A2831=\"\",P2831,IF(MID('XML a procesar'!A2831,1,1)=\"<\",P2831,P2831+1)),P2831)","v":1}]
[{"$f":"IF('XML a procesar'!A2832>0,'XML a procesar'!A2832,\"\")","v":""},0,0,0,0,"",0,0,0,"","",0,"",0,"",{"$f":"IF(ROW()<$S$4+2,IF('XML a procesar'!A2832=\"\",P2832,IF(MID('XML a procesar'!A2832,1,1)=\"<\",P2832,P2832+1)),P2832)","v":1}]
[{"$f":"IF('XML a procesar'!A2833>0,'XML a procesar'!A2833,\"\")","v":""},0,0,0,0,"",0,0,0,"","",0,"",0,"",{"$f":"IF(ROW()<$S$4+2,IF('XML a procesar'!A2833=\"\",P2833,IF(MID('XML a procesar'!A2833,1,1)=\"<\",P2833,P2833+1)),P2833)","v":1}]
[{"$f":"IF('XML a procesar'!A2834>0,'XML a procesar'!A2834,\"\")","v":""},0,0,0,0,"",0,0,0,"","",0,"",0,"",{"$f":"IF(ROW()<$S$4+2,IF('XML a procesar'!A2834=\"\",P2834,IF(MID('XML a procesar'!A2834,1,1)=\"<\",P2834,P2834+1)),P2834)","v":1}]
[{"$f":"IF('XML a procesar'!A2835>0,'XML a procesar'!A2835,\"\")","v":""},0,0,0,0,"",0,0,0,"","",0,"",0,"",{"$f":"IF(ROW()<$S$4+2,IF('XML a procesar'!A2835=\"\",P2835,IF(MID('XML a procesar'!A2835,1,1)=\"<\",P2835,P2835+1)),P2835)","v":1}]
[{"$f":"IF('XML a procesar'!A2836>0,'XML a procesar'!A2836,\"\")","v":""},0,0,0,0,"",0,0,0,"","",0,"",0,"",{"$f":"IF(ROW()<$S$4+2,IF('XML a procesar'!A2836=\"\",P2836,IF(MID('XML a procesar'!A2836,1,1)=\"<\",P2836,P2836+1)),P2836)","v":1}]
[{"$f":"IF('XML a procesar'!A2837>0,'XML a procesar'!A2837,\"\")","v":""},0,0,0,0,"",0,0,0,"","",0,"",0,"",{"$f":"IF(ROW()<$S$4+2,IF('XML a procesar'!A2837=\"\",P2837,IF(MID('XML a procesar'!A2837,1,1)=\"<\",P2837,P2837+1)),P2837)","v":1}]
[{"$f":"IF('XML a procesar'!A2838>0,'XML a procesar'!A2838,\"\")","v":""},0,0,0,0,"",0,0,0,"","",0,"",0,"",{"$f":"IF(ROW()<$S$4+2,IF('XML a procesar'!A2838=\"\",P2838,IF(MID('XML a procesar'!A2838,1,1)=\"<\",P2838,P2838+1)),P2838)","v":1}]
[{"$f":"IF('XML a procesar'!A2839>0,'XML a procesar'!A2839,\"\")","v":""},0,0,0,0,"",0,0,0,"","",0,"",0,"",{"$f":"IF(ROW()<$S$4+2,IF('XML a procesar'!A2839=\"\",P2839,IF(MID('XML a procesar'!A2839,1,1)=\"<\",P2839,P2839+1)),P2839)","v":1}]
[{"$f":"IF('XML a procesar'!A2840>0,'XML a procesar'!A2840,\"\")","v":""},0,0,0,0,"",0,0,0,"","",0,"",0,"",{"$f":"IF(ROW()<$S$4+2,IF('XML a procesar'!A2840=\"\",P2840,IF(MID('XML a procesar'!A2840,1,1)=\"<\",P2840,P2840+1)),P2840)","v":1}]
[{"$f":"IF('XML a procesar'!A2841>0,'XML a procesar'!A2841,\"\")","v":""},0,0,0,0,"",0,0,0,"","",0,"",0,"",{"$f":"IF(ROW()<$S$4+2,IF('XML a procesar'!A2841=\"\",P2841,IF(MID('XML a procesar'!A2841,1,1)=\"<\",P2841,P2841+1)),P2841)","v":1}]
[{"$f":"IF('XML a procesar'!A2842>0,'XML a procesar'!A2842,\"\")","v":""},0,0,0,0,"",0,0,0,"","",0,"",0,"",{"$f":"IF(ROW()<$S$4+2,IF('XML a procesar'!A2842=\"\",P2842,IF(MID('XML a procesar'!A2842,1,1)=\"<\",P2842,P2842+1)),P2842)","v":1}]
[{"$f":"IF('XML a procesar'!A2843>0,'XML a procesar'!A2843,\"\")","v":""},0,0,0,0,"",0,0,0,"","",0,"",0,"",{"$f":"IF(ROW()<$S$4+2,IF('XML a procesar'!A2843=\"\",P2843,IF(MID('XML a procesar'!A2843,1,1)=\"<\",P2843,P2843+1)),P2843)","v":1}]
[{"$f":"IF('XML a procesar'!A2844>0,'XML a procesar'!A2844,\"\")","v":""},0,0,0,0,"",0,0,0,"","",0,"",0,"",{"$f":"IF(ROW()<$S$4+2,IF('XML a procesar'!A2844=\"\",P2844,IF(MID('XML a procesar'!A2844,1,1)=\"<\",P2844,P2844+1)),P2844)","v":1}]
[{"$f":"IF('XML a procesar'!A2845>0,'XML a procesar'!A2845,\"\")","v":""},0,0,0,0,"",0,0,0,"","",0,"",0,"",{"$f":"IF(ROW()<$S$4+2,IF('XML a procesar'!A2845=\"\",P2845,IF(MID('XML a procesar'!A2845,1,1)=\"<\",P2845,P2845+1)),P2845)","v":1}]
[{"$f":"IF('XML a procesar'!A2846>0,'XML a procesar'!A2846,\"\")","v":""},0,0,0,0,"",0,0,0,"","",0,"",0,"",{"$f":"IF(ROW()<$S$4+2,IF('XML a procesar'!A2846=\"\",P2846,IF(MID('XML a procesar'!A2846,1,1)=\"<\",P2846,P2846+1)),P2846)","v":1}]
[{"$f":"IF('XML a procesar'!A2847>0,'XML a procesar'!A2847,\"\")","v":""},0,0,0,0,"",0,0,0,"","",0,"",0,"",{"$f":"IF(ROW()<$S$4+2,IF('XML a procesar'!A2847=\"\",P2847,IF(MID('XML a procesar'!A2847,1,1)=\"<\",P2847,P2847+1)),P2847)","v":1}]
[{"$f":"IF('XML a procesar'!A2848>0,'XML a procesar'!A2848,\"\")","v":""},0,0,0,0,"",0,0,0,"","",0,"",0,"",{"$f":"IF(ROW()<$S$4+2,IF('XML a procesar'!A2848=\"\",P2848,IF(MID('XML a procesar'!A2848,1,1)=\"<\",P2848,P2848+1)),P2848)","v":1}]
[{"$f":"IF('XML a procesar'!A2849>0,'XML a procesar'!A2849,\"\")","v":""},0,0,0,0,"",0,0,0,"","",0,"",0,"",{"$f":"IF(ROW()<$S$4+2,IF('XML a procesar'!A2849=\"\",P2849,IF(MID('XML a procesar'!A2849,1,1)=\"<\",P2849,P2849+1)),P2849)","v":1}]
[{"$f":"IF('XML a procesar'!A2850>0,'XML a procesar'!A2850,\"\")","v":""},0,0,0,0,"",0,0,0,"","",0,"",0,"",{"$f":"IF(ROW()<$S$4+2,IF('XML a procesar'!A2850=\"\",P2850,IF(MID('XML a procesar'!A2850,1,1)=\"<\",P2850,P2850+1)),P2850)","v":1}]
[{"$f":"IF('XML a procesar'!A2851>0,'XML a procesar'!A2851,\"\")","v":""},0,0,0,0,"",0,0,0,"","",0,"",0,"",{"$f":"IF(ROW()<$S$4+2,IF('XML a procesar'!A2851=\"\",P2851,IF(MID('XML a procesar'!A2851,1,1)=\"<\",P2851,P2851+1)),P2851)","v":1}]
[{"$f":"IF('XML a procesar'!A2852>0,'XML a procesar'!A2852,\"\")","v":""},0,0,0,0,"",0,0,0,"","",0,"",0,"",{"$f":"IF(ROW()<$S$4+2,IF('XML a procesar'!A2852=\"\",P2852,IF(MID('XML a procesar'!A2852,1,1)=\"<\",P2852,P2852+1)),P2852)","v":1}]
[{"$f":"IF('XML a procesar'!A2853>0,'XML a procesar'!A2853,\"\")","v":""},0,0,0,0,"",0,0,0,"","",0,"",0,"",{"$f":"IF(ROW()<$S$4+2,IF('XML a procesar'!A2853=\"\",P2853,IF(MID('XML a procesar'!A2853,1,1)=\"<\",P2853,P2853+1)),P2853)","v":1}]
[{"$f":"IF('XML a procesar'!A2854>0,'XML a procesar'!A2854,\"\")","v":""},0,0,0,0,"",0,0,0,"","",0,"",0,"",{"$f":"IF(ROW()<$S$4+2,IF('XML a procesar'!A2854=\"\",P2854,IF(MID('XML a procesar'!A2854,1,1)=\"<\",P2854,P2854+1)),P2854)","v":1}]
[{"$f":"IF('XML a procesar'!A2855>0,'XML a procesar'!A2855,\"\")","v":""},0,0,0,0,"",0,0,0,"","",0,"",0,"",{"$f":"IF(ROW()<$S$4+2,IF('XML a procesar'!A2855=\"\",P2855,IF(MID('XML a procesar'!A2855,1,1)=\"<\",P2855,P2855+1)),P2855)","v":1}]
[{"$f":"IF('XML a procesar'!A2856>0,'XML a procesar'!A2856,\"\")","v":""},0,0,0,0,"",0,0,0,"","",0,"",0,"",{"$f":"IF(ROW()<$S$4+2,IF('XML a procesar'!A2856=\"\",P2856,IF(MID('XML a procesar'!A2856,1,1)=\"<\",P2856,P2856+1)),P2856)","v":1}]
[{"$f":"IF('XML a procesar'!A2857>0,'XML a procesar'!A2857,\"\")","v":""},0,0,0,0,"",0,0,0,"","",0,"",0,"",{"$f":"IF(ROW()<$S$4+2,IF('XML a procesar'!A2857=\"\",P2857,IF(MID('XML a procesar'!A2857,1,1)=\"<\",P2857,P2857+1)),P2857)","v":1}]
[{"$f":"IF('XML a procesar'!A2858>0,'XML a procesar'!A2858,\"\")","v":""},0,0,0,0,"",0,0,0,"","",0,"",0,"",{"$f":"IF(ROW()<$S$4+2,IF('XML a procesar'!A2858=\"\",P2858,IF(MID('XML a procesar'!A2858,1,1)=\"<\",P2858,P2858+1)),P2858)","v":1}]
[{"$f":"IF('XML a procesar'!A2859>0,'XML a procesar'!A2859,\"\")","v":""},0,0,0,0,"",0,0,0,"","",0,"",0,"",{"$f":"IF(ROW()<$S$4+2,IF('XML a procesar'!A2859=\"\",P2859,IF(MID('XML a procesar'!A2859,1,1)=\"<\",P2859,P2859+1)),P2859)","v":1}]
[{"$f":"IF('XML a procesar'!A2860>0,'XML a procesar'!A2860,\"\")","v":""},0,0,0,0,"",0,0,0,"","",0,"",0,"",{"$f":"IF(ROW()<$S$4+2,IF('XML a procesar'!A2860=\"\",P2860,IF(MID('XML a procesar'!A2860,1,1)=\"<\",P2860,P2860+1)),P2860)","v":1}]
[{"$f":"IF('XML a procesar'!A2861>0,'XML a procesar'!A2861,\"\")","v":""},0,0,0,0,"",0,0,0,"","",0,"",0,"",{"$f":"IF(ROW()<$S$4+2,IF('XML a procesar'!A2861=\"\",P2861,IF(MID('XML a procesar'!A2861,1,1)=\"<\",P2861,P2861+1)),P2861)","v":1}]
[{"$f":"IF('XML a procesar'!A2862>0,'XML a procesar'!A2862,\"\")","v":""},0,0,0,0,"",0,0,0,"","",0,"",0,"",{"$f":"IF(ROW()<$S$4+2,IF('XML a procesar'!A2862=\"\",P2862,IF(MID('XML a procesar'!A2862,1,1)=\"<\",P2862,P2862+1)),P2862)","v":1}]
[{"$f":"IF('XML a procesar'!A2863>0,'XML a procesar'!A2863,\"\")","v":""},0,0,0,0,"",0,0,0,"","",0,"",0,"",{"$f":"IF(ROW()<$S$4+2,IF('XML a procesar'!A2863=\"\",P2863,IF(MID('XML a procesar'!A2863,1,1)=\"<\",P2863,P2863+1)),P2863)","v":1}]
[{"$f":"IF('XML a procesar'!A2864>0,'XML a procesar'!A2864,\"\")","v":""},0,0,0,0,"",0,0,0,"","",0,"",0,"",{"$f":"IF(ROW()<$S$4+2,IF('XML a procesar'!A2864=\"\",P2864,IF(MID('XML a procesar'!A2864,1,1)=\"<\",P2864,P2864+1)),P2864)","v":1}]
[{"$f":"IF('XML a procesar'!A2865>0,'XML a procesar'!A2865,\"\")","v":""},0,0,0,0,"",0,0,0,"","",0,"",0,"",{"$f":"IF(ROW()<$S$4+2,IF('XML a procesar'!A2865=\"\",P2865,IF(MID('XML a procesar'!A2865,1,1)=\"<\",P2865,P2865+1)),P2865)","v":1}]
[{"$f":"IF('XML a procesar'!A2866>0,'XML a procesar'!A2866,\"\")","v":""},0,0,0,0,"",0,0,0,"","",0,"",0,"",{"$f":"IF(ROW()<$S$4+2,IF('XML a procesar'!A2866=\"\",P2866,IF(MID('XML a procesar'!A2866,1,1)=\"<\",P2866,P2866+1)),P2866)","v":1}]
[{"$f":"IF('XML a procesar'!A2867>0,'XML a procesar'!A2867,\"\")","v":""},0,0,0,0,"",0,0,0,"","",0,"",0,"",{"$f":"IF(ROW()<$S$4+2,IF('XML a procesar'!A2867=\"\",P2867,IF(MID('XML a procesar'!A2867,1,1)=\"<\",P2867,P2867+1)),P2867)","v":1}]
[{"$f":"IF('XML a procesar'!A2868>0,'XML a procesar'!A2868,\"\")","v":""},0,0,0,0,"",0,0,0,"","",0,"",0,"",{"$f":"IF(ROW()<$S$4+2,IF('XML a procesar'!A2868=\"\",P2868,IF(MID('XML a procesar'!A2868,1,1)=\"<\",P2868,P2868+1)),P2868)","v":1}]
[{"$f":"IF('XML a procesar'!A2869>0,'XML a procesar'!A2869,\"\")","v":""},0,0,0,0,"",0,0,0,"","",0,"",0,"",{"$f":"IF(ROW()<$S$4+2,IF('XML a procesar'!A2869=\"\",P2869,IF(MID('XML a procesar'!A2869,1,1)=\"<\",P2869,P2869+1)),P2869)","v":1}]
[{"$f":"IF('XML a procesar'!A2870>0,'XML a procesar'!A2870,\"\")","v":""},0,0,0,0,"",0,0,0,"","",0,"",0,"",{"$f":"IF(ROW()<$S$4+2,IF('XML a procesar'!A2870=\"\",P2870,IF(MID('XML a procesar'!A2870,1,1)=\"<\",P2870,P2870+1)),P2870)","v":1}]
[{"$f":"IF('XML a procesar'!A2871>0,'XML a procesar'!A2871,\"\")","v":""},0,0,0,0,"",0,0,0,"","",0,"",0,"",{"$f":"IF(ROW()<$S$4+2,IF('XML a procesar'!A2871=\"\",P2871,IF(MID('XML a procesar'!A2871,1,1)=\"<\",P2871,P2871+1)),P2871)","v":1}]
[{"$f":"IF('XML a procesar'!A2872>0,'XML a procesar'!A2872,\"\")","v":""},0,0,0,0,"",0,0,0,"","",0,"",0,"",{"$f":"IF(ROW()<$S$4+2,IF('XML a procesar'!A2872=\"\",P2872,IF(MID('XML a procesar'!A2872,1,1)=\"<\",P2872,P2872+1)),P2872)","v":1}]
[{"$f":"IF('XML a procesar'!A2873>0,'XML a procesar'!A2873,\"\")","v":""},0,0,0,0,"",0,0,0,"","",0,"",0,"",{"$f":"IF(ROW()<$S$4+2,IF('XML a procesar'!A2873=\"\",P2873,IF(MID('XML a procesar'!A2873,1,1)=\"<\",P2873,P2873+1)),P2873)","v":1}]
[{"$f":"IF('XML a procesar'!A2874>0,'XML a procesar'!A2874,\"\")","v":""},0,0,0,0,"",0,0,0,"","",0,"",0,"",{"$f":"IF(ROW()<$S$4+2,IF('XML a procesar'!A2874=\"\",P2874,IF(MID('XML a procesar'!A2874,1,1)=\"<\",P2874,P2874+1)),P2874)","v":1}]
[{"$f":"IF('XML a procesar'!A2875>0,'XML a procesar'!A2875,\"\")","v":""},0,0,0,0,"",0,0,0,"","",0,"",0,"",{"$f":"IF(ROW()<$S$4+2,IF('XML a procesar'!A2875=\"\",P2875,IF(MID('XML a procesar'!A2875,1,1)=\"<\",P2875,P2875+1)),P2875)","v":1}]
[{"$f":"IF('XML a procesar'!A2876>0,'XML a procesar'!A2876,\"\")","v":""},0,0,0,0,"",0,0,0,"","",0,"",0,"",{"$f":"IF(ROW()<$S$4+2,IF('XML a procesar'!A2876=\"\",P2876,IF(MID('XML a procesar'!A2876,1,1)=\"<\",P2876,P2876+1)),P2876)","v":1}]
[{"$f":"IF('XML a procesar'!A2877>0,'XML a procesar'!A2877,\"\")","v":""},0,0,0,0,"",0,0,0,"","",0,"",0,"",{"$f":"IF(ROW()<$S$4+2,IF('XML a procesar'!A2877=\"\",P2877,IF(MID('XML a procesar'!A2877,1,1)=\"<\",P2877,P2877+1)),P2877)","v":1}]
[{"$f":"IF('XML a procesar'!A2878>0,'XML a procesar'!A2878,\"\")","v":""},0,0,0,0,"",0,0,0,"","",0,"",0,"",{"$f":"IF(ROW()<$S$4+2,IF('XML a procesar'!A2878=\"\",P2878,IF(MID('XML a procesar'!A2878,1,1)=\"<\",P2878,P2878+1)),P2878)","v":1}]
[{"$f":"IF('XML a procesar'!A2879>0,'XML a procesar'!A2879,\"\")","v":""},0,0,0,0,"",0,0,0,"","",0,"",0,"",{"$f":"IF(ROW()<$S$4+2,IF('XML a procesar'!A2879=\"\",P2879,IF(MID('XML a procesar'!A2879,1,1)=\"<\",P2879,P2879+1)),P2879)","v":1}]
[{"$f":"IF('XML a procesar'!A2880>0,'XML a procesar'!A2880,\"\")","v":""},{"$f":"IF(ISERROR(FIND(\"/doi.org/\",A2881,1)),0,1)","v":0},{"$f":"IF(LEFT(A2880,16)=\"<contrib contrib\",C2880+1,IF(LEFT(A2880,16)=\"</contrib-group>\",0,IF(LEFT(A2880,10)=\"</contrib>\",C2880,C2880)))","v":0},{"$f":"IF(AND(C2881>0,LEFT(A2881,7)=\"<email>\",ISNUMBER(SEARCH(\"@\",A2881,1))),C2881,IF(LEFT(A2881,10)=\"<alt-text>\",-1,0))","v":0},{"$f":"IF(D2881=0,E2880,E2880+1)","v":0},{"$f":"INDIRECT(ADDRESS(ROW()+INDIRECT(ADDRESS(ROW()+E2881,5)),1))","v":""},{"$f":"IF(LEFT(F2881,7)=\"<aff id\",_xlfn.NUMBERVALUE(MID(F2881,13,LEN(F2881)-14)),IF(F2881=\"</aff>\",G2880+1,G2880))","v":0},0,{"$f":"INDIRECT(ADDRESS(ROW()-INDIRECT(ADDRESS(ROW()-H2881,8)),8))","v":0},{"$f":"IF(J2880=\"Linea_para_MAIL_creada_por_LuXML\",\"</aff>\",IF(I2881>INDIRECT(ADDRESS(ROW()-I2881-1,8)),\"Linea_para_MAIL_creada_por_LuXML\",INDIRECT(ADDRESS(ROW()-I2881,6))))","v":""},"",{"$f":"IF(OR(MID(K2879,3,5)=\"page>\",MID(K2880,3,5)=\"page>\"),L2880,IF(OR(K2880=\"<history>\",K2881=\"<history>\"),L2880+1,L2880))","v":0},{"$f":"IF(L2881>L2880,IF(L2881=1,CONCATENATE(\"<fpage>\",$S$10,\"</fpage>\"),CONCATENATE(\"<lpage>\",$S$10+1,\"</lpage>\")),IF(ISERROR(INDIRECT(ADDRESS(ROW()-L2881,11),1)),\"\",INDIRECT(ADDRESS(ROW()-L2881,11),1)))","v":""},{"$f":"IF(N2880=-1,-1,IF(M2881=\"</counts>\",-1,IF(OR(LEFT(M2881,7)=\"<fpage>\",LEFT(M2881,7)=\"<lpage>\"),VALUE(MID(M2881,8,LEN(M2881)-15)),0)))","v":0},"",{"$f":"IF(ROW()<$S$4+2,IF('XML a procesar'!A2880=\"\",P2880,IF(MID('XML a procesar'!A2880,1,1)=\"<\",P2880,P2880+1)),P2880)","v":1}]
[{"$f":"IF('XML a procesar'!A2881>0,'XML a procesar'!A2881,\"\")","v":""},0,0,0,0,"",0,0,0,"","",0,"",0,{"$f":"IF(N2882>-1,INDIRECT(ADDRESS(ROW(),13)),IF(N2882<N2881,CONCATENATE(\"<page-count count=\",CHAR(34),1+LARGE(N:N,1)-LARGE(N:N,2),CHAR(34),\"/>\"),INDIRECT(ADDRESS(ROW()-1,13))))","v":""},{"$f":"IF(ROW()<$S$4+2,IF('XML a procesar'!A2881=\"\",P2881,IF(MID('XML a procesar'!A2881,1,1)=\"<\",P2881,P2881+1)),P2881)","v":1}]
[{"$f":"IF('XML a procesar'!A2882>0,'XML a procesar'!A2882,\"\")","v":""},0,0,0,0,"",0,{"$f":"IF(AND(G2882>0,G2883>G2882,NOT(ISERROR(MATCH(G2882,D:D,0)))),H2882+1,H2882)","v":0},0,"",{"$f":"IF(J2883=\"Linea_para_MAIL_creada_por_LuXML\",IF(ISERROR(MATCH(INDIRECT(ADDRESS(ROW()-G2883,7)),D:D,0)),J2883,INDIRECT(ADDRESS(MATCH(INDIRECT(ADDRESS(ROW()-G2883,7)),D:D,0),1))),J2883)","v":""},0,"",0,"",{"$f":"IF(ROW()<$S$4+2,IF('XML a procesar'!A2882=\"\",P2882,IF(MID('XML a procesar'!A2882,1,1)=\"<\",P2882,P2882+1)),P2882)","v":1}]
[{"$f":"IF('XML a procesar'!A2883>0,'XML a procesar'!A2883,\"\")","v":""},0,0,0,0,"",0,0,0,"","",0,"",0,"",{"$f":"IF(ROW()<$S$4+2,IF('XML a procesar'!A2883=\"\",P2883,IF(MID('XML a procesar'!A2883,1,1)=\"<\",P2883,P2883+1)),P2883)","v":1}]
[{"$f":"IF('XML a procesar'!A2884>0,'XML a procesar'!A2884,\"\")","v":""},0,0,0,0,"",0,0,0,"","",0,"",0,"",{"$f":"IF(ROW()<$S$4+2,IF('XML a procesar'!A2884=\"\",P2884,IF(MID('XML a procesar'!A2884,1,1)=\"<\",P2884,P2884+1)),P2884)","v":1}]
[{"$f":"IF('XML a procesar'!A2885>0,'XML a procesar'!A2885,\"\")","v":""},0,0,0,0,"",0,0,0,"","",0,"",0,"",{"$f":"IF(ROW()<$S$4+2,IF('XML a procesar'!A2885=\"\",P2885,IF(MID('XML a procesar'!A2885,1,1)=\"<\",P2885,P2885+1)),P2885)","v":1}]
[{"$f":"IF('XML a procesar'!A2886>0,'XML a procesar'!A2886,\"\")","v":""},0,0,0,0,"",0,0,0,"","",0,"",0,"",{"$f":"IF(ROW()<$S$4+2,IF('XML a procesar'!A2886=\"\",P2886,IF(MID('XML a procesar'!A2886,1,1)=\"<\",P2886,P2886+1)),P2886)","v":1}]
[{"$f":"IF('XML a procesar'!A2887>0,'XML a procesar'!A2887,\"\")","v":""},0,0,0,0,"",0,0,0,"","",0,"",0,"",{"$f":"IF(ROW()<$S$4+2,IF('XML a procesar'!A2887=\"\",P2887,IF(MID('XML a procesar'!A2887,1,1)=\"<\",P2887,P2887+1)),P2887)","v":1}]
[{"$f":"IF('XML a procesar'!A2888>0,'XML a procesar'!A2888,\"\")","v":""},0,0,0,0,"",0,0,0,"","",0,"",0,"",{"$f":"IF(ROW()<$S$4+2,IF('XML a procesar'!A2888=\"\",P2888,IF(MID('XML a procesar'!A2888,1,1)=\"<\",P2888,P2888+1)),P2888)","v":1}]
[{"$f":"IF('XML a procesar'!A2889>0,'XML a procesar'!A2889,\"\")","v":""},0,0,0,0,"",0,0,0,"","",0,"",0,"",{"$f":"IF(ROW()<$S$4+2,IF('XML a procesar'!A2889=\"\",P2889,IF(MID('XML a procesar'!A2889,1,1)=\"<\",P2889,P2889+1)),P2889)","v":1}]
[{"$f":"IF('XML a procesar'!A2890>0,'XML a procesar'!A2890,\"\")","v":""},0,0,0,0,"",0,0,0,"","",0,"",0,"",{"$f":"IF(ROW()<$S$4+2,IF('XML a procesar'!A2890=\"\",P2890,IF(MID('XML a procesar'!A2890,1,1)=\"<\",P2890,P2890+1)),P2890)","v":1}]
[{"$f":"IF('XML a procesar'!A2891>0,'XML a procesar'!A2891,\"\")","v":""},0,0,0,0,"",0,0,0,"","",0,"",0,"",{"$f":"IF(ROW()<$S$4+2,IF('XML a procesar'!A2891=\"\",P2891,IF(MID('XML a procesar'!A2891,1,1)=\"<\",P2891,P2891+1)),P2891)","v":1}]
[{"$f":"IF('XML a procesar'!A2892>0,'XML a procesar'!A2892,\"\")","v":""},0,0,0,0,"",0,0,0,"","",0,"",0,"",{"$f":"IF(ROW()<$S$4+2,IF('XML a procesar'!A2892=\"\",P2892,IF(MID('XML a procesar'!A2892,1,1)=\"<\",P2892,P2892+1)),P2892)","v":1}]
[{"$f":"IF('XML a procesar'!A2893>0,'XML a procesar'!A2893,\"\")","v":""},0,0,0,0,"",0,0,0,"","",0,"",0,"",{"$f":"IF(ROW()<$S$4+2,IF('XML a procesar'!A2893=\"\",P2893,IF(MID('XML a procesar'!A2893,1,1)=\"<\",P2893,P2893+1)),P2893)","v":1}]
[{"$f":"IF('XML a procesar'!A2894>0,'XML a procesar'!A2894,\"\")","v":""},0,0,0,0,"",0,0,0,"","",0,"",0,"",{"$f":"IF(ROW()<$S$4+2,IF('XML a procesar'!A2894=\"\",P2894,IF(MID('XML a procesar'!A2894,1,1)=\"<\",P2894,P2894+1)),P2894)","v":1}]
[{"$f":"IF('XML a procesar'!A2895>0,'XML a procesar'!A2895,\"\")","v":""},0,0,0,0,"",0,0,0,"","",0,"",0,"",{"$f":"IF(ROW()<$S$4+2,IF('XML a procesar'!A2895=\"\",P2895,IF(MID('XML a procesar'!A2895,1,1)=\"<\",P2895,P2895+1)),P2895)","v":1}]
[{"$f":"IF('XML a procesar'!A2896>0,'XML a procesar'!A2896,\"\")","v":""},0,0,0,0,"",0,0,0,"","",0,"",0,"",{"$f":"IF(ROW()<$S$4+2,IF('XML a procesar'!A2896=\"\",P2896,IF(MID('XML a procesar'!A2896,1,1)=\"<\",P2896,P2896+1)),P2896)","v":1}]
[{"$f":"IF('XML a procesar'!A2897>0,'XML a procesar'!A2897,\"\")","v":""},0,0,0,0,"",0,0,0,"","",0,"",0,"",{"$f":"IF(ROW()<$S$4+2,IF('XML a procesar'!A2897=\"\",P2897,IF(MID('XML a procesar'!A2897,1,1)=\"<\",P2897,P2897+1)),P2897)","v":1}]
[{"$f":"IF('XML a procesar'!A2898>0,'XML a procesar'!A2898,\"\")","v":""},0,0,0,0,"",0,0,0,"","",0,"",0,"",{"$f":"IF(ROW()<$S$4+2,IF('XML a procesar'!A2898=\"\",P2898,IF(MID('XML a procesar'!A2898,1,1)=\"<\",P2898,P2898+1)),P2898)","v":1}]
[{"$f":"IF('XML a procesar'!A2899>0,'XML a procesar'!A2899,\"\")","v":""},0,0,0,0,"",0,0,0,"","",0,"",0,"",{"$f":"IF(ROW()<$S$4+2,IF('XML a procesar'!A2899=\"\",P2899,IF(MID('XML a procesar'!A2899,1,1)=\"<\",P2899,P2899+1)),P2899)","v":1}]
[{"$f":"IF('XML a procesar'!A2900>0,'XML a procesar'!A2900,\"\")","v":""},0,0,0,0,"",0,0,0,"","",0,"",0,"",{"$f":"IF(ROW()<$S$4+2,IF('XML a procesar'!A2900=\"\",P2900,IF(MID('XML a procesar'!A2900,1,1)=\"<\",P2900,P2900+1)),P2900)","v":1}]
[{"$f":"IF('XML a procesar'!A2901>0,'XML a procesar'!A2901,\"\")","v":""},0,0,0,0,"",0,0,0,"","",0,"",0,"",{"$f":"IF(ROW()<$S$4+2,IF('XML a procesar'!A2901=\"\",P2901,IF(MID('XML a procesar'!A2901,1,1)=\"<\",P2901,P2901+1)),P2901)","v":1}]
[{"$f":"IF('XML a procesar'!A2902>0,'XML a procesar'!A2902,\"\")","v":""},0,0,0,0,"",0,0,0,"","",0,"",0,"",{"$f":"IF(ROW()<$S$4+2,IF('XML a procesar'!A2902=\"\",P2902,IF(MID('XML a procesar'!A2902,1,1)=\"<\",P2902,P2902+1)),P2902)","v":1}]
[{"$f":"IF('XML a procesar'!A2903>0,'XML a procesar'!A2903,\"\")","v":""},0,0,0,0,"",0,0,0,"","",0,"",0,"",{"$f":"IF(ROW()<$S$4+2,IF('XML a procesar'!A2903=\"\",P2903,IF(MID('XML a procesar'!A2903,1,1)=\"<\",P2903,P2903+1)),P2903)","v":1}]
[{"$f":"IF('XML a procesar'!A2904>0,'XML a procesar'!A2904,\"\")","v":""},0,0,0,0,"",0,0,0,"","",0,"",0,"",{"$f":"IF(ROW()<$S$4+2,IF('XML a procesar'!A2904=\"\",P2904,IF(MID('XML a procesar'!A2904,1,1)=\"<\",P2904,P2904+1)),P2904)","v":1}]
[{"$f":"IF('XML a procesar'!A2905>0,'XML a procesar'!A2905,\"\")","v":""},0,0,0,0,"",0,0,0,"","",0,"",0,"",{"$f":"IF(ROW()<$S$4+2,IF('XML a procesar'!A2905=\"\",P2905,IF(MID('XML a procesar'!A2905,1,1)=\"<\",P2905,P2905+1)),P2905)","v":1}]
[{"$f":"IF('XML a procesar'!A2906>0,'XML a procesar'!A2906,\"\")","v":""},0,0,0,0,"",0,0,0,"","",0,"",0,"",{"$f":"IF(ROW()<$S$4+2,IF('XML a procesar'!A2906=\"\",P2906,IF(MID('XML a procesar'!A2906,1,1)=\"<\",P2906,P2906+1)),P2906)","v":1}]
[{"$f":"IF('XML a procesar'!A2907>0,'XML a procesar'!A2907,\"\")","v":""},0,0,0,0,"",0,0,0,"","",0,"",0,"",{"$f":"IF(ROW()<$S$4+2,IF('XML a procesar'!A2907=\"\",P2907,IF(MID('XML a procesar'!A2907,1,1)=\"<\",P2907,P2907+1)),P2907)","v":1}]
[{"$f":"IF('XML a procesar'!A2908>0,'XML a procesar'!A2908,\"\")","v":""},0,0,0,0,"",0,0,0,"","",0,"",0,"",{"$f":"IF(ROW()<$S$4+2,IF('XML a procesar'!A2908=\"\",P2908,IF(MID('XML a procesar'!A2908,1,1)=\"<\",P2908,P2908+1)),P2908)","v":1}]
[{"$f":"IF('XML a procesar'!A2909>0,'XML a procesar'!A2909,\"\")","v":""},0,0,0,0,"",0,0,0,"","",0,"",0,"",{"$f":"IF(ROW()<$S$4+2,IF('XML a procesar'!A2909=\"\",P2909,IF(MID('XML a procesar'!A2909,1,1)=\"<\",P2909,P2909+1)),P2909)","v":1}]
[{"$f":"IF('XML a procesar'!A2910>0,'XML a procesar'!A2910,\"\")","v":""},0,0,0,0,"",0,0,0,"","",0,"",0,"",{"$f":"IF(ROW()<$S$4+2,IF('XML a procesar'!A2910=\"\",P2910,IF(MID('XML a procesar'!A2910,1,1)=\"<\",P2910,P2910+1)),P2910)","v":1}]
[{"$f":"IF('XML a procesar'!A2911>0,'XML a procesar'!A2911,\"\")","v":""},0,0,0,0,"",0,0,0,"","",0,"",0,"",{"$f":"IF(ROW()<$S$4+2,IF('XML a procesar'!A2911=\"\",P2911,IF(MID('XML a procesar'!A2911,1,1)=\"<\",P2911,P2911+1)),P2911)","v":1}]
[{"$f":"IF('XML a procesar'!A2912>0,'XML a procesar'!A2912,\"\")","v":""},0,0,0,0,"",0,0,0,"","",0,"",0,"",{"$f":"IF(ROW()<$S$4+2,IF('XML a procesar'!A2912=\"\",P2912,IF(MID('XML a procesar'!A2912,1,1)=\"<\",P2912,P2912+1)),P2912)","v":1}]
[{"$f":"IF('XML a procesar'!A2913>0,'XML a procesar'!A2913,\"\")","v":""},0,0,0,0,"",0,0,0,"","",0,"",0,"",{"$f":"IF(ROW()<$S$4+2,IF('XML a procesar'!A2913=\"\",P2913,IF(MID('XML a procesar'!A2913,1,1)=\"<\",P2913,P2913+1)),P2913)","v":1}]
[{"$f":"IF('XML a procesar'!A2914>0,'XML a procesar'!A2914,\"\")","v":""},0,0,0,0,"",0,0,0,"","",0,"",0,"",{"$f":"IF(ROW()<$S$4+2,IF('XML a procesar'!A2914=\"\",P2914,IF(MID('XML a procesar'!A2914,1,1)=\"<\",P2914,P2914+1)),P2914)","v":1}]
[{"$f":"IF('XML a procesar'!A2915>0,'XML a procesar'!A2915,\"\")","v":""},0,0,0,0,"",0,0,0,"","",0,"",0,"",{"$f":"IF(ROW()<$S$4+2,IF('XML a procesar'!A2915=\"\",P2915,IF(MID('XML a procesar'!A2915,1,1)=\"<\",P2915,P2915+1)),P2915)","v":1}]
[{"$f":"IF('XML a procesar'!A2916>0,'XML a procesar'!A2916,\"\")","v":""},0,0,0,0,"",0,0,0,"","",0,"",0,"",{"$f":"IF(ROW()<$S$4+2,IF('XML a procesar'!A2916=\"\",P2916,IF(MID('XML a procesar'!A2916,1,1)=\"<\",P2916,P2916+1)),P2916)","v":1}]
[{"$f":"IF('XML a procesar'!A2917>0,'XML a procesar'!A2917,\"\")","v":""},0,0,0,0,"",0,0,0,"","",0,"",0,"",{"$f":"IF(ROW()<$S$4+2,IF('XML a procesar'!A2917=\"\",P2917,IF(MID('XML a procesar'!A2917,1,1)=\"<\",P2917,P2917+1)),P2917)","v":1}]
[{"$f":"IF('XML a procesar'!A2918>0,'XML a procesar'!A2918,\"\")","v":""},0,0,0,0,"",0,0,0,"","",0,"",0,"",{"$f":"IF(ROW()<$S$4+2,IF('XML a procesar'!A2918=\"\",P2918,IF(MID('XML a procesar'!A2918,1,1)=\"<\",P2918,P2918+1)),P2918)","v":1}]
[{"$f":"IF('XML a procesar'!A2919>0,'XML a procesar'!A2919,\"\")","v":""},0,0,0,0,"",0,0,0,"","",0,"",0,"",{"$f":"IF(ROW()<$S$4+2,IF('XML a procesar'!A2919=\"\",P2919,IF(MID('XML a procesar'!A2919,1,1)=\"<\",P2919,P2919+1)),P2919)","v":1}]
[{"$f":"IF('XML a procesar'!A2920>0,'XML a procesar'!A2920,\"\")","v":""},0,0,0,0,"",0,0,0,"","",0,"",0,"",{"$f":"IF(ROW()<$S$4+2,IF('XML a procesar'!A2920=\"\",P2920,IF(MID('XML a procesar'!A2920,1,1)=\"<\",P2920,P2920+1)),P2920)","v":1}]
[{"$f":"IF('XML a procesar'!A2921>0,'XML a procesar'!A2921,\"\")","v":""},0,0,0,0,"",0,0,0,"","",0,"",0,"",{"$f":"IF(ROW()<$S$4+2,IF('XML a procesar'!A2921=\"\",P2921,IF(MID('XML a procesar'!A2921,1,1)=\"<\",P2921,P2921+1)),P2921)","v":1}]
[{"$f":"IF('XML a procesar'!A2922>0,'XML a procesar'!A2922,\"\")","v":""},0,0,0,0,"",0,0,0,"","",0,"",0,"",{"$f":"IF(ROW()<$S$4+2,IF('XML a procesar'!A2922=\"\",P2922,IF(MID('XML a procesar'!A2922,1,1)=\"<\",P2922,P2922+1)),P2922)","v":1}]
[{"$f":"IF('XML a procesar'!A2923>0,'XML a procesar'!A2923,\"\")","v":""},0,0,0,0,"",0,0,0,"","",0,"",0,"",{"$f":"IF(ROW()<$S$4+2,IF('XML a procesar'!A2923=\"\",P2923,IF(MID('XML a procesar'!A2923,1,1)=\"<\",P2923,P2923+1)),P2923)","v":1}]
[{"$f":"IF('XML a procesar'!A2924>0,'XML a procesar'!A2924,\"\")","v":""},0,0,0,0,"",0,0,0,"","",0,"",0,"",{"$f":"IF(ROW()<$S$4+2,IF('XML a procesar'!A2924=\"\",P2924,IF(MID('XML a procesar'!A2924,1,1)=\"<\",P2924,P2924+1)),P2924)","v":1}]
[{"$f":"IF('XML a procesar'!A2925>0,'XML a procesar'!A2925,\"\")","v":""},0,0,0,0,"",0,0,0,"","",0,"",0,"",{"$f":"IF(ROW()<$S$4+2,IF('XML a procesar'!A2925=\"\",P2925,IF(MID('XML a procesar'!A2925,1,1)=\"<\",P2925,P2925+1)),P2925)","v":1}]
[{"$f":"IF('XML a procesar'!A2926>0,'XML a procesar'!A2926,\"\")","v":""},0,0,0,0,"",0,0,0,"","",0,"",0,"",{"$f":"IF(ROW()<$S$4+2,IF('XML a procesar'!A2926=\"\",P2926,IF(MID('XML a procesar'!A2926,1,1)=\"<\",P2926,P2926+1)),P2926)","v":1}]
[{"$f":"IF('XML a procesar'!A2927>0,'XML a procesar'!A2927,\"\")","v":""},0,0,0,0,"",0,0,0,"","",0,"",0,"",{"$f":"IF(ROW()<$S$4+2,IF('XML a procesar'!A2927=\"\",P2927,IF(MID('XML a procesar'!A2927,1,1)=\"<\",P2927,P2927+1)),P2927)","v":1}]
[{"$f":"IF('XML a procesar'!A2928>0,'XML a procesar'!A2928,\"\")","v":""},0,0,0,0,"",0,0,0,"","",0,"",0,"",{"$f":"IF(ROW()<$S$4+2,IF('XML a procesar'!A2928=\"\",P2928,IF(MID('XML a procesar'!A2928,1,1)=\"<\",P2928,P2928+1)),P2928)","v":1}]
[{"$f":"IF('XML a procesar'!A2929>0,'XML a procesar'!A2929,\"\")","v":""},0,0,0,0,"",0,0,0,"","",0,"",0,"",{"$f":"IF(ROW()<$S$4+2,IF('XML a procesar'!A2929=\"\",P2929,IF(MID('XML a procesar'!A2929,1,1)=\"<\",P2929,P2929+1)),P2929)","v":1}]
[{"$f":"IF('XML a procesar'!A2930>0,'XML a procesar'!A2930,\"\")","v":""},0,0,0,0,"",0,0,0,"","",0,"",0,"",{"$f":"IF(ROW()<$S$4+2,IF('XML a procesar'!A2930=\"\",P2930,IF(MID('XML a procesar'!A2930,1,1)=\"<\",P2930,P2930+1)),P2930)","v":1}]
[{"$f":"IF('XML a procesar'!A2931>0,'XML a procesar'!A2931,\"\")","v":""},0,0,0,0,"",0,0,0,"","",0,"",0,"",{"$f":"IF(ROW()<$S$4+2,IF('XML a procesar'!A2931=\"\",P2931,IF(MID('XML a procesar'!A2931,1,1)=\"<\",P2931,P2931+1)),P2931)","v":1}]
[{"$f":"IF('XML a procesar'!A2932>0,'XML a procesar'!A2932,\"\")","v":""},0,0,0,0,"",0,0,0,"","",0,"",0,"",{"$f":"IF(ROW()<$S$4+2,IF('XML a procesar'!A2932=\"\",P2932,IF(MID('XML a procesar'!A2932,1,1)=\"<\",P2932,P2932+1)),P2932)","v":1}]
[{"$f":"IF('XML a procesar'!A2933>0,'XML a procesar'!A2933,\"\")","v":""},0,0,0,0,"",0,0,0,"","",0,"",0,"",{"$f":"IF(ROW()<$S$4+2,IF('XML a procesar'!A2933=\"\",P2933,IF(MID('XML a procesar'!A2933,1,1)=\"<\",P2933,P2933+1)),P2933)","v":1}]
[{"$f":"IF('XML a procesar'!A2934>0,'XML a procesar'!A2934,\"\")","v":""},0,0,0,0,"",0,0,0,"","",0,"",0,"",{"$f":"IF(ROW()<$S$4+2,IF('XML a procesar'!A2934=\"\",P2934,IF(MID('XML a procesar'!A2934,1,1)=\"<\",P2934,P2934+1)),P2934)","v":1}]
[{"$f":"IF('XML a procesar'!A2935>0,'XML a procesar'!A2935,\"\")","v":""},0,0,0,0,"",0,0,0,"","",0,"",0,"",{"$f":"IF(ROW()<$S$4+2,IF('XML a procesar'!A2935=\"\",P2935,IF(MID('XML a procesar'!A2935,1,1)=\"<\",P2935,P2935+1)),P2935)","v":1}]
[{"$f":"IF('XML a procesar'!A2936>0,'XML a procesar'!A2936,\"\")","v":""},0,0,0,0,"",0,0,0,"","",0,"",0,"",{"$f":"IF(ROW()<$S$4+2,IF('XML a procesar'!A2936=\"\",P2936,IF(MID('XML a procesar'!A2936,1,1)=\"<\",P2936,P2936+1)),P2936)","v":1}]
[{"$f":"IF('XML a procesar'!A2937>0,'XML a procesar'!A2937,\"\")","v":""},0,0,0,0,"",0,0,0,"","",0,"",0,"",{"$f":"IF(ROW()<$S$4+2,IF('XML a procesar'!A2937=\"\",P2937,IF(MID('XML a procesar'!A2937,1,1)=\"<\",P2937,P2937+1)),P2937)","v":1}]
[{"$f":"IF('XML a procesar'!A2938>0,'XML a procesar'!A2938,\"\")","v":""},0,0,0,0,"",0,0,0,"","",0,"",0,"",{"$f":"IF(ROW()<$S$4+2,IF('XML a procesar'!A2938=\"\",P2938,IF(MID('XML a procesar'!A2938,1,1)=\"<\",P2938,P2938+1)),P2938)","v":1}]
[{"$f":"IF('XML a procesar'!A2939>0,'XML a procesar'!A2939,\"\")","v":""},0,0,0,0,"",0,0,0,"","",0,"",0,"",{"$f":"IF(ROW()<$S$4+2,IF('XML a procesar'!A2939=\"\",P2939,IF(MID('XML a procesar'!A2939,1,1)=\"<\",P2939,P2939+1)),P2939)","v":1}]
[{"$f":"IF('XML a procesar'!A2940>0,'XML a procesar'!A2940,\"\")","v":""},0,0,0,0,"",0,0,0,"","",0,"",0,"",{"$f":"IF(ROW()<$S$4+2,IF('XML a procesar'!A2940=\"\",P2940,IF(MID('XML a procesar'!A2940,1,1)=\"<\",P2940,P2940+1)),P2940)","v":1}]
[{"$f":"IF('XML a procesar'!A2941>0,'XML a procesar'!A2941,\"\")","v":""},0,0,0,0,"",0,0,0,"","",0,"",0,"",{"$f":"IF(ROW()<$S$4+2,IF('XML a procesar'!A2941=\"\",P2941,IF(MID('XML a procesar'!A2941,1,1)=\"<\",P2941,P2941+1)),P2941)","v":1}]
[{"$f":"IF('XML a procesar'!A2942>0,'XML a procesar'!A2942,\"\")","v":""},0,0,0,0,"",0,0,0,"","",0,"",0,"",{"$f":"IF(ROW()<$S$4+2,IF('XML a procesar'!A2942=\"\",P2942,IF(MID('XML a procesar'!A2942,1,1)=\"<\",P2942,P2942+1)),P2942)","v":1}]
[{"$f":"IF('XML a procesar'!A2943>0,'XML a procesar'!A2943,\"\")","v":""},0,0,0,0,"",0,0,0,"","",0,"",0,"",{"$f":"IF(ROW()<$S$4+2,IF('XML a procesar'!A2943=\"\",P2943,IF(MID('XML a procesar'!A2943,1,1)=\"<\",P2943,P2943+1)),P2943)","v":1}]
[{"$f":"IF('XML a procesar'!A2944>0,'XML a procesar'!A2944,\"\")","v":""},{"$f":"IF(ISERROR(FIND(\"/doi.org/\",A2945,1)),0,1)","v":0},{"$f":"IF(LEFT(A2944,16)=\"<contrib contrib\",C2944+1,IF(LEFT(A2944,16)=\"</contrib-group>\",0,IF(LEFT(A2944,10)=\"</contrib>\",C2944,C2944)))","v":0},{"$f":"IF(AND(C2945>0,LEFT(A2945,7)=\"<email>\",ISNUMBER(SEARCH(\"@\",A2945,1))),C2945,IF(LEFT(A2945,10)=\"<alt-text>\",-1,0))","v":0},{"$f":"IF(D2945=0,E2944,E2944+1)","v":0},{"$f":"INDIRECT(ADDRESS(ROW()+INDIRECT(ADDRESS(ROW()+E2945,5)),1))","v":""},{"$f":"IF(LEFT(F2945,7)=\"<aff id\",_xlfn.NUMBERVALUE(MID(F2945,13,LEN(F2945)-14)),IF(F2945=\"</aff>\",G2944+1,G2944))","v":0},0,{"$f":"INDIRECT(ADDRESS(ROW()-INDIRECT(ADDRESS(ROW()-H2945,8)),8))","v":0},{"$f":"IF(J2944=\"Linea_para_MAIL_creada_por_LuXML\",\"</aff>\",IF(I2945>INDIRECT(ADDRESS(ROW()-I2945-1,8)),\"Linea_para_MAIL_creada_por_LuXML\",INDIRECT(ADDRESS(ROW()-I2945,6))))","v":""},"",{"$f":"IF(OR(MID(K2943,3,5)=\"page>\",MID(K2944,3,5)=\"page>\"),L2944,IF(OR(K2944=\"<history>\",K2945=\"<history>\"),L2944+1,L2944))","v":0},{"$f":"IF(L2945>L2944,IF(L2945=1,CONCATENATE(\"<fpage>\",$S$10,\"</fpage>\"),CONCATENATE(\"<lpage>\",$S$10+1,\"</lpage>\")),IF(ISERROR(INDIRECT(ADDRESS(ROW()-L2945,11),1)),\"\",INDIRECT(ADDRESS(ROW()-L2945,11),1)))","v":""},{"$f":"IF(N2944=-1,-1,IF(M2945=\"</counts>\",-1,IF(OR(LEFT(M2945,7)=\"<fpage>\",LEFT(M2945,7)=\"<lpage>\"),VALUE(MID(M2945,8,LEN(M2945)-15)),0)))","v":0},"",{"$f":"IF(ROW()<$S$4+2,IF('XML a procesar'!A2944=\"\",P2944,IF(MID('XML a procesar'!A2944,1,1)=\"<\",P2944,P2944+1)),P2944)","v":1}]
[{"$f":"IF('XML a procesar'!A2945>0,'XML a procesar'!A2945,\"\")","v":""},0,0,0,0,"",0,0,0,"","",0,"",0,{"$f":"IF(N2946>-1,INDIRECT(ADDRESS(ROW(),13)),IF(N2946<N2945,CONCATENATE(\"<page-count count=\",CHAR(34),1+LARGE(N:N,1)-LARGE(N:N,2),CHAR(34),\"/>\"),INDIRECT(ADDRESS(ROW()-1,13))))","v":""},{"$f":"IF(ROW()<$S$4+2,IF('XML a procesar'!A2945=\"\",P2945,IF(MID('XML a procesar'!A2945,1,1)=\"<\",P2945,P2945+1)),P2945)","v":1}]
[{"$f":"IF('XML a procesar'!A2946>0,'XML a procesar'!A2946,\"\")","v":""},0,0,0,0,"",0,{"$f":"IF(AND(G2946>0,G2947>G2946,NOT(ISERROR(MATCH(G2946,D:D,0)))),H2946+1,H2946)","v":0},0,"",{"$f":"IF(J2947=\"Linea_para_MAIL_creada_por_LuXML\",IF(ISERROR(MATCH(INDIRECT(ADDRESS(ROW()-G2947,7)),D:D,0)),J2947,INDIRECT(ADDRESS(MATCH(INDIRECT(ADDRESS(ROW()-G2947,7)),D:D,0),1))),J2947)","v":""},0,"",0,"",{"$f":"IF(ROW()<$S$4+2,IF('XML a procesar'!A2946=\"\",P2946,IF(MID('XML a procesar'!A2946,1,1)=\"<\",P2946,P2946+1)),P2946)","v":1}]
[{"$f":"IF('XML a procesar'!A2947>0,'XML a procesar'!A2947,\"\")","v":""},0,0,0,0,"",0,0,0,"","",0,"",0,"",{"$f":"IF(ROW()<$S$4+2,IF('XML a procesar'!A2947=\"\",P2947,IF(MID('XML a procesar'!A2947,1,1)=\"<\",P2947,P2947+1)),P2947)","v":1}]
[{"$f":"IF('XML a procesar'!A2948>0,'XML a procesar'!A2948,\"\")","v":""},0,0,0,0,"",0,0,0,"","",0,"",0,"",{"$f":"IF(ROW()<$S$4+2,IF('XML a procesar'!A2948=\"\",P2948,IF(MID('XML a procesar'!A2948,1,1)=\"<\",P2948,P2948+1)),P2948)","v":1}]
[{"$f":"IF('XML a procesar'!A2949>0,'XML a procesar'!A2949,\"\")","v":""},0,0,0,0,"",0,0,0,"","",0,"",0,"",{"$f":"IF(ROW()<$S$4+2,IF('XML a procesar'!A2949=\"\",P2949,IF(MID('XML a procesar'!A2949,1,1)=\"<\",P2949,P2949+1)),P2949)","v":1}]
[{"$f":"IF('XML a procesar'!A2950>0,'XML a procesar'!A2950,\"\")","v":""},0,0,0,0,"",0,0,0,"","",0,"",0,"",{"$f":"IF(ROW()<$S$4+2,IF('XML a procesar'!A2950=\"\",P2950,IF(MID('XML a procesar'!A2950,1,1)=\"<\",P2950,P2950+1)),P2950)","v":1}]
[{"$f":"IF('XML a procesar'!A2951>0,'XML a procesar'!A2951,\"\")","v":""},0,0,0,0,"",0,0,0,"","",0,"",0,"",{"$f":"IF(ROW()<$S$4+2,IF('XML a procesar'!A2951=\"\",P2951,IF(MID('XML a procesar'!A2951,1,1)=\"<\",P2951,P2951+1)),P2951)","v":1}]
[{"$f":"IF('XML a procesar'!A2952>0,'XML a procesar'!A2952,\"\")","v":""},0,0,0,0,"",0,0,0,"","",0,"",0,"",{"$f":"IF(ROW()<$S$4+2,IF('XML a procesar'!A2952=\"\",P2952,IF(MID('XML a procesar'!A2952,1,1)=\"<\",P2952,P2952+1)),P2952)","v":1}]
[{"$f":"IF('XML a procesar'!A2953>0,'XML a procesar'!A2953,\"\")","v":""},0,0,0,0,"",0,0,0,"","",0,"",0,"",{"$f":"IF(ROW()<$S$4+2,IF('XML a procesar'!A2953=\"\",P2953,IF(MID('XML a procesar'!A2953,1,1)=\"<\",P2953,P2953+1)),P2953)","v":1}]
[{"$f":"IF('XML a procesar'!A2954>0,'XML a procesar'!A2954,\"\")","v":""},0,0,0,0,"",0,0,0,"","",0,"",0,"",{"$f":"IF(ROW()<$S$4+2,IF('XML a procesar'!A2954=\"\",P2954,IF(MID('XML a procesar'!A2954,1,1)=\"<\",P2954,P2954+1)),P2954)","v":1}]
[{"$f":"IF('XML a procesar'!A2955>0,'XML a procesar'!A2955,\"\")","v":""},0,0,0,0,"",0,0,0,"","",0,"",0,"",{"$f":"IF(ROW()<$S$4+2,IF('XML a procesar'!A2955=\"\",P2955,IF(MID('XML a procesar'!A2955,1,1)=\"<\",P2955,P2955+1)),P2955)","v":1}]
[{"$f":"IF('XML a procesar'!A2956>0,'XML a procesar'!A2956,\"\")","v":""},0,0,0,0,"",0,0,0,"","",0,"",0,"",{"$f":"IF(ROW()<$S$4+2,IF('XML a procesar'!A2956=\"\",P2956,IF(MID('XML a procesar'!A2956,1,1)=\"<\",P2956,P2956+1)),P2956)","v":1}]
[{"$f":"IF('XML a procesar'!A2957>0,'XML a procesar'!A2957,\"\")","v":""},0,0,0,0,"",0,0,0,"","",0,"",0,"",{"$f":"IF(ROW()<$S$4+2,IF('XML a procesar'!A2957=\"\",P2957,IF(MID('XML a procesar'!A2957,1,1)=\"<\",P2957,P2957+1)),P2957)","v":1}]
[{"$f":"IF('XML a procesar'!A2958>0,'XML a procesar'!A2958,\"\")","v":""},0,0,0,0,"",0,0,0,"","",0,"",0,"",{"$f":"IF(ROW()<$S$4+2,IF('XML a procesar'!A2958=\"\",P2958,IF(MID('XML a procesar'!A2958,1,1)=\"<\",P2958,P2958+1)),P2958)","v":1}]
[{"$f":"IF('XML a procesar'!A2959>0,'XML a procesar'!A2959,\"\")","v":""},0,0,0,0,"",0,0,0,"","",0,"",0,"",{"$f":"IF(ROW()<$S$4+2,IF('XML a procesar'!A2959=\"\",P2959,IF(MID('XML a procesar'!A2959,1,1)=\"<\",P2959,P2959+1)),P2959)","v":1}]
[{"$f":"IF('XML a procesar'!A2960>0,'XML a procesar'!A2960,\"\")","v":""},0,0,0,0,"",0,0,0,"","",0,"",0,"",{"$f":"IF(ROW()<$S$4+2,IF('XML a procesar'!A2960=\"\",P2960,IF(MID('XML a procesar'!A2960,1,1)=\"<\",P2960,P2960+1)),P2960)","v":1}]
[{"$f":"IF('XML a procesar'!A2961>0,'XML a procesar'!A2961,\"\")","v":""},0,0,0,0,"",0,0,0,"","",0,"",0,"",{"$f":"IF(ROW()<$S$4+2,IF('XML a procesar'!A2961=\"\",P2961,IF(MID('XML a procesar'!A2961,1,1)=\"<\",P2961,P2961+1)),P2961)","v":1}]
[{"$f":"IF('XML a procesar'!A2962>0,'XML a procesar'!A2962,\"\")","v":""},0,0,0,0,"",0,0,0,"","",0,"",0,"",{"$f":"IF(ROW()<$S$4+2,IF('XML a procesar'!A2962=\"\",P2962,IF(MID('XML a procesar'!A2962,1,1)=\"<\",P2962,P2962+1)),P2962)","v":1}]
[{"$f":"IF('XML a procesar'!A2963>0,'XML a procesar'!A2963,\"\")","v":""},0,0,0,0,"",0,0,0,"","",0,"",0,"",{"$f":"IF(ROW()<$S$4+2,IF('XML a procesar'!A2963=\"\",P2963,IF(MID('XML a procesar'!A2963,1,1)=\"<\",P2963,P2963+1)),P2963)","v":1}]
[{"$f":"IF('XML a procesar'!A2964>0,'XML a procesar'!A2964,\"\")","v":""},0,0,0,0,"",0,0,0,"","",0,"",0,"",{"$f":"IF(ROW()<$S$4+2,IF('XML a procesar'!A2964=\"\",P2964,IF(MID('XML a procesar'!A2964,1,1)=\"<\",P2964,P2964+1)),P2964)","v":1}]
[{"$f":"IF('XML a procesar'!A2965>0,'XML a procesar'!A2965,\"\")","v":""},0,0,0,0,"",0,0,0,"","",0,"",0,"",{"$f":"IF(ROW()<$S$4+2,IF('XML a procesar'!A2965=\"\",P2965,IF(MID('XML a procesar'!A2965,1,1)=\"<\",P2965,P2965+1)),P2965)","v":1}]
[{"$f":"IF('XML a procesar'!A2966>0,'XML a procesar'!A2966,\"\")","v":""},0,0,0,0,"",0,0,0,"","",0,"",0,"",{"$f":"IF(ROW()<$S$4+2,IF('XML a procesar'!A2966=\"\",P2966,IF(MID('XML a procesar'!A2966,1,1)=\"<\",P2966,P2966+1)),P2966)","v":1}]
[{"$f":"IF('XML a procesar'!A2967>0,'XML a procesar'!A2967,\"\")","v":""},0,0,0,0,"",0,0,0,"","",0,"",0,"",{"$f":"IF(ROW()<$S$4+2,IF('XML a procesar'!A2967=\"\",P2967,IF(MID('XML a procesar'!A2967,1,1)=\"<\",P2967,P2967+1)),P2967)","v":1}]
[{"$f":"IF('XML a procesar'!A2968>0,'XML a procesar'!A2968,\"\")","v":""},0,0,0,0,"",0,0,0,"","",0,"",0,"",{"$f":"IF(ROW()<$S$4+2,IF('XML a procesar'!A2968=\"\",P2968,IF(MID('XML a procesar'!A2968,1,1)=\"<\",P2968,P2968+1)),P2968)","v":1}]
[{"$f":"IF('XML a procesar'!A2969>0,'XML a procesar'!A2969,\"\")","v":""},0,0,0,0,"",0,0,0,"","",0,"",0,"",{"$f":"IF(ROW()<$S$4+2,IF('XML a procesar'!A2969=\"\",P2969,IF(MID('XML a procesar'!A2969,1,1)=\"<\",P2969,P2969+1)),P2969)","v":1}]
[{"$f":"IF('XML a procesar'!A2970>0,'XML a procesar'!A2970,\"\")","v":""},0,0,0,0,"",0,0,0,"","",0,"",0,"",{"$f":"IF(ROW()<$S$4+2,IF('XML a procesar'!A2970=\"\",P2970,IF(MID('XML a procesar'!A2970,1,1)=\"<\",P2970,P2970+1)),P2970)","v":1}]
[{"$f":"IF('XML a procesar'!A2971>0,'XML a procesar'!A2971,\"\")","v":""},0,0,0,0,"",0,0,0,"","",0,"",0,"",{"$f":"IF(ROW()<$S$4+2,IF('XML a procesar'!A2971=\"\",P2971,IF(MID('XML a procesar'!A2971,1,1)=\"<\",P2971,P2971+1)),P2971)","v":1}]
[{"$f":"IF('XML a procesar'!A2972>0,'XML a procesar'!A2972,\"\")","v":""},0,0,0,0,"",0,0,0,"","",0,"",0,"",{"$f":"IF(ROW()<$S$4+2,IF('XML a procesar'!A2972=\"\",P2972,IF(MID('XML a procesar'!A2972,1,1)=\"<\",P2972,P2972+1)),P2972)","v":1}]
[{"$f":"IF('XML a procesar'!A2973>0,'XML a procesar'!A2973,\"\")","v":""},0,0,0,0,"",0,0,0,"","",0,"",0,"",{"$f":"IF(ROW()<$S$4+2,IF('XML a procesar'!A2973=\"\",P2973,IF(MID('XML a procesar'!A2973,1,1)=\"<\",P2973,P2973+1)),P2973)","v":1}]
[{"$f":"IF('XML a procesar'!A2974>0,'XML a procesar'!A2974,\"\")","v":""},0,0,0,0,"",0,0,0,"","",0,"",0,"",{"$f":"IF(ROW()<$S$4+2,IF('XML a procesar'!A2974=\"\",P2974,IF(MID('XML a procesar'!A2974,1,1)=\"<\",P2974,P2974+1)),P2974)","v":1}]
[{"$f":"IF('XML a procesar'!A2975>0,'XML a procesar'!A2975,\"\")","v":""},0,0,0,0,"",0,0,0,"","",0,"",0,"",{"$f":"IF(ROW()<$S$4+2,IF('XML a procesar'!A2975=\"\",P2975,IF(MID('XML a procesar'!A2975,1,1)=\"<\",P2975,P2975+1)),P2975)","v":1}]
[{"$f":"IF('XML a procesar'!A2976>0,'XML a procesar'!A2976,\"\")","v":""},0,0,0,0,"",0,0,0,"","",0,"",0,"",{"$f":"IF(ROW()<$S$4+2,IF('XML a procesar'!A2976=\"\",P2976,IF(MID('XML a procesar'!A2976,1,1)=\"<\",P2976,P2976+1)),P2976)","v":1}]
[{"$f":"IF('XML a procesar'!A2977>0,'XML a procesar'!A2977,\"\")","v":""},0,0,0,0,"",0,0,0,"","",0,"",0,"",{"$f":"IF(ROW()<$S$4+2,IF('XML a procesar'!A2977=\"\",P2977,IF(MID('XML a procesar'!A2977,1,1)=\"<\",P2977,P2977+1)),P2977)","v":1}]
[{"$f":"IF('XML a procesar'!A2978>0,'XML a procesar'!A2978,\"\")","v":""},0,0,0,0,"",0,0,0,"","",0,"",0,"",{"$f":"IF(ROW()<$S$4+2,IF('XML a procesar'!A2978=\"\",P2978,IF(MID('XML a procesar'!A2978,1,1)=\"<\",P2978,P2978+1)),P2978)","v":1}]
[{"$f":"IF('XML a procesar'!A2979>0,'XML a procesar'!A2979,\"\")","v":""},0,0,0,0,"",0,0,0,"","",0,"",0,"",{"$f":"IF(ROW()<$S$4+2,IF('XML a procesar'!A2979=\"\",P2979,IF(MID('XML a procesar'!A2979,1,1)=\"<\",P2979,P2979+1)),P2979)","v":1}]
[{"$f":"IF('XML a procesar'!A2980>0,'XML a procesar'!A2980,\"\")","v":""},0,0,0,0,"",0,0,0,"","",0,"",0,"",{"$f":"IF(ROW()<$S$4+2,IF('XML a procesar'!A2980=\"\",P2980,IF(MID('XML a procesar'!A2980,1,1)=\"<\",P2980,P2980+1)),P2980)","v":1}]
[{"$f":"IF('XML a procesar'!A2981>0,'XML a procesar'!A2981,\"\")","v":""},0,0,0,0,"",0,0,0,"","",0,"",0,"",{"$f":"IF(ROW()<$S$4+2,IF('XML a procesar'!A2981=\"\",P2981,IF(MID('XML a procesar'!A2981,1,1)=\"<\",P2981,P2981+1)),P2981)","v":1}]
[{"$f":"IF('XML a procesar'!A2982>0,'XML a procesar'!A2982,\"\")","v":""},0,0,0,0,"",0,0,0,"","",0,"",0,"",{"$f":"IF(ROW()<$S$4+2,IF('XML a procesar'!A2982=\"\",P2982,IF(MID('XML a procesar'!A2982,1,1)=\"<\",P2982,P2982+1)),P2982)","v":1}]
[{"$f":"IF('XML a procesar'!A2983>0,'XML a procesar'!A2983,\"\")","v":""},0,0,0,0,"",0,0,0,"","",0,"",0,"",{"$f":"IF(ROW()<$S$4+2,IF('XML a procesar'!A2983=\"\",P2983,IF(MID('XML a procesar'!A2983,1,1)=\"<\",P2983,P2983+1)),P2983)","v":1}]
[{"$f":"IF('XML a procesar'!A2984>0,'XML a procesar'!A2984,\"\")","v":""},0,0,0,0,"",0,0,0,"","",0,"",0,"",{"$f":"IF(ROW()<$S$4+2,IF('XML a procesar'!A2984=\"\",P2984,IF(MID('XML a procesar'!A2984,1,1)=\"<\",P2984,P2984+1)),P2984)","v":1}]
[{"$f":"IF('XML a procesar'!A2985>0,'XML a procesar'!A2985,\"\")","v":""},0,0,0,0,"",0,0,0,"","",0,"",0,"",{"$f":"IF(ROW()<$S$4+2,IF('XML a procesar'!A2985=\"\",P2985,IF(MID('XML a procesar'!A2985,1,1)=\"<\",P2985,P2985+1)),P2985)","v":1}]
[{"$f":"IF('XML a procesar'!A2986>0,'XML a procesar'!A2986,\"\")","v":""},0,0,0,0,"",0,0,0,"","",0,"",0,"",{"$f":"IF(ROW()<$S$4+2,IF('XML a procesar'!A2986=\"\",P2986,IF(MID('XML a procesar'!A2986,1,1)=\"<\",P2986,P2986+1)),P2986)","v":1}]
[{"$f":"IF('XML a procesar'!A2987>0,'XML a procesar'!A2987,\"\")","v":""},0,0,0,0,"",0,0,0,"","",0,"",0,"",{"$f":"IF(ROW()<$S$4+2,IF('XML a procesar'!A2987=\"\",P2987,IF(MID('XML a procesar'!A2987,1,1)=\"<\",P2987,P2987+1)),P2987)","v":1}]
[{"$f":"IF('XML a procesar'!A2988>0,'XML a procesar'!A2988,\"\")","v":""},0,0,0,0,"",0,0,0,"","",0,"",0,"",{"$f":"IF(ROW()<$S$4+2,IF('XML a procesar'!A2988=\"\",P2988,IF(MID('XML a procesar'!A2988,1,1)=\"<\",P2988,P2988+1)),P2988)","v":1}]
[{"$f":"IF('XML a procesar'!A2989>0,'XML a procesar'!A2989,\"\")","v":""},0,0,0,0,"",0,0,0,"","",0,"",0,"",{"$f":"IF(ROW()<$S$4+2,IF('XML a procesar'!A2989=\"\",P2989,IF(MID('XML a procesar'!A2989,1,1)=\"<\",P2989,P2989+1)),P2989)","v":1}]
[{"$f":"IF('XML a procesar'!A2990>0,'XML a procesar'!A2990,\"\")","v":""},0,0,0,0,"",0,0,0,"","",0,"",0,"",{"$f":"IF(ROW()<$S$4+2,IF('XML a procesar'!A2990=\"\",P2990,IF(MID('XML a procesar'!A2990,1,1)=\"<\",P2990,P2990+1)),P2990)","v":1}]
[{"$f":"IF('XML a procesar'!A2991>0,'XML a procesar'!A2991,\"\")","v":""},0,0,0,0,"",0,0,0,"","",0,"",0,"",{"$f":"IF(ROW()<$S$4+2,IF('XML a procesar'!A2991=\"\",P2991,IF(MID('XML a procesar'!A2991,1,1)=\"<\",P2991,P2991+1)),P2991)","v":1}]
[{"$f":"IF('XML a procesar'!A2992>0,'XML a procesar'!A2992,\"\")","v":""},0,0,0,0,"",0,0,0,"","",0,"",0,"",{"$f":"IF(ROW()<$S$4+2,IF('XML a procesar'!A2992=\"\",P2992,IF(MID('XML a procesar'!A2992,1,1)=\"<\",P2992,P2992+1)),P2992)","v":1}]
[{"$f":"IF('XML a procesar'!A2993>0,'XML a procesar'!A2993,\"\")","v":""},0,0,0,0,"",0,0,0,"","",0,"",0,"",{"$f":"IF(ROW()<$S$4+2,IF('XML a procesar'!A2993=\"\",P2993,IF(MID('XML a procesar'!A2993,1,1)=\"<\",P2993,P2993+1)),P2993)","v":1}]
[{"$f":"IF('XML a procesar'!A2994>0,'XML a procesar'!A2994,\"\")","v":""},0,0,0,0,"",0,0,0,"","",0,"",0,"",{"$f":"IF(ROW()<$S$4+2,IF('XML a procesar'!A2994=\"\",P2994,IF(MID('XML a procesar'!A2994,1,1)=\"<\",P2994,P2994+1)),P2994)","v":1}]
[{"$f":"IF('XML a procesar'!A2995>0,'XML a procesar'!A2995,\"\")","v":""},0,0,0,0,"",0,0,0,"","",0,"",0,"",{"$f":"IF(ROW()<$S$4+2,IF('XML a procesar'!A2995=\"\",P2995,IF(MID('XML a procesar'!A2995,1,1)=\"<\",P2995,P2995+1)),P2995)","v":1}]
[{"$f":"IF('XML a procesar'!A2996>0,'XML a procesar'!A2996,\"\")","v":""},0,0,0,0,"",0,0,0,"","",0,"",0,"",{"$f":"IF(ROW()<$S$4+2,IF('XML a procesar'!A2996=\"\",P2996,IF(MID('XML a procesar'!A2996,1,1)=\"<\",P2996,P2996+1)),P2996)","v":1}]
[{"$f":"IF('XML a procesar'!A2997>0,'XML a procesar'!A2997,\"\")","v":""},0,0,0,0,"",0,0,0,"","",0,"",0,"",{"$f":"IF(ROW()<$S$4+2,IF('XML a procesar'!A2997=\"\",P2997,IF(MID('XML a procesar'!A2997,1,1)=\"<\",P2997,P2997+1)),P2997)","v":1}]
[{"$f":"IF('XML a procesar'!A2998>0,'XML a procesar'!A2998,\"\")","v":""},0,0,0,0,"",0,0,0,"","",0,"",0,"",{"$f":"IF(ROW()<$S$4+2,IF('XML a procesar'!A2998=\"\",P2998,IF(MID('XML a procesar'!A2998,1,1)=\"<\",P2998,P2998+1)),P2998)","v":1}]
[{"$f":"IF('XML a procesar'!A2999>0,'XML a procesar'!A2999,\"\")","v":""},0,0,0,0,"",0,0,0,"","",0,"",0,"",{"$f":"IF(ROW()<$S$4+2,IF('XML a procesar'!A2999=\"\",P2999,IF(MID('XML a procesar'!A2999,1,1)=\"<\",P2999,P2999+1)),P2999)","v":1}]
[{"$f":"IF('XML a procesar'!A3000>0,'XML a procesar'!A3000,\"\")","v":""},0,0,0,0,"",0,0,0,"","",0,"",0,"",{"$f":"IF(ROW()<$S$4+2,IF('XML a procesar'!A3000=\"\",P3000,IF(MID('XML a procesar'!A3000,1,1)=\"<\",P3000,P3000+1)),P3000)","v":1}]
[{"$f":"IF('XML a procesar'!A3001>0,'XML a procesar'!A3001,\"\")","v":""},0,0,0,0,"",0,0,0,"","",0,"",0,"",{"$f":"IF(ROW()<$S$4+2,IF('XML a procesar'!A3001=\"\",P3001,IF(MID('XML a procesar'!A3001,1,1)=\"<\",P3001,P3001+1)),P3001)","v":1}]
[{"$f":"IF('XML a procesar'!A3002>0,'XML a procesar'!A3002,\"\")","v":""},0,0,0,0,"",0,0,0,"","",0,"",0,"",{"$f":"IF(ROW()<$S$4+2,IF('XML a procesar'!A3002=\"\",P3002,IF(MID('XML a procesar'!A3002,1,1)=\"<\",P3002,P3002+1)),P3002)","v":1}]
[{"$f":"IF('XML a procesar'!A3003>0,'XML a procesar'!A3003,\"\")","v":""},0,0,0,0,"",0,0,0,"","",0,"",0,"",{"$f":"IF(ROW()<$S$4+2,IF('XML a procesar'!A3003=\"\",P3003,IF(MID('XML a procesar'!A3003,1,1)=\"<\",P3003,P3003+1)),P3003)","v":1}]
[{"$f":"IF('XML a procesar'!A3004>0,'XML a procesar'!A3004,\"\")","v":""},0,0,0,0,"",0,0,0,"","",0,"",0,"",{"$f":"IF(ROW()<$S$4+2,IF('XML a procesar'!A3004=\"\",P3004,IF(MID('XML a procesar'!A3004,1,1)=\"<\",P3004,P3004+1)),P3004)","v":1}]
[{"$f":"IF('XML a procesar'!A3005>0,'XML a procesar'!A3005,\"\")","v":""},0,0,0,0,"",0,0,0,"","",0,"",0,"",{"$f":"IF(ROW()<$S$4+2,IF('XML a procesar'!A3005=\"\",P3005,IF(MID('XML a procesar'!A3005,1,1)=\"<\",P3005,P3005+1)),P3005)","v":1}]
[{"$f":"IF('XML a procesar'!A3006>0,'XML a procesar'!A3006,\"\")","v":""},0,0,0,0,"",0,0,0,"","",0,"",0,"",{"$f":"IF(ROW()<$S$4+2,IF('XML a procesar'!A3006=\"\",P3006,IF(MID('XML a procesar'!A3006,1,1)=\"<\",P3006,P3006+1)),P3006)","v":1}]
[{"$f":"IF('XML a procesar'!A3007>0,'XML a procesar'!A3007,\"\")","v":""},0,0,0,0,"",0,0,0,"","",0,"",0,"",{"$f":"IF(ROW()<$S$4+2,IF('XML a procesar'!A3007=\"\",P3007,IF(MID('XML a procesar'!A3007,1,1)=\"<\",P3007,P3007+1)),P3007)","v":1}]
[{"$f":"IF('XML a procesar'!A3008>0,'XML a procesar'!A3008,\"\")","v":""},{"$f":"IF(ISERROR(FIND(\"/doi.org/\",A3009,1)),0,1)","v":0},{"$f":"IF(LEFT(A3008,16)=\"<contrib contrib\",C3008+1,IF(LEFT(A3008,16)=\"</contrib-group>\",0,IF(LEFT(A3008,10)=\"</contrib>\",C3008,C3008)))","v":0},{"$f":"IF(AND(C3009>0,LEFT(A3009,7)=\"<email>\",ISNUMBER(SEARCH(\"@\",A3009,1))),C3009,IF(LEFT(A3009,10)=\"<alt-text>\",-1,0))","v":0},{"$f":"IF(D3009=0,E3008,E3008+1)","v":0},{"$f":"INDIRECT(ADDRESS(ROW()+INDIRECT(ADDRESS(ROW()+E3009,5)),1))","v":""},{"$f":"IF(LEFT(F3009,7)=\"<aff id\",_xlfn.NUMBERVALUE(MID(F3009,13,LEN(F3009)-14)),IF(F3009=\"</aff>\",G3008+1,G3008))","v":0},0,{"$f":"INDIRECT(ADDRESS(ROW()-INDIRECT(ADDRESS(ROW()-H3009,8)),8))","v":0},{"$f":"IF(J3008=\"Linea_para_MAIL_creada_por_LuXML\",\"</aff>\",IF(I3009>INDIRECT(ADDRESS(ROW()-I3009-1,8)),\"Linea_para_MAIL_creada_por_LuXML\",INDIRECT(ADDRESS(ROW()-I3009,6))))","v":""},"",{"$f":"IF(OR(MID(K3007,3,5)=\"page>\",MID(K3008,3,5)=\"page>\"),L3008,IF(OR(K3008=\"<history>\",K3009=\"<history>\"),L3008+1,L3008))","v":0},{"$f":"IF(L3009>L3008,IF(L3009=1,CONCATENATE(\"<fpage>\",$S$10,\"</fpage>\"),CONCATENATE(\"<lpage>\",$S$10+1,\"</lpage>\")),IF(ISERROR(INDIRECT(ADDRESS(ROW()-L3009,11),1)),\"\",INDIRECT(ADDRESS(ROW()-L3009,11),1)))","v":""},{"$f":"IF(N3008=-1,-1,IF(M3009=\"</counts>\",-1,IF(OR(LEFT(M3009,7)=\"<fpage>\",LEFT(M3009,7)=\"<lpage>\"),VALUE(MID(M3009,8,LEN(M3009)-15)),0)))","v":0},"",{"$f":"IF(ROW()<$S$4+2,IF('XML a procesar'!A3008=\"\",P3008,IF(MID('XML a procesar'!A3008,1,1)=\"<\",P3008,P3008+1)),P3008)","v":1}]
[{"$f":"IF('XML a procesar'!A3009>0,'XML a procesar'!A3009,\"\")","v":""},0,0,0,0,"",0,0,0,"","",0,"",0,{"$f":"IF(N3010>-1,INDIRECT(ADDRESS(ROW(),13)),IF(N3010<N3009,CONCATENATE(\"<page-count count=\",CHAR(34),1+LARGE(N:N,1)-LARGE(N:N,2),CHAR(34),\"/>\"),INDIRECT(ADDRESS(ROW()-1,13))))","v":""},{"$f":"IF(ROW()<$S$4+2,IF('XML a procesar'!A3009=\"\",P3009,IF(MID('XML a procesar'!A3009,1,1)=\"<\",P3009,P3009+1)),P3009)","v":1}]
[{"$f":"IF('XML a procesar'!A3010>0,'XML a procesar'!A3010,\"\")","v":""},0,0,0,0,"",0,{"$f":"IF(AND(G3010>0,G3011>G3010,NOT(ISERROR(MATCH(G3010,D:D,0)))),H3010+1,H3010)","v":0},0,"",{"$f":"IF(J3011=\"Linea_para_MAIL_creada_por_LuXML\",IF(ISERROR(MATCH(INDIRECT(ADDRESS(ROW()-G3011,7)),D:D,0)),J3011,INDIRECT(ADDRESS(MATCH(INDIRECT(ADDRESS(ROW()-G3011,7)),D:D,0),1))),J3011)","v":""},0,"",0,"",{"$f":"IF(ROW()<$S$4+2,IF('XML a procesar'!A3010=\"\",P3010,IF(MID('XML a procesar'!A3010,1,1)=\"<\",P3010,P3010+1)),P3010)","v":1}]
[{"$f":"IF('XML a procesar'!A3011>0,'XML a procesar'!A3011,\"\")","v":""},0,0,0,0,"",0,0,0,"","",0,"",0,"",{"$f":"IF(ROW()<$S$4+2,IF('XML a procesar'!A3011=\"\",P3011,IF(MID('XML a procesar'!A3011,1,1)=\"<\",P3011,P3011+1)),P3011)","v":1}]
[{"$f":"IF('XML a procesar'!A3012>0,'XML a procesar'!A3012,\"\")","v":""},0,0,0,0,"",0,0,0,"","",0,"",0,"",{"$f":"IF(ROW()<$S$4+2,IF('XML a procesar'!A3012=\"\",P3012,IF(MID('XML a procesar'!A3012,1,1)=\"<\",P3012,P3012+1)),P3012)","v":1}]
[{"$f":"IF('XML a procesar'!A3013>0,'XML a procesar'!A3013,\"\")","v":""},0,0,0,0,"",0,0,0,"","",0,"",0,"",{"$f":"IF(ROW()<$S$4+2,IF('XML a procesar'!A3013=\"\",P3013,IF(MID('XML a procesar'!A3013,1,1)=\"<\",P3013,P3013+1)),P3013)","v":1}]
[{"$f":"IF('XML a procesar'!A3014>0,'XML a procesar'!A3014,\"\")","v":""},0,0,0,0,"",0,0,0,"","",0,"",0,"",{"$f":"IF(ROW()<$S$4+2,IF('XML a procesar'!A3014=\"\",P3014,IF(MID('XML a procesar'!A3014,1,1)=\"<\",P3014,P3014+1)),P3014)","v":1}]
[{"$f":"IF('XML a procesar'!A3015>0,'XML a procesar'!A3015,\"\")","v":""},0,0,0,0,"",0,0,0,"","",0,"",0,"",{"$f":"IF(ROW()<$S$4+2,IF('XML a procesar'!A3015=\"\",P3015,IF(MID('XML a procesar'!A3015,1,1)=\"<\",P3015,P3015+1)),P3015)","v":1}]
[{"$f":"IF('XML a procesar'!A3016>0,'XML a procesar'!A3016,\"\")","v":""},0,0,0,0,"",0,0,0,"","",0,"",0,"",{"$f":"IF(ROW()<$S$4+2,IF('XML a procesar'!A3016=\"\",P3016,IF(MID('XML a procesar'!A3016,1,1)=\"<\",P3016,P3016+1)),P3016)","v":1}]
[{"$f":"IF('XML a procesar'!A3017>0,'XML a procesar'!A3017,\"\")","v":""},0,0,0,0,"",0,0,0,"","",0,"",0,"",{"$f":"IF(ROW()<$S$4+2,IF('XML a procesar'!A3017=\"\",P3017,IF(MID('XML a procesar'!A3017,1,1)=\"<\",P3017,P3017+1)),P3017)","v":1}]
[{"$f":"IF('XML a procesar'!A3018>0,'XML a procesar'!A3018,\"\")","v":""},0,0,0,0,"",0,0,0,"","",0,"",0,"",{"$f":"IF(ROW()<$S$4+2,IF('XML a procesar'!A3018=\"\",P3018,IF(MID('XML a procesar'!A3018,1,1)=\"<\",P3018,P3018+1)),P3018)","v":1}]
[{"$f":"IF('XML a procesar'!A3019>0,'XML a procesar'!A3019,\"\")","v":""},0,0,0,0,"",0,0,0,"","",0,"",0,"",{"$f":"IF(ROW()<$S$4+2,IF('XML a procesar'!A3019=\"\",P3019,IF(MID('XML a procesar'!A3019,1,1)=\"<\",P3019,P3019+1)),P3019)","v":1}]
[{"$f":"IF('XML a procesar'!A3020>0,'XML a procesar'!A3020,\"\")","v":""},0,0,0,0,"",0,0,0,"","",0,"",0,"",{"$f":"IF(ROW()<$S$4+2,IF('XML a procesar'!A3020=\"\",P3020,IF(MID('XML a procesar'!A3020,1,1)=\"<\",P3020,P3020+1)),P3020)","v":1}]
[{"$f":"IF('XML a procesar'!A3021>0,'XML a procesar'!A3021,\"\")","v":""},0,0,0,0,"",0,0,0,"","",0,"",0,"",{"$f":"IF(ROW()<$S$4+2,IF('XML a procesar'!A3021=\"\",P3021,IF(MID('XML a procesar'!A3021,1,1)=\"<\",P3021,P3021+1)),P3021)","v":1}]
[{"$f":"IF('XML a procesar'!A3022>0,'XML a procesar'!A3022,\"\")","v":""},0,0,0,0,"",0,0,0,"","",0,"",0,"",{"$f":"IF(ROW()<$S$4+2,IF('XML a procesar'!A3022=\"\",P3022,IF(MID('XML a procesar'!A3022,1,1)=\"<\",P3022,P3022+1)),P3022)","v":1}]
[{"$f":"IF('XML a procesar'!A3023>0,'XML a procesar'!A3023,\"\")","v":""},0,0,0,0,"",0,0,0,"","",0,"",0,"",{"$f":"IF(ROW()<$S$4+2,IF('XML a procesar'!A3023=\"\",P3023,IF(MID('XML a procesar'!A3023,1,1)=\"<\",P3023,P3023+1)),P3023)","v":1}]
[{"$f":"IF('XML a procesar'!A3024>0,'XML a procesar'!A3024,\"\")","v":""},0,0,0,0,"",0,0,0,"","",0,"",0,"",{"$f":"IF(ROW()<$S$4+2,IF('XML a procesar'!A3024=\"\",P3024,IF(MID('XML a procesar'!A3024,1,1)=\"<\",P3024,P3024+1)),P3024)","v":1}]
[{"$f":"IF('XML a procesar'!A3025>0,'XML a procesar'!A3025,\"\")","v":""},0,0,0,0,"",0,0,0,"","",0,"",0,"",{"$f":"IF(ROW()<$S$4+2,IF('XML a procesar'!A3025=\"\",P3025,IF(MID('XML a procesar'!A3025,1,1)=\"<\",P3025,P3025+1)),P3025)","v":1}]
[{"$f":"IF('XML a procesar'!A3026>0,'XML a procesar'!A3026,\"\")","v":""},0,0,0,0,"",0,0,0,"","",0,"",0,"",{"$f":"IF(ROW()<$S$4+2,IF('XML a procesar'!A3026=\"\",P3026,IF(MID('XML a procesar'!A3026,1,1)=\"<\",P3026,P3026+1)),P3026)","v":1}]
[{"$f":"IF('XML a procesar'!A3027>0,'XML a procesar'!A3027,\"\")","v":""},0,0,0,0,"",0,0,0,"","",0,"",0,"",{"$f":"IF(ROW()<$S$4+2,IF('XML a procesar'!A3027=\"\",P3027,IF(MID('XML a procesar'!A3027,1,1)=\"<\",P3027,P3027+1)),P3027)","v":1}]
[{"$f":"IF('XML a procesar'!A3028>0,'XML a procesar'!A3028,\"\")","v":""},0,0,0,0,"",0,0,0,"","",0,"",0,"",{"$f":"IF(ROW()<$S$4+2,IF('XML a procesar'!A3028=\"\",P3028,IF(MID('XML a procesar'!A3028,1,1)=\"<\",P3028,P3028+1)),P3028)","v":1}]
[{"$f":"IF('XML a procesar'!A3029>0,'XML a procesar'!A3029,\"\")","v":""},0,0,0,0,"",0,0,0,"","",0,"",0,"",{"$f":"IF(ROW()<$S$4+2,IF('XML a procesar'!A3029=\"\",P3029,IF(MID('XML a procesar'!A3029,1,1)=\"<\",P3029,P3029+1)),P3029)","v":1}]
[{"$f":"IF('XML a procesar'!A3030>0,'XML a procesar'!A3030,\"\")","v":""},0,0,0,0,"",0,0,0,"","",0,"",0,"",{"$f":"IF(ROW()<$S$4+2,IF('XML a procesar'!A3030=\"\",P3030,IF(MID('XML a procesar'!A3030,1,1)=\"<\",P3030,P3030+1)),P3030)","v":1}]
[{"$f":"IF('XML a procesar'!A3031>0,'XML a procesar'!A3031,\"\")","v":""},0,0,0,0,"",0,0,0,"","",0,"",0,"",{"$f":"IF(ROW()<$S$4+2,IF('XML a procesar'!A3031=\"\",P3031,IF(MID('XML a procesar'!A3031,1,1)=\"<\",P3031,P3031+1)),P3031)","v":1}]
[{"$f":"IF('XML a procesar'!A3032>0,'XML a procesar'!A3032,\"\")","v":""},0,0,0,0,"",0,0,0,"","",0,"",0,"",{"$f":"IF(ROW()<$S$4+2,IF('XML a procesar'!A3032=\"\",P3032,IF(MID('XML a procesar'!A3032,1,1)=\"<\",P3032,P3032+1)),P3032)","v":1}]
[{"$f":"IF('XML a procesar'!A3033>0,'XML a procesar'!A3033,\"\")","v":""},0,0,0,0,"",0,0,0,"","",0,"",0,"",{"$f":"IF(ROW()<$S$4+2,IF('XML a procesar'!A3033=\"\",P3033,IF(MID('XML a procesar'!A3033,1,1)=\"<\",P3033,P3033+1)),P3033)","v":1}]
[{"$f":"IF('XML a procesar'!A3034>0,'XML a procesar'!A3034,\"\")","v":""},0,0,0,0,"",0,0,0,"","",0,"",0,"",{"$f":"IF(ROW()<$S$4+2,IF('XML a procesar'!A3034=\"\",P3034,IF(MID('XML a procesar'!A3034,1,1)=\"<\",P3034,P3034+1)),P3034)","v":1}]
[{"$f":"IF('XML a procesar'!A3035>0,'XML a procesar'!A3035,\"\")","v":""},0,0,0,0,"",0,0,0,"","",0,"",0,"",{"$f":"IF(ROW()<$S$4+2,IF('XML a procesar'!A3035=\"\",P3035,IF(MID('XML a procesar'!A3035,1,1)=\"<\",P3035,P3035+1)),P3035)","v":1}]
[{"$f":"IF('XML a procesar'!A3036>0,'XML a procesar'!A3036,\"\")","v":""},0,0,0,0,"",0,0,0,"","",0,"",0,"",{"$f":"IF(ROW()<$S$4+2,IF('XML a procesar'!A3036=\"\",P3036,IF(MID('XML a procesar'!A3036,1,1)=\"<\",P3036,P3036+1)),P3036)","v":1}]
[{"$f":"IF('XML a procesar'!A3037>0,'XML a procesar'!A3037,\"\")","v":""},0,0,0,0,"",0,0,0,"","",0,"",0,"",{"$f":"IF(ROW()<$S$4+2,IF('XML a procesar'!A3037=\"\",P3037,IF(MID('XML a procesar'!A3037,1,1)=\"<\",P3037,P3037+1)),P3037)","v":1}]
[{"$f":"IF('XML a procesar'!A3038>0,'XML a procesar'!A3038,\"\")","v":""},0,0,0,0,"",0,0,0,"","",0,"",0,"",{"$f":"IF(ROW()<$S$4+2,IF('XML a procesar'!A3038=\"\",P3038,IF(MID('XML a procesar'!A3038,1,1)=\"<\",P3038,P3038+1)),P3038)","v":1}]
[{"$f":"IF('XML a procesar'!A3039>0,'XML a procesar'!A3039,\"\")","v":""},0,0,0,0,"",0,0,0,"","",0,"",0,"",{"$f":"IF(ROW()<$S$4+2,IF('XML a procesar'!A3039=\"\",P3039,IF(MID('XML a procesar'!A3039,1,1)=\"<\",P3039,P3039+1)),P3039)","v":1}]
[{"$f":"IF('XML a procesar'!A3040>0,'XML a procesar'!A3040,\"\")","v":""},0,0,0,0,"",0,0,0,"","",0,"",0,"",{"$f":"IF(ROW()<$S$4+2,IF('XML a procesar'!A3040=\"\",P3040,IF(MID('XML a procesar'!A3040,1,1)=\"<\",P3040,P3040+1)),P3040)","v":1}]
[{"$f":"IF('XML a procesar'!A3041>0,'XML a procesar'!A3041,\"\")","v":""},0,0,0,0,"",0,0,0,"","",0,"",0,"",{"$f":"IF(ROW()<$S$4+2,IF('XML a procesar'!A3041=\"\",P3041,IF(MID('XML a procesar'!A3041,1,1)=\"<\",P3041,P3041+1)),P3041)","v":1}]
[{"$f":"IF('XML a procesar'!A3042>0,'XML a procesar'!A3042,\"\")","v":""},0,0,0,0,"",0,0,0,"","",0,"",0,"",{"$f":"IF(ROW()<$S$4+2,IF('XML a procesar'!A3042=\"\",P3042,IF(MID('XML a procesar'!A3042,1,1)=\"<\",P3042,P3042+1)),P3042)","v":1}]
[{"$f":"IF('XML a procesar'!A3043>0,'XML a procesar'!A3043,\"\")","v":""},0,0,0,0,"",0,0,0,"","",0,"",0,"",{"$f":"IF(ROW()<$S$4+2,IF('XML a procesar'!A3043=\"\",P3043,IF(MID('XML a procesar'!A3043,1,1)=\"<\",P3043,P3043+1)),P3043)","v":1}]
[{"$f":"IF('XML a procesar'!A3044>0,'XML a procesar'!A3044,\"\")","v":""},0,0,0,0,"",0,0,0,"","",0,"",0,"",{"$f":"IF(ROW()<$S$4+2,IF('XML a procesar'!A3044=\"\",P3044,IF(MID('XML a procesar'!A3044,1,1)=\"<\",P3044,P3044+1)),P3044)","v":1}]
[{"$f":"IF('XML a procesar'!A3045>0,'XML a procesar'!A3045,\"\")","v":""},0,0,0,0,"",0,0,0,"","",0,"",0,"",{"$f":"IF(ROW()<$S$4+2,IF('XML a procesar'!A3045=\"\",P3045,IF(MID('XML a procesar'!A3045,1,1)=\"<\",P3045,P3045+1)),P3045)","v":1}]
[{"$f":"IF('XML a procesar'!A3046>0,'XML a procesar'!A3046,\"\")","v":""},0,0,0,0,"",0,0,0,"","",0,"",0,"",{"$f":"IF(ROW()<$S$4+2,IF('XML a procesar'!A3046=\"\",P3046,IF(MID('XML a procesar'!A3046,1,1)=\"<\",P3046,P3046+1)),P3046)","v":1}]
[{"$f":"IF('XML a procesar'!A3047>0,'XML a procesar'!A3047,\"\")","v":""},0,0,0,0,"",0,0,0,"","",0,"",0,"",{"$f":"IF(ROW()<$S$4+2,IF('XML a procesar'!A3047=\"\",P3047,IF(MID('XML a procesar'!A3047,1,1)=\"<\",P3047,P3047+1)),P3047)","v":1}]
[{"$f":"IF('XML a procesar'!A3048>0,'XML a procesar'!A3048,\"\")","v":""},0,0,0,0,"",0,0,0,"","",0,"",0,"",{"$f":"IF(ROW()<$S$4+2,IF('XML a procesar'!A3048=\"\",P3048,IF(MID('XML a procesar'!A3048,1,1)=\"<\",P3048,P3048+1)),P3048)","v":1}]
[{"$f":"IF('XML a procesar'!A3049>0,'XML a procesar'!A3049,\"\")","v":""},0,0,0,0,"",0,0,0,"","",0,"",0,"",{"$f":"IF(ROW()<$S$4+2,IF('XML a procesar'!A3049=\"\",P3049,IF(MID('XML a procesar'!A3049,1,1)=\"<\",P3049,P3049+1)),P3049)","v":1}]
[{"$f":"IF('XML a procesar'!A3050>0,'XML a procesar'!A3050,\"\")","v":""},0,0,0,0,"",0,0,0,"","",0,"",0,"",{"$f":"IF(ROW()<$S$4+2,IF('XML a procesar'!A3050=\"\",P3050,IF(MID('XML a procesar'!A3050,1,1)=\"<\",P3050,P3050+1)),P3050)","v":1}]
[{"$f":"IF('XML a procesar'!A3051>0,'XML a procesar'!A3051,\"\")","v":""},0,0,0,0,"",0,0,0,"","",0,"",0,"",{"$f":"IF(ROW()<$S$4+2,IF('XML a procesar'!A3051=\"\",P3051,IF(MID('XML a procesar'!A3051,1,1)=\"<\",P3051,P3051+1)),P3051)","v":1}]
[{"$f":"IF('XML a procesar'!A3052>0,'XML a procesar'!A3052,\"\")","v":""},0,0,0,0,"",0,0,0,"","",0,"",0,"",{"$f":"IF(ROW()<$S$4+2,IF('XML a procesar'!A3052=\"\",P3052,IF(MID('XML a procesar'!A3052,1,1)=\"<\",P3052,P3052+1)),P3052)","v":1}]
[{"$f":"IF('XML a procesar'!A3053>0,'XML a procesar'!A3053,\"\")","v":""},0,0,0,0,"",0,0,0,"","",0,"",0,"",{"$f":"IF(ROW()<$S$4+2,IF('XML a procesar'!A3053=\"\",P3053,IF(MID('XML a procesar'!A3053,1,1)=\"<\",P3053,P3053+1)),P3053)","v":1}]
[{"$f":"IF('XML a procesar'!A3054>0,'XML a procesar'!A3054,\"\")","v":""},0,0,0,0,"",0,0,0,"","",0,"",0,"",{"$f":"IF(ROW()<$S$4+2,IF('XML a procesar'!A3054=\"\",P3054,IF(MID('XML a procesar'!A3054,1,1)=\"<\",P3054,P3054+1)),P3054)","v":1}]
[{"$f":"IF('XML a procesar'!A3055>0,'XML a procesar'!A3055,\"\")","v":""},0,0,0,0,"",0,0,0,"","",0,"",0,"",{"$f":"IF(ROW()<$S$4+2,IF('XML a procesar'!A3055=\"\",P3055,IF(MID('XML a procesar'!A3055,1,1)=\"<\",P3055,P3055+1)),P3055)","v":1}]
[{"$f":"IF('XML a procesar'!A3056>0,'XML a procesar'!A3056,\"\")","v":""},0,0,0,0,"",0,0,0,"","",0,"",0,"",{"$f":"IF(ROW()<$S$4+2,IF('XML a procesar'!A3056=\"\",P3056,IF(MID('XML a procesar'!A3056,1,1)=\"<\",P3056,P3056+1)),P3056)","v":1}]
[{"$f":"IF('XML a procesar'!A3057>0,'XML a procesar'!A3057,\"\")","v":""},0,0,0,0,"",0,0,0,"","",0,"",0,"",{"$f":"IF(ROW()<$S$4+2,IF('XML a procesar'!A3057=\"\",P3057,IF(MID('XML a procesar'!A3057,1,1)=\"<\",P3057,P3057+1)),P3057)","v":1}]
[{"$f":"IF('XML a procesar'!A3058>0,'XML a procesar'!A3058,\"\")","v":""},0,0,0,0,"",0,0,0,"","",0,"",0,"",{"$f":"IF(ROW()<$S$4+2,IF('XML a procesar'!A3058=\"\",P3058,IF(MID('XML a procesar'!A3058,1,1)=\"<\",P3058,P3058+1)),P3058)","v":1}]
[{"$f":"IF('XML a procesar'!A3059>0,'XML a procesar'!A3059,\"\")","v":""},0,0,0,0,"",0,0,0,"","",0,"",0,"",{"$f":"IF(ROW()<$S$4+2,IF('XML a procesar'!A3059=\"\",P3059,IF(MID('XML a procesar'!A3059,1,1)=\"<\",P3059,P3059+1)),P3059)","v":1}]
[{"$f":"IF('XML a procesar'!A3060>0,'XML a procesar'!A3060,\"\")","v":""},0,0,0,0,"",0,0,0,"","",0,"",0,"",{"$f":"IF(ROW()<$S$4+2,IF('XML a procesar'!A3060=\"\",P3060,IF(MID('XML a procesar'!A3060,1,1)=\"<\",P3060,P3060+1)),P3060)","v":1}]
[{"$f":"IF('XML a procesar'!A3061>0,'XML a procesar'!A3061,\"\")","v":""},0,0,0,0,"",0,0,0,"","",0,"",0,"",{"$f":"IF(ROW()<$S$4+2,IF('XML a procesar'!A3061=\"\",P3061,IF(MID('XML a procesar'!A3061,1,1)=\"<\",P3061,P3061+1)),P3061)","v":1}]
[{"$f":"IF('XML a procesar'!A3062>0,'XML a procesar'!A3062,\"\")","v":""},0,0,0,0,"",0,0,0,"","",0,"",0,"",{"$f":"IF(ROW()<$S$4+2,IF('XML a procesar'!A3062=\"\",P3062,IF(MID('XML a procesar'!A3062,1,1)=\"<\",P3062,P3062+1)),P3062)","v":1}]
[{"$f":"IF('XML a procesar'!A3063>0,'XML a procesar'!A3063,\"\")","v":""},0,0,0,0,"",0,0,0,"","",0,"",0,"",{"$f":"IF(ROW()<$S$4+2,IF('XML a procesar'!A3063=\"\",P3063,IF(MID('XML a procesar'!A3063,1,1)=\"<\",P3063,P3063+1)),P3063)","v":1}]
[{"$f":"IF('XML a procesar'!A3064>0,'XML a procesar'!A3064,\"\")","v":""},0,0,0,0,"",0,0,0,"","",0,"",0,"",{"$f":"IF(ROW()<$S$4+2,IF('XML a procesar'!A3064=\"\",P3064,IF(MID('XML a procesar'!A3064,1,1)=\"<\",P3064,P3064+1)),P3064)","v":1}]
[{"$f":"IF('XML a procesar'!A3065>0,'XML a procesar'!A3065,\"\")","v":""},0,0,0,0,"",0,0,0,"","",0,"",0,"",{"$f":"IF(ROW()<$S$4+2,IF('XML a procesar'!A3065=\"\",P3065,IF(MID('XML a procesar'!A3065,1,1)=\"<\",P3065,P3065+1)),P3065)","v":1}]
[{"$f":"IF('XML a procesar'!A3066>0,'XML a procesar'!A3066,\"\")","v":""},0,0,0,0,"",0,0,0,"","",0,"",0,"",{"$f":"IF(ROW()<$S$4+2,IF('XML a procesar'!A3066=\"\",P3066,IF(MID('XML a procesar'!A3066,1,1)=\"<\",P3066,P3066+1)),P3066)","v":1}]
[{"$f":"IF('XML a procesar'!A3067>0,'XML a procesar'!A3067,\"\")","v":""},0,0,0,0,"",0,0,0,"","",0,"",0,"",{"$f":"IF(ROW()<$S$4+2,IF('XML a procesar'!A3067=\"\",P3067,IF(MID('XML a procesar'!A3067,1,1)=\"<\",P3067,P3067+1)),P3067)","v":1}]
[{"$f":"IF('XML a procesar'!A3068>0,'XML a procesar'!A3068,\"\")","v":""},0,0,0,0,"",0,0,0,"","",0,"",0,"",{"$f":"IF(ROW()<$S$4+2,IF('XML a procesar'!A3068=\"\",P3068,IF(MID('XML a procesar'!A3068,1,1)=\"<\",P3068,P3068+1)),P3068)","v":1}]
[{"$f":"IF('XML a procesar'!A3069>0,'XML a procesar'!A3069,\"\")","v":""},0,0,0,0,"",0,0,0,"","",0,"",0,"",{"$f":"IF(ROW()<$S$4+2,IF('XML a procesar'!A3069=\"\",P3069,IF(MID('XML a procesar'!A3069,1,1)=\"<\",P3069,P3069+1)),P3069)","v":1}]
[{"$f":"IF('XML a procesar'!A3070>0,'XML a procesar'!A3070,\"\")","v":""},0,0,0,0,"",0,0,0,"","",0,"",0,"",{"$f":"IF(ROW()<$S$4+2,IF('XML a procesar'!A3070=\"\",P3070,IF(MID('XML a procesar'!A3070,1,1)=\"<\",P3070,P3070+1)),P3070)","v":1}]
[{"$f":"IF('XML a procesar'!A3071>0,'XML a procesar'!A3071,\"\")","v":""},0,0,0,0,"",0,0,0,"","",0,"",0,"",{"$f":"IF(ROW()<$S$4+2,IF('XML a procesar'!A3071=\"\",P3071,IF(MID('XML a procesar'!A3071,1,1)=\"<\",P3071,P3071+1)),P3071)","v":1}]
[{"$f":"IF('XML a procesar'!A3072>0,'XML a procesar'!A3072,\"\")","v":""},{"$f":"IF(ISERROR(FIND(\"/doi.org/\",A3073,1)),0,1)","v":0},{"$f":"IF(LEFT(A3072,16)=\"<contrib contrib\",C3072+1,IF(LEFT(A3072,16)=\"</contrib-group>\",0,IF(LEFT(A3072,10)=\"</contrib>\",C3072,C3072)))","v":0},{"$f":"IF(AND(C3073>0,LEFT(A3073,7)=\"<email>\",ISNUMBER(SEARCH(\"@\",A3073,1))),C3073,IF(LEFT(A3073,10)=\"<alt-text>\",-1,0))","v":0},{"$f":"IF(D3073=0,E3072,E3072+1)","v":0},{"$f":"INDIRECT(ADDRESS(ROW()+INDIRECT(ADDRESS(ROW()+E3073,5)),1))","v":""},{"$f":"IF(LEFT(F3073,7)=\"<aff id\",_xlfn.NUMBERVALUE(MID(F3073,13,LEN(F3073)-14)),IF(F3073=\"</aff>\",G3072+1,G3072))","v":0},0,{"$f":"INDIRECT(ADDRESS(ROW()-INDIRECT(ADDRESS(ROW()-H3073,8)),8))","v":0},{"$f":"IF(J3072=\"Linea_para_MAIL_creada_por_LuXML\",\"</aff>\",IF(I3073>INDIRECT(ADDRESS(ROW()-I3073-1,8)),\"Linea_para_MAIL_creada_por_LuXML\",INDIRECT(ADDRESS(ROW()-I3073,6))))","v":""},"",{"$f":"IF(OR(MID(K3071,3,5)=\"page>\",MID(K3072,3,5)=\"page>\"),L3072,IF(OR(K3072=\"<history>\",K3073=\"<history>\"),L3072+1,L3072))","v":0},{"$f":"IF(L3073>L3072,IF(L3073=1,CONCATENATE(\"<fpage>\",$S$10,\"</fpage>\"),CONCATENATE(\"<lpage>\",$S$10+1,\"</lpage>\")),IF(ISERROR(INDIRECT(ADDRESS(ROW()-L3073,11),1)),\"\",INDIRECT(ADDRESS(ROW()-L3073,11),1)))","v":""},{"$f":"IF(N3072=-1,-1,IF(M3073=\"</counts>\",-1,IF(OR(LEFT(M3073,7)=\"<fpage>\",LEFT(M3073,7)=\"<lpage>\"),VALUE(MID(M3073,8,LEN(M3073)-15)),0)))","v":0},"",{"$f":"IF(ROW()<$S$4+2,IF('XML a procesar'!A3072=\"\",P3072,IF(MID('XML a procesar'!A3072,1,1)=\"<\",P3072,P3072+1)),P3072)","v":1}]
[{"$f":"IF('XML a procesar'!A3073>0,'XML a procesar'!A3073,\"\")","v":""},0,0,0,0,"",0,0,0,"","",0,"",0,{"$f":"IF(N3074>-1,INDIRECT(ADDRESS(ROW(),13)),IF(N3074<N3073,CONCATENATE(\"<page-count count=\",CHAR(34),1+LARGE(N:N,1)-LARGE(N:N,2),CHAR(34),\"/>\"),INDIRECT(ADDRESS(ROW()-1,13))))","v":""},{"$f":"IF(ROW()<$S$4+2,IF('XML a procesar'!A3073=\"\",P3073,IF(MID('XML a procesar'!A3073,1,1)=\"<\",P3073,P3073+1)),P3073)","v":1}]
[{"$f":"IF('XML a procesar'!A3074>0,'XML a procesar'!A3074,\"\")","v":""},0,0,0,0,"",0,{"$f":"IF(AND(G3074>0,G3075>G3074,NOT(ISERROR(MATCH(G3074,D:D,0)))),H3074+1,H3074)","v":0},0,"",{"$f":"IF(J3075=\"Linea_para_MAIL_creada_por_LuXML\",IF(ISERROR(MATCH(INDIRECT(ADDRESS(ROW()-G3075,7)),D:D,0)),J3075,INDIRECT(ADDRESS(MATCH(INDIRECT(ADDRESS(ROW()-G3075,7)),D:D,0),1))),J3075)","v":""},0,"",0,"",{"$f":"IF(ROW()<$S$4+2,IF('XML a procesar'!A3074=\"\",P3074,IF(MID('XML a procesar'!A3074,1,1)=\"<\",P3074,P3074+1)),P3074)","v":1}]
[{"$f":"IF('XML a procesar'!A3075>0,'XML a procesar'!A3075,\"\")","v":""},0,0,0,0,"",0,0,0,"","",0,"",0,"",{"$f":"IF(ROW()<$S$4+2,IF('XML a procesar'!A3075=\"\",P3075,IF(MID('XML a procesar'!A3075,1,1)=\"<\",P3075,P3075+1)),P3075)","v":1}]
[{"$f":"IF('XML a procesar'!A3076>0,'XML a procesar'!A3076,\"\")","v":""},0,0,0,0,"",0,0,0,"","",0,"",0,"",{"$f":"IF(ROW()<$S$4+2,IF('XML a procesar'!A3076=\"\",P3076,IF(MID('XML a procesar'!A3076,1,1)=\"<\",P3076,P3076+1)),P3076)","v":1}]
[{"$f":"IF('XML a procesar'!A3077>0,'XML a procesar'!A3077,\"\")","v":""},0,0,0,0,"",0,0,0,"","",0,"",0,"",{"$f":"IF(ROW()<$S$4+2,IF('XML a procesar'!A3077=\"\",P3077,IF(MID('XML a procesar'!A3077,1,1)=\"<\",P3077,P3077+1)),P3077)","v":1}]
[{"$f":"IF('XML a procesar'!A3078>0,'XML a procesar'!A3078,\"\")","v":""},0,0,0,0,"",0,0,0,"","",0,"",0,"",{"$f":"IF(ROW()<$S$4+2,IF('XML a procesar'!A3078=\"\",P3078,IF(MID('XML a procesar'!A3078,1,1)=\"<\",P3078,P3078+1)),P3078)","v":1}]
[{"$f":"IF('XML a procesar'!A3079>0,'XML a procesar'!A3079,\"\")","v":""},0,0,0,0,"",0,0,0,"","",0,"",0,"",{"$f":"IF(ROW()<$S$4+2,IF('XML a procesar'!A3079=\"\",P3079,IF(MID('XML a procesar'!A3079,1,1)=\"<\",P3079,P3079+1)),P3079)","v":1}]
[{"$f":"IF('XML a procesar'!A3080>0,'XML a procesar'!A3080,\"\")","v":""},0,0,0,0,"",0,0,0,"","",0,"",0,"",{"$f":"IF(ROW()<$S$4+2,IF('XML a procesar'!A3080=\"\",P3080,IF(MID('XML a procesar'!A3080,1,1)=\"<\",P3080,P3080+1)),P3080)","v":1}]
[{"$f":"IF('XML a procesar'!A3081>0,'XML a procesar'!A3081,\"\")","v":""},0,0,0,0,"",0,0,0,"","",0,"",0,"",{"$f":"IF(ROW()<$S$4+2,IF('XML a procesar'!A3081=\"\",P3081,IF(MID('XML a procesar'!A3081,1,1)=\"<\",P3081,P3081+1)),P3081)","v":1}]
[{"$f":"IF('XML a procesar'!A3082>0,'XML a procesar'!A3082,\"\")","v":""},0,0,0,0,"",0,0,0,"","",0,"",0,"",{"$f":"IF(ROW()<$S$4+2,IF('XML a procesar'!A3082=\"\",P3082,IF(MID('XML a procesar'!A3082,1,1)=\"<\",P3082,P3082+1)),P3082)","v":1}]
[{"$f":"IF('XML a procesar'!A3083>0,'XML a procesar'!A3083,\"\")","v":""},0,0,0,0,"",0,0,0,"","",0,"",0,"",{"$f":"IF(ROW()<$S$4+2,IF('XML a procesar'!A3083=\"\",P3083,IF(MID('XML a procesar'!A3083,1,1)=\"<\",P3083,P3083+1)),P3083)","v":1}]
[{"$f":"IF('XML a procesar'!A3084>0,'XML a procesar'!A3084,\"\")","v":""},0,0,0,0,"",0,0,0,"","",0,"",0,"",{"$f":"IF(ROW()<$S$4+2,IF('XML a procesar'!A3084=\"\",P3084,IF(MID('XML a procesar'!A3084,1,1)=\"<\",P3084,P3084+1)),P3084)","v":1}]
[{"$f":"IF('XML a procesar'!A3085>0,'XML a procesar'!A3085,\"\")","v":""},0,0,0,0,"",0,0,0,"","",0,"",0,"",{"$f":"IF(ROW()<$S$4+2,IF('XML a procesar'!A3085=\"\",P3085,IF(MID('XML a procesar'!A3085,1,1)=\"<\",P3085,P3085+1)),P3085)","v":1}]
[{"$f":"IF('XML a procesar'!A3086>0,'XML a procesar'!A3086,\"\")","v":""},0,0,0,0,"",0,0,0,"","",0,"",0,"",{"$f":"IF(ROW()<$S$4+2,IF('XML a procesar'!A3086=\"\",P3086,IF(MID('XML a procesar'!A3086,1,1)=\"<\",P3086,P3086+1)),P3086)","v":1}]
[{"$f":"IF('XML a procesar'!A3087>0,'XML a procesar'!A3087,\"\")","v":""},0,0,0,0,"",0,0,0,"","",0,"",0,"",{"$f":"IF(ROW()<$S$4+2,IF('XML a procesar'!A3087=\"\",P3087,IF(MID('XML a procesar'!A3087,1,1)=\"<\",P3087,P3087+1)),P3087)","v":1}]
[{"$f":"IF('XML a procesar'!A3088>0,'XML a procesar'!A3088,\"\")","v":""},0,0,0,0,"",0,0,0,"","",0,"",0,"",{"$f":"IF(ROW()<$S$4+2,IF('XML a procesar'!A3088=\"\",P3088,IF(MID('XML a procesar'!A3088,1,1)=\"<\",P3088,P3088+1)),P3088)","v":1}]
[{"$f":"IF('XML a procesar'!A3089>0,'XML a procesar'!A3089,\"\")","v":""},0,0,0,0,"",0,0,0,"","",0,"",0,"",{"$f":"IF(ROW()<$S$4+2,IF('XML a procesar'!A3089=\"\",P3089,IF(MID('XML a procesar'!A3089,1,1)=\"<\",P3089,P3089+1)),P3089)","v":1}]
[{"$f":"IF('XML a procesar'!A3090>0,'XML a procesar'!A3090,\"\")","v":""},0,0,0,0,"",0,0,0,"","",0,"",0,"",{"$f":"IF(ROW()<$S$4+2,IF('XML a procesar'!A3090=\"\",P3090,IF(MID('XML a procesar'!A3090,1,1)=\"<\",P3090,P3090+1)),P3090)","v":1}]
[{"$f":"IF('XML a procesar'!A3091>0,'XML a procesar'!A3091,\"\")","v":""},0,0,0,0,"",0,0,0,"","",0,"",0,"",{"$f":"IF(ROW()<$S$4+2,IF('XML a procesar'!A3091=\"\",P3091,IF(MID('XML a procesar'!A3091,1,1)=\"<\",P3091,P3091+1)),P3091)","v":1}]
[{"$f":"IF('XML a procesar'!A3092>0,'XML a procesar'!A3092,\"\")","v":""},0,0,0,0,"",0,0,0,"","",0,"",0,"",{"$f":"IF(ROW()<$S$4+2,IF('XML a procesar'!A3092=\"\",P3092,IF(MID('XML a procesar'!A3092,1,1)=\"<\",P3092,P3092+1)),P3092)","v":1}]
[{"$f":"IF('XML a procesar'!A3093>0,'XML a procesar'!A3093,\"\")","v":""},0,0,0,0,"",0,0,0,"","",0,"",0,"",{"$f":"IF(ROW()<$S$4+2,IF('XML a procesar'!A3093=\"\",P3093,IF(MID('XML a procesar'!A3093,1,1)=\"<\",P3093,P3093+1)),P3093)","v":1}]
[{"$f":"IF('XML a procesar'!A3094>0,'XML a procesar'!A3094,\"\")","v":""},0,0,0,0,"",0,0,0,"","",0,"",0,"",{"$f":"IF(ROW()<$S$4+2,IF('XML a procesar'!A3094=\"\",P3094,IF(MID('XML a procesar'!A3094,1,1)=\"<\",P3094,P3094+1)),P3094)","v":1}]
[{"$f":"IF('XML a procesar'!A3095>0,'XML a procesar'!A3095,\"\")","v":""},0,0,0,0,"",0,0,0,"","",0,"",0,"",{"$f":"IF(ROW()<$S$4+2,IF('XML a procesar'!A3095=\"\",P3095,IF(MID('XML a procesar'!A3095,1,1)=\"<\",P3095,P3095+1)),P3095)","v":1}]
[{"$f":"IF('XML a procesar'!A3096>0,'XML a procesar'!A3096,\"\")","v":""},0,0,0,0,"",0,0,0,"","",0,"",0,"",{"$f":"IF(ROW()<$S$4+2,IF('XML a procesar'!A3096=\"\",P3096,IF(MID('XML a procesar'!A3096,1,1)=\"<\",P3096,P3096+1)),P3096)","v":1}]
[{"$f":"IF('XML a procesar'!A3097>0,'XML a procesar'!A3097,\"\")","v":""},0,0,0,0,"",0,0,0,"","",0,"",0,"",{"$f":"IF(ROW()<$S$4+2,IF('XML a procesar'!A3097=\"\",P3097,IF(MID('XML a procesar'!A3097,1,1)=\"<\",P3097,P3097+1)),P3097)","v":1}]
[{"$f":"IF('XML a procesar'!A3098>0,'XML a procesar'!A3098,\"\")","v":""},0,0,0,0,"",0,0,0,"","",0,"",0,"",{"$f":"IF(ROW()<$S$4+2,IF('XML a procesar'!A3098=\"\",P3098,IF(MID('XML a procesar'!A3098,1,1)=\"<\",P3098,P3098+1)),P3098)","v":1}]
[{"$f":"IF('XML a procesar'!A3099>0,'XML a procesar'!A3099,\"\")","v":""},0,0,0,0,"",0,0,0,"","",0,"",0,"",{"$f":"IF(ROW()<$S$4+2,IF('XML a procesar'!A3099=\"\",P3099,IF(MID('XML a procesar'!A3099,1,1)=\"<\",P3099,P3099+1)),P3099)","v":1}]
[{"$f":"IF('XML a procesar'!A3100>0,'XML a procesar'!A3100,\"\")","v":""},0,0,0,0,"",0,0,0,"","",0,"",0,"",{"$f":"IF(ROW()<$S$4+2,IF('XML a procesar'!A3100=\"\",P3100,IF(MID('XML a procesar'!A3100,1,1)=\"<\",P3100,P3100+1)),P3100)","v":1}]
[{"$f":"IF('XML a procesar'!A3101>0,'XML a procesar'!A3101,\"\")","v":""},0,0,0,0,"",0,0,0,"","",0,"",0,"",{"$f":"IF(ROW()<$S$4+2,IF('XML a procesar'!A3101=\"\",P3101,IF(MID('XML a procesar'!A3101,1,1)=\"<\",P3101,P3101+1)),P3101)","v":1}]
[{"$f":"IF('XML a procesar'!A3102>0,'XML a procesar'!A3102,\"\")","v":""},0,0,0,0,"",0,0,0,"","",0,"",0,"",{"$f":"IF(ROW()<$S$4+2,IF('XML a procesar'!A3102=\"\",P3102,IF(MID('XML a procesar'!A3102,1,1)=\"<\",P3102,P3102+1)),P3102)","v":1}]
[{"$f":"IF('XML a procesar'!A3103>0,'XML a procesar'!A3103,\"\")","v":""},0,0,0,0,"",0,0,0,"","",0,"",0,"",{"$f":"IF(ROW()<$S$4+2,IF('XML a procesar'!A3103=\"\",P3103,IF(MID('XML a procesar'!A3103,1,1)=\"<\",P3103,P3103+1)),P3103)","v":1}]
[{"$f":"IF('XML a procesar'!A3104>0,'XML a procesar'!A3104,\"\")","v":""},0,0,0,0,"",0,0,0,"","",0,"",0,"",{"$f":"IF(ROW()<$S$4+2,IF('XML a procesar'!A3104=\"\",P3104,IF(MID('XML a procesar'!A3104,1,1)=\"<\",P3104,P3104+1)),P3104)","v":1}]
[{"$f":"IF('XML a procesar'!A3105>0,'XML a procesar'!A3105,\"\")","v":""},0,0,0,0,"",0,0,0,"","",0,"",0,"",{"$f":"IF(ROW()<$S$4+2,IF('XML a procesar'!A3105=\"\",P3105,IF(MID('XML a procesar'!A3105,1,1)=\"<\",P3105,P3105+1)),P3105)","v":1}]
[{"$f":"IF('XML a procesar'!A3106>0,'XML a procesar'!A3106,\"\")","v":""},0,0,0,0,"",0,0,0,"","",0,"",0,"",{"$f":"IF(ROW()<$S$4+2,IF('XML a procesar'!A3106=\"\",P3106,IF(MID('XML a procesar'!A3106,1,1)=\"<\",P3106,P3106+1)),P3106)","v":1}]
[{"$f":"IF('XML a procesar'!A3107>0,'XML a procesar'!A3107,\"\")","v":""},0,0,0,0,"",0,0,0,"","",0,"",0,"",{"$f":"IF(ROW()<$S$4+2,IF('XML a procesar'!A3107=\"\",P3107,IF(MID('XML a procesar'!A3107,1,1)=\"<\",P3107,P3107+1)),P3107)","v":1}]
[{"$f":"IF('XML a procesar'!A3108>0,'XML a procesar'!A3108,\"\")","v":""},0,0,0,0,"",0,0,0,"","",0,"",0,"",{"$f":"IF(ROW()<$S$4+2,IF('XML a procesar'!A3108=\"\",P3108,IF(MID('XML a procesar'!A3108,1,1)=\"<\",P3108,P3108+1)),P3108)","v":1}]
[{"$f":"IF('XML a procesar'!A3109>0,'XML a procesar'!A3109,\"\")","v":""},0,0,0,0,"",0,0,0,"","",0,"",0,"",{"$f":"IF(ROW()<$S$4+2,IF('XML a procesar'!A3109=\"\",P3109,IF(MID('XML a procesar'!A3109,1,1)=\"<\",P3109,P3109+1)),P3109)","v":1}]
[{"$f":"IF('XML a procesar'!A3110>0,'XML a procesar'!A3110,\"\")","v":""},0,0,0,0,"",0,0,0,"","",0,"",0,"",{"$f":"IF(ROW()<$S$4+2,IF('XML a procesar'!A3110=\"\",P3110,IF(MID('XML a procesar'!A3110,1,1)=\"<\",P3110,P3110+1)),P3110)","v":1}]
[{"$f":"IF('XML a procesar'!A3111>0,'XML a procesar'!A3111,\"\")","v":""},0,0,0,0,"",0,0,0,"","",0,"",0,"",{"$f":"IF(ROW()<$S$4+2,IF('XML a procesar'!A3111=\"\",P3111,IF(MID('XML a procesar'!A3111,1,1)=\"<\",P3111,P3111+1)),P3111)","v":1}]
[{"$f":"IF('XML a procesar'!A3112>0,'XML a procesar'!A3112,\"\")","v":""},0,0,0,0,"",0,0,0,"","",0,"",0,"",{"$f":"IF(ROW()<$S$4+2,IF('XML a procesar'!A3112=\"\",P3112,IF(MID('XML a procesar'!A3112,1,1)=\"<\",P3112,P3112+1)),P3112)","v":1}]
[{"$f":"IF('XML a procesar'!A3113>0,'XML a procesar'!A3113,\"\")","v":""},0,0,0,0,"",0,0,0,"","",0,"",0,"",{"$f":"IF(ROW()<$S$4+2,IF('XML a procesar'!A3113=\"\",P3113,IF(MID('XML a procesar'!A3113,1,1)=\"<\",P3113,P3113+1)),P3113)","v":1}]
[{"$f":"IF('XML a procesar'!A3114>0,'XML a procesar'!A3114,\"\")","v":""},0,0,0,0,"",0,0,0,"","",0,"",0,"",{"$f":"IF(ROW()<$S$4+2,IF('XML a procesar'!A3114=\"\",P3114,IF(MID('XML a procesar'!A3114,1,1)=\"<\",P3114,P3114+1)),P3114)","v":1}]
[{"$f":"IF('XML a procesar'!A3115>0,'XML a procesar'!A3115,\"\")","v":""},0,0,0,0,"",0,0,0,"","",0,"",0,"",{"$f":"IF(ROW()<$S$4+2,IF('XML a procesar'!A3115=\"\",P3115,IF(MID('XML a procesar'!A3115,1,1)=\"<\",P3115,P3115+1)),P3115)","v":1}]
[{"$f":"IF('XML a procesar'!A3116>0,'XML a procesar'!A3116,\"\")","v":""},0,0,0,0,"",0,0,0,"","",0,"",0,"",{"$f":"IF(ROW()<$S$4+2,IF('XML a procesar'!A3116=\"\",P3116,IF(MID('XML a procesar'!A3116,1,1)=\"<\",P3116,P3116+1)),P3116)","v":1}]
[{"$f":"IF('XML a procesar'!A3117>0,'XML a procesar'!A3117,\"\")","v":""},0,0,0,0,"",0,0,0,"","",0,"",0,"",{"$f":"IF(ROW()<$S$4+2,IF('XML a procesar'!A3117=\"\",P3117,IF(MID('XML a procesar'!A3117,1,1)=\"<\",P3117,P3117+1)),P3117)","v":1}]
[{"$f":"IF('XML a procesar'!A3118>0,'XML a procesar'!A3118,\"\")","v":""},0,0,0,0,"",0,0,0,"","",0,"",0,"",{"$f":"IF(ROW()<$S$4+2,IF('XML a procesar'!A3118=\"\",P3118,IF(MID('XML a procesar'!A3118,1,1)=\"<\",P3118,P3118+1)),P3118)","v":1}]
[{"$f":"IF('XML a procesar'!A3119>0,'XML a procesar'!A3119,\"\")","v":""},0,0,0,0,"",0,0,0,"","",0,"",0,"",{"$f":"IF(ROW()<$S$4+2,IF('XML a procesar'!A3119=\"\",P3119,IF(MID('XML a procesar'!A3119,1,1)=\"<\",P3119,P3119+1)),P3119)","v":1}]
[{"$f":"IF('XML a procesar'!A3120>0,'XML a procesar'!A3120,\"\")","v":""},0,0,0,0,"",0,0,0,"","",0,"",0,"",{"$f":"IF(ROW()<$S$4+2,IF('XML a procesar'!A3120=\"\",P3120,IF(MID('XML a procesar'!A3120,1,1)=\"<\",P3120,P3120+1)),P3120)","v":1}]
[{"$f":"IF('XML a procesar'!A3121>0,'XML a procesar'!A3121,\"\")","v":""},0,0,0,0,"",0,0,0,"","",0,"",0,"",{"$f":"IF(ROW()<$S$4+2,IF('XML a procesar'!A3121=\"\",P3121,IF(MID('XML a procesar'!A3121,1,1)=\"<\",P3121,P3121+1)),P3121)","v":1}]
[{"$f":"IF('XML a procesar'!A3122>0,'XML a procesar'!A3122,\"\")","v":""},0,0,0,0,"",0,0,0,"","",0,"",0,"",{"$f":"IF(ROW()<$S$4+2,IF('XML a procesar'!A3122=\"\",P3122,IF(MID('XML a procesar'!A3122,1,1)=\"<\",P3122,P3122+1)),P3122)","v":1}]
[{"$f":"IF('XML a procesar'!A3123>0,'XML a procesar'!A3123,\"\")","v":""},0,0,0,0,"",0,0,0,"","",0,"",0,"",{"$f":"IF(ROW()<$S$4+2,IF('XML a procesar'!A3123=\"\",P3123,IF(MID('XML a procesar'!A3123,1,1)=\"<\",P3123,P3123+1)),P3123)","v":1}]
[{"$f":"IF('XML a procesar'!A3124>0,'XML a procesar'!A3124,\"\")","v":""},0,0,0,0,"",0,0,0,"","",0,"",0,"",{"$f":"IF(ROW()<$S$4+2,IF('XML a procesar'!A3124=\"\",P3124,IF(MID('XML a procesar'!A3124,1,1)=\"<\",P3124,P3124+1)),P3124)","v":1}]
[{"$f":"IF('XML a procesar'!A3125>0,'XML a procesar'!A3125,\"\")","v":""},0,0,0,0,"",0,0,0,"","",0,"",0,"",{"$f":"IF(ROW()<$S$4+2,IF('XML a procesar'!A3125=\"\",P3125,IF(MID('XML a procesar'!A3125,1,1)=\"<\",P3125,P3125+1)),P3125)","v":1}]
[{"$f":"IF('XML a procesar'!A3126>0,'XML a procesar'!A3126,\"\")","v":""},0,0,0,0,"",0,0,0,"","",0,"",0,"",{"$f":"IF(ROW()<$S$4+2,IF('XML a procesar'!A3126=\"\",P3126,IF(MID('XML a procesar'!A3126,1,1)=\"<\",P3126,P3126+1)),P3126)","v":1}]
[{"$f":"IF('XML a procesar'!A3127>0,'XML a procesar'!A3127,\"\")","v":""},0,0,0,0,"",0,0,0,"","",0,"",0,"",{"$f":"IF(ROW()<$S$4+2,IF('XML a procesar'!A3127=\"\",P3127,IF(MID('XML a procesar'!A3127,1,1)=\"<\",P3127,P3127+1)),P3127)","v":1}]
[{"$f":"IF('XML a procesar'!A3128>0,'XML a procesar'!A3128,\"\")","v":""},0,0,0,0,"",0,0,0,"","",0,"",0,"",{"$f":"IF(ROW()<$S$4+2,IF('XML a procesar'!A3128=\"\",P3128,IF(MID('XML a procesar'!A3128,1,1)=\"<\",P3128,P3128+1)),P3128)","v":1}]
[{"$f":"IF('XML a procesar'!A3129>0,'XML a procesar'!A3129,\"\")","v":""},0,0,0,0,"",0,0,0,"","",0,"",0,"",{"$f":"IF(ROW()<$S$4+2,IF('XML a procesar'!A3129=\"\",P3129,IF(MID('XML a procesar'!A3129,1,1)=\"<\",P3129,P3129+1)),P3129)","v":1}]
[{"$f":"IF('XML a procesar'!A3130>0,'XML a procesar'!A3130,\"\")","v":""},0,0,0,0,"",0,0,0,"","",0,"",0,"",{"$f":"IF(ROW()<$S$4+2,IF('XML a procesar'!A3130=\"\",P3130,IF(MID('XML a procesar'!A3130,1,1)=\"<\",P3130,P3130+1)),P3130)","v":1}]
[{"$f":"IF('XML a procesar'!A3131>0,'XML a procesar'!A3131,\"\")","v":""},0,0,0,0,"",0,0,0,"","",0,"",0,"",{"$f":"IF(ROW()<$S$4+2,IF('XML a procesar'!A3131=\"\",P3131,IF(MID('XML a procesar'!A3131,1,1)=\"<\",P3131,P3131+1)),P3131)","v":1}]
[{"$f":"IF('XML a procesar'!A3132>0,'XML a procesar'!A3132,\"\")","v":""},0,0,0,0,"",0,0,0,"","",0,"",0,"",{"$f":"IF(ROW()<$S$4+2,IF('XML a procesar'!A3132=\"\",P3132,IF(MID('XML a procesar'!A3132,1,1)=\"<\",P3132,P3132+1)),P3132)","v":1}]
[{"$f":"IF('XML a procesar'!A3133>0,'XML a procesar'!A3133,\"\")","v":""},0,0,0,0,"",0,0,0,"","",0,"",0,"",{"$f":"IF(ROW()<$S$4+2,IF('XML a procesar'!A3133=\"\",P3133,IF(MID('XML a procesar'!A3133,1,1)=\"<\",P3133,P3133+1)),P3133)","v":1}]
[{"$f":"IF('XML a procesar'!A3134>0,'XML a procesar'!A3134,\"\")","v":""},0,0,0,0,"",0,0,0,"","",0,"",0,"",{"$f":"IF(ROW()<$S$4+2,IF('XML a procesar'!A3134=\"\",P3134,IF(MID('XML a procesar'!A3134,1,1)=\"<\",P3134,P3134+1)),P3134)","v":1}]
[{"$f":"IF('XML a procesar'!A3135>0,'XML a procesar'!A3135,\"\")","v":""},0,0,0,0,"",0,0,0,"","",0,"",0,"",{"$f":"IF(ROW()<$S$4+2,IF('XML a procesar'!A3135=\"\",P3135,IF(MID('XML a procesar'!A3135,1,1)=\"<\",P3135,P3135+1)),P3135)","v":1}]
[{"$f":"IF('XML a procesar'!A3136>0,'XML a procesar'!A3136,\"\")","v":""},{"$f":"IF(ISERROR(FIND(\"/doi.org/\",A3137,1)),0,1)","v":0},{"$f":"IF(LEFT(A3136,16)=\"<contrib contrib\",C3136+1,IF(LEFT(A3136,16)=\"</contrib-group>\",0,IF(LEFT(A3136,10)=\"</contrib>\",C3136,C3136)))","v":0},{"$f":"IF(AND(C3137>0,LEFT(A3137,7)=\"<email>\",ISNUMBER(SEARCH(\"@\",A3137,1))),C3137,IF(LEFT(A3137,10)=\"<alt-text>\",-1,0))","v":0},{"$f":"IF(D3137=0,E3136,E3136+1)","v":0},{"$f":"INDIRECT(ADDRESS(ROW()+INDIRECT(ADDRESS(ROW()+E3137,5)),1))","v":""},{"$f":"IF(LEFT(F3137,7)=\"<aff id\",_xlfn.NUMBERVALUE(MID(F3137,13,LEN(F3137)-14)),IF(F3137=\"</aff>\",G3136+1,G3136))","v":0},0,{"$f":"INDIRECT(ADDRESS(ROW()-INDIRECT(ADDRESS(ROW()-H3137,8)),8))","v":0},{"$f":"IF(J3136=\"Linea_para_MAIL_creada_por_LuXML\",\"</aff>\",IF(I3137>INDIRECT(ADDRESS(ROW()-I3137-1,8)),\"Linea_para_MAIL_creada_por_LuXML\",INDIRECT(ADDRESS(ROW()-I3137,6))))","v":""},"",{"$f":"IF(OR(MID(K3135,3,5)=\"page>\",MID(K3136,3,5)=\"page>\"),L3136,IF(OR(K3136=\"<history>\",K3137=\"<history>\"),L3136+1,L3136))","v":0},{"$f":"IF(L3137>L3136,IF(L3137=1,CONCATENATE(\"<fpage>\",$S$10,\"</fpage>\"),CONCATENATE(\"<lpage>\",$S$10+1,\"</lpage>\")),IF(ISERROR(INDIRECT(ADDRESS(ROW()-L3137,11),1)),\"\",INDIRECT(ADDRESS(ROW()-L3137,11),1)))","v":""},{"$f":"IF(N3136=-1,-1,IF(M3137=\"</counts>\",-1,IF(OR(LEFT(M3137,7)=\"<fpage>\",LEFT(M3137,7)=\"<lpage>\"),VALUE(MID(M3137,8,LEN(M3137)-15)),0)))","v":0},"",{"$f":"IF(ROW()<$S$4+2,IF('XML a procesar'!A3136=\"\",P3136,IF(MID('XML a procesar'!A3136,1,1)=\"<\",P3136,P3136+1)),P3136)","v":1}]
[{"$f":"IF('XML a procesar'!A3137>0,'XML a procesar'!A3137,\"\")","v":""},0,0,0,0,"",0,0,0,"","",0,"",0,{"$f":"IF(N3138>-1,INDIRECT(ADDRESS(ROW(),13)),IF(N3138<N3137,CONCATENATE(\"<page-count count=\",CHAR(34),1+LARGE(N:N,1)-LARGE(N:N,2),CHAR(34),\"/>\"),INDIRECT(ADDRESS(ROW()-1,13))))","v":""},{"$f":"IF(ROW()<$S$4+2,IF('XML a procesar'!A3137=\"\",P3137,IF(MID('XML a procesar'!A3137,1,1)=\"<\",P3137,P3137+1)),P3137)","v":1}]
[{"$f":"IF('XML a procesar'!A3138>0,'XML a procesar'!A3138,\"\")","v":""},0,0,0,0,"",0,{"$f":"IF(AND(G3138>0,G3139>G3138,NOT(ISERROR(MATCH(G3138,D:D,0)))),H3138+1,H3138)","v":0},0,"",{"$f":"IF(J3139=\"Linea_para_MAIL_creada_por_LuXML\",IF(ISERROR(MATCH(INDIRECT(ADDRESS(ROW()-G3139,7)),D:D,0)),J3139,INDIRECT(ADDRESS(MATCH(INDIRECT(ADDRESS(ROW()-G3139,7)),D:D,0),1))),J3139)","v":""},0,"",0,"",{"$f":"IF(ROW()<$S$4+2,IF('XML a procesar'!A3138=\"\",P3138,IF(MID('XML a procesar'!A3138,1,1)=\"<\",P3138,P3138+1)),P3138)","v":1}]
[{"$f":"IF('XML a procesar'!A3139>0,'XML a procesar'!A3139,\"\")","v":""},0,0,0,0,"",0,0,0,"","",0,"",0,"",{"$f":"IF(ROW()<$S$4+2,IF('XML a procesar'!A3139=\"\",P3139,IF(MID('XML a procesar'!A3139,1,1)=\"<\",P3139,P3139+1)),P3139)","v":1}]
[{"$f":"IF('XML a procesar'!A3140>0,'XML a procesar'!A3140,\"\")","v":""},0,0,0,0,"",0,0,0,"","",0,"",0,"",{"$f":"IF(ROW()<$S$4+2,IF('XML a procesar'!A3140=\"\",P3140,IF(MID('XML a procesar'!A3140,1,1)=\"<\",P3140,P3140+1)),P3140)","v":1}]
[{"$f":"IF('XML a procesar'!A3141>0,'XML a procesar'!A3141,\"\")","v":""},0,0,0,0,"",0,0,0,"","",0,"",0,"",{"$f":"IF(ROW()<$S$4+2,IF('XML a procesar'!A3141=\"\",P3141,IF(MID('XML a procesar'!A3141,1,1)=\"<\",P3141,P3141+1)),P3141)","v":1}]
[{"$f":"IF('XML a procesar'!A3142>0,'XML a procesar'!A3142,\"\")","v":""},0,0,0,0,"",0,0,0,"","",0,"",0,"",{"$f":"IF(ROW()<$S$4+2,IF('XML a procesar'!A3142=\"\",P3142,IF(MID('XML a procesar'!A3142,1,1)=\"<\",P3142,P3142+1)),P3142)","v":1}]
[{"$f":"IF('XML a procesar'!A3143>0,'XML a procesar'!A3143,\"\")","v":""},0,0,0,0,"",0,0,0,"","",0,"",0,"",{"$f":"IF(ROW()<$S$4+2,IF('XML a procesar'!A3143=\"\",P3143,IF(MID('XML a procesar'!A3143,1,1)=\"<\",P3143,P3143+1)),P3143)","v":1}]
[{"$f":"IF('XML a procesar'!A3144>0,'XML a procesar'!A3144,\"\")","v":""},0,0,0,0,"",0,0,0,"","",0,"",0,"",{"$f":"IF(ROW()<$S$4+2,IF('XML a procesar'!A3144=\"\",P3144,IF(MID('XML a procesar'!A3144,1,1)=\"<\",P3144,P3144+1)),P3144)","v":1}]
[{"$f":"IF('XML a procesar'!A3145>0,'XML a procesar'!A3145,\"\")","v":""},0,0,0,0,"",0,0,0,"","",0,"",0,"",{"$f":"IF(ROW()<$S$4+2,IF('XML a procesar'!A3145=\"\",P3145,IF(MID('XML a procesar'!A3145,1,1)=\"<\",P3145,P3145+1)),P3145)","v":1}]
[{"$f":"IF('XML a procesar'!A3146>0,'XML a procesar'!A3146,\"\")","v":""},0,0,0,0,"",0,0,0,"","",0,"",0,"",{"$f":"IF(ROW()<$S$4+2,IF('XML a procesar'!A3146=\"\",P3146,IF(MID('XML a procesar'!A3146,1,1)=\"<\",P3146,P3146+1)),P3146)","v":1}]
[{"$f":"IF('XML a procesar'!A3147>0,'XML a procesar'!A3147,\"\")","v":""},0,0,0,0,"",0,0,0,"","",0,"",0,"",{"$f":"IF(ROW()<$S$4+2,IF('XML a procesar'!A3147=\"\",P3147,IF(MID('XML a procesar'!A3147,1,1)=\"<\",P3147,P3147+1)),P3147)","v":1}]
[{"$f":"IF('XML a procesar'!A3148>0,'XML a procesar'!A3148,\"\")","v":""},0,0,0,0,"",0,0,0,"","",0,"",0,"",{"$f":"IF(ROW()<$S$4+2,IF('XML a procesar'!A3148=\"\",P3148,IF(MID('XML a procesar'!A3148,1,1)=\"<\",P3148,P3148+1)),P3148)","v":1}]
[{"$f":"IF('XML a procesar'!A3149>0,'XML a procesar'!A3149,\"\")","v":""},0,0,0,0,"",0,0,0,"","",0,"",0,"",{"$f":"IF(ROW()<$S$4+2,IF('XML a procesar'!A3149=\"\",P3149,IF(MID('XML a procesar'!A3149,1,1)=\"<\",P3149,P3149+1)),P3149)","v":1}]
[{"$f":"IF('XML a procesar'!A3150>0,'XML a procesar'!A3150,\"\")","v":""},0,0,0,0,"",0,0,0,"","",0,"",0,"",{"$f":"IF(ROW()<$S$4+2,IF('XML a procesar'!A3150=\"\",P3150,IF(MID('XML a procesar'!A3150,1,1)=\"<\",P3150,P3150+1)),P3150)","v":1}]
[{"$f":"IF('XML a procesar'!A3151>0,'XML a procesar'!A3151,\"\")","v":""},0,0,0,0,"",0,0,0,"","",0,"",0,"",{"$f":"IF(ROW()<$S$4+2,IF('XML a procesar'!A3151=\"\",P3151,IF(MID('XML a procesar'!A3151,1,1)=\"<\",P3151,P3151+1)),P3151)","v":1}]
[{"$f":"IF('XML a procesar'!A3152>0,'XML a procesar'!A3152,\"\")","v":""},0,0,0,0,"",0,0,0,"","",0,"",0,"",{"$f":"IF(ROW()<$S$4+2,IF('XML a procesar'!A3152=\"\",P3152,IF(MID('XML a procesar'!A3152,1,1)=\"<\",P3152,P3152+1)),P3152)","v":1}]
[{"$f":"IF('XML a procesar'!A3153>0,'XML a procesar'!A3153,\"\")","v":""},0,0,0,0,"",0,0,0,"","",0,"",0,"",{"$f":"IF(ROW()<$S$4+2,IF('XML a procesar'!A3153=\"\",P3153,IF(MID('XML a procesar'!A3153,1,1)=\"<\",P3153,P3153+1)),P3153)","v":1}]
[{"$f":"IF('XML a procesar'!A3154>0,'XML a procesar'!A3154,\"\")","v":""},0,0,0,0,"",0,0,0,"","",0,"",0,"",{"$f":"IF(ROW()<$S$4+2,IF('XML a procesar'!A3154=\"\",P3154,IF(MID('XML a procesar'!A3154,1,1)=\"<\",P3154,P3154+1)),P3154)","v":1}]
[{"$f":"IF('XML a procesar'!A3155>0,'XML a procesar'!A3155,\"\")","v":""},0,0,0,0,"",0,0,0,"","",0,"",0,"",{"$f":"IF(ROW()<$S$4+2,IF('XML a procesar'!A3155=\"\",P3155,IF(MID('XML a procesar'!A3155,1,1)=\"<\",P3155,P3155+1)),P3155)","v":1}]
[{"$f":"IF('XML a procesar'!A3156>0,'XML a procesar'!A3156,\"\")","v":""},0,0,0,0,"",0,0,0,"","",0,"",0,"",{"$f":"IF(ROW()<$S$4+2,IF('XML a procesar'!A3156=\"\",P3156,IF(MID('XML a procesar'!A3156,1,1)=\"<\",P3156,P3156+1)),P3156)","v":1}]
[{"$f":"IF('XML a procesar'!A3157>0,'XML a procesar'!A3157,\"\")","v":""},0,0,0,0,"",0,0,0,"","",0,"",0,"",{"$f":"IF(ROW()<$S$4+2,IF('XML a procesar'!A3157=\"\",P3157,IF(MID('XML a procesar'!A3157,1,1)=\"<\",P3157,P3157+1)),P3157)","v":1}]
[{"$f":"IF('XML a procesar'!A3158>0,'XML a procesar'!A3158,\"\")","v":""},0,0,0,0,"",0,0,0,"","",0,"",0,"",{"$f":"IF(ROW()<$S$4+2,IF('XML a procesar'!A3158=\"\",P3158,IF(MID('XML a procesar'!A3158,1,1)=\"<\",P3158,P3158+1)),P3158)","v":1}]
[{"$f":"IF('XML a procesar'!A3159>0,'XML a procesar'!A3159,\"\")","v":""},0,0,0,0,"",0,0,0,"","",0,"",0,"",{"$f":"IF(ROW()<$S$4+2,IF('XML a procesar'!A3159=\"\",P3159,IF(MID('XML a procesar'!A3159,1,1)=\"<\",P3159,P3159+1)),P3159)","v":1}]
[{"$f":"IF('XML a procesar'!A3160>0,'XML a procesar'!A3160,\"\")","v":""},0,0,0,0,"",0,0,0,"","",0,"",0,"",{"$f":"IF(ROW()<$S$4+2,IF('XML a procesar'!A3160=\"\",P3160,IF(MID('XML a procesar'!A3160,1,1)=\"<\",P3160,P3160+1)),P3160)","v":1}]
[{"$f":"IF('XML a procesar'!A3161>0,'XML a procesar'!A3161,\"\")","v":""},0,0,0,0,"",0,0,0,"","",0,"",0,"",{"$f":"IF(ROW()<$S$4+2,IF('XML a procesar'!A3161=\"\",P3161,IF(MID('XML a procesar'!A3161,1,1)=\"<\",P3161,P3161+1)),P3161)","v":1}]
[{"$f":"IF('XML a procesar'!A3162>0,'XML a procesar'!A3162,\"\")","v":""},0,0,0,0,"",0,0,0,"","",0,"",0,"",{"$f":"IF(ROW()<$S$4+2,IF('XML a procesar'!A3162=\"\",P3162,IF(MID('XML a procesar'!A3162,1,1)=\"<\",P3162,P3162+1)),P3162)","v":1}]
[{"$f":"IF('XML a procesar'!A3163>0,'XML a procesar'!A3163,\"\")","v":""},0,0,0,0,"",0,0,0,"","",0,"",0,"",{"$f":"IF(ROW()<$S$4+2,IF('XML a procesar'!A3163=\"\",P3163,IF(MID('XML a procesar'!A3163,1,1)=\"<\",P3163,P3163+1)),P3163)","v":1}]
[{"$f":"IF('XML a procesar'!A3164>0,'XML a procesar'!A3164,\"\")","v":""},0,0,0,0,"",0,0,0,"","",0,"",0,"",{"$f":"IF(ROW()<$S$4+2,IF('XML a procesar'!A3164=\"\",P3164,IF(MID('XML a procesar'!A3164,1,1)=\"<\",P3164,P3164+1)),P3164)","v":1}]
[{"$f":"IF('XML a procesar'!A3165>0,'XML a procesar'!A3165,\"\")","v":""},0,0,0,0,"",0,0,0,"","",0,"",0,"",{"$f":"IF(ROW()<$S$4+2,IF('XML a procesar'!A3165=\"\",P3165,IF(MID('XML a procesar'!A3165,1,1)=\"<\",P3165,P3165+1)),P3165)","v":1}]
[{"$f":"IF('XML a procesar'!A3166>0,'XML a procesar'!A3166,\"\")","v":""},0,0,0,0,"",0,0,0,"","",0,"",0,"",{"$f":"IF(ROW()<$S$4+2,IF('XML a procesar'!A3166=\"\",P3166,IF(MID('XML a procesar'!A3166,1,1)=\"<\",P3166,P3166+1)),P3166)","v":1}]
[{"$f":"IF('XML a procesar'!A3167>0,'XML a procesar'!A3167,\"\")","v":""},0,0,0,0,"",0,0,0,"","",0,"",0,"",{"$f":"IF(ROW()<$S$4+2,IF('XML a procesar'!A3167=\"\",P3167,IF(MID('XML a procesar'!A3167,1,1)=\"<\",P3167,P3167+1)),P3167)","v":1}]
[{"$f":"IF('XML a procesar'!A3168>0,'XML a procesar'!A3168,\"\")","v":""},0,0,0,0,"",0,0,0,"","",0,"",0,"",{"$f":"IF(ROW()<$S$4+2,IF('XML a procesar'!A3168=\"\",P3168,IF(MID('XML a procesar'!A3168,1,1)=\"<\",P3168,P3168+1)),P3168)","v":1}]
[{"$f":"IF('XML a procesar'!A3169>0,'XML a procesar'!A3169,\"\")","v":""},0,0,0,0,"",0,0,0,"","",0,"",0,"",{"$f":"IF(ROW()<$S$4+2,IF('XML a procesar'!A3169=\"\",P3169,IF(MID('XML a procesar'!A3169,1,1)=\"<\",P3169,P3169+1)),P3169)","v":1}]
[{"$f":"IF('XML a procesar'!A3170>0,'XML a procesar'!A3170,\"\")","v":""},0,0,0,0,"",0,0,0,"","",0,"",0,"",{"$f":"IF(ROW()<$S$4+2,IF('XML a procesar'!A3170=\"\",P3170,IF(MID('XML a procesar'!A3170,1,1)=\"<\",P3170,P3170+1)),P3170)","v":1}]
[{"$f":"IF('XML a procesar'!A3171>0,'XML a procesar'!A3171,\"\")","v":""},0,0,0,0,"",0,0,0,"","",0,"",0,"",{"$f":"IF(ROW()<$S$4+2,IF('XML a procesar'!A3171=\"\",P3171,IF(MID('XML a procesar'!A3171,1,1)=\"<\",P3171,P3171+1)),P3171)","v":1}]
[{"$f":"IF('XML a procesar'!A3172>0,'XML a procesar'!A3172,\"\")","v":""},0,0,0,0,"",0,0,0,"","",0,"",0,"",{"$f":"IF(ROW()<$S$4+2,IF('XML a procesar'!A3172=\"\",P3172,IF(MID('XML a procesar'!A3172,1,1)=\"<\",P3172,P3172+1)),P3172)","v":1}]
[{"$f":"IF('XML a procesar'!A3173>0,'XML a procesar'!A3173,\"\")","v":""},0,0,0,0,"",0,0,0,"","",0,"",0,"",{"$f":"IF(ROW()<$S$4+2,IF('XML a procesar'!A3173=\"\",P3173,IF(MID('XML a procesar'!A3173,1,1)=\"<\",P3173,P3173+1)),P3173)","v":1}]
[{"$f":"IF('XML a procesar'!A3174>0,'XML a procesar'!A3174,\"\")","v":""},0,0,0,0,"",0,0,0,"","",0,"",0,"",{"$f":"IF(ROW()<$S$4+2,IF('XML a procesar'!A3174=\"\",P3174,IF(MID('XML a procesar'!A3174,1,1)=\"<\",P3174,P3174+1)),P3174)","v":1}]
[{"$f":"IF('XML a procesar'!A3175>0,'XML a procesar'!A3175,\"\")","v":""},0,0,0,0,"",0,0,0,"","",0,"",0,"",{"$f":"IF(ROW()<$S$4+2,IF('XML a procesar'!A3175=\"\",P3175,IF(MID('XML a procesar'!A3175,1,1)=\"<\",P3175,P3175+1)),P3175)","v":1}]
[{"$f":"IF('XML a procesar'!A3176>0,'XML a procesar'!A3176,\"\")","v":""},0,0,0,0,"",0,0,0,"","",0,"",0,"",{"$f":"IF(ROW()<$S$4+2,IF('XML a procesar'!A3176=\"\",P3176,IF(MID('XML a procesar'!A3176,1,1)=\"<\",P3176,P3176+1)),P3176)","v":1}]
[{"$f":"IF('XML a procesar'!A3177>0,'XML a procesar'!A3177,\"\")","v":""},0,0,0,0,"",0,0,0,"","",0,"",0,"",{"$f":"IF(ROW()<$S$4+2,IF('XML a procesar'!A3177=\"\",P3177,IF(MID('XML a procesar'!A3177,1,1)=\"<\",P3177,P3177+1)),P3177)","v":1}]
[{"$f":"IF('XML a procesar'!A3178>0,'XML a procesar'!A3178,\"\")","v":""},0,0,0,0,"",0,0,0,"","",0,"",0,"",{"$f":"IF(ROW()<$S$4+2,IF('XML a procesar'!A3178=\"\",P3178,IF(MID('XML a procesar'!A3178,1,1)=\"<\",P3178,P3178+1)),P3178)","v":1}]
[{"$f":"IF('XML a procesar'!A3179>0,'XML a procesar'!A3179,\"\")","v":""},0,0,0,0,"",0,0,0,"","",0,"",0,"",{"$f":"IF(ROW()<$S$4+2,IF('XML a procesar'!A3179=\"\",P3179,IF(MID('XML a procesar'!A3179,1,1)=\"<\",P3179,P3179+1)),P3179)","v":1}]
[{"$f":"IF('XML a procesar'!A3180>0,'XML a procesar'!A3180,\"\")","v":""},0,0,0,0,"",0,0,0,"","",0,"",0,"",{"$f":"IF(ROW()<$S$4+2,IF('XML a procesar'!A3180=\"\",P3180,IF(MID('XML a procesar'!A3180,1,1)=\"<\",P3180,P3180+1)),P3180)","v":1}]
[{"$f":"IF('XML a procesar'!A3181>0,'XML a procesar'!A3181,\"\")","v":""},0,0,0,0,"",0,0,0,"","",0,"",0,"",{"$f":"IF(ROW()<$S$4+2,IF('XML a procesar'!A3181=\"\",P3181,IF(MID('XML a procesar'!A3181,1,1)=\"<\",P3181,P3181+1)),P3181)","v":1}]
[{"$f":"IF('XML a procesar'!A3182>0,'XML a procesar'!A3182,\"\")","v":""},0,0,0,0,"",0,0,0,"","",0,"",0,"",{"$f":"IF(ROW()<$S$4+2,IF('XML a procesar'!A3182=\"\",P3182,IF(MID('XML a procesar'!A3182,1,1)=\"<\",P3182,P3182+1)),P3182)","v":1}]
[{"$f":"IF('XML a procesar'!A3183>0,'XML a procesar'!A3183,\"\")","v":""},0,0,0,0,"",0,0,0,"","",0,"",0,"",{"$f":"IF(ROW()<$S$4+2,IF('XML a procesar'!A3183=\"\",P3183,IF(MID('XML a procesar'!A3183,1,1)=\"<\",P3183,P3183+1)),P3183)","v":1}]
[{"$f":"IF('XML a procesar'!A3184>0,'XML a procesar'!A3184,\"\")","v":""},0,0,0,0,"",0,0,0,"","",0,"",0,"",{"$f":"IF(ROW()<$S$4+2,IF('XML a procesar'!A3184=\"\",P3184,IF(MID('XML a procesar'!A3184,1,1)=\"<\",P3184,P3184+1)),P3184)","v":1}]
[{"$f":"IF('XML a procesar'!A3185>0,'XML a procesar'!A3185,\"\")","v":""},0,0,0,0,"",0,0,0,"","",0,"",0,"",{"$f":"IF(ROW()<$S$4+2,IF('XML a procesar'!A3185=\"\",P3185,IF(MID('XML a procesar'!A3185,1,1)=\"<\",P3185,P3185+1)),P3185)","v":1}]
[{"$f":"IF('XML a procesar'!A3186>0,'XML a procesar'!A3186,\"\")","v":""},0,0,0,0,"",0,0,0,"","",0,"",0,"",{"$f":"IF(ROW()<$S$4+2,IF('XML a procesar'!A3186=\"\",P3186,IF(MID('XML a procesar'!A3186,1,1)=\"<\",P3186,P3186+1)),P3186)","v":1}]
[{"$f":"IF('XML a procesar'!A3187>0,'XML a procesar'!A3187,\"\")","v":""},0,0,0,0,"",0,0,0,"","",0,"",0,"",{"$f":"IF(ROW()<$S$4+2,IF('XML a procesar'!A3187=\"\",P3187,IF(MID('XML a procesar'!A3187,1,1)=\"<\",P3187,P3187+1)),P3187)","v":1}]
[{"$f":"IF('XML a procesar'!A3188>0,'XML a procesar'!A3188,\"\")","v":""},0,0,0,0,"",0,0,0,"","",0,"",0,"",{"$f":"IF(ROW()<$S$4+2,IF('XML a procesar'!A3188=\"\",P3188,IF(MID('XML a procesar'!A3188,1,1)=\"<\",P3188,P3188+1)),P3188)","v":1}]
[{"$f":"IF('XML a procesar'!A3189>0,'XML a procesar'!A3189,\"\")","v":""},0,0,0,0,"",0,0,0,"","",0,"",0,"",{"$f":"IF(ROW()<$S$4+2,IF('XML a procesar'!A3189=\"\",P3189,IF(MID('XML a procesar'!A3189,1,1)=\"<\",P3189,P3189+1)),P3189)","v":1}]
[{"$f":"IF('XML a procesar'!A3190>0,'XML a procesar'!A3190,\"\")","v":""},0,0,0,0,"",0,0,0,"","",0,"",0,"",{"$f":"IF(ROW()<$S$4+2,IF('XML a procesar'!A3190=\"\",P3190,IF(MID('XML a procesar'!A3190,1,1)=\"<\",P3190,P3190+1)),P3190)","v":1}]
[{"$f":"IF('XML a procesar'!A3191>0,'XML a procesar'!A3191,\"\")","v":""},0,0,0,0,"",0,0,0,"","",0,"",0,"",{"$f":"IF(ROW()<$S$4+2,IF('XML a procesar'!A3191=\"\",P3191,IF(MID('XML a procesar'!A3191,1,1)=\"<\",P3191,P3191+1)),P3191)","v":1}]
[{"$f":"IF('XML a procesar'!A3192>0,'XML a procesar'!A3192,\"\")","v":""},0,0,0,0,"",0,0,0,"","",0,"",0,"",{"$f":"IF(ROW()<$S$4+2,IF('XML a procesar'!A3192=\"\",P3192,IF(MID('XML a procesar'!A3192,1,1)=\"<\",P3192,P3192+1)),P3192)","v":1}]
[{"$f":"IF('XML a procesar'!A3193>0,'XML a procesar'!A3193,\"\")","v":""},0,0,0,0,"",0,0,0,"","",0,"",0,"",{"$f":"IF(ROW()<$S$4+2,IF('XML a procesar'!A3193=\"\",P3193,IF(MID('XML a procesar'!A3193,1,1)=\"<\",P3193,P3193+1)),P3193)","v":1}]
[{"$f":"IF('XML a procesar'!A3194>0,'XML a procesar'!A3194,\"\")","v":""},0,0,0,0,"",0,0,0,"","",0,"",0,"",{"$f":"IF(ROW()<$S$4+2,IF('XML a procesar'!A3194=\"\",P3194,IF(MID('XML a procesar'!A3194,1,1)=\"<\",P3194,P3194+1)),P3194)","v":1}]
[{"$f":"IF('XML a procesar'!A3195>0,'XML a procesar'!A3195,\"\")","v":""},0,0,0,0,"",0,0,0,"","",0,"",0,"",{"$f":"IF(ROW()<$S$4+2,IF('XML a procesar'!A3195=\"\",P3195,IF(MID('XML a procesar'!A3195,1,1)=\"<\",P3195,P3195+1)),P3195)","v":1}]
[{"$f":"IF('XML a procesar'!A3196>0,'XML a procesar'!A3196,\"\")","v":""},0,0,0,0,"",0,0,0,"","",0,"",0,"",{"$f":"IF(ROW()<$S$4+2,IF('XML a procesar'!A3196=\"\",P3196,IF(MID('XML a procesar'!A3196,1,1)=\"<\",P3196,P3196+1)),P3196)","v":1}]
[{"$f":"IF('XML a procesar'!A3197>0,'XML a procesar'!A3197,\"\")","v":""},0,0,0,0,"",0,0,0,"","",0,"",0,"",{"$f":"IF(ROW()<$S$4+2,IF('XML a procesar'!A3197=\"\",P3197,IF(MID('XML a procesar'!A3197,1,1)=\"<\",P3197,P3197+1)),P3197)","v":1}]
[{"$f":"IF('XML a procesar'!A3198>0,'XML a procesar'!A3198,\"\")","v":""},0,0,0,0,"",0,0,0,"","",0,"",0,"",{"$f":"IF(ROW()<$S$4+2,IF('XML a procesar'!A3198=\"\",P3198,IF(MID('XML a procesar'!A3198,1,1)=\"<\",P3198,P3198+1)),P3198)","v":1}]
[{"$f":"IF('XML a procesar'!A3199>0,'XML a procesar'!A3199,\"\")","v":""},0,0,0,0,"",0,0,0,"","",0,"",0,"",{"$f":"IF(ROW()<$S$4+2,IF('XML a procesar'!A3199=\"\",P3199,IF(MID('XML a procesar'!A3199,1,1)=\"<\",P3199,P3199+1)),P3199)","v":1}]
[{"$f":"IF('XML a procesar'!A3200>0,'XML a procesar'!A3200,\"\")","v":""},{"$f":"IF(ISERROR(FIND(\"/doi.org/\",A3201,1)),0,1)","v":0},{"$f":"IF(LEFT(A3200,16)=\"<contrib contrib\",C3200+1,IF(LEFT(A3200,16)=\"</contrib-group>\",0,IF(LEFT(A3200,10)=\"</contrib>\",C3200,C3200)))","v":0},{"$f":"IF(AND(C3201>0,LEFT(A3201,7)=\"<email>\",ISNUMBER(SEARCH(\"@\",A3201,1))),C3201,IF(LEFT(A3201,10)=\"<alt-text>\",-1,0))","v":0},{"$f":"IF(D3201=0,E3200,E3200+1)","v":0},{"$f":"INDIRECT(ADDRESS(ROW()+INDIRECT(ADDRESS(ROW()+E3201,5)),1))","v":""},{"$f":"IF(LEFT(F3201,7)=\"<aff id\",_xlfn.NUMBERVALUE(MID(F3201,13,LEN(F3201)-14)),IF(F3201=\"</aff>\",G3200+1,G3200))","v":0},0,{"$f":"INDIRECT(ADDRESS(ROW()-INDIRECT(ADDRESS(ROW()-H3201,8)),8))","v":0},{"$f":"IF(J3200=\"Linea_para_MAIL_creada_por_LuXML\",\"</aff>\",IF(I3201>INDIRECT(ADDRESS(ROW()-I3201-1,8)),\"Linea_para_MAIL_creada_por_LuXML\",INDIRECT(ADDRESS(ROW()-I3201,6))))","v":""},"",{"$f":"IF(OR(MID(K3199,3,5)=\"page>\",MID(K3200,3,5)=\"page>\"),L3200,IF(OR(K3200=\"<history>\",K3201=\"<history>\"),L3200+1,L3200))","v":0},{"$f":"IF(L3201>L3200,IF(L3201=1,CONCATENATE(\"<fpage>\",$S$10,\"</fpage>\"),CONCATENATE(\"<lpage>\",$S$10+1,\"</lpage>\")),IF(ISERROR(INDIRECT(ADDRESS(ROW()-L3201,11),1)),\"\",INDIRECT(ADDRESS(ROW()-L3201,11),1)))","v":""},{"$f":"IF(N3200=-1,-1,IF(M3201=\"</counts>\",-1,IF(OR(LEFT(M3201,7)=\"<fpage>\",LEFT(M3201,7)=\"<lpage>\"),VALUE(MID(M3201,8,LEN(M3201)-15)),0)))","v":0},"",{"$f":"IF(ROW()<$S$4+2,IF('XML a procesar'!A3200=\"\",P3200,IF(MID('XML a procesar'!A3200,1,1)=\"<\",P3200,P3200+1)),P3200)","v":1}]
[{"$f":"IF('XML a procesar'!A3201>0,'XML a procesar'!A3201,\"\")","v":""},0,0,0,0,"",0,0,0,"","",0,"",0,{"$f":"IF(N3202>-1,INDIRECT(ADDRESS(ROW(),13)),IF(N3202<N3201,CONCATENATE(\"<page-count count=\",CHAR(34),1+LARGE(N:N,1)-LARGE(N:N,2),CHAR(34),\"/>\"),INDIRECT(ADDRESS(ROW()-1,13))))","v":""},{"$f":"IF(ROW()<$S$4+2,IF('XML a procesar'!A3201=\"\",P3201,IF(MID('XML a procesar'!A3201,1,1)=\"<\",P3201,P3201+1)),P3201)","v":1}]
[{"$f":"IF('XML a procesar'!A3202>0,'XML a procesar'!A3202,\"\")","v":""},0,0,0,0,"",0,{"$f":"IF(AND(G3202>0,G3203>G3202,NOT(ISERROR(MATCH(G3202,D:D,0)))),H3202+1,H3202)","v":0},0,"",{"$f":"IF(J3203=\"Linea_para_MAIL_creada_por_LuXML\",IF(ISERROR(MATCH(INDIRECT(ADDRESS(ROW()-G3203,7)),D:D,0)),J3203,INDIRECT(ADDRESS(MATCH(INDIRECT(ADDRESS(ROW()-G3203,7)),D:D,0),1))),J3203)","v":""},0,"",0,"",{"$f":"IF(ROW()<$S$4+2,IF('XML a procesar'!A3202=\"\",P3202,IF(MID('XML a procesar'!A3202,1,1)=\"<\",P3202,P3202+1)),P3202)","v":1}]
[{"$f":"IF('XML a procesar'!A3203>0,'XML a procesar'!A3203,\"\")","v":""},0,0,0,0,"",0,0,0,"","",0,"",0,"",{"$f":"IF(ROW()<$S$4+2,IF('XML a procesar'!A3203=\"\",P3203,IF(MID('XML a procesar'!A3203,1,1)=\"<\",P3203,P3203+1)),P3203)","v":1}]
[{"$f":"IF('XML a procesar'!A3204>0,'XML a procesar'!A3204,\"\")","v":""},0,0,0,0,"",0,0,0,"","",0,"",0,"",{"$f":"IF(ROW()<$S$4+2,IF('XML a procesar'!A3204=\"\",P3204,IF(MID('XML a procesar'!A3204,1,1)=\"<\",P3204,P3204+1)),P3204)","v":1}]
[{"$f":"IF('XML a procesar'!A3205>0,'XML a procesar'!A3205,\"\")","v":""},0,0,0,0,"",0,0,0,"","",0,"",0,"",{"$f":"IF(ROW()<$S$4+2,IF('XML a procesar'!A3205=\"\",P3205,IF(MID('XML a procesar'!A3205,1,1)=\"<\",P3205,P3205+1)),P3205)","v":1}]
[{"$f":"IF('XML a procesar'!A3206>0,'XML a procesar'!A3206,\"\")","v":""},0,0,0,0,"",0,0,0,"","",0,"",0,"",{"$f":"IF(ROW()<$S$4+2,IF('XML a procesar'!A3206=\"\",P3206,IF(MID('XML a procesar'!A3206,1,1)=\"<\",P3206,P3206+1)),P3206)","v":1}]
[{"$f":"IF('XML a procesar'!A3207>0,'XML a procesar'!A3207,\"\")","v":""},0,0,0,0,"",0,0,0,"","",0,"",0,"",{"$f":"IF(ROW()<$S$4+2,IF('XML a procesar'!A3207=\"\",P3207,IF(MID('XML a procesar'!A3207,1,1)=\"<\",P3207,P3207+1)),P3207)","v":1}]
[{"$f":"IF('XML a procesar'!A3208>0,'XML a procesar'!A3208,\"\")","v":""},0,0,0,0,"",0,0,0,"","",0,"",0,"",{"$f":"IF(ROW()<$S$4+2,IF('XML a procesar'!A3208=\"\",P3208,IF(MID('XML a procesar'!A3208,1,1)=\"<\",P3208,P3208+1)),P3208)","v":1}]
[{"$f":"IF('XML a procesar'!A3209>0,'XML a procesar'!A3209,\"\")","v":""},0,0,0,0,"",0,0,0,"","",0,"",0,"",{"$f":"IF(ROW()<$S$4+2,IF('XML a procesar'!A3209=\"\",P3209,IF(MID('XML a procesar'!A3209,1,1)=\"<\",P3209,P3209+1)),P3209)","v":1}]
[{"$f":"IF('XML a procesar'!A3210>0,'XML a procesar'!A3210,\"\")","v":""},0,0,0,0,"",0,0,0,"","",0,"",0,"",{"$f":"IF(ROW()<$S$4+2,IF('XML a procesar'!A3210=\"\",P3210,IF(MID('XML a procesar'!A3210,1,1)=\"<\",P3210,P3210+1)),P3210)","v":1}]
[{"$f":"IF('XML a procesar'!A3211>0,'XML a procesar'!A3211,\"\")","v":""},0,0,0,0,"",0,0,0,"","",0,"",0,"",{"$f":"IF(ROW()<$S$4+2,IF('XML a procesar'!A3211=\"\",P3211,IF(MID('XML a procesar'!A3211,1,1)=\"<\",P3211,P3211+1)),P3211)","v":1}]
[{"$f":"IF('XML a procesar'!A3212>0,'XML a procesar'!A3212,\"\")","v":""},0,0,0,0,"",0,0,0,"","",0,"",0,"",{"$f":"IF(ROW()<$S$4+2,IF('XML a procesar'!A3212=\"\",P3212,IF(MID('XML a procesar'!A3212,1,1)=\"<\",P3212,P3212+1)),P3212)","v":1}]
[{"$f":"IF('XML a procesar'!A3213>0,'XML a procesar'!A3213,\"\")","v":""},0,0,0,0,"",0,0,0,"","",0,"",0,"",{"$f":"IF(ROW()<$S$4+2,IF('XML a procesar'!A3213=\"\",P3213,IF(MID('XML a procesar'!A3213,1,1)=\"<\",P3213,P3213+1)),P3213)","v":1}]
[{"$f":"IF('XML a procesar'!A3214>0,'XML a procesar'!A3214,\"\")","v":""},0,0,0,0,"",0,0,0,"","",0,"",0,"",{"$f":"IF(ROW()<$S$4+2,IF('XML a procesar'!A3214=\"\",P3214,IF(MID('XML a procesar'!A3214,1,1)=\"<\",P3214,P3214+1)),P3214)","v":1}]
[{"$f":"IF('XML a procesar'!A3215>0,'XML a procesar'!A3215,\"\")","v":""},0,0,0,0,"",0,0,0,"","",0,"",0,"",{"$f":"IF(ROW()<$S$4+2,IF('XML a procesar'!A3215=\"\",P3215,IF(MID('XML a procesar'!A3215,1,1)=\"<\",P3215,P3215+1)),P3215)","v":1}]
[{"$f":"IF('XML a procesar'!A3216>0,'XML a procesar'!A3216,\"\")","v":""},0,0,0,0,"",0,0,0,"","",0,"",0,"",{"$f":"IF(ROW()<$S$4+2,IF('XML a procesar'!A3216=\"\",P3216,IF(MID('XML a procesar'!A3216,1,1)=\"<\",P3216,P3216+1)),P3216)","v":1}]
[{"$f":"IF('XML a procesar'!A3217>0,'XML a procesar'!A3217,\"\")","v":""},0,0,0,0,"",0,0,0,"","",0,"",0,"",{"$f":"IF(ROW()<$S$4+2,IF('XML a procesar'!A3217=\"\",P3217,IF(MID('XML a procesar'!A3217,1,1)=\"<\",P3217,P3217+1)),P3217)","v":1}]
[{"$f":"IF('XML a procesar'!A3218>0,'XML a procesar'!A3218,\"\")","v":""},0,0,0,0,"",0,0,0,"","",0,"",0,"",{"$f":"IF(ROW()<$S$4+2,IF('XML a procesar'!A3218=\"\",P3218,IF(MID('XML a procesar'!A3218,1,1)=\"<\",P3218,P3218+1)),P3218)","v":1}]
[{"$f":"IF('XML a procesar'!A3219>0,'XML a procesar'!A3219,\"\")","v":""},0,0,0,0,"",0,0,0,"","",0,"",0,"",{"$f":"IF(ROW()<$S$4+2,IF('XML a procesar'!A3219=\"\",P3219,IF(MID('XML a procesar'!A3219,1,1)=\"<\",P3219,P3219+1)),P3219)","v":1}]
[{"$f":"IF('XML a procesar'!A3220>0,'XML a procesar'!A3220,\"\")","v":""},0,0,0,0,"",0,0,0,"","",0,"",0,"",{"$f":"IF(ROW()<$S$4+2,IF('XML a procesar'!A3220=\"\",P3220,IF(MID('XML a procesar'!A3220,1,1)=\"<\",P3220,P3220+1)),P3220)","v":1}]
[{"$f":"IF('XML a procesar'!A3221>0,'XML a procesar'!A3221,\"\")","v":""},0,0,0,0,"",0,0,0,"","",0,"",0,"",{"$f":"IF(ROW()<$S$4+2,IF('XML a procesar'!A3221=\"\",P3221,IF(MID('XML a procesar'!A3221,1,1)=\"<\",P3221,P3221+1)),P3221)","v":1}]
[{"$f":"IF('XML a procesar'!A3222>0,'XML a procesar'!A3222,\"\")","v":""},0,0,0,0,"",0,0,0,"","",0,"",0,"",{"$f":"IF(ROW()<$S$4+2,IF('XML a procesar'!A3222=\"\",P3222,IF(MID('XML a procesar'!A3222,1,1)=\"<\",P3222,P3222+1)),P3222)","v":1}]
[{"$f":"IF('XML a procesar'!A3223>0,'XML a procesar'!A3223,\"\")","v":""},0,0,0,0,"",0,0,0,"","",0,"",0,"",{"$f":"IF(ROW()<$S$4+2,IF('XML a procesar'!A3223=\"\",P3223,IF(MID('XML a procesar'!A3223,1,1)=\"<\",P3223,P3223+1)),P3223)","v":1}]
[{"$f":"IF('XML a procesar'!A3224>0,'XML a procesar'!A3224,\"\")","v":""},0,0,0,0,"",0,0,0,"","",0,"",0,"",{"$f":"IF(ROW()<$S$4+2,IF('XML a procesar'!A3224=\"\",P3224,IF(MID('XML a procesar'!A3224,1,1)=\"<\",P3224,P3224+1)),P3224)","v":1}]
[{"$f":"IF('XML a procesar'!A3225>0,'XML a procesar'!A3225,\"\")","v":""},0,0,0,0,"",0,0,0,"","",0,"",0,"",{"$f":"IF(ROW()<$S$4+2,IF('XML a procesar'!A3225=\"\",P3225,IF(MID('XML a procesar'!A3225,1,1)=\"<\",P3225,P3225+1)),P3225)","v":1}]
[{"$f":"IF('XML a procesar'!A3226>0,'XML a procesar'!A3226,\"\")","v":""},0,0,0,0,"",0,0,0,"","",0,"",0,"",{"$f":"IF(ROW()<$S$4+2,IF('XML a procesar'!A3226=\"\",P3226,IF(MID('XML a procesar'!A3226,1,1)=\"<\",P3226,P3226+1)),P3226)","v":1}]
[{"$f":"IF('XML a procesar'!A3227>0,'XML a procesar'!A3227,\"\")","v":""},0,0,0,0,"",0,0,0,"","",0,"",0,"",{"$f":"IF(ROW()<$S$4+2,IF('XML a procesar'!A3227=\"\",P3227,IF(MID('XML a procesar'!A3227,1,1)=\"<\",P3227,P3227+1)),P3227)","v":1}]
[{"$f":"IF('XML a procesar'!A3228>0,'XML a procesar'!A3228,\"\")","v":""},0,0,0,0,"",0,0,0,"","",0,"",0,"",{"$f":"IF(ROW()<$S$4+2,IF('XML a procesar'!A3228=\"\",P3228,IF(MID('XML a procesar'!A3228,1,1)=\"<\",P3228,P3228+1)),P3228)","v":1}]
[{"$f":"IF('XML a procesar'!A3229>0,'XML a procesar'!A3229,\"\")","v":""},0,0,0,0,"",0,0,0,"","",0,"",0,"",{"$f":"IF(ROW()<$S$4+2,IF('XML a procesar'!A3229=\"\",P3229,IF(MID('XML a procesar'!A3229,1,1)=\"<\",P3229,P3229+1)),P3229)","v":1}]
[{"$f":"IF('XML a procesar'!A3230>0,'XML a procesar'!A3230,\"\")","v":""},0,0,0,0,"",0,0,0,"","",0,"",0,"",{"$f":"IF(ROW()<$S$4+2,IF('XML a procesar'!A3230=\"\",P3230,IF(MID('XML a procesar'!A3230,1,1)=\"<\",P3230,P3230+1)),P3230)","v":1}]
[{"$f":"IF('XML a procesar'!A3231>0,'XML a procesar'!A3231,\"\")","v":""},0,0,0,0,"",0,0,0,"","",0,"",0,"",{"$f":"IF(ROW()<$S$4+2,IF('XML a procesar'!A3231=\"\",P3231,IF(MID('XML a procesar'!A3231,1,1)=\"<\",P3231,P3231+1)),P3231)","v":1}]
[{"$f":"IF('XML a procesar'!A3232>0,'XML a procesar'!A3232,\"\")","v":""},0,0,0,0,"",0,0,0,"","",0,"",0,"",{"$f":"IF(ROW()<$S$4+2,IF('XML a procesar'!A3232=\"\",P3232,IF(MID('XML a procesar'!A3232,1,1)=\"<\",P3232,P3232+1)),P3232)","v":1}]
[{"$f":"IF('XML a procesar'!A3233>0,'XML a procesar'!A3233,\"\")","v":""},0,0,0,0,"",0,0,0,"","",0,"",0,"",{"$f":"IF(ROW()<$S$4+2,IF('XML a procesar'!A3233=\"\",P3233,IF(MID('XML a procesar'!A3233,1,1)=\"<\",P3233,P3233+1)),P3233)","v":1}]
[{"$f":"IF('XML a procesar'!A3234>0,'XML a procesar'!A3234,\"\")","v":""},0,0,0,0,"",0,0,0,"","",0,"",0,"",{"$f":"IF(ROW()<$S$4+2,IF('XML a procesar'!A3234=\"\",P3234,IF(MID('XML a procesar'!A3234,1,1)=\"<\",P3234,P3234+1)),P3234)","v":1}]
[{"$f":"IF('XML a procesar'!A3235>0,'XML a procesar'!A3235,\"\")","v":""},0,0,0,0,"",0,0,0,"","",0,"",0,"",{"$f":"IF(ROW()<$S$4+2,IF('XML a procesar'!A3235=\"\",P3235,IF(MID('XML a procesar'!A3235,1,1)=\"<\",P3235,P3235+1)),P3235)","v":1}]
[{"$f":"IF('XML a procesar'!A3236>0,'XML a procesar'!A3236,\"\")","v":""},0,0,0,0,"",0,0,0,"","",0,"",0,"",{"$f":"IF(ROW()<$S$4+2,IF('XML a procesar'!A3236=\"\",P3236,IF(MID('XML a procesar'!A3236,1,1)=\"<\",P3236,P3236+1)),P3236)","v":1}]
[{"$f":"IF('XML a procesar'!A3237>0,'XML a procesar'!A3237,\"\")","v":""},0,0,0,0,"",0,0,0,"","",0,"",0,"",{"$f":"IF(ROW()<$S$4+2,IF('XML a procesar'!A3237=\"\",P3237,IF(MID('XML a procesar'!A3237,1,1)=\"<\",P3237,P3237+1)),P3237)","v":1}]
[{"$f":"IF('XML a procesar'!A3238>0,'XML a procesar'!A3238,\"\")","v":""},0,0,0,0,"",0,0,0,"","",0,"",0,"",{"$f":"IF(ROW()<$S$4+2,IF('XML a procesar'!A3238=\"\",P3238,IF(MID('XML a procesar'!A3238,1,1)=\"<\",P3238,P3238+1)),P3238)","v":1}]
[{"$f":"IF('XML a procesar'!A3239>0,'XML a procesar'!A3239,\"\")","v":""},0,0,0,0,"",0,0,0,"","",0,"",0,"",{"$f":"IF(ROW()<$S$4+2,IF('XML a procesar'!A3239=\"\",P3239,IF(MID('XML a procesar'!A3239,1,1)=\"<\",P3239,P3239+1)),P3239)","v":1}]
[{"$f":"IF('XML a procesar'!A3240>0,'XML a procesar'!A3240,\"\")","v":""},0,0,0,0,"",0,0,0,"","",0,"",0,"",{"$f":"IF(ROW()<$S$4+2,IF('XML a procesar'!A3240=\"\",P3240,IF(MID('XML a procesar'!A3240,1,1)=\"<\",P3240,P3240+1)),P3240)","v":1}]
[{"$f":"IF('XML a procesar'!A3241>0,'XML a procesar'!A3241,\"\")","v":""},0,0,0,0,"",0,0,0,"","",0,"",0,"",{"$f":"IF(ROW()<$S$4+2,IF('XML a procesar'!A3241=\"\",P3241,IF(MID('XML a procesar'!A3241,1,1)=\"<\",P3241,P3241+1)),P3241)","v":1}]
[{"$f":"IF('XML a procesar'!A3242>0,'XML a procesar'!A3242,\"\")","v":""},0,0,0,0,"",0,0,0,"","",0,"",0,"",{"$f":"IF(ROW()<$S$4+2,IF('XML a procesar'!A3242=\"\",P3242,IF(MID('XML a procesar'!A3242,1,1)=\"<\",P3242,P3242+1)),P3242)","v":1}]
[{"$f":"IF('XML a procesar'!A3243>0,'XML a procesar'!A3243,\"\")","v":""},0,0,0,0,"",0,0,0,"","",0,"",0,"",{"$f":"IF(ROW()<$S$4+2,IF('XML a procesar'!A3243=\"\",P3243,IF(MID('XML a procesar'!A3243,1,1)=\"<\",P3243,P3243+1)),P3243)","v":1}]
[{"$f":"IF('XML a procesar'!A3244>0,'XML a procesar'!A3244,\"\")","v":""},0,0,0,0,"",0,0,0,"","",0,"",0,"",{"$f":"IF(ROW()<$S$4+2,IF('XML a procesar'!A3244=\"\",P3244,IF(MID('XML a procesar'!A3244,1,1)=\"<\",P3244,P3244+1)),P3244)","v":1}]
[{"$f":"IF('XML a procesar'!A3245>0,'XML a procesar'!A3245,\"\")","v":""},0,0,0,0,"",0,0,0,"","",0,"",0,"",{"$f":"IF(ROW()<$S$4+2,IF('XML a procesar'!A3245=\"\",P3245,IF(MID('XML a procesar'!A3245,1,1)=\"<\",P3245,P3245+1)),P3245)","v":1}]
[{"$f":"IF('XML a procesar'!A3246>0,'XML a procesar'!A3246,\"\")","v":""},0,0,0,0,"",0,0,0,"","",0,"",0,"",{"$f":"IF(ROW()<$S$4+2,IF('XML a procesar'!A3246=\"\",P3246,IF(MID('XML a procesar'!A3246,1,1)=\"<\",P3246,P3246+1)),P3246)","v":1}]
[{"$f":"IF('XML a procesar'!A3247>0,'XML a procesar'!A3247,\"\")","v":""},0,0,0,0,"",0,0,0,"","",0,"",0,"",{"$f":"IF(ROW()<$S$4+2,IF('XML a procesar'!A3247=\"\",P3247,IF(MID('XML a procesar'!A3247,1,1)=\"<\",P3247,P3247+1)),P3247)","v":1}]
[{"$f":"IF('XML a procesar'!A3248>0,'XML a procesar'!A3248,\"\")","v":""},0,0,0,0,"",0,0,0,"","",0,"",0,"",{"$f":"IF(ROW()<$S$4+2,IF('XML a procesar'!A3248=\"\",P3248,IF(MID('XML a procesar'!A3248,1,1)=\"<\",P3248,P3248+1)),P3248)","v":1}]
[{"$f":"IF('XML a procesar'!A3249>0,'XML a procesar'!A3249,\"\")","v":""},0,0,0,0,"",0,0,0,"","",0,"",0,"",{"$f":"IF(ROW()<$S$4+2,IF('XML a procesar'!A3249=\"\",P3249,IF(MID('XML a procesar'!A3249,1,1)=\"<\",P3249,P3249+1)),P3249)","v":1}]
[{"$f":"IF('XML a procesar'!A3250>0,'XML a procesar'!A3250,\"\")","v":""},0,0,0,0,"",0,0,0,"","",0,"",0,"",{"$f":"IF(ROW()<$S$4+2,IF('XML a procesar'!A3250=\"\",P3250,IF(MID('XML a procesar'!A3250,1,1)=\"<\",P3250,P3250+1)),P3250)","v":1}]
[{"$f":"IF('XML a procesar'!A3251>0,'XML a procesar'!A3251,\"\")","v":""},0,0,0,0,"",0,0,0,"","",0,"",0,"",{"$f":"IF(ROW()<$S$4+2,IF('XML a procesar'!A3251=\"\",P3251,IF(MID('XML a procesar'!A3251,1,1)=\"<\",P3251,P3251+1)),P3251)","v":1}]
[{"$f":"IF('XML a procesar'!A3252>0,'XML a procesar'!A3252,\"\")","v":""},0,0,0,0,"",0,0,0,"","",0,"",0,"",{"$f":"IF(ROW()<$S$4+2,IF('XML a procesar'!A3252=\"\",P3252,IF(MID('XML a procesar'!A3252,1,1)=\"<\",P3252,P3252+1)),P3252)","v":1}]
[{"$f":"IF('XML a procesar'!A3253>0,'XML a procesar'!A3253,\"\")","v":""},0,0,0,0,"",0,0,0,"","",0,"",0,"",{"$f":"IF(ROW()<$S$4+2,IF('XML a procesar'!A3253=\"\",P3253,IF(MID('XML a procesar'!A3253,1,1)=\"<\",P3253,P3253+1)),P3253)","v":1}]
[{"$f":"IF('XML a procesar'!A3254>0,'XML a procesar'!A3254,\"\")","v":""},0,0,0,0,"",0,0,0,"","",0,"",0,"",{"$f":"IF(ROW()<$S$4+2,IF('XML a procesar'!A3254=\"\",P3254,IF(MID('XML a procesar'!A3254,1,1)=\"<\",P3254,P3254+1)),P3254)","v":1}]
[{"$f":"IF('XML a procesar'!A3255>0,'XML a procesar'!A3255,\"\")","v":""},0,0,0,0,"",0,0,0,"","",0,"",0,"",{"$f":"IF(ROW()<$S$4+2,IF('XML a procesar'!A3255=\"\",P3255,IF(MID('XML a procesar'!A3255,1,1)=\"<\",P3255,P3255+1)),P3255)","v":1}]
[{"$f":"IF('XML a procesar'!A3256>0,'XML a procesar'!A3256,\"\")","v":""},0,0,0,0,"",0,0,0,"","",0,"",0,"",{"$f":"IF(ROW()<$S$4+2,IF('XML a procesar'!A3256=\"\",P3256,IF(MID('XML a procesar'!A3256,1,1)=\"<\",P3256,P3256+1)),P3256)","v":1}]
[{"$f":"IF('XML a procesar'!A3257>0,'XML a procesar'!A3257,\"\")","v":""},0,0,0,0,"",0,0,0,"","",0,"",0,"",{"$f":"IF(ROW()<$S$4+2,IF('XML a procesar'!A3257=\"\",P3257,IF(MID('XML a procesar'!A3257,1,1)=\"<\",P3257,P3257+1)),P3257)","v":1}]
[{"$f":"IF('XML a procesar'!A3258>0,'XML a procesar'!A3258,\"\")","v":""},0,0,0,0,"",0,0,0,"","",0,"",0,"",{"$f":"IF(ROW()<$S$4+2,IF('XML a procesar'!A3258=\"\",P3258,IF(MID('XML a procesar'!A3258,1,1)=\"<\",P3258,P3258+1)),P3258)","v":1}]
[{"$f":"IF('XML a procesar'!A3259>0,'XML a procesar'!A3259,\"\")","v":""},0,0,0,0,"",0,0,0,"","",0,"",0,"",{"$f":"IF(ROW()<$S$4+2,IF('XML a procesar'!A3259=\"\",P3259,IF(MID('XML a procesar'!A3259,1,1)=\"<\",P3259,P3259+1)),P3259)","v":1}]
[{"$f":"IF('XML a procesar'!A3260>0,'XML a procesar'!A3260,\"\")","v":""},0,0,0,0,"",0,0,0,"","",0,"",0,"",{"$f":"IF(ROW()<$S$4+2,IF('XML a procesar'!A3260=\"\",P3260,IF(MID('XML a procesar'!A3260,1,1)=\"<\",P3260,P3260+1)),P3260)","v":1}]
[{"$f":"IF('XML a procesar'!A3261>0,'XML a procesar'!A3261,\"\")","v":""},0,0,0,0,"",0,0,0,"","",0,"",0,"",{"$f":"IF(ROW()<$S$4+2,IF('XML a procesar'!A3261=\"\",P3261,IF(MID('XML a procesar'!A3261,1,1)=\"<\",P3261,P3261+1)),P3261)","v":1}]
[{"$f":"IF('XML a procesar'!A3262>0,'XML a procesar'!A3262,\"\")","v":""},0,0,0,0,"",0,0,0,"","",0,"",0,"",{"$f":"IF(ROW()<$S$4+2,IF('XML a procesar'!A3262=\"\",P3262,IF(MID('XML a procesar'!A3262,1,1)=\"<\",P3262,P3262+1)),P3262)","v":1}]
[{"$f":"IF('XML a procesar'!A3263>0,'XML a procesar'!A3263,\"\")","v":""},0,0,0,0,"",0,0,0,"","",0,"",0,"",{"$f":"IF(ROW()<$S$4+2,IF('XML a procesar'!A3263=\"\",P3263,IF(MID('XML a procesar'!A3263,1,1)=\"<\",P3263,P3263+1)),P3263)","v":1}]
[{"$f":"IF('XML a procesar'!A3264>0,'XML a procesar'!A3264,\"\")","v":""},{"$f":"IF(ISERROR(FIND(\"/doi.org/\",A3265,1)),0,1)","v":0},{"$f":"IF(LEFT(A3264,16)=\"<contrib contrib\",C3264+1,IF(LEFT(A3264,16)=\"</contrib-group>\",0,IF(LEFT(A3264,10)=\"</contrib>\",C3264,C3264)))","v":0},{"$f":"IF(AND(C3265>0,LEFT(A3265,7)=\"<email>\",ISNUMBER(SEARCH(\"@\",A3265,1))),C3265,IF(LEFT(A3265,10)=\"<alt-text>\",-1,0))","v":0},{"$f":"IF(D3265=0,E3264,E3264+1)","v":0},{"$f":"INDIRECT(ADDRESS(ROW()+INDIRECT(ADDRESS(ROW()+E3265,5)),1))","v":""},{"$f":"IF(LEFT(F3265,7)=\"<aff id\",_xlfn.NUMBERVALUE(MID(F3265,13,LEN(F3265)-14)),IF(F3265=\"</aff>\",G3264+1,G3264))","v":0},0,{"$f":"INDIRECT(ADDRESS(ROW()-INDIRECT(ADDRESS(ROW()-H3265,8)),8))","v":0},{"$f":"IF(J3264=\"Linea_para_MAIL_creada_por_LuXML\",\"</aff>\",IF(I3265>INDIRECT(ADDRESS(ROW()-I3265-1,8)),\"Linea_para_MAIL_creada_por_LuXML\",INDIRECT(ADDRESS(ROW()-I3265,6))))","v":""},"",{"$f":"IF(OR(MID(K3263,3,5)=\"page>\",MID(K3264,3,5)=\"page>\"),L3264,IF(OR(K3264=\"<history>\",K3265=\"<history>\"),L3264+1,L3264))","v":0},{"$f":"IF(L3265>L3264,IF(L3265=1,CONCATENATE(\"<fpage>\",$S$10,\"</fpage>\"),CONCATENATE(\"<lpage>\",$S$10+1,\"</lpage>\")),IF(ISERROR(INDIRECT(ADDRESS(ROW()-L3265,11),1)),\"\",INDIRECT(ADDRESS(ROW()-L3265,11),1)))","v":""},{"$f":"IF(N3264=-1,-1,IF(M3265=\"</counts>\",-1,IF(OR(LEFT(M3265,7)=\"<fpage>\",LEFT(M3265,7)=\"<lpage>\"),VALUE(MID(M3265,8,LEN(M3265)-15)),0)))","v":0},"",{"$f":"IF(ROW()<$S$4+2,IF('XML a procesar'!A3264=\"\",P3264,IF(MID('XML a procesar'!A3264,1,1)=\"<\",P3264,P3264+1)),P3264)","v":1}]
[{"$f":"IF('XML a procesar'!A3265>0,'XML a procesar'!A3265,\"\")","v":""},0,0,0,0,"",0,0,0,"","",0,"",0,{"$f":"IF(N3266>-1,INDIRECT(ADDRESS(ROW(),13)),IF(N3266<N3265,CONCATENATE(\"<page-count count=\",CHAR(34),1+LARGE(N:N,1)-LARGE(N:N,2),CHAR(34),\"/>\"),INDIRECT(ADDRESS(ROW()-1,13))))","v":""},{"$f":"IF(ROW()<$S$4+2,IF('XML a procesar'!A3265=\"\",P3265,IF(MID('XML a procesar'!A3265,1,1)=\"<\",P3265,P3265+1)),P3265)","v":1}]
[{"$f":"IF('XML a procesar'!A3266>0,'XML a procesar'!A3266,\"\")","v":""},0,0,0,0,"",0,{"$f":"IF(AND(G3266>0,G3267>G3266,NOT(ISERROR(MATCH(G3266,D:D,0)))),H3266+1,H3266)","v":0},0,"",{"$f":"IF(J3267=\"Linea_para_MAIL_creada_por_LuXML\",IF(ISERROR(MATCH(INDIRECT(ADDRESS(ROW()-G3267,7)),D:D,0)),J3267,INDIRECT(ADDRESS(MATCH(INDIRECT(ADDRESS(ROW()-G3267,7)),D:D,0),1))),J3267)","v":""},0,"",0,"",{"$f":"IF(ROW()<$S$4+2,IF('XML a procesar'!A3266=\"\",P3266,IF(MID('XML a procesar'!A3266,1,1)=\"<\",P3266,P3266+1)),P3266)","v":1}]
[{"$f":"IF('XML a procesar'!A3267>0,'XML a procesar'!A3267,\"\")","v":""},0,0,0,0,"",0,0,0,"","",0,"",0,"",{"$f":"IF(ROW()<$S$4+2,IF('XML a procesar'!A3267=\"\",P3267,IF(MID('XML a procesar'!A3267,1,1)=\"<\",P3267,P3267+1)),P3267)","v":1}]
[{"$f":"IF('XML a procesar'!A3268>0,'XML a procesar'!A3268,\"\")","v":""},0,0,0,0,"",0,0,0,"","",0,"",0,"",{"$f":"IF(ROW()<$S$4+2,IF('XML a procesar'!A3268=\"\",P3268,IF(MID('XML a procesar'!A3268,1,1)=\"<\",P3268,P3268+1)),P3268)","v":1}]
[{"$f":"IF('XML a procesar'!A3269>0,'XML a procesar'!A3269,\"\")","v":""},0,0,0,0,"",0,0,0,"","",0,"",0,"",{"$f":"IF(ROW()<$S$4+2,IF('XML a procesar'!A3269=\"\",P3269,IF(MID('XML a procesar'!A3269,1,1)=\"<\",P3269,P3269+1)),P3269)","v":1}]
[{"$f":"IF('XML a procesar'!A3270>0,'XML a procesar'!A3270,\"\")","v":""},0,0,0,0,"",0,0,0,"","",0,"",0,"",{"$f":"IF(ROW()<$S$4+2,IF('XML a procesar'!A3270=\"\",P3270,IF(MID('XML a procesar'!A3270,1,1)=\"<\",P3270,P3270+1)),P3270)","v":1}]
[{"$f":"IF('XML a procesar'!A3271>0,'XML a procesar'!A3271,\"\")","v":""},0,0,0,0,"",0,0,0,"","",0,"",0,"",{"$f":"IF(ROW()<$S$4+2,IF('XML a procesar'!A3271=\"\",P3271,IF(MID('XML a procesar'!A3271,1,1)=\"<\",P3271,P3271+1)),P3271)","v":1}]
[{"$f":"IF('XML a procesar'!A3272>0,'XML a procesar'!A3272,\"\")","v":""},0,0,0,0,"",0,0,0,"","",0,"",0,"",{"$f":"IF(ROW()<$S$4+2,IF('XML a procesar'!A3272=\"\",P3272,IF(MID('XML a procesar'!A3272,1,1)=\"<\",P3272,P3272+1)),P3272)","v":1}]
[{"$f":"IF('XML a procesar'!A3273>0,'XML a procesar'!A3273,\"\")","v":""},0,0,0,0,"",0,0,0,"","",0,"",0,"",{"$f":"IF(ROW()<$S$4+2,IF('XML a procesar'!A3273=\"\",P3273,IF(MID('XML a procesar'!A3273,1,1)=\"<\",P3273,P3273+1)),P3273)","v":1}]
[{"$f":"IF('XML a procesar'!A3274>0,'XML a procesar'!A3274,\"\")","v":""},0,0,0,0,"",0,0,0,"","",0,"",0,"",{"$f":"IF(ROW()<$S$4+2,IF('XML a procesar'!A3274=\"\",P3274,IF(MID('XML a procesar'!A3274,1,1)=\"<\",P3274,P3274+1)),P3274)","v":1}]
[{"$f":"IF('XML a procesar'!A3275>0,'XML a procesar'!A3275,\"\")","v":""},0,0,0,0,"",0,0,0,"","",0,"",0,"",{"$f":"IF(ROW()<$S$4+2,IF('XML a procesar'!A3275=\"\",P3275,IF(MID('XML a procesar'!A3275,1,1)=\"<\",P3275,P3275+1)),P3275)","v":1}]
[{"$f":"IF('XML a procesar'!A3276>0,'XML a procesar'!A3276,\"\")","v":""},0,0,0,0,"",0,0,0,"","",0,"",0,"",{"$f":"IF(ROW()<$S$4+2,IF('XML a procesar'!A3276=\"\",P3276,IF(MID('XML a procesar'!A3276,1,1)=\"<\",P3276,P3276+1)),P3276)","v":1}]
[{"$f":"IF('XML a procesar'!A3277>0,'XML a procesar'!A3277,\"\")","v":""},0,0,0,0,"",0,0,0,"","",0,"",0,"",{"$f":"IF(ROW()<$S$4+2,IF('XML a procesar'!A3277=\"\",P3277,IF(MID('XML a procesar'!A3277,1,1)=\"<\",P3277,P3277+1)),P3277)","v":1}]
[{"$f":"IF('XML a procesar'!A3278>0,'XML a procesar'!A3278,\"\")","v":""},0,0,0,0,"",0,0,0,"","",0,"",0,"",{"$f":"IF(ROW()<$S$4+2,IF('XML a procesar'!A3278=\"\",P3278,IF(MID('XML a procesar'!A3278,1,1)=\"<\",P3278,P3278+1)),P3278)","v":1}]
[{"$f":"IF('XML a procesar'!A3279>0,'XML a procesar'!A3279,\"\")","v":""},0,0,0,0,"",0,0,0,"","",0,"",0,"",{"$f":"IF(ROW()<$S$4+2,IF('XML a procesar'!A3279=\"\",P3279,IF(MID('XML a procesar'!A3279,1,1)=\"<\",P3279,P3279+1)),P3279)","v":1}]
[{"$f":"IF('XML a procesar'!A3280>0,'XML a procesar'!A3280,\"\")","v":""},0,0,0,0,"",0,0,0,"","",0,"",0,"",{"$f":"IF(ROW()<$S$4+2,IF('XML a procesar'!A3280=\"\",P3280,IF(MID('XML a procesar'!A3280,1,1)=\"<\",P3280,P3280+1)),P3280)","v":1}]
[{"$f":"IF('XML a procesar'!A3281>0,'XML a procesar'!A3281,\"\")","v":""},0,0,0,0,"",0,0,0,"","",0,"",0,"",{"$f":"IF(ROW()<$S$4+2,IF('XML a procesar'!A3281=\"\",P3281,IF(MID('XML a procesar'!A3281,1,1)=\"<\",P3281,P3281+1)),P3281)","v":1}]
[{"$f":"IF('XML a procesar'!A3282>0,'XML a procesar'!A3282,\"\")","v":""},0,0,0,0,"",0,0,0,"","",0,"",0,"",{"$f":"IF(ROW()<$S$4+2,IF('XML a procesar'!A3282=\"\",P3282,IF(MID('XML a procesar'!A3282,1,1)=\"<\",P3282,P3282+1)),P3282)","v":1}]
[{"$f":"IF('XML a procesar'!A3283>0,'XML a procesar'!A3283,\"\")","v":""},0,0,0,0,"",0,0,0,"","",0,"",0,"",{"$f":"IF(ROW()<$S$4+2,IF('XML a procesar'!A3283=\"\",P3283,IF(MID('XML a procesar'!A3283,1,1)=\"<\",P3283,P3283+1)),P3283)","v":1}]
[{"$f":"IF('XML a procesar'!A3284>0,'XML a procesar'!A3284,\"\")","v":""},0,0,0,0,"",0,0,0,"","",0,"",0,"",{"$f":"IF(ROW()<$S$4+2,IF('XML a procesar'!A3284=\"\",P3284,IF(MID('XML a procesar'!A3284,1,1)=\"<\",P3284,P3284+1)),P3284)","v":1}]
[{"$f":"IF('XML a procesar'!A3285>0,'XML a procesar'!A3285,\"\")","v":""},0,0,0,0,"",0,0,0,"","",0,"",0,"",{"$f":"IF(ROW()<$S$4+2,IF('XML a procesar'!A3285=\"\",P3285,IF(MID('XML a procesar'!A3285,1,1)=\"<\",P3285,P3285+1)),P3285)","v":1}]
[{"$f":"IF('XML a procesar'!A3286>0,'XML a procesar'!A3286,\"\")","v":""},0,0,0,0,"",0,0,0,"","",0,"",0,"",{"$f":"IF(ROW()<$S$4+2,IF('XML a procesar'!A3286=\"\",P3286,IF(MID('XML a procesar'!A3286,1,1)=\"<\",P3286,P3286+1)),P3286)","v":1}]
[{"$f":"IF('XML a procesar'!A3287>0,'XML a procesar'!A3287,\"\")","v":""},0,0,0,0,"",0,0,0,"","",0,"",0,"",{"$f":"IF(ROW()<$S$4+2,IF('XML a procesar'!A3287=\"\",P3287,IF(MID('XML a procesar'!A3287,1,1)=\"<\",P3287,P3287+1)),P3287)","v":1}]
[{"$f":"IF('XML a procesar'!A3288>0,'XML a procesar'!A3288,\"\")","v":""},0,0,0,0,"",0,0,0,"","",0,"",0,"",{"$f":"IF(ROW()<$S$4+2,IF('XML a procesar'!A3288=\"\",P3288,IF(MID('XML a procesar'!A3288,1,1)=\"<\",P3288,P3288+1)),P3288)","v":1}]
[{"$f":"IF('XML a procesar'!A3289>0,'XML a procesar'!A3289,\"\")","v":""},0,0,0,0,"",0,0,0,"","",0,"",0,"",{"$f":"IF(ROW()<$S$4+2,IF('XML a procesar'!A3289=\"\",P3289,IF(MID('XML a procesar'!A3289,1,1)=\"<\",P3289,P3289+1)),P3289)","v":1}]
[{"$f":"IF('XML a procesar'!A3290>0,'XML a procesar'!A3290,\"\")","v":""},0,0,0,0,"",0,0,0,"","",0,"",0,"",{"$f":"IF(ROW()<$S$4+2,IF('XML a procesar'!A3290=\"\",P3290,IF(MID('XML a procesar'!A3290,1,1)=\"<\",P3290,P3290+1)),P3290)","v":1}]
[{"$f":"IF('XML a procesar'!A3291>0,'XML a procesar'!A3291,\"\")","v":""},0,0,0,0,"",0,0,0,"","",0,"",0,"",{"$f":"IF(ROW()<$S$4+2,IF('XML a procesar'!A3291=\"\",P3291,IF(MID('XML a procesar'!A3291,1,1)=\"<\",P3291,P3291+1)),P3291)","v":1}]
[{"$f":"IF('XML a procesar'!A3292>0,'XML a procesar'!A3292,\"\")","v":""},0,0,0,0,"",0,0,0,"","",0,"",0,"",{"$f":"IF(ROW()<$S$4+2,IF('XML a procesar'!A3292=\"\",P3292,IF(MID('XML a procesar'!A3292,1,1)=\"<\",P3292,P3292+1)),P3292)","v":1}]
[{"$f":"IF('XML a procesar'!A3293>0,'XML a procesar'!A3293,\"\")","v":""},0,0,0,0,"",0,0,0,"","",0,"",0,"",{"$f":"IF(ROW()<$S$4+2,IF('XML a procesar'!A3293=\"\",P3293,IF(MID('XML a procesar'!A3293,1,1)=\"<\",P3293,P3293+1)),P3293)","v":1}]
[{"$f":"IF('XML a procesar'!A3294>0,'XML a procesar'!A3294,\"\")","v":""},0,0,0,0,"",0,0,0,"","",0,"",0,"",{"$f":"IF(ROW()<$S$4+2,IF('XML a procesar'!A3294=\"\",P3294,IF(MID('XML a procesar'!A3294,1,1)=\"<\",P3294,P3294+1)),P3294)","v":1}]
[{"$f":"IF('XML a procesar'!A3295>0,'XML a procesar'!A3295,\"\")","v":""},0,0,0,0,"",0,0,0,"","",0,"",0,"",{"$f":"IF(ROW()<$S$4+2,IF('XML a procesar'!A3295=\"\",P3295,IF(MID('XML a procesar'!A3295,1,1)=\"<\",P3295,P3295+1)),P3295)","v":1}]
[{"$f":"IF('XML a procesar'!A3296>0,'XML a procesar'!A3296,\"\")","v":""},0,0,0,0,"",0,0,0,"","",0,"",0,"",{"$f":"IF(ROW()<$S$4+2,IF('XML a procesar'!A3296=\"\",P3296,IF(MID('XML a procesar'!A3296,1,1)=\"<\",P3296,P3296+1)),P3296)","v":1}]
[{"$f":"IF('XML a procesar'!A3297>0,'XML a procesar'!A3297,\"\")","v":""},0,0,0,0,"",0,0,0,"","",0,"",0,"",{"$f":"IF(ROW()<$S$4+2,IF('XML a procesar'!A3297=\"\",P3297,IF(MID('XML a procesar'!A3297,1,1)=\"<\",P3297,P3297+1)),P3297)","v":1}]
[{"$f":"IF('XML a procesar'!A3298>0,'XML a procesar'!A3298,\"\")","v":""},0,0,0,0,"",0,0,0,"","",0,"",0,"",{"$f":"IF(ROW()<$S$4+2,IF('XML a procesar'!A3298=\"\",P3298,IF(MID('XML a procesar'!A3298,1,1)=\"<\",P3298,P3298+1)),P3298)","v":1}]
[{"$f":"IF('XML a procesar'!A3299>0,'XML a procesar'!A3299,\"\")","v":""},0,0,0,0,"",0,0,0,"","",0,"",0,"",{"$f":"IF(ROW()<$S$4+2,IF('XML a procesar'!A3299=\"\",P3299,IF(MID('XML a procesar'!A3299,1,1)=\"<\",P3299,P3299+1)),P3299)","v":1}]
[{"$f":"IF('XML a procesar'!A3300>0,'XML a procesar'!A3300,\"\")","v":""},0,0,0,0,"",0,0,0,"","",0,"",0,"",{"$f":"IF(ROW()<$S$4+2,IF('XML a procesar'!A3300=\"\",P3300,IF(MID('XML a procesar'!A3300,1,1)=\"<\",P3300,P3300+1)),P3300)","v":1}]
[{"$f":"IF('XML a procesar'!A3301>0,'XML a procesar'!A3301,\"\")","v":""},0,0,0,0,"",0,0,0,"","",0,"",0,"",{"$f":"IF(ROW()<$S$4+2,IF('XML a procesar'!A3301=\"\",P3301,IF(MID('XML a procesar'!A3301,1,1)=\"<\",P3301,P3301+1)),P3301)","v":1}]
[{"$f":"IF('XML a procesar'!A3302>0,'XML a procesar'!A3302,\"\")","v":""},0,0,0,0,"",0,0,0,"","",0,"",0,"",{"$f":"IF(ROW()<$S$4+2,IF('XML a procesar'!A3302=\"\",P3302,IF(MID('XML a procesar'!A3302,1,1)=\"<\",P3302,P3302+1)),P3302)","v":1}]
[{"$f":"IF('XML a procesar'!A3303>0,'XML a procesar'!A3303,\"\")","v":""},0,0,0,0,"",0,0,0,"","",0,"",0,"",{"$f":"IF(ROW()<$S$4+2,IF('XML a procesar'!A3303=\"\",P3303,IF(MID('XML a procesar'!A3303,1,1)=\"<\",P3303,P3303+1)),P3303)","v":1}]
[{"$f":"IF('XML a procesar'!A3304>0,'XML a procesar'!A3304,\"\")","v":""},0,0,0,0,"",0,0,0,"","",0,"",0,"",{"$f":"IF(ROW()<$S$4+2,IF('XML a procesar'!A3304=\"\",P3304,IF(MID('XML a procesar'!A3304,1,1)=\"<\",P3304,P3304+1)),P3304)","v":1}]
[{"$f":"IF('XML a procesar'!A3305>0,'XML a procesar'!A3305,\"\")","v":""},0,0,0,0,"",0,0,0,"","",0,"",0,"",{"$f":"IF(ROW()<$S$4+2,IF('XML a procesar'!A3305=\"\",P3305,IF(MID('XML a procesar'!A3305,1,1)=\"<\",P3305,P3305+1)),P3305)","v":1}]
[{"$f":"IF('XML a procesar'!A3306>0,'XML a procesar'!A3306,\"\")","v":""},0,0,0,0,"",0,0,0,"","",0,"",0,"",{"$f":"IF(ROW()<$S$4+2,IF('XML a procesar'!A3306=\"\",P3306,IF(MID('XML a procesar'!A3306,1,1)=\"<\",P3306,P3306+1)),P3306)","v":1}]
[{"$f":"IF('XML a procesar'!A3307>0,'XML a procesar'!A3307,\"\")","v":""},0,0,0,0,"",0,0,0,"","",0,"",0,"",{"$f":"IF(ROW()<$S$4+2,IF('XML a procesar'!A3307=\"\",P3307,IF(MID('XML a procesar'!A3307,1,1)=\"<\",P3307,P3307+1)),P3307)","v":1}]
[{"$f":"IF('XML a procesar'!A3308>0,'XML a procesar'!A3308,\"\")","v":""},0,0,0,0,"",0,0,0,"","",0,"",0,"",{"$f":"IF(ROW()<$S$4+2,IF('XML a procesar'!A3308=\"\",P3308,IF(MID('XML a procesar'!A3308,1,1)=\"<\",P3308,P3308+1)),P3308)","v":1}]
[{"$f":"IF('XML a procesar'!A3309>0,'XML a procesar'!A3309,\"\")","v":""},0,0,0,0,"",0,0,0,"","",0,"",0,"",{"$f":"IF(ROW()<$S$4+2,IF('XML a procesar'!A3309=\"\",P3309,IF(MID('XML a procesar'!A3309,1,1)=\"<\",P3309,P3309+1)),P3309)","v":1}]
[{"$f":"IF('XML a procesar'!A3310>0,'XML a procesar'!A3310,\"\")","v":""},0,0,0,0,"",0,0,0,"","",0,"",0,"",{"$f":"IF(ROW()<$S$4+2,IF('XML a procesar'!A3310=\"\",P3310,IF(MID('XML a procesar'!A3310,1,1)=\"<\",P3310,P3310+1)),P3310)","v":1}]
[{"$f":"IF('XML a procesar'!A3311>0,'XML a procesar'!A3311,\"\")","v":""},0,0,0,0,"",0,0,0,"","",0,"",0,"",{"$f":"IF(ROW()<$S$4+2,IF('XML a procesar'!A3311=\"\",P3311,IF(MID('XML a procesar'!A3311,1,1)=\"<\",P3311,P3311+1)),P3311)","v":1}]
[{"$f":"IF('XML a procesar'!A3312>0,'XML a procesar'!A3312,\"\")","v":""},0,0,0,0,"",0,0,0,"","",0,"",0,"",{"$f":"IF(ROW()<$S$4+2,IF('XML a procesar'!A3312=\"\",P3312,IF(MID('XML a procesar'!A3312,1,1)=\"<\",P3312,P3312+1)),P3312)","v":1}]
[{"$f":"IF('XML a procesar'!A3313>0,'XML a procesar'!A3313,\"\")","v":""},0,0,0,0,"",0,0,0,"","",0,"",0,"",{"$f":"IF(ROW()<$S$4+2,IF('XML a procesar'!A3313=\"\",P3313,IF(MID('XML a procesar'!A3313,1,1)=\"<\",P3313,P3313+1)),P3313)","v":1}]
[{"$f":"IF('XML a procesar'!A3314>0,'XML a procesar'!A3314,\"\")","v":""},0,0,0,0,"",0,0,0,"","",0,"",0,"",{"$f":"IF(ROW()<$S$4+2,IF('XML a procesar'!A3314=\"\",P3314,IF(MID('XML a procesar'!A3314,1,1)=\"<\",P3314,P3314+1)),P3314)","v":1}]
[{"$f":"IF('XML a procesar'!A3315>0,'XML a procesar'!A3315,\"\")","v":""},0,0,0,0,"",0,0,0,"","",0,"",0,"",{"$f":"IF(ROW()<$S$4+2,IF('XML a procesar'!A3315=\"\",P3315,IF(MID('XML a procesar'!A3315,1,1)=\"<\",P3315,P3315+1)),P3315)","v":1}]
[{"$f":"IF('XML a procesar'!A3316>0,'XML a procesar'!A3316,\"\")","v":""},0,0,0,0,"",0,0,0,"","",0,"",0,"",{"$f":"IF(ROW()<$S$4+2,IF('XML a procesar'!A3316=\"\",P3316,IF(MID('XML a procesar'!A3316,1,1)=\"<\",P3316,P3316+1)),P3316)","v":1}]
[{"$f":"IF('XML a procesar'!A3317>0,'XML a procesar'!A3317,\"\")","v":""},0,0,0,0,"",0,0,0,"","",0,"",0,"",{"$f":"IF(ROW()<$S$4+2,IF('XML a procesar'!A3317=\"\",P3317,IF(MID('XML a procesar'!A3317,1,1)=\"<\",P3317,P3317+1)),P3317)","v":1}]
[{"$f":"IF('XML a procesar'!A3318>0,'XML a procesar'!A3318,\"\")","v":""},0,0,0,0,"",0,0,0,"","",0,"",0,"",{"$f":"IF(ROW()<$S$4+2,IF('XML a procesar'!A3318=\"\",P3318,IF(MID('XML a procesar'!A3318,1,1)=\"<\",P3318,P3318+1)),P3318)","v":1}]
[{"$f":"IF('XML a procesar'!A3319>0,'XML a procesar'!A3319,\"\")","v":""},0,0,0,0,"",0,0,0,"","",0,"",0,"",{"$f":"IF(ROW()<$S$4+2,IF('XML a procesar'!A3319=\"\",P3319,IF(MID('XML a procesar'!A3319,1,1)=\"<\",P3319,P3319+1)),P3319)","v":1}]
[{"$f":"IF('XML a procesar'!A3320>0,'XML a procesar'!A3320,\"\")","v":""},0,0,0,0,"",0,0,0,"","",0,"",0,"",{"$f":"IF(ROW()<$S$4+2,IF('XML a procesar'!A3320=\"\",P3320,IF(MID('XML a procesar'!A3320,1,1)=\"<\",P3320,P3320+1)),P3320)","v":1}]
[{"$f":"IF('XML a procesar'!A3321>0,'XML a procesar'!A3321,\"\")","v":""},0,0,0,0,"",0,0,0,"","",0,"",0,"",{"$f":"IF(ROW()<$S$4+2,IF('XML a procesar'!A3321=\"\",P3321,IF(MID('XML a procesar'!A3321,1,1)=\"<\",P3321,P3321+1)),P3321)","v":1}]
[{"$f":"IF('XML a procesar'!A3322>0,'XML a procesar'!A3322,\"\")","v":""},0,0,0,0,"",0,0,0,"","",0,"",0,"",{"$f":"IF(ROW()<$S$4+2,IF('XML a procesar'!A3322=\"\",P3322,IF(MID('XML a procesar'!A3322,1,1)=\"<\",P3322,P3322+1)),P3322)","v":1}]
[{"$f":"IF('XML a procesar'!A3323>0,'XML a procesar'!A3323,\"\")","v":""},0,0,0,0,"",0,0,0,"","",0,"",0,"",{"$f":"IF(ROW()<$S$4+2,IF('XML a procesar'!A3323=\"\",P3323,IF(MID('XML a procesar'!A3323,1,1)=\"<\",P3323,P3323+1)),P3323)","v":1}]
[{"$f":"IF('XML a procesar'!A3324>0,'XML a procesar'!A3324,\"\")","v":""},0,0,0,0,"",0,0,0,"","",0,"",0,"",{"$f":"IF(ROW()<$S$4+2,IF('XML a procesar'!A3324=\"\",P3324,IF(MID('XML a procesar'!A3324,1,1)=\"<\",P3324,P3324+1)),P3324)","v":1}]
[{"$f":"IF('XML a procesar'!A3325>0,'XML a procesar'!A3325,\"\")","v":""},0,0,0,0,"",0,0,0,"","",0,"",0,"",{"$f":"IF(ROW()<$S$4+2,IF('XML a procesar'!A3325=\"\",P3325,IF(MID('XML a procesar'!A3325,1,1)=\"<\",P3325,P3325+1)),P3325)","v":1}]
[{"$f":"IF('XML a procesar'!A3326>0,'XML a procesar'!A3326,\"\")","v":""},0,0,0,0,"",0,0,0,"","",0,"",0,"",{"$f":"IF(ROW()<$S$4+2,IF('XML a procesar'!A3326=\"\",P3326,IF(MID('XML a procesar'!A3326,1,1)=\"<\",P3326,P3326+1)),P3326)","v":1}]
[{"$f":"IF('XML a procesar'!A3327>0,'XML a procesar'!A3327,\"\")","v":""},0,0,0,0,"",0,0,0,"","",0,"",0,"",{"$f":"IF(ROW()<$S$4+2,IF('XML a procesar'!A3327=\"\",P3327,IF(MID('XML a procesar'!A3327,1,1)=\"<\",P3327,P3327+1)),P3327)","v":1}]
[{"$f":"IF('XML a procesar'!A3328>0,'XML a procesar'!A3328,\"\")","v":""},{"$f":"IF(ISERROR(FIND(\"/doi.org/\",A3329,1)),0,1)","v":0},{"$f":"IF(LEFT(A3328,16)=\"<contrib contrib\",C3328+1,IF(LEFT(A3328,16)=\"</contrib-group>\",0,IF(LEFT(A3328,10)=\"</contrib>\",C3328,C3328)))","v":0},{"$f":"IF(AND(C3329>0,LEFT(A3329,7)=\"<email>\",ISNUMBER(SEARCH(\"@\",A3329,1))),C3329,IF(LEFT(A3329,10)=\"<alt-text>\",-1,0))","v":0},{"$f":"IF(D3329=0,E3328,E3328+1)","v":0},{"$f":"INDIRECT(ADDRESS(ROW()+INDIRECT(ADDRESS(ROW()+E3329,5)),1))","v":""},{"$f":"IF(LEFT(F3329,7)=\"<aff id\",_xlfn.NUMBERVALUE(MID(F3329,13,LEN(F3329)-14)),IF(F3329=\"</aff>\",G3328+1,G3328))","v":0},0,{"$f":"INDIRECT(ADDRESS(ROW()-INDIRECT(ADDRESS(ROW()-H3329,8)),8))","v":0},{"$f":"IF(J3328=\"Linea_para_MAIL_creada_por_LuXML\",\"</aff>\",IF(I3329>INDIRECT(ADDRESS(ROW()-I3329-1,8)),\"Linea_para_MAIL_creada_por_LuXML\",INDIRECT(ADDRESS(ROW()-I3329,6))))","v":""},"",{"$f":"IF(OR(MID(K3327,3,5)=\"page>\",MID(K3328,3,5)=\"page>\"),L3328,IF(OR(K3328=\"<history>\",K3329=\"<history>\"),L3328+1,L3328))","v":0},{"$f":"IF(L3329>L3328,IF(L3329=1,CONCATENATE(\"<fpage>\",$S$10,\"</fpage>\"),CONCATENATE(\"<lpage>\",$S$10+1,\"</lpage>\")),IF(ISERROR(INDIRECT(ADDRESS(ROW()-L3329,11),1)),\"\",INDIRECT(ADDRESS(ROW()-L3329,11),1)))","v":""},{"$f":"IF(N3328=-1,-1,IF(M3329=\"</counts>\",-1,IF(OR(LEFT(M3329,7)=\"<fpage>\",LEFT(M3329,7)=\"<lpage>\"),VALUE(MID(M3329,8,LEN(M3329)-15)),0)))","v":0},"",{"$f":"IF(ROW()<$S$4+2,IF('XML a procesar'!A3328=\"\",P3328,IF(MID('XML a procesar'!A3328,1,1)=\"<\",P3328,P3328+1)),P3328)","v":1}]
[{"$f":"IF('XML a procesar'!A3329>0,'XML a procesar'!A3329,\"\")","v":""},0,0,0,0,"",0,0,0,"","",0,"",0,{"$f":"IF(N3330>-1,INDIRECT(ADDRESS(ROW(),13)),IF(N3330<N3329,CONCATENATE(\"<page-count count=\",CHAR(34),1+LARGE(N:N,1)-LARGE(N:N,2),CHAR(34),\"/>\"),INDIRECT(ADDRESS(ROW()-1,13))))","v":""},{"$f":"IF(ROW()<$S$4+2,IF('XML a procesar'!A3329=\"\",P3329,IF(MID('XML a procesar'!A3329,1,1)=\"<\",P3329,P3329+1)),P3329)","v":1}]
[{"$f":"IF('XML a procesar'!A3330>0,'XML a procesar'!A3330,\"\")","v":""},0,0,0,0,"",0,{"$f":"IF(AND(G3330>0,G3331>G3330,NOT(ISERROR(MATCH(G3330,D:D,0)))),H3330+1,H3330)","v":0},0,"",{"$f":"IF(J3331=\"Linea_para_MAIL_creada_por_LuXML\",IF(ISERROR(MATCH(INDIRECT(ADDRESS(ROW()-G3331,7)),D:D,0)),J3331,INDIRECT(ADDRESS(MATCH(INDIRECT(ADDRESS(ROW()-G3331,7)),D:D,0),1))),J3331)","v":""},0,"",0,"",{"$f":"IF(ROW()<$S$4+2,IF('XML a procesar'!A3330=\"\",P3330,IF(MID('XML a procesar'!A3330,1,1)=\"<\",P3330,P3330+1)),P3330)","v":1}]
[{"$f":"IF('XML a procesar'!A3331>0,'XML a procesar'!A3331,\"\")","v":""},0,0,0,0,"",0,0,0,"","",0,"",0,"",{"$f":"IF(ROW()<$S$4+2,IF('XML a procesar'!A3331=\"\",P3331,IF(MID('XML a procesar'!A3331,1,1)=\"<\",P3331,P3331+1)),P3331)","v":1}]
[{"$f":"IF('XML a procesar'!A3332>0,'XML a procesar'!A3332,\"\")","v":""},0,0,0,0,"",0,0,0,"","",0,"",0,"",{"$f":"IF(ROW()<$S$4+2,IF('XML a procesar'!A3332=\"\",P3332,IF(MID('XML a procesar'!A3332,1,1)=\"<\",P3332,P3332+1)),P3332)","v":1}]
[{"$f":"IF('XML a procesar'!A3333>0,'XML a procesar'!A3333,\"\")","v":""},0,0,0,0,"",0,0,0,"","",0,"",0,"",{"$f":"IF(ROW()<$S$4+2,IF('XML a procesar'!A3333=\"\",P3333,IF(MID('XML a procesar'!A3333,1,1)=\"<\",P3333,P3333+1)),P3333)","v":1}]
[{"$f":"IF('XML a procesar'!A3334>0,'XML a procesar'!A3334,\"\")","v":""},0,0,0,0,"",0,0,0,"","",0,"",0,"",{"$f":"IF(ROW()<$S$4+2,IF('XML a procesar'!A3334=\"\",P3334,IF(MID('XML a procesar'!A3334,1,1)=\"<\",P3334,P3334+1)),P3334)","v":1}]
[{"$f":"IF('XML a procesar'!A3335>0,'XML a procesar'!A3335,\"\")","v":""},0,0,0,0,"",0,0,0,"","",0,"",0,"",{"$f":"IF(ROW()<$S$4+2,IF('XML a procesar'!A3335=\"\",P3335,IF(MID('XML a procesar'!A3335,1,1)=\"<\",P3335,P3335+1)),P3335)","v":1}]
[{"$f":"IF('XML a procesar'!A3336>0,'XML a procesar'!A3336,\"\")","v":""},0,0,0,0,"",0,0,0,"","",0,"",0,"",{"$f":"IF(ROW()<$S$4+2,IF('XML a procesar'!A3336=\"\",P3336,IF(MID('XML a procesar'!A3336,1,1)=\"<\",P3336,P3336+1)),P3336)","v":1}]
[{"$f":"IF('XML a procesar'!A3337>0,'XML a procesar'!A3337,\"\")","v":""},0,0,0,0,"",0,0,0,"","",0,"",0,"",{"$f":"IF(ROW()<$S$4+2,IF('XML a procesar'!A3337=\"\",P3337,IF(MID('XML a procesar'!A3337,1,1)=\"<\",P3337,P3337+1)),P3337)","v":1}]
[{"$f":"IF('XML a procesar'!A3338>0,'XML a procesar'!A3338,\"\")","v":""},0,0,0,0,"",0,0,0,"","",0,"",0,"",{"$f":"IF(ROW()<$S$4+2,IF('XML a procesar'!A3338=\"\",P3338,IF(MID('XML a procesar'!A3338,1,1)=\"<\",P3338,P3338+1)),P3338)","v":1}]
[{"$f":"IF('XML a procesar'!A3339>0,'XML a procesar'!A3339,\"\")","v":""},0,0,0,0,"",0,0,0,"","",0,"",0,"",{"$f":"IF(ROW()<$S$4+2,IF('XML a procesar'!A3339=\"\",P3339,IF(MID('XML a procesar'!A3339,1,1)=\"<\",P3339,P3339+1)),P3339)","v":1}]
[{"$f":"IF('XML a procesar'!A3340>0,'XML a procesar'!A3340,\"\")","v":""},0,0,0,0,"",0,0,0,"","",0,"",0,"",{"$f":"IF(ROW()<$S$4+2,IF('XML a procesar'!A3340=\"\",P3340,IF(MID('XML a procesar'!A3340,1,1)=\"<\",P3340,P3340+1)),P3340)","v":1}]
[{"$f":"IF('XML a procesar'!A3341>0,'XML a procesar'!A3341,\"\")","v":""},0,0,0,0,"",0,0,0,"","",0,"",0,"",{"$f":"IF(ROW()<$S$4+2,IF('XML a procesar'!A3341=\"\",P3341,IF(MID('XML a procesar'!A3341,1,1)=\"<\",P3341,P3341+1)),P3341)","v":1}]
[{"$f":"IF('XML a procesar'!A3342>0,'XML a procesar'!A3342,\"\")","v":""},0,0,0,0,"",0,0,0,"","",0,"",0,"",{"$f":"IF(ROW()<$S$4+2,IF('XML a procesar'!A3342=\"\",P3342,IF(MID('XML a procesar'!A3342,1,1)=\"<\",P3342,P3342+1)),P3342)","v":1}]
[{"$f":"IF('XML a procesar'!A3343>0,'XML a procesar'!A3343,\"\")","v":""},0,0,0,0,"",0,0,0,"","",0,"",0,"",{"$f":"IF(ROW()<$S$4+2,IF('XML a procesar'!A3343=\"\",P3343,IF(MID('XML a procesar'!A3343,1,1)=\"<\",P3343,P3343+1)),P3343)","v":1}]
[{"$f":"IF('XML a procesar'!A3344>0,'XML a procesar'!A3344,\"\")","v":""},0,0,0,0,"",0,0,0,"","",0,"",0,"",{"$f":"IF(ROW()<$S$4+2,IF('XML a procesar'!A3344=\"\",P3344,IF(MID('XML a procesar'!A3344,1,1)=\"<\",P3344,P3344+1)),P3344)","v":1}]
[{"$f":"IF('XML a procesar'!A3345>0,'XML a procesar'!A3345,\"\")","v":""},0,0,0,0,"",0,0,0,"","",0,"",0,"",{"$f":"IF(ROW()<$S$4+2,IF('XML a procesar'!A3345=\"\",P3345,IF(MID('XML a procesar'!A3345,1,1)=\"<\",P3345,P3345+1)),P3345)","v":1}]
[{"$f":"IF('XML a procesar'!A3346>0,'XML a procesar'!A3346,\"\")","v":""},0,0,0,0,"",0,0,0,"","",0,"",0,"",{"$f":"IF(ROW()<$S$4+2,IF('XML a procesar'!A3346=\"\",P3346,IF(MID('XML a procesar'!A3346,1,1)=\"<\",P3346,P3346+1)),P3346)","v":1}]
[{"$f":"IF('XML a procesar'!A3347>0,'XML a procesar'!A3347,\"\")","v":""},0,0,0,0,"",0,0,0,"","",0,"",0,"",{"$f":"IF(ROW()<$S$4+2,IF('XML a procesar'!A3347=\"\",P3347,IF(MID('XML a procesar'!A3347,1,1)=\"<\",P3347,P3347+1)),P3347)","v":1}]
[{"$f":"IF('XML a procesar'!A3348>0,'XML a procesar'!A3348,\"\")","v":""},0,0,0,0,"",0,0,0,"","",0,"",0,"",{"$f":"IF(ROW()<$S$4+2,IF('XML a procesar'!A3348=\"\",P3348,IF(MID('XML a procesar'!A3348,1,1)=\"<\",P3348,P3348+1)),P3348)","v":1}]
[{"$f":"IF('XML a procesar'!A3349>0,'XML a procesar'!A3349,\"\")","v":""},0,0,0,0,"",0,0,0,"","",0,"",0,"",{"$f":"IF(ROW()<$S$4+2,IF('XML a procesar'!A3349=\"\",P3349,IF(MID('XML a procesar'!A3349,1,1)=\"<\",P3349,P3349+1)),P3349)","v":1}]
[{"$f":"IF('XML a procesar'!A3350>0,'XML a procesar'!A3350,\"\")","v":""},0,0,0,0,"",0,0,0,"","",0,"",0,"",{"$f":"IF(ROW()<$S$4+2,IF('XML a procesar'!A3350=\"\",P3350,IF(MID('XML a procesar'!A3350,1,1)=\"<\",P3350,P3350+1)),P3350)","v":1}]
[{"$f":"IF('XML a procesar'!A3351>0,'XML a procesar'!A3351,\"\")","v":""},0,0,0,0,"",0,0,0,"","",0,"",0,"",{"$f":"IF(ROW()<$S$4+2,IF('XML a procesar'!A3351=\"\",P3351,IF(MID('XML a procesar'!A3351,1,1)=\"<\",P3351,P3351+1)),P3351)","v":1}]
[{"$f":"IF('XML a procesar'!A3352>0,'XML a procesar'!A3352,\"\")","v":""},0,0,0,0,"",0,0,0,"","",0,"",0,"",{"$f":"IF(ROW()<$S$4+2,IF('XML a procesar'!A3352=\"\",P3352,IF(MID('XML a procesar'!A3352,1,1)=\"<\",P3352,P3352+1)),P3352)","v":1}]
[{"$f":"IF('XML a procesar'!A3353>0,'XML a procesar'!A3353,\"\")","v":""},0,0,0,0,"",0,0,0,"","",0,"",0,"",{"$f":"IF(ROW()<$S$4+2,IF('XML a procesar'!A3353=\"\",P3353,IF(MID('XML a procesar'!A3353,1,1)=\"<\",P3353,P3353+1)),P3353)","v":1}]
[{"$f":"IF('XML a procesar'!A3354>0,'XML a procesar'!A3354,\"\")","v":""},0,0,0,0,"",0,0,0,"","",0,"",0,"",{"$f":"IF(ROW()<$S$4+2,IF('XML a procesar'!A3354=\"\",P3354,IF(MID('XML a procesar'!A3354,1,1)=\"<\",P3354,P3354+1)),P3354)","v":1}]
[{"$f":"IF('XML a procesar'!A3355>0,'XML a procesar'!A3355,\"\")","v":""},0,0,0,0,"",0,0,0,"","",0,"",0,"",{"$f":"IF(ROW()<$S$4+2,IF('XML a procesar'!A3355=\"\",P3355,IF(MID('XML a procesar'!A3355,1,1)=\"<\",P3355,P3355+1)),P3355)","v":1}]
[{"$f":"IF('XML a procesar'!A3356>0,'XML a procesar'!A3356,\"\")","v":""},0,0,0,0,"",0,0,0,"","",0,"",0,"",{"$f":"IF(ROW()<$S$4+2,IF('XML a procesar'!A3356=\"\",P3356,IF(MID('XML a procesar'!A3356,1,1)=\"<\",P3356,P3356+1)),P3356)","v":1}]
[{"$f":"IF('XML a procesar'!A3357>0,'XML a procesar'!A3357,\"\")","v":""},0,0,0,0,"",0,0,0,"","",0,"",0,"",{"$f":"IF(ROW()<$S$4+2,IF('XML a procesar'!A3357=\"\",P3357,IF(MID('XML a procesar'!A3357,1,1)=\"<\",P3357,P3357+1)),P3357)","v":1}]
[{"$f":"IF('XML a procesar'!A3358>0,'XML a procesar'!A3358,\"\")","v":""},0,0,0,0,"",0,0,0,"","",0,"",0,"",{"$f":"IF(ROW()<$S$4+2,IF('XML a procesar'!A3358=\"\",P3358,IF(MID('XML a procesar'!A3358,1,1)=\"<\",P3358,P3358+1)),P3358)","v":1}]
[{"$f":"IF('XML a procesar'!A3359>0,'XML a procesar'!A3359,\"\")","v":""},0,0,0,0,"",0,0,0,"","",0,"",0,"",{"$f":"IF(ROW()<$S$4+2,IF('XML a procesar'!A3359=\"\",P3359,IF(MID('XML a procesar'!A3359,1,1)=\"<\",P3359,P3359+1)),P3359)","v":1}]
[{"$f":"IF('XML a procesar'!A3360>0,'XML a procesar'!A3360,\"\")","v":""},0,0,0,0,"",0,0,0,"","",0,"",0,"",{"$f":"IF(ROW()<$S$4+2,IF('XML a procesar'!A3360=\"\",P3360,IF(MID('XML a procesar'!A3360,1,1)=\"<\",P3360,P3360+1)),P3360)","v":1}]
[{"$f":"IF('XML a procesar'!A3361>0,'XML a procesar'!A3361,\"\")","v":""},0,0,0,0,"",0,0,0,"","",0,"",0,"",{"$f":"IF(ROW()<$S$4+2,IF('XML a procesar'!A3361=\"\",P3361,IF(MID('XML a procesar'!A3361,1,1)=\"<\",P3361,P3361+1)),P3361)","v":1}]
[{"$f":"IF('XML a procesar'!A3362>0,'XML a procesar'!A3362,\"\")","v":""},0,0,0,0,"",0,0,0,"","",0,"",0,"",{"$f":"IF(ROW()<$S$4+2,IF('XML a procesar'!A3362=\"\",P3362,IF(MID('XML a procesar'!A3362,1,1)=\"<\",P3362,P3362+1)),P3362)","v":1}]
[{"$f":"IF('XML a procesar'!A3363>0,'XML a procesar'!A3363,\"\")","v":""},0,0,0,0,"",0,0,0,"","",0,"",0,"",{"$f":"IF(ROW()<$S$4+2,IF('XML a procesar'!A3363=\"\",P3363,IF(MID('XML a procesar'!A3363,1,1)=\"<\",P3363,P3363+1)),P3363)","v":1}]
[{"$f":"IF('XML a procesar'!A3364>0,'XML a procesar'!A3364,\"\")","v":""},0,0,0,0,"",0,0,0,"","",0,"",0,"",{"$f":"IF(ROW()<$S$4+2,IF('XML a procesar'!A3364=\"\",P3364,IF(MID('XML a procesar'!A3364,1,1)=\"<\",P3364,P3364+1)),P3364)","v":1}]
[{"$f":"IF('XML a procesar'!A3365>0,'XML a procesar'!A3365,\"\")","v":""},0,0,0,0,"",0,0,0,"","",0,"",0,"",{"$f":"IF(ROW()<$S$4+2,IF('XML a procesar'!A3365=\"\",P3365,IF(MID('XML a procesar'!A3365,1,1)=\"<\",P3365,P3365+1)),P3365)","v":1}]
[{"$f":"IF('XML a procesar'!A3366>0,'XML a procesar'!A3366,\"\")","v":""},0,0,0,0,"",0,0,0,"","",0,"",0,"",{"$f":"IF(ROW()<$S$4+2,IF('XML a procesar'!A3366=\"\",P3366,IF(MID('XML a procesar'!A3366,1,1)=\"<\",P3366,P3366+1)),P3366)","v":1}]
[{"$f":"IF('XML a procesar'!A3367>0,'XML a procesar'!A3367,\"\")","v":""},0,0,0,0,"",0,0,0,"","",0,"",0,"",{"$f":"IF(ROW()<$S$4+2,IF('XML a procesar'!A3367=\"\",P3367,IF(MID('XML a procesar'!A3367,1,1)=\"<\",P3367,P3367+1)),P3367)","v":1}]
[{"$f":"IF('XML a procesar'!A3368>0,'XML a procesar'!A3368,\"\")","v":""},0,0,0,0,"",0,0,0,"","",0,"",0,"",{"$f":"IF(ROW()<$S$4+2,IF('XML a procesar'!A3368=\"\",P3368,IF(MID('XML a procesar'!A3368,1,1)=\"<\",P3368,P3368+1)),P3368)","v":1}]
[{"$f":"IF('XML a procesar'!A3369>0,'XML a procesar'!A3369,\"\")","v":""},0,0,0,0,"",0,0,0,"","",0,"",0,"",{"$f":"IF(ROW()<$S$4+2,IF('XML a procesar'!A3369=\"\",P3369,IF(MID('XML a procesar'!A3369,1,1)=\"<\",P3369,P3369+1)),P3369)","v":1}]
[{"$f":"IF('XML a procesar'!A3370>0,'XML a procesar'!A3370,\"\")","v":""},0,0,0,0,"",0,0,0,"","",0,"",0,"",{"$f":"IF(ROW()<$S$4+2,IF('XML a procesar'!A3370=\"\",P3370,IF(MID('XML a procesar'!A3370,1,1)=\"<\",P3370,P3370+1)),P3370)","v":1}]
[{"$f":"IF('XML a procesar'!A3371>0,'XML a procesar'!A3371,\"\")","v":""},0,0,0,0,"",0,0,0,"","",0,"",0,"",{"$f":"IF(ROW()<$S$4+2,IF('XML a procesar'!A3371=\"\",P3371,IF(MID('XML a procesar'!A3371,1,1)=\"<\",P3371,P3371+1)),P3371)","v":1}]
[{"$f":"IF('XML a procesar'!A3372>0,'XML a procesar'!A3372,\"\")","v":""},0,0,0,0,"",0,0,0,"","",0,"",0,"",{"$f":"IF(ROW()<$S$4+2,IF('XML a procesar'!A3372=\"\",P3372,IF(MID('XML a procesar'!A3372,1,1)=\"<\",P3372,P3372+1)),P3372)","v":1}]
[{"$f":"IF('XML a procesar'!A3373>0,'XML a procesar'!A3373,\"\")","v":""},0,0,0,0,"",0,0,0,"","",0,"",0,"",{"$f":"IF(ROW()<$S$4+2,IF('XML a procesar'!A3373=\"\",P3373,IF(MID('XML a procesar'!A3373,1,1)=\"<\",P3373,P3373+1)),P3373)","v":1}]
[{"$f":"IF('XML a procesar'!A3374>0,'XML a procesar'!A3374,\"\")","v":""},0,0,0,0,"",0,0,0,"","",0,"",0,"",{"$f":"IF(ROW()<$S$4+2,IF('XML a procesar'!A3374=\"\",P3374,IF(MID('XML a procesar'!A3374,1,1)=\"<\",P3374,P3374+1)),P3374)","v":1}]
[{"$f":"IF('XML a procesar'!A3375>0,'XML a procesar'!A3375,\"\")","v":""},0,0,0,0,"",0,0,0,"","",0,"",0,"",{"$f":"IF(ROW()<$S$4+2,IF('XML a procesar'!A3375=\"\",P3375,IF(MID('XML a procesar'!A3375,1,1)=\"<\",P3375,P3375+1)),P3375)","v":1}]
[{"$f":"IF('XML a procesar'!A3376>0,'XML a procesar'!A3376,\"\")","v":""},0,0,0,0,"",0,0,0,"","",0,"",0,"",{"$f":"IF(ROW()<$S$4+2,IF('XML a procesar'!A3376=\"\",P3376,IF(MID('XML a procesar'!A3376,1,1)=\"<\",P3376,P3376+1)),P3376)","v":1}]
[{"$f":"IF('XML a procesar'!A3377>0,'XML a procesar'!A3377,\"\")","v":""},0,0,0,0,"",0,0,0,"","",0,"",0,"",{"$f":"IF(ROW()<$S$4+2,IF('XML a procesar'!A3377=\"\",P3377,IF(MID('XML a procesar'!A3377,1,1)=\"<\",P3377,P3377+1)),P3377)","v":1}]
[{"$f":"IF('XML a procesar'!A3378>0,'XML a procesar'!A3378,\"\")","v":""},0,0,0,0,"",0,0,0,"","",0,"",0,"",{"$f":"IF(ROW()<$S$4+2,IF('XML a procesar'!A3378=\"\",P3378,IF(MID('XML a procesar'!A3378,1,1)=\"<\",P3378,P3378+1)),P3378)","v":1}]
[{"$f":"IF('XML a procesar'!A3379>0,'XML a procesar'!A3379,\"\")","v":""},0,0,0,0,"",0,0,0,"","",0,"",0,"",{"$f":"IF(ROW()<$S$4+2,IF('XML a procesar'!A3379=\"\",P3379,IF(MID('XML a procesar'!A3379,1,1)=\"<\",P3379,P3379+1)),P3379)","v":1}]
[{"$f":"IF('XML a procesar'!A3380>0,'XML a procesar'!A3380,\"\")","v":""},0,0,0,0,"",0,0,0,"","",0,"",0,"",{"$f":"IF(ROW()<$S$4+2,IF('XML a procesar'!A3380=\"\",P3380,IF(MID('XML a procesar'!A3380,1,1)=\"<\",P3380,P3380+1)),P3380)","v":1}]
[{"$f":"IF('XML a procesar'!A3381>0,'XML a procesar'!A3381,\"\")","v":""},0,0,0,0,"",0,0,0,"","",0,"",0,"",{"$f":"IF(ROW()<$S$4+2,IF('XML a procesar'!A3381=\"\",P3381,IF(MID('XML a procesar'!A3381,1,1)=\"<\",P3381,P3381+1)),P3381)","v":1}]
[{"$f":"IF('XML a procesar'!A3382>0,'XML a procesar'!A3382,\"\")","v":""},0,0,0,0,"",0,0,0,"","",0,"",0,"",{"$f":"IF(ROW()<$S$4+2,IF('XML a procesar'!A3382=\"\",P3382,IF(MID('XML a procesar'!A3382,1,1)=\"<\",P3382,P3382+1)),P3382)","v":1}]
[{"$f":"IF('XML a procesar'!A3383>0,'XML a procesar'!A3383,\"\")","v":""},0,0,0,0,"",0,0,0,"","",0,"",0,"",{"$f":"IF(ROW()<$S$4+2,IF('XML a procesar'!A3383=\"\",P3383,IF(MID('XML a procesar'!A3383,1,1)=\"<\",P3383,P3383+1)),P3383)","v":1}]
[{"$f":"IF('XML a procesar'!A3384>0,'XML a procesar'!A3384,\"\")","v":""},0,0,0,0,"",0,0,0,"","",0,"",0,"",{"$f":"IF(ROW()<$S$4+2,IF('XML a procesar'!A3384=\"\",P3384,IF(MID('XML a procesar'!A3384,1,1)=\"<\",P3384,P3384+1)),P3384)","v":1}]
[{"$f":"IF('XML a procesar'!A3385>0,'XML a procesar'!A3385,\"\")","v":""},0,0,0,0,"",0,0,0,"","",0,"",0,"",{"$f":"IF(ROW()<$S$4+2,IF('XML a procesar'!A3385=\"\",P3385,IF(MID('XML a procesar'!A3385,1,1)=\"<\",P3385,P3385+1)),P3385)","v":1}]
[{"$f":"IF('XML a procesar'!A3386>0,'XML a procesar'!A3386,\"\")","v":""},0,0,0,0,"",0,0,0,"","",0,"",0,"",{"$f":"IF(ROW()<$S$4+2,IF('XML a procesar'!A3386=\"\",P3386,IF(MID('XML a procesar'!A3386,1,1)=\"<\",P3386,P3386+1)),P3386)","v":1}]
[{"$f":"IF('XML a procesar'!A3387>0,'XML a procesar'!A3387,\"\")","v":""},0,0,0,0,"",0,0,0,"","",0,"",0,"",{"$f":"IF(ROW()<$S$4+2,IF('XML a procesar'!A3387=\"\",P3387,IF(MID('XML a procesar'!A3387,1,1)=\"<\",P3387,P3387+1)),P3387)","v":1}]
[{"$f":"IF('XML a procesar'!A3388>0,'XML a procesar'!A3388,\"\")","v":""},0,0,0,0,"",0,0,0,"","",0,"",0,"",{"$f":"IF(ROW()<$S$4+2,IF('XML a procesar'!A3388=\"\",P3388,IF(MID('XML a procesar'!A3388,1,1)=\"<\",P3388,P3388+1)),P3388)","v":1}]
[{"$f":"IF('XML a procesar'!A3389>0,'XML a procesar'!A3389,\"\")","v":""},0,0,0,0,"",0,0,0,"","",0,"",0,"",{"$f":"IF(ROW()<$S$4+2,IF('XML a procesar'!A3389=\"\",P3389,IF(MID('XML a procesar'!A3389,1,1)=\"<\",P3389,P3389+1)),P3389)","v":1}]
[{"$f":"IF('XML a procesar'!A3390>0,'XML a procesar'!A3390,\"\")","v":""},0,0,0,0,"",0,0,0,"","",0,"",0,"",{"$f":"IF(ROW()<$S$4+2,IF('XML a procesar'!A3390=\"\",P3390,IF(MID('XML a procesar'!A3390,1,1)=\"<\",P3390,P3390+1)),P3390)","v":1}]
[{"$f":"IF('XML a procesar'!A3391>0,'XML a procesar'!A3391,\"\")","v":""},0,0,0,0,"",0,0,0,"","",0,"",0,"",{"$f":"IF(ROW()<$S$4+2,IF('XML a procesar'!A3391=\"\",P3391,IF(MID('XML a procesar'!A3391,1,1)=\"<\",P3391,P3391+1)),P3391)","v":1}]
[{"$f":"IF('XML a procesar'!A3392>0,'XML a procesar'!A3392,\"\")","v":""},{"$f":"IF(ISERROR(FIND(\"/doi.org/\",A3393,1)),0,1)","v":0},{"$f":"IF(LEFT(A3392,16)=\"<contrib contrib\",C3392+1,IF(LEFT(A3392,16)=\"</contrib-group>\",0,IF(LEFT(A3392,10)=\"</contrib>\",C3392,C3392)))","v":0},{"$f":"IF(AND(C3393>0,LEFT(A3393,7)=\"<email>\",ISNUMBER(SEARCH(\"@\",A3393,1))),C3393,IF(LEFT(A3393,10)=\"<alt-text>\",-1,0))","v":0},{"$f":"IF(D3393=0,E3392,E3392+1)","v":0},{"$f":"INDIRECT(ADDRESS(ROW()+INDIRECT(ADDRESS(ROW()+E3393,5)),1))","v":""},{"$f":"IF(LEFT(F3393,7)=\"<aff id\",_xlfn.NUMBERVALUE(MID(F3393,13,LEN(F3393)-14)),IF(F3393=\"</aff>\",G3392+1,G3392))","v":0},0,{"$f":"INDIRECT(ADDRESS(ROW()-INDIRECT(ADDRESS(ROW()-H3393,8)),8))","v":0},{"$f":"IF(J3392=\"Linea_para_MAIL_creada_por_LuXML\",\"</aff>\",IF(I3393>INDIRECT(ADDRESS(ROW()-I3393-1,8)),\"Linea_para_MAIL_creada_por_LuXML\",INDIRECT(ADDRESS(ROW()-I3393,6))))","v":""},"",{"$f":"IF(OR(MID(K3391,3,5)=\"page>\",MID(K3392,3,5)=\"page>\"),L3392,IF(OR(K3392=\"<history>\",K3393=\"<history>\"),L3392+1,L3392))","v":0},{"$f":"IF(L3393>L3392,IF(L3393=1,CONCATENATE(\"<fpage>\",$S$10,\"</fpage>\"),CONCATENATE(\"<lpage>\",$S$10+1,\"</lpage>\")),IF(ISERROR(INDIRECT(ADDRESS(ROW()-L3393,11),1)),\"\",INDIRECT(ADDRESS(ROW()-L3393,11),1)))","v":""},{"$f":"IF(N3392=-1,-1,IF(M3393=\"</counts>\",-1,IF(OR(LEFT(M3393,7)=\"<fpage>\",LEFT(M3393,7)=\"<lpage>\"),VALUE(MID(M3393,8,LEN(M3393)-15)),0)))","v":0},"",{"$f":"IF(ROW()<$S$4+2,IF('XML a procesar'!A3392=\"\",P3392,IF(MID('XML a procesar'!A3392,1,1)=\"<\",P3392,P3392+1)),P3392)","v":1}]
[{"$f":"IF('XML a procesar'!A3393>0,'XML a procesar'!A3393,\"\")","v":""},0,0,0,0,"",0,0,0,"","",0,"",0,{"$f":"IF(N3394>-1,INDIRECT(ADDRESS(ROW(),13)),IF(N3394<N3393,CONCATENATE(\"<page-count count=\",CHAR(34),1+LARGE(N:N,1)-LARGE(N:N,2),CHAR(34),\"/>\"),INDIRECT(ADDRESS(ROW()-1,13))))","v":""},{"$f":"IF(ROW()<$S$4+2,IF('XML a procesar'!A3393=\"\",P3393,IF(MID('XML a procesar'!A3393,1,1)=\"<\",P3393,P3393+1)),P3393)","v":1}]
[{"$f":"IF('XML a procesar'!A3394>0,'XML a procesar'!A3394,\"\")","v":""},0,0,0,0,"",0,{"$f":"IF(AND(G3394>0,G3395>G3394,NOT(ISERROR(MATCH(G3394,D:D,0)))),H3394+1,H3394)","v":0},0,"",{"$f":"IF(J3395=\"Linea_para_MAIL_creada_por_LuXML\",IF(ISERROR(MATCH(INDIRECT(ADDRESS(ROW()-G3395,7)),D:D,0)),J3395,INDIRECT(ADDRESS(MATCH(INDIRECT(ADDRESS(ROW()-G3395,7)),D:D,0),1))),J3395)","v":""},0,"",0,"",{"$f":"IF(ROW()<$S$4+2,IF('XML a procesar'!A3394=\"\",P3394,IF(MID('XML a procesar'!A3394,1,1)=\"<\",P3394,P3394+1)),P3394)","v":1}]
[{"$f":"IF('XML a procesar'!A3395>0,'XML a procesar'!A3395,\"\")","v":""},0,0,0,0,"",0,0,0,"","",0,"",0,"",{"$f":"IF(ROW()<$S$4+2,IF('XML a procesar'!A3395=\"\",P3395,IF(MID('XML a procesar'!A3395,1,1)=\"<\",P3395,P3395+1)),P3395)","v":1}]
[{"$f":"IF('XML a procesar'!A3396>0,'XML a procesar'!A3396,\"\")","v":""},0,0,0,0,"",0,0,0,"","",0,"",0,"",{"$f":"IF(ROW()<$S$4+2,IF('XML a procesar'!A3396=\"\",P3396,IF(MID('XML a procesar'!A3396,1,1)=\"<\",P3396,P3396+1)),P3396)","v":1}]
[{"$f":"IF('XML a procesar'!A3397>0,'XML a procesar'!A3397,\"\")","v":""},0,0,0,0,"",0,0,0,"","",0,"",0,"",{"$f":"IF(ROW()<$S$4+2,IF('XML a procesar'!A3397=\"\",P3397,IF(MID('XML a procesar'!A3397,1,1)=\"<\",P3397,P3397+1)),P3397)","v":1}]
[{"$f":"IF('XML a procesar'!A3398>0,'XML a procesar'!A3398,\"\")","v":""},0,0,0,0,"",0,0,0,"","",0,"",0,"",{"$f":"IF(ROW()<$S$4+2,IF('XML a procesar'!A3398=\"\",P3398,IF(MID('XML a procesar'!A3398,1,1)=\"<\",P3398,P3398+1)),P3398)","v":1}]
[{"$f":"IF('XML a procesar'!A3399>0,'XML a procesar'!A3399,\"\")","v":""},0,0,0,0,"",0,0,0,"","",0,"",0,"",{"$f":"IF(ROW()<$S$4+2,IF('XML a procesar'!A3399=\"\",P3399,IF(MID('XML a procesar'!A3399,1,1)=\"<\",P3399,P3399+1)),P3399)","v":1}]
[{"$f":"IF('XML a procesar'!A3400>0,'XML a procesar'!A3400,\"\")","v":""},0,0,0,0,"",0,0,0,"","",0,"",0,"",{"$f":"IF(ROW()<$S$4+2,IF('XML a procesar'!A3400=\"\",P3400,IF(MID('XML a procesar'!A3400,1,1)=\"<\",P3400,P3400+1)),P3400)","v":1}]
[{"$f":"IF('XML a procesar'!A3401>0,'XML a procesar'!A3401,\"\")","v":""},0,0,0,0,"",0,0,0,"","",0,"",0,"",{"$f":"IF(ROW()<$S$4+2,IF('XML a procesar'!A3401=\"\",P3401,IF(MID('XML a procesar'!A3401,1,1)=\"<\",P3401,P3401+1)),P3401)","v":1}]
[{"$f":"IF('XML a procesar'!A3402>0,'XML a procesar'!A3402,\"\")","v":""},0,0,0,0,"",0,0,0,"","",0,"",0,"",{"$f":"IF(ROW()<$S$4+2,IF('XML a procesar'!A3402=\"\",P3402,IF(MID('XML a procesar'!A3402,1,1)=\"<\",P3402,P3402+1)),P3402)","v":1}]
[{"$f":"IF('XML a procesar'!A3403>0,'XML a procesar'!A3403,\"\")","v":""},0,0,0,0,"",0,0,0,"","",0,"",0,"",{"$f":"IF(ROW()<$S$4+2,IF('XML a procesar'!A3403=\"\",P3403,IF(MID('XML a procesar'!A3403,1,1)=\"<\",P3403,P3403+1)),P3403)","v":1}]
[{"$f":"IF('XML a procesar'!A3404>0,'XML a procesar'!A3404,\"\")","v":""},0,0,0,0,"",0,0,0,"","",0,"",0,"",{"$f":"IF(ROW()<$S$4+2,IF('XML a procesar'!A3404=\"\",P3404,IF(MID('XML a procesar'!A3404,1,1)=\"<\",P3404,P3404+1)),P3404)","v":1}]
[{"$f":"IF('XML a procesar'!A3405>0,'XML a procesar'!A3405,\"\")","v":""},0,0,0,0,"",0,0,0,"","",0,"",0,"",{"$f":"IF(ROW()<$S$4+2,IF('XML a procesar'!A3405=\"\",P3405,IF(MID('XML a procesar'!A3405,1,1)=\"<\",P3405,P3405+1)),P3405)","v":1}]
[{"$f":"IF('XML a procesar'!A3406>0,'XML a procesar'!A3406,\"\")","v":""},0,0,0,0,"",0,0,0,"","",0,"",0,"",{"$f":"IF(ROW()<$S$4+2,IF('XML a procesar'!A3406=\"\",P3406,IF(MID('XML a procesar'!A3406,1,1)=\"<\",P3406,P3406+1)),P3406)","v":1}]
[{"$f":"IF('XML a procesar'!A3407>0,'XML a procesar'!A3407,\"\")","v":""},0,0,0,0,"",0,0,0,"","",0,"",0,"",{"$f":"IF(ROW()<$S$4+2,IF('XML a procesar'!A3407=\"\",P3407,IF(MID('XML a procesar'!A3407,1,1)=\"<\",P3407,P3407+1)),P3407)","v":1}]
[{"$f":"IF('XML a procesar'!A3408>0,'XML a procesar'!A3408,\"\")","v":""},0,0,0,0,"",0,0,0,"","",0,"",0,"",{"$f":"IF(ROW()<$S$4+2,IF('XML a procesar'!A3408=\"\",P3408,IF(MID('XML a procesar'!A3408,1,1)=\"<\",P3408,P3408+1)),P3408)","v":1}]
[{"$f":"IF('XML a procesar'!A3409>0,'XML a procesar'!A3409,\"\")","v":""},0,0,0,0,"",0,0,0,"","",0,"",0,"",{"$f":"IF(ROW()<$S$4+2,IF('XML a procesar'!A3409=\"\",P3409,IF(MID('XML a procesar'!A3409,1,1)=\"<\",P3409,P3409+1)),P3409)","v":1}]
[{"$f":"IF('XML a procesar'!A3410>0,'XML a procesar'!A3410,\"\")","v":""},0,0,0,0,"",0,0,0,"","",0,"",0,"",{"$f":"IF(ROW()<$S$4+2,IF('XML a procesar'!A3410=\"\",P3410,IF(MID('XML a procesar'!A3410,1,1)=\"<\",P3410,P3410+1)),P3410)","v":1}]
[{"$f":"IF('XML a procesar'!A3411>0,'XML a procesar'!A3411,\"\")","v":""},0,0,0,0,"",0,0,0,"","",0,"",0,"",{"$f":"IF(ROW()<$S$4+2,IF('XML a procesar'!A3411=\"\",P3411,IF(MID('XML a procesar'!A3411,1,1)=\"<\",P3411,P3411+1)),P3411)","v":1}]
[{"$f":"IF('XML a procesar'!A3412>0,'XML a procesar'!A3412,\"\")","v":""},0,0,0,0,"",0,0,0,"","",0,"",0,"",{"$f":"IF(ROW()<$S$4+2,IF('XML a procesar'!A3412=\"\",P3412,IF(MID('XML a procesar'!A3412,1,1)=\"<\",P3412,P3412+1)),P3412)","v":1}]
[{"$f":"IF('XML a procesar'!A3413>0,'XML a procesar'!A3413,\"\")","v":""},0,0,0,0,"",0,0,0,"","",0,"",0,"",{"$f":"IF(ROW()<$S$4+2,IF('XML a procesar'!A3413=\"\",P3413,IF(MID('XML a procesar'!A3413,1,1)=\"<\",P3413,P3413+1)),P3413)","v":1}]
[{"$f":"IF('XML a procesar'!A3414>0,'XML a procesar'!A3414,\"\")","v":""},0,0,0,0,"",0,0,0,"","",0,"",0,"",{"$f":"IF(ROW()<$S$4+2,IF('XML a procesar'!A3414=\"\",P3414,IF(MID('XML a procesar'!A3414,1,1)=\"<\",P3414,P3414+1)),P3414)","v":1}]
[{"$f":"IF('XML a procesar'!A3415>0,'XML a procesar'!A3415,\"\")","v":""},0,0,0,0,"",0,0,0,"","",0,"",0,"",{"$f":"IF(ROW()<$S$4+2,IF('XML a procesar'!A3415=\"\",P3415,IF(MID('XML a procesar'!A3415,1,1)=\"<\",P3415,P3415+1)),P3415)","v":1}]
[{"$f":"IF('XML a procesar'!A3416>0,'XML a procesar'!A3416,\"\")","v":""},0,0,0,0,"",0,0,0,"","",0,"",0,"",{"$f":"IF(ROW()<$S$4+2,IF('XML a procesar'!A3416=\"\",P3416,IF(MID('XML a procesar'!A3416,1,1)=\"<\",P3416,P3416+1)),P3416)","v":1}]
[{"$f":"IF('XML a procesar'!A3417>0,'XML a procesar'!A3417,\"\")","v":""},0,0,0,0,"",0,0,0,"","",0,"",0,"",{"$f":"IF(ROW()<$S$4+2,IF('XML a procesar'!A3417=\"\",P3417,IF(MID('XML a procesar'!A3417,1,1)=\"<\",P3417,P3417+1)),P3417)","v":1}]
[{"$f":"IF('XML a procesar'!A3418>0,'XML a procesar'!A3418,\"\")","v":""},0,0,0,0,"",0,0,0,"","",0,"",0,"",{"$f":"IF(ROW()<$S$4+2,IF('XML a procesar'!A3418=\"\",P3418,IF(MID('XML a procesar'!A3418,1,1)=\"<\",P3418,P3418+1)),P3418)","v":1}]
[{"$f":"IF('XML a procesar'!A3419>0,'XML a procesar'!A3419,\"\")","v":""},0,0,0,0,"",0,0,0,"","",0,"",0,"",{"$f":"IF(ROW()<$S$4+2,IF('XML a procesar'!A3419=\"\",P3419,IF(MID('XML a procesar'!A3419,1,1)=\"<\",P3419,P3419+1)),P3419)","v":1}]
[{"$f":"IF('XML a procesar'!A3420>0,'XML a procesar'!A3420,\"\")","v":""},0,0,0,0,"",0,0,0,"","",0,"",0,"",{"$f":"IF(ROW()<$S$4+2,IF('XML a procesar'!A3420=\"\",P3420,IF(MID('XML a procesar'!A3420,1,1)=\"<\",P3420,P3420+1)),P3420)","v":1}]
[{"$f":"IF('XML a procesar'!A3421>0,'XML a procesar'!A3421,\"\")","v":""},0,0,0,0,"",0,0,0,"","",0,"",0,"",{"$f":"IF(ROW()<$S$4+2,IF('XML a procesar'!A3421=\"\",P3421,IF(MID('XML a procesar'!A3421,1,1)=\"<\",P3421,P3421+1)),P3421)","v":1}]
[{"$f":"IF('XML a procesar'!A3422>0,'XML a procesar'!A3422,\"\")","v":""},0,0,0,0,"",0,0,0,"","",0,"",0,"",{"$f":"IF(ROW()<$S$4+2,IF('XML a procesar'!A3422=\"\",P3422,IF(MID('XML a procesar'!A3422,1,1)=\"<\",P3422,P3422+1)),P3422)","v":1}]
[{"$f":"IF('XML a procesar'!A3423>0,'XML a procesar'!A3423,\"\")","v":""},0,0,0,0,"",0,0,0,"","",0,"",0,"",{"$f":"IF(ROW()<$S$4+2,IF('XML a procesar'!A3423=\"\",P3423,IF(MID('XML a procesar'!A3423,1,1)=\"<\",P3423,P3423+1)),P3423)","v":1}]
[{"$f":"IF('XML a procesar'!A3424>0,'XML a procesar'!A3424,\"\")","v":""},0,0,0,0,"",0,0,0,"","",0,"",0,"",{"$f":"IF(ROW()<$S$4+2,IF('XML a procesar'!A3424=\"\",P3424,IF(MID('XML a procesar'!A3424,1,1)=\"<\",P3424,P3424+1)),P3424)","v":1}]
[{"$f":"IF('XML a procesar'!A3425>0,'XML a procesar'!A3425,\"\")","v":""},0,0,0,0,"",0,0,0,"","",0,"",0,"",{"$f":"IF(ROW()<$S$4+2,IF('XML a procesar'!A3425=\"\",P3425,IF(MID('XML a procesar'!A3425,1,1)=\"<\",P3425,P3425+1)),P3425)","v":1}]
[{"$f":"IF('XML a procesar'!A3426>0,'XML a procesar'!A3426,\"\")","v":""},0,0,0,0,"",0,0,0,"","",0,"",0,"",{"$f":"IF(ROW()<$S$4+2,IF('XML a procesar'!A3426=\"\",P3426,IF(MID('XML a procesar'!A3426,1,1)=\"<\",P3426,P3426+1)),P3426)","v":1}]
[{"$f":"IF('XML a procesar'!A3427>0,'XML a procesar'!A3427,\"\")","v":""},0,0,0,0,"",0,0,0,"","",0,"",0,"",{"$f":"IF(ROW()<$S$4+2,IF('XML a procesar'!A3427=\"\",P3427,IF(MID('XML a procesar'!A3427,1,1)=\"<\",P3427,P3427+1)),P3427)","v":1}]
[{"$f":"IF('XML a procesar'!A3428>0,'XML a procesar'!A3428,\"\")","v":""},0,0,0,0,"",0,0,0,"","",0,"",0,"",{"$f":"IF(ROW()<$S$4+2,IF('XML a procesar'!A3428=\"\",P3428,IF(MID('XML a procesar'!A3428,1,1)=\"<\",P3428,P3428+1)),P3428)","v":1}]
[{"$f":"IF('XML a procesar'!A3429>0,'XML a procesar'!A3429,\"\")","v":""},0,0,0,0,"",0,0,0,"","",0,"",0,"",{"$f":"IF(ROW()<$S$4+2,IF('XML a procesar'!A3429=\"\",P3429,IF(MID('XML a procesar'!A3429,1,1)=\"<\",P3429,P3429+1)),P3429)","v":1}]
[{"$f":"IF('XML a procesar'!A3430>0,'XML a procesar'!A3430,\"\")","v":""},0,0,0,0,"",0,0,0,"","",0,"",0,"",{"$f":"IF(ROW()<$S$4+2,IF('XML a procesar'!A3430=\"\",P3430,IF(MID('XML a procesar'!A3430,1,1)=\"<\",P3430,P3430+1)),P3430)","v":1}]
[{"$f":"IF('XML a procesar'!A3431>0,'XML a procesar'!A3431,\"\")","v":""},0,0,0,0,"",0,0,0,"","",0,"",0,"",{"$f":"IF(ROW()<$S$4+2,IF('XML a procesar'!A3431=\"\",P3431,IF(MID('XML a procesar'!A3431,1,1)=\"<\",P3431,P3431+1)),P3431)","v":1}]
[{"$f":"IF('XML a procesar'!A3432>0,'XML a procesar'!A3432,\"\")","v":""},0,0,0,0,"",0,0,0,"","",0,"",0,"",{"$f":"IF(ROW()<$S$4+2,IF('XML a procesar'!A3432=\"\",P3432,IF(MID('XML a procesar'!A3432,1,1)=\"<\",P3432,P3432+1)),P3432)","v":1}]
[{"$f":"IF('XML a procesar'!A3433>0,'XML a procesar'!A3433,\"\")","v":""},0,0,0,0,"",0,0,0,"","",0,"",0,"",{"$f":"IF(ROW()<$S$4+2,IF('XML a procesar'!A3433=\"\",P3433,IF(MID('XML a procesar'!A3433,1,1)=\"<\",P3433,P3433+1)),P3433)","v":1}]
[{"$f":"IF('XML a procesar'!A3434>0,'XML a procesar'!A3434,\"\")","v":""},0,0,0,0,"",0,0,0,"","",0,"",0,"",{"$f":"IF(ROW()<$S$4+2,IF('XML a procesar'!A3434=\"\",P3434,IF(MID('XML a procesar'!A3434,1,1)=\"<\",P3434,P3434+1)),P3434)","v":1}]
[{"$f":"IF('XML a procesar'!A3435>0,'XML a procesar'!A3435,\"\")","v":""},0,0,0,0,"",0,0,0,"","",0,"",0,"",{"$f":"IF(ROW()<$S$4+2,IF('XML a procesar'!A3435=\"\",P3435,IF(MID('XML a procesar'!A3435,1,1)=\"<\",P3435,P3435+1)),P3435)","v":1}]
[{"$f":"IF('XML a procesar'!A3436>0,'XML a procesar'!A3436,\"\")","v":""},0,0,0,0,"",0,0,0,"","",0,"",0,"",{"$f":"IF(ROW()<$S$4+2,IF('XML a procesar'!A3436=\"\",P3436,IF(MID('XML a procesar'!A3436,1,1)=\"<\",P3436,P3436+1)),P3436)","v":1}]
[{"$f":"IF('XML a procesar'!A3437>0,'XML a procesar'!A3437,\"\")","v":""},0,0,0,0,"",0,0,0,"","",0,"",0,"",{"$f":"IF(ROW()<$S$4+2,IF('XML a procesar'!A3437=\"\",P3437,IF(MID('XML a procesar'!A3437,1,1)=\"<\",P3437,P3437+1)),P3437)","v":1}]
[{"$f":"IF('XML a procesar'!A3438>0,'XML a procesar'!A3438,\"\")","v":""},0,0,0,0,"",0,0,0,"","",0,"",0,"",{"$f":"IF(ROW()<$S$4+2,IF('XML a procesar'!A3438=\"\",P3438,IF(MID('XML a procesar'!A3438,1,1)=\"<\",P3438,P3438+1)),P3438)","v":1}]
[{"$f":"IF('XML a procesar'!A3439>0,'XML a procesar'!A3439,\"\")","v":""},0,0,0,0,"",0,0,0,"","",0,"",0,"",{"$f":"IF(ROW()<$S$4+2,IF('XML a procesar'!A3439=\"\",P3439,IF(MID('XML a procesar'!A3439,1,1)=\"<\",P3439,P3439+1)),P3439)","v":1}]
[{"$f":"IF('XML a procesar'!A3440>0,'XML a procesar'!A3440,\"\")","v":""},0,0,0,0,"",0,0,0,"","",0,"",0,"",{"$f":"IF(ROW()<$S$4+2,IF('XML a procesar'!A3440=\"\",P3440,IF(MID('XML a procesar'!A3440,1,1)=\"<\",P3440,P3440+1)),P3440)","v":1}]
[{"$f":"IF('XML a procesar'!A3441>0,'XML a procesar'!A3441,\"\")","v":""},0,0,0,0,"",0,0,0,"","",0,"",0,"",{"$f":"IF(ROW()<$S$4+2,IF('XML a procesar'!A3441=\"\",P3441,IF(MID('XML a procesar'!A3441,1,1)=\"<\",P3441,P3441+1)),P3441)","v":1}]
[{"$f":"IF('XML a procesar'!A3442>0,'XML a procesar'!A3442,\"\")","v":""},0,0,0,0,"",0,0,0,"","",0,"",0,"",{"$f":"IF(ROW()<$S$4+2,IF('XML a procesar'!A3442=\"\",P3442,IF(MID('XML a procesar'!A3442,1,1)=\"<\",P3442,P3442+1)),P3442)","v":1}]
[{"$f":"IF('XML a procesar'!A3443>0,'XML a procesar'!A3443,\"\")","v":""},0,0,0,0,"",0,0,0,"","",0,"",0,"",{"$f":"IF(ROW()<$S$4+2,IF('XML a procesar'!A3443=\"\",P3443,IF(MID('XML a procesar'!A3443,1,1)=\"<\",P3443,P3443+1)),P3443)","v":1}]
[{"$f":"IF('XML a procesar'!A3444>0,'XML a procesar'!A3444,\"\")","v":""},0,0,0,0,"",0,0,0,"","",0,"",0,"",{"$f":"IF(ROW()<$S$4+2,IF('XML a procesar'!A3444=\"\",P3444,IF(MID('XML a procesar'!A3444,1,1)=\"<\",P3444,P3444+1)),P3444)","v":1}]
[{"$f":"IF('XML a procesar'!A3445>0,'XML a procesar'!A3445,\"\")","v":""},0,0,0,0,"",0,0,0,"","",0,"",0,"",{"$f":"IF(ROW()<$S$4+2,IF('XML a procesar'!A3445=\"\",P3445,IF(MID('XML a procesar'!A3445,1,1)=\"<\",P3445,P3445+1)),P3445)","v":1}]
[{"$f":"IF('XML a procesar'!A3446>0,'XML a procesar'!A3446,\"\")","v":""},0,0,0,0,"",0,0,0,"","",0,"",0,"",{"$f":"IF(ROW()<$S$4+2,IF('XML a procesar'!A3446=\"\",P3446,IF(MID('XML a procesar'!A3446,1,1)=\"<\",P3446,P3446+1)),P3446)","v":1}]
[{"$f":"IF('XML a procesar'!A3447>0,'XML a procesar'!A3447,\"\")","v":""},0,0,0,0,"",0,0,0,"","",0,"",0,"",{"$f":"IF(ROW()<$S$4+2,IF('XML a procesar'!A3447=\"\",P3447,IF(MID('XML a procesar'!A3447,1,1)=\"<\",P3447,P3447+1)),P3447)","v":1}]
[{"$f":"IF('XML a procesar'!A3448>0,'XML a procesar'!A3448,\"\")","v":""},0,0,0,0,"",0,0,0,"","",0,"",0,"",{"$f":"IF(ROW()<$S$4+2,IF('XML a procesar'!A3448=\"\",P3448,IF(MID('XML a procesar'!A3448,1,1)=\"<\",P3448,P3448+1)),P3448)","v":1}]
[{"$f":"IF('XML a procesar'!A3449>0,'XML a procesar'!A3449,\"\")","v":""},0,0,0,0,"",0,0,0,"","",0,"",0,"",{"$f":"IF(ROW()<$S$4+2,IF('XML a procesar'!A3449=\"\",P3449,IF(MID('XML a procesar'!A3449,1,1)=\"<\",P3449,P3449+1)),P3449)","v":1}]
[{"$f":"IF('XML a procesar'!A3450>0,'XML a procesar'!A3450,\"\")","v":""},0,0,0,0,"",0,0,0,"","",0,"",0,"",{"$f":"IF(ROW()<$S$4+2,IF('XML a procesar'!A3450=\"\",P3450,IF(MID('XML a procesar'!A3450,1,1)=\"<\",P3450,P3450+1)),P3450)","v":1}]
[{"$f":"IF('XML a procesar'!A3451>0,'XML a procesar'!A3451,\"\")","v":""},0,0,0,0,"",0,0,0,"","",0,"",0,"",{"$f":"IF(ROW()<$S$4+2,IF('XML a procesar'!A3451=\"\",P3451,IF(MID('XML a procesar'!A3451,1,1)=\"<\",P3451,P3451+1)),P3451)","v":1}]
[{"$f":"IF('XML a procesar'!A3452>0,'XML a procesar'!A3452,\"\")","v":""},0,0,0,0,"",0,0,0,"","",0,"",0,"",{"$f":"IF(ROW()<$S$4+2,IF('XML a procesar'!A3452=\"\",P3452,IF(MID('XML a procesar'!A3452,1,1)=\"<\",P3452,P3452+1)),P3452)","v":1}]
[{"$f":"IF('XML a procesar'!A3453>0,'XML a procesar'!A3453,\"\")","v":""},0,0,0,0,"",0,0,0,"","",0,"",0,"",{"$f":"IF(ROW()<$S$4+2,IF('XML a procesar'!A3453=\"\",P3453,IF(MID('XML a procesar'!A3453,1,1)=\"<\",P3453,P3453+1)),P3453)","v":1}]
[{"$f":"IF('XML a procesar'!A3454>0,'XML a procesar'!A3454,\"\")","v":""},0,0,0,0,"",0,0,0,"","",0,"",0,"",{"$f":"IF(ROW()<$S$4+2,IF('XML a procesar'!A3454=\"\",P3454,IF(MID('XML a procesar'!A3454,1,1)=\"<\",P3454,P3454+1)),P3454)","v":1}]
[{"$f":"IF('XML a procesar'!A3455>0,'XML a procesar'!A3455,\"\")","v":""},0,0,0,0,"",0,0,0,"","",0,"",0,"",{"$f":"IF(ROW()<$S$4+2,IF('XML a procesar'!A3455=\"\",P3455,IF(MID('XML a procesar'!A3455,1,1)=\"<\",P3455,P3455+1)),P3455)","v":1}]
[{"$f":"IF('XML a procesar'!A3456>0,'XML a procesar'!A3456,\"\")","v":""},{"$f":"IF(ISERROR(FIND(\"/doi.org/\",A3457,1)),0,1)","v":0},{"$f":"IF(LEFT(A3456,16)=\"<contrib contrib\",C3456+1,IF(LEFT(A3456,16)=\"</contrib-group>\",0,IF(LEFT(A3456,10)=\"</contrib>\",C3456,C3456)))","v":0},{"$f":"IF(AND(C3457>0,LEFT(A3457,7)=\"<email>\",ISNUMBER(SEARCH(\"@\",A3457,1))),C3457,IF(LEFT(A3457,10)=\"<alt-text>\",-1,0))","v":0},{"$f":"IF(D3457=0,E3456,E3456+1)","v":0},{"$f":"INDIRECT(ADDRESS(ROW()+INDIRECT(ADDRESS(ROW()+E3457,5)),1))","v":""},{"$f":"IF(LEFT(F3457,7)=\"<aff id\",_xlfn.NUMBERVALUE(MID(F3457,13,LEN(F3457)-14)),IF(F3457=\"</aff>\",G3456+1,G3456))","v":0},0,{"$f":"INDIRECT(ADDRESS(ROW()-INDIRECT(ADDRESS(ROW()-H3457,8)),8))","v":0},{"$f":"IF(J3456=\"Linea_para_MAIL_creada_por_LuXML\",\"</aff>\",IF(I3457>INDIRECT(ADDRESS(ROW()-I3457-1,8)),\"Linea_para_MAIL_creada_por_LuXML\",INDIRECT(ADDRESS(ROW()-I3457,6))))","v":""},"",{"$f":"IF(OR(MID(K3455,3,5)=\"page>\",MID(K3456,3,5)=\"page>\"),L3456,IF(OR(K3456=\"<history>\",K3457=\"<history>\"),L3456+1,L3456))","v":0},{"$f":"IF(L3457>L3456,IF(L3457=1,CONCATENATE(\"<fpage>\",$S$10,\"</fpage>\"),CONCATENATE(\"<lpage>\",$S$10+1,\"</lpage>\")),IF(ISERROR(INDIRECT(ADDRESS(ROW()-L3457,11),1)),\"\",INDIRECT(ADDRESS(ROW()-L3457,11),1)))","v":""},{"$f":"IF(N3456=-1,-1,IF(M3457=\"</counts>\",-1,IF(OR(LEFT(M3457,7)=\"<fpage>\",LEFT(M3457,7)=\"<lpage>\"),VALUE(MID(M3457,8,LEN(M3457)-15)),0)))","v":0},"",{"$f":"IF(ROW()<$S$4+2,IF('XML a procesar'!A3456=\"\",P3456,IF(MID('XML a procesar'!A3456,1,1)=\"<\",P3456,P3456+1)),P3456)","v":1}]
[{"$f":"IF('XML a procesar'!A3457>0,'XML a procesar'!A3457,\"\")","v":""},0,0,0,0,"",0,0,0,"","",0,"",0,{"$f":"IF(N3458>-1,INDIRECT(ADDRESS(ROW(),13)),IF(N3458<N3457,CONCATENATE(\"<page-count count=\",CHAR(34),1+LARGE(N:N,1)-LARGE(N:N,2),CHAR(34),\"/>\"),INDIRECT(ADDRESS(ROW()-1,13))))","v":""},{"$f":"IF(ROW()<$S$4+2,IF('XML a procesar'!A3457=\"\",P3457,IF(MID('XML a procesar'!A3457,1,1)=\"<\",P3457,P3457+1)),P3457)","v":1}]
[{"$f":"IF('XML a procesar'!A3458>0,'XML a procesar'!A3458,\"\")","v":""},0,0,0,0,"",0,{"$f":"IF(AND(G3458>0,G3459>G3458,NOT(ISERROR(MATCH(G3458,D:D,0)))),H3458+1,H3458)","v":0},0,"",{"$f":"IF(J3459=\"Linea_para_MAIL_creada_por_LuXML\",IF(ISERROR(MATCH(INDIRECT(ADDRESS(ROW()-G3459,7)),D:D,0)),J3459,INDIRECT(ADDRESS(MATCH(INDIRECT(ADDRESS(ROW()-G3459,7)),D:D,0),1))),J3459)","v":""},0,"",0,"",{"$f":"IF(ROW()<$S$4+2,IF('XML a procesar'!A3458=\"\",P3458,IF(MID('XML a procesar'!A3458,1,1)=\"<\",P3458,P3458+1)),P3458)","v":1}]
[{"$f":"IF('XML a procesar'!A3459>0,'XML a procesar'!A3459,\"\")","v":""},0,0,0,0,"",0,0,0,"","",0,"",0,"",{"$f":"IF(ROW()<$S$4+2,IF('XML a procesar'!A3459=\"\",P3459,IF(MID('XML a procesar'!A3459,1,1)=\"<\",P3459,P3459+1)),P3459)","v":1}]
[{"$f":"IF('XML a procesar'!A3460>0,'XML a procesar'!A3460,\"\")","v":""},0,0,0,0,"",0,0,0,"","",0,"",0,"",{"$f":"IF(ROW()<$S$4+2,IF('XML a procesar'!A3460=\"\",P3460,IF(MID('XML a procesar'!A3460,1,1)=\"<\",P3460,P3460+1)),P3460)","v":1}]
[{"$f":"IF('XML a procesar'!A3461>0,'XML a procesar'!A3461,\"\")","v":""},0,0,0,0,"",0,0,0,"","",0,"",0,"",{"$f":"IF(ROW()<$S$4+2,IF('XML a procesar'!A3461=\"\",P3461,IF(MID('XML a procesar'!A3461,1,1)=\"<\",P3461,P3461+1)),P3461)","v":1}]
[{"$f":"IF('XML a procesar'!A3462>0,'XML a procesar'!A3462,\"\")","v":""},0,0,0,0,"",0,0,0,"","",0,"",0,"",{"$f":"IF(ROW()<$S$4+2,IF('XML a procesar'!A3462=\"\",P3462,IF(MID('XML a procesar'!A3462,1,1)=\"<\",P3462,P3462+1)),P3462)","v":1}]
[{"$f":"IF('XML a procesar'!A3463>0,'XML a procesar'!A3463,\"\")","v":""},0,0,0,0,"",0,0,0,"","",0,"",0,"",{"$f":"IF(ROW()<$S$4+2,IF('XML a procesar'!A3463=\"\",P3463,IF(MID('XML a procesar'!A3463,1,1)=\"<\",P3463,P3463+1)),P3463)","v":1}]
[{"$f":"IF('XML a procesar'!A3464>0,'XML a procesar'!A3464,\"\")","v":""},0,0,0,0,"",0,0,0,"","",0,"",0,"",{"$f":"IF(ROW()<$S$4+2,IF('XML a procesar'!A3464=\"\",P3464,IF(MID('XML a procesar'!A3464,1,1)=\"<\",P3464,P3464+1)),P3464)","v":1}]
[{"$f":"IF('XML a procesar'!A3465>0,'XML a procesar'!A3465,\"\")","v":""},0,0,0,0,"",0,0,0,"","",0,"",0,"",{"$f":"IF(ROW()<$S$4+2,IF('XML a procesar'!A3465=\"\",P3465,IF(MID('XML a procesar'!A3465,1,1)=\"<\",P3465,P3465+1)),P3465)","v":1}]
[{"$f":"IF('XML a procesar'!A3466>0,'XML a procesar'!A3466,\"\")","v":""},0,0,0,0,"",0,0,0,"","",0,"",0,"",{"$f":"IF(ROW()<$S$4+2,IF('XML a procesar'!A3466=\"\",P3466,IF(MID('XML a procesar'!A3466,1,1)=\"<\",P3466,P3466+1)),P3466)","v":1}]
[{"$f":"IF('XML a procesar'!A3467>0,'XML a procesar'!A3467,\"\")","v":""},0,0,0,0,"",0,0,0,"","",0,"",0,"",{"$f":"IF(ROW()<$S$4+2,IF('XML a procesar'!A3467=\"\",P3467,IF(MID('XML a procesar'!A3467,1,1)=\"<\",P3467,P3467+1)),P3467)","v":1}]
[{"$f":"IF('XML a procesar'!A3468>0,'XML a procesar'!A3468,\"\")","v":""},0,0,0,0,"",0,0,0,"","",0,"",0,"",{"$f":"IF(ROW()<$S$4+2,IF('XML a procesar'!A3468=\"\",P3468,IF(MID('XML a procesar'!A3468,1,1)=\"<\",P3468,P3468+1)),P3468)","v":1}]
[{"$f":"IF('XML a procesar'!A3469>0,'XML a procesar'!A3469,\"\")","v":""},0,0,0,0,"",0,0,0,"","",0,"",0,"",{"$f":"IF(ROW()<$S$4+2,IF('XML a procesar'!A3469=\"\",P3469,IF(MID('XML a procesar'!A3469,1,1)=\"<\",P3469,P3469+1)),P3469)","v":1}]
[{"$f":"IF('XML a procesar'!A3470>0,'XML a procesar'!A3470,\"\")","v":""},0,0,0,0,"",0,0,0,"","",0,"",0,"",{"$f":"IF(ROW()<$S$4+2,IF('XML a procesar'!A3470=\"\",P3470,IF(MID('XML a procesar'!A3470,1,1)=\"<\",P3470,P3470+1)),P3470)","v":1}]
[{"$f":"IF('XML a procesar'!A3471>0,'XML a procesar'!A3471,\"\")","v":""},0,0,0,0,"",0,0,0,"","",0,"",0,"",{"$f":"IF(ROW()<$S$4+2,IF('XML a procesar'!A3471=\"\",P3471,IF(MID('XML a procesar'!A3471,1,1)=\"<\",P3471,P3471+1)),P3471)","v":1}]
[{"$f":"IF('XML a procesar'!A3472>0,'XML a procesar'!A3472,\"\")","v":""},0,0,0,0,"",0,0,0,"","",0,"",0,"",{"$f":"IF(ROW()<$S$4+2,IF('XML a procesar'!A3472=\"\",P3472,IF(MID('XML a procesar'!A3472,1,1)=\"<\",P3472,P3472+1)),P3472)","v":1}]
[{"$f":"IF('XML a procesar'!A3473>0,'XML a procesar'!A3473,\"\")","v":""},0,0,0,0,"",0,0,0,"","",0,"",0,"",{"$f":"IF(ROW()<$S$4+2,IF('XML a procesar'!A3473=\"\",P3473,IF(MID('XML a procesar'!A3473,1,1)=\"<\",P3473,P3473+1)),P3473)","v":1}]
[{"$f":"IF('XML a procesar'!A3474>0,'XML a procesar'!A3474,\"\")","v":""},0,0,0,0,"",0,0,0,"","",0,"",0,"",{"$f":"IF(ROW()<$S$4+2,IF('XML a procesar'!A3474=\"\",P3474,IF(MID('XML a procesar'!A3474,1,1)=\"<\",P3474,P3474+1)),P3474)","v":1}]
[{"$f":"IF('XML a procesar'!A3475>0,'XML a procesar'!A3475,\"\")","v":""},0,0,0,0,"",0,0,0,"","",0,"",0,"",{"$f":"IF(ROW()<$S$4+2,IF('XML a procesar'!A3475=\"\",P3475,IF(MID('XML a procesar'!A3475,1,1)=\"<\",P3475,P3475+1)),P3475)","v":1}]
[{"$f":"IF('XML a procesar'!A3476>0,'XML a procesar'!A3476,\"\")","v":""},0,0,0,0,"",0,0,0,"","",0,"",0,"",{"$f":"IF(ROW()<$S$4+2,IF('XML a procesar'!A3476=\"\",P3476,IF(MID('XML a procesar'!A3476,1,1)=\"<\",P3476,P3476+1)),P3476)","v":1}]
[{"$f":"IF('XML a procesar'!A3477>0,'XML a procesar'!A3477,\"\")","v":""},0,0,0,0,"",0,0,0,"","",0,"",0,"",{"$f":"IF(ROW()<$S$4+2,IF('XML a procesar'!A3477=\"\",P3477,IF(MID('XML a procesar'!A3477,1,1)=\"<\",P3477,P3477+1)),P3477)","v":1}]
[{"$f":"IF('XML a procesar'!A3478>0,'XML a procesar'!A3478,\"\")","v":""},0,0,0,0,"",0,0,0,"","",0,"",0,"",{"$f":"IF(ROW()<$S$4+2,IF('XML a procesar'!A3478=\"\",P3478,IF(MID('XML a procesar'!A3478,1,1)=\"<\",P3478,P3478+1)),P3478)","v":1}]
[{"$f":"IF('XML a procesar'!A3479>0,'XML a procesar'!A3479,\"\")","v":""},0,0,0,0,"",0,0,0,"","",0,"",0,"",{"$f":"IF(ROW()<$S$4+2,IF('XML a procesar'!A3479=\"\",P3479,IF(MID('XML a procesar'!A3479,1,1)=\"<\",P3479,P3479+1)),P3479)","v":1}]
[{"$f":"IF('XML a procesar'!A3480>0,'XML a procesar'!A3480,\"\")","v":""},0,0,0,0,"",0,0,0,"","",0,"",0,"",{"$f":"IF(ROW()<$S$4+2,IF('XML a procesar'!A3480=\"\",P3480,IF(MID('XML a procesar'!A3480,1,1)=\"<\",P3480,P3480+1)),P3480)","v":1}]
[{"$f":"IF('XML a procesar'!A3481>0,'XML a procesar'!A3481,\"\")","v":""},0,0,0,0,"",0,0,0,"","",0,"",0,"",{"$f":"IF(ROW()<$S$4+2,IF('XML a procesar'!A3481=\"\",P3481,IF(MID('XML a procesar'!A3481,1,1)=\"<\",P3481,P3481+1)),P3481)","v":1}]
[{"$f":"IF('XML a procesar'!A3482>0,'XML a procesar'!A3482,\"\")","v":""},0,0,0,0,"",0,0,0,"","",0,"",0,"",{"$f":"IF(ROW()<$S$4+2,IF('XML a procesar'!A3482=\"\",P3482,IF(MID('XML a procesar'!A3482,1,1)=\"<\",P3482,P3482+1)),P3482)","v":1}]
[{"$f":"IF('XML a procesar'!A3483>0,'XML a procesar'!A3483,\"\")","v":""},0,0,0,0,"",0,0,0,"","",0,"",0,"",{"$f":"IF(ROW()<$S$4+2,IF('XML a procesar'!A3483=\"\",P3483,IF(MID('XML a procesar'!A3483,1,1)=\"<\",P3483,P3483+1)),P3483)","v":1}]
[{"$f":"IF('XML a procesar'!A3484>0,'XML a procesar'!A3484,\"\")","v":""},0,0,0,0,"",0,0,0,"","",0,"",0,"",{"$f":"IF(ROW()<$S$4+2,IF('XML a procesar'!A3484=\"\",P3484,IF(MID('XML a procesar'!A3484,1,1)=\"<\",P3484,P3484+1)),P3484)","v":1}]
[{"$f":"IF('XML a procesar'!A3485>0,'XML a procesar'!A3485,\"\")","v":""},0,0,0,0,"",0,0,0,"","",0,"",0,"",{"$f":"IF(ROW()<$S$4+2,IF('XML a procesar'!A3485=\"\",P3485,IF(MID('XML a procesar'!A3485,1,1)=\"<\",P3485,P3485+1)),P3485)","v":1}]
[{"$f":"IF('XML a procesar'!A3486>0,'XML a procesar'!A3486,\"\")","v":""},0,0,0,0,"",0,0,0,"","",0,"",0,"",{"$f":"IF(ROW()<$S$4+2,IF('XML a procesar'!A3486=\"\",P3486,IF(MID('XML a procesar'!A3486,1,1)=\"<\",P3486,P3486+1)),P3486)","v":1}]
[{"$f":"IF('XML a procesar'!A3487>0,'XML a procesar'!A3487,\"\")","v":""},0,0,0,0,"",0,0,0,"","",0,"",0,"",{"$f":"IF(ROW()<$S$4+2,IF('XML a procesar'!A3487=\"\",P3487,IF(MID('XML a procesar'!A3487,1,1)=\"<\",P3487,P3487+1)),P3487)","v":1}]
[{"$f":"IF('XML a procesar'!A3488>0,'XML a procesar'!A3488,\"\")","v":""},0,0,0,0,"",0,0,0,"","",0,"",0,"",{"$f":"IF(ROW()<$S$4+2,IF('XML a procesar'!A3488=\"\",P3488,IF(MID('XML a procesar'!A3488,1,1)=\"<\",P3488,P3488+1)),P3488)","v":1}]
[{"$f":"IF('XML a procesar'!A3489>0,'XML a procesar'!A3489,\"\")","v":""},0,0,0,0,"",0,0,0,"","",0,"",0,"",{"$f":"IF(ROW()<$S$4+2,IF('XML a procesar'!A3489=\"\",P3489,IF(MID('XML a procesar'!A3489,1,1)=\"<\",P3489,P3489+1)),P3489)","v":1}]
[{"$f":"IF('XML a procesar'!A3490>0,'XML a procesar'!A3490,\"\")","v":""},0,0,0,0,"",0,0,0,"","",0,"",0,"",{"$f":"IF(ROW()<$S$4+2,IF('XML a procesar'!A3490=\"\",P3490,IF(MID('XML a procesar'!A3490,1,1)=\"<\",P3490,P3490+1)),P3490)","v":1}]
[{"$f":"IF('XML a procesar'!A3491>0,'XML a procesar'!A3491,\"\")","v":""},0,0,0,0,"",0,0,0,"","",0,"",0,"",{"$f":"IF(ROW()<$S$4+2,IF('XML a procesar'!A3491=\"\",P3491,IF(MID('XML a procesar'!A3491,1,1)=\"<\",P3491,P3491+1)),P3491)","v":1}]
[{"$f":"IF('XML a procesar'!A3492>0,'XML a procesar'!A3492,\"\")","v":""},0,0,0,0,"",0,0,0,"","",0,"",0,"",{"$f":"IF(ROW()<$S$4+2,IF('XML a procesar'!A3492=\"\",P3492,IF(MID('XML a procesar'!A3492,1,1)=\"<\",P3492,P3492+1)),P3492)","v":1}]
[{"$f":"IF('XML a procesar'!A3493>0,'XML a procesar'!A3493,\"\")","v":""},0,0,0,0,"",0,0,0,"","",0,"",0,"",{"$f":"IF(ROW()<$S$4+2,IF('XML a procesar'!A3493=\"\",P3493,IF(MID('XML a procesar'!A3493,1,1)=\"<\",P3493,P3493+1)),P3493)","v":1}]
[{"$f":"IF('XML a procesar'!A3494>0,'XML a procesar'!A3494,\"\")","v":""},0,0,0,0,"",0,0,0,"","",0,"",0,"",{"$f":"IF(ROW()<$S$4+2,IF('XML a procesar'!A3494=\"\",P3494,IF(MID('XML a procesar'!A3494,1,1)=\"<\",P3494,P3494+1)),P3494)","v":1}]
[{"$f":"IF('XML a procesar'!A3495>0,'XML a procesar'!A3495,\"\")","v":""},0,0,0,0,"",0,0,0,"","",0,"",0,"",{"$f":"IF(ROW()<$S$4+2,IF('XML a procesar'!A3495=\"\",P3495,IF(MID('XML a procesar'!A3495,1,1)=\"<\",P3495,P3495+1)),P3495)","v":1}]
[{"$f":"IF('XML a procesar'!A3496>0,'XML a procesar'!A3496,\"\")","v":""},0,0,0,0,"",0,0,0,"","",0,"",0,"",{"$f":"IF(ROW()<$S$4+2,IF('XML a procesar'!A3496=\"\",P3496,IF(MID('XML a procesar'!A3496,1,1)=\"<\",P3496,P3496+1)),P3496)","v":1}]
[{"$f":"IF('XML a procesar'!A3497>0,'XML a procesar'!A3497,\"\")","v":""},0,0,0,0,"",0,0,0,"","",0,"",0,"",{"$f":"IF(ROW()<$S$4+2,IF('XML a procesar'!A3497=\"\",P3497,IF(MID('XML a procesar'!A3497,1,1)=\"<\",P3497,P3497+1)),P3497)","v":1}]
[{"$f":"IF('XML a procesar'!A3498>0,'XML a procesar'!A3498,\"\")","v":""},0,0,0,0,"",0,0,0,"","",0,"",0,"",{"$f":"IF(ROW()<$S$4+2,IF('XML a procesar'!A3498=\"\",P3498,IF(MID('XML a procesar'!A3498,1,1)=\"<\",P3498,P3498+1)),P3498)","v":1}]
[{"$f":"IF('XML a procesar'!A3499>0,'XML a procesar'!A3499,\"\")","v":""},0,0,0,0,"",0,0,0,"","",0,"",0,"",{"$f":"IF(ROW()<$S$4+2,IF('XML a procesar'!A3499=\"\",P3499,IF(MID('XML a procesar'!A3499,1,1)=\"<\",P3499,P3499+1)),P3499)","v":1}]
[{"$f":"IF('XML a procesar'!A3500>0,'XML a procesar'!A3500,\"\")","v":""},0,0,0,0,"",0,0,0,"","",0,"",0,"",{"$f":"IF(ROW()<$S$4+2,IF('XML a procesar'!A3500=\"\",P3500,IF(MID('XML a procesar'!A3500,1,1)=\"<\",P3500,P3500+1)),P3500)","v":1}]
[{"$f":"IF('XML a procesar'!A3501>0,'XML a procesar'!A3501,\"\")","v":""},0,0,0,0,"",0,0,0,"","",0,"",0,"",{"$f":"IF(ROW()<$S$4+2,IF('XML a procesar'!A3501=\"\",P3501,IF(MID('XML a procesar'!A3501,1,1)=\"<\",P3501,P3501+1)),P3501)","v":1}]
[{"$f":"IF('XML a procesar'!A3502>0,'XML a procesar'!A3502,\"\")","v":""},0,0,0,0,"",0,0,0,"","",0,"",0,"",{"$f":"IF(ROW()<$S$4+2,IF('XML a procesar'!A3502=\"\",P3502,IF(MID('XML a procesar'!A3502,1,1)=\"<\",P3502,P3502+1)),P3502)","v":1}]
[{"$f":"IF('XML a procesar'!A3503>0,'XML a procesar'!A3503,\"\")","v":""},0,0,0,0,"",0,0,0,"","",0,"",0,"",{"$f":"IF(ROW()<$S$4+2,IF('XML a procesar'!A3503=\"\",P3503,IF(MID('XML a procesar'!A3503,1,1)=\"<\",P3503,P3503+1)),P3503)","v":1}]
[{"$f":"IF('XML a procesar'!A3504>0,'XML a procesar'!A3504,\"\")","v":""},0,0,0,0,"",0,0,0,"","",0,"",0,"",{"$f":"IF(ROW()<$S$4+2,IF('XML a procesar'!A3504=\"\",P3504,IF(MID('XML a procesar'!A3504,1,1)=\"<\",P3504,P3504+1)),P3504)","v":1}]
[{"$f":"IF('XML a procesar'!A3505>0,'XML a procesar'!A3505,\"\")","v":""},0,0,0,0,"",0,0,0,"","",0,"",0,"",{"$f":"IF(ROW()<$S$4+2,IF('XML a procesar'!A3505=\"\",P3505,IF(MID('XML a procesar'!A3505,1,1)=\"<\",P3505,P3505+1)),P3505)","v":1}]
[{"$f":"IF('XML a procesar'!A3506>0,'XML a procesar'!A3506,\"\")","v":""},0,0,0,0,"",0,0,0,"","",0,"",0,"",{"$f":"IF(ROW()<$S$4+2,IF('XML a procesar'!A3506=\"\",P3506,IF(MID('XML a procesar'!A3506,1,1)=\"<\",P3506,P3506+1)),P3506)","v":1}]
[{"$f":"IF('XML a procesar'!A3507>0,'XML a procesar'!A3507,\"\")","v":""},0,0,0,0,"",0,0,0,"","",0,"",0,"",{"$f":"IF(ROW()<$S$4+2,IF('XML a procesar'!A3507=\"\",P3507,IF(MID('XML a procesar'!A3507,1,1)=\"<\",P3507,P3507+1)),P3507)","v":1}]
[{"$f":"IF('XML a procesar'!A3508>0,'XML a procesar'!A3508,\"\")","v":""},0,0,0,0,"",0,0,0,"","",0,"",0,"",{"$f":"IF(ROW()<$S$4+2,IF('XML a procesar'!A3508=\"\",P3508,IF(MID('XML a procesar'!A3508,1,1)=\"<\",P3508,P3508+1)),P3508)","v":1}]
[{"$f":"IF('XML a procesar'!A3509>0,'XML a procesar'!A3509,\"\")","v":""},0,0,0,0,"",0,0,0,"","",0,"",0,"",{"$f":"IF(ROW()<$S$4+2,IF('XML a procesar'!A3509=\"\",P3509,IF(MID('XML a procesar'!A3509,1,1)=\"<\",P3509,P3509+1)),P3509)","v":1}]
[{"$f":"IF('XML a procesar'!A3510>0,'XML a procesar'!A3510,\"\")","v":""},0,0,0,0,"",0,0,0,"","",0,"",0,"",{"$f":"IF(ROW()<$S$4+2,IF('XML a procesar'!A3510=\"\",P3510,IF(MID('XML a procesar'!A3510,1,1)=\"<\",P3510,P3510+1)),P3510)","v":1}]
[{"$f":"IF('XML a procesar'!A3511>0,'XML a procesar'!A3511,\"\")","v":""},0,0,0,0,"",0,0,0,"","",0,"",0,"",{"$f":"IF(ROW()<$S$4+2,IF('XML a procesar'!A3511=\"\",P3511,IF(MID('XML a procesar'!A3511,1,1)=\"<\",P3511,P3511+1)),P3511)","v":1}]
[{"$f":"IF('XML a procesar'!A3512>0,'XML a procesar'!A3512,\"\")","v":""},0,0,0,0,"",0,0,0,"","",0,"",0,"",{"$f":"IF(ROW()<$S$4+2,IF('XML a procesar'!A3512=\"\",P3512,IF(MID('XML a procesar'!A3512,1,1)=\"<\",P3512,P3512+1)),P3512)","v":1}]
[{"$f":"IF('XML a procesar'!A3513>0,'XML a procesar'!A3513,\"\")","v":""},0,0,0,0,"",0,0,0,"","",0,"",0,"",{"$f":"IF(ROW()<$S$4+2,IF('XML a procesar'!A3513=\"\",P3513,IF(MID('XML a procesar'!A3513,1,1)=\"<\",P3513,P3513+1)),P3513)","v":1}]
[{"$f":"IF('XML a procesar'!A3514>0,'XML a procesar'!A3514,\"\")","v":""},0,0,0,0,"",0,0,0,"","",0,"",0,"",{"$f":"IF(ROW()<$S$4+2,IF('XML a procesar'!A3514=\"\",P3514,IF(MID('XML a procesar'!A3514,1,1)=\"<\",P3514,P3514+1)),P3514)","v":1}]
[{"$f":"IF('XML a procesar'!A3515>0,'XML a procesar'!A3515,\"\")","v":""},0,0,0,0,"",0,0,0,"","",0,"",0,"",{"$f":"IF(ROW()<$S$4+2,IF('XML a procesar'!A3515=\"\",P3515,IF(MID('XML a procesar'!A3515,1,1)=\"<\",P3515,P3515+1)),P3515)","v":1}]
[{"$f":"IF('XML a procesar'!A3516>0,'XML a procesar'!A3516,\"\")","v":""},0,0,0,0,"",0,0,0,"","",0,"",0,"",{"$f":"IF(ROW()<$S$4+2,IF('XML a procesar'!A3516=\"\",P3516,IF(MID('XML a procesar'!A3516,1,1)=\"<\",P3516,P3516+1)),P3516)","v":1}]
[{"$f":"IF('XML a procesar'!A3517>0,'XML a procesar'!A3517,\"\")","v":""},0,0,0,0,"",0,0,0,"","",0,"",0,"",{"$f":"IF(ROW()<$S$4+2,IF('XML a procesar'!A3517=\"\",P3517,IF(MID('XML a procesar'!A3517,1,1)=\"<\",P3517,P3517+1)),P3517)","v":1}]
[{"$f":"IF('XML a procesar'!A3518>0,'XML a procesar'!A3518,\"\")","v":""},0,0,0,0,"",0,0,0,"","",0,"",0,"",{"$f":"IF(ROW()<$S$4+2,IF('XML a procesar'!A3518=\"\",P3518,IF(MID('XML a procesar'!A3518,1,1)=\"<\",P3518,P3518+1)),P3518)","v":1}]
[{"$f":"IF('XML a procesar'!A3519>0,'XML a procesar'!A3519,\"\")","v":""},0,0,0,0,"",0,0,0,"","",0,"",0,"",{"$f":"IF(ROW()<$S$4+2,IF('XML a procesar'!A3519=\"\",P3519,IF(MID('XML a procesar'!A3519,1,1)=\"<\",P3519,P3519+1)),P3519)","v":1}]
[{"$f":"IF('XML a procesar'!A3520>0,'XML a procesar'!A3520,\"\")","v":""},{"$f":"IF(ISERROR(FIND(\"/doi.org/\",A3521,1)),0,1)","v":0},{"$f":"IF(LEFT(A3520,16)=\"<contrib contrib\",C3520+1,IF(LEFT(A3520,16)=\"</contrib-group>\",0,IF(LEFT(A3520,10)=\"</contrib>\",C3520,C3520)))","v":0},{"$f":"IF(AND(C3521>0,LEFT(A3521,7)=\"<email>\",ISNUMBER(SEARCH(\"@\",A3521,1))),C3521,IF(LEFT(A3521,10)=\"<alt-text>\",-1,0))","v":0},{"$f":"IF(D3521=0,E3520,E3520+1)","v":0},{"$f":"INDIRECT(ADDRESS(ROW()+INDIRECT(ADDRESS(ROW()+E3521,5)),1))","v":""},{"$f":"IF(LEFT(F3521,7)=\"<aff id\",_xlfn.NUMBERVALUE(MID(F3521,13,LEN(F3521)-14)),IF(F3521=\"</aff>\",G3520+1,G3520))","v":0},0,{"$f":"INDIRECT(ADDRESS(ROW()-INDIRECT(ADDRESS(ROW()-H3521,8)),8))","v":0},{"$f":"IF(J3520=\"Linea_para_MAIL_creada_por_LuXML\",\"</aff>\",IF(I3521>INDIRECT(ADDRESS(ROW()-I3521-1,8)),\"Linea_para_MAIL_creada_por_LuXML\",INDIRECT(ADDRESS(ROW()-I3521,6))))","v":""},"",{"$f":"IF(OR(MID(K3519,3,5)=\"page>\",MID(K3520,3,5)=\"page>\"),L3520,IF(OR(K3520=\"<history>\",K3521=\"<history>\"),L3520+1,L3520))","v":0},{"$f":"IF(L3521>L3520,IF(L3521=1,CONCATENATE(\"<fpage>\",$S$10,\"</fpage>\"),CONCATENATE(\"<lpage>\",$S$10+1,\"</lpage>\")),IF(ISERROR(INDIRECT(ADDRESS(ROW()-L3521,11),1)),\"\",INDIRECT(ADDRESS(ROW()-L3521,11),1)))","v":""},{"$f":"IF(N3520=-1,-1,IF(M3521=\"</counts>\",-1,IF(OR(LEFT(M3521,7)=\"<fpage>\",LEFT(M3521,7)=\"<lpage>\"),VALUE(MID(M3521,8,LEN(M3521)-15)),0)))","v":0},"",{"$f":"IF(ROW()<$S$4+2,IF('XML a procesar'!A3520=\"\",P3520,IF(MID('XML a procesar'!A3520,1,1)=\"<\",P3520,P3520+1)),P3520)","v":1}]
[{"$f":"IF('XML a procesar'!A3521>0,'XML a procesar'!A3521,\"\")","v":""},0,0,0,0,"",0,0,0,"","",0,"",0,{"$f":"IF(N3522>-1,INDIRECT(ADDRESS(ROW(),13)),IF(N3522<N3521,CONCATENATE(\"<page-count count=\",CHAR(34),1+LARGE(N:N,1)-LARGE(N:N,2),CHAR(34),\"/>\"),INDIRECT(ADDRESS(ROW()-1,13))))","v":""},{"$f":"IF(ROW()<$S$4+2,IF('XML a procesar'!A3521=\"\",P3521,IF(MID('XML a procesar'!A3521,1,1)=\"<\",P3521,P3521+1)),P3521)","v":1}]
[{"$f":"IF('XML a procesar'!A3522>0,'XML a procesar'!A3522,\"\")","v":""},0,0,0,0,"",0,{"$f":"IF(AND(G3522>0,G3523>G3522,NOT(ISERROR(MATCH(G3522,D:D,0)))),H3522+1,H3522)","v":0},0,"",{"$f":"IF(J3523=\"Linea_para_MAIL_creada_por_LuXML\",IF(ISERROR(MATCH(INDIRECT(ADDRESS(ROW()-G3523,7)),D:D,0)),J3523,INDIRECT(ADDRESS(MATCH(INDIRECT(ADDRESS(ROW()-G3523,7)),D:D,0),1))),J3523)","v":""},0,"",0,"",{"$f":"IF(ROW()<$S$4+2,IF('XML a procesar'!A3522=\"\",P3522,IF(MID('XML a procesar'!A3522,1,1)=\"<\",P3522,P3522+1)),P3522)","v":1}]
[{"$f":"IF('XML a procesar'!A3523>0,'XML a procesar'!A3523,\"\")","v":""},0,0,0,0,"",0,0,0,"","",0,"",0,"",{"$f":"IF(ROW()<$S$4+2,IF('XML a procesar'!A3523=\"\",P3523,IF(MID('XML a procesar'!A3523,1,1)=\"<\",P3523,P3523+1)),P3523)","v":1}]
[{"$f":"IF('XML a procesar'!A3524>0,'XML a procesar'!A3524,\"\")","v":""},0,0,0,0,"",0,0,0,"","",0,"",0,"",{"$f":"IF(ROW()<$S$4+2,IF('XML a procesar'!A3524=\"\",P3524,IF(MID('XML a procesar'!A3524,1,1)=\"<\",P3524,P3524+1)),P3524)","v":1}]
[{"$f":"IF('XML a procesar'!A3525>0,'XML a procesar'!A3525,\"\")","v":""},0,0,0,0,"",0,0,0,"","",0,"",0,"",{"$f":"IF(ROW()<$S$4+2,IF('XML a procesar'!A3525=\"\",P3525,IF(MID('XML a procesar'!A3525,1,1)=\"<\",P3525,P3525+1)),P3525)","v":1}]
[{"$f":"IF('XML a procesar'!A3526>0,'XML a procesar'!A3526,\"\")","v":""},0,0,0,0,"",0,0,0,"","",0,"",0,"",{"$f":"IF(ROW()<$S$4+2,IF('XML a procesar'!A3526=\"\",P3526,IF(MID('XML a procesar'!A3526,1,1)=\"<\",P3526,P3526+1)),P3526)","v":1}]
[{"$f":"IF('XML a procesar'!A3527>0,'XML a procesar'!A3527,\"\")","v":""},0,0,0,0,"",0,0,0,"","",0,"",0,"",{"$f":"IF(ROW()<$S$4+2,IF('XML a procesar'!A3527=\"\",P3527,IF(MID('XML a procesar'!A3527,1,1)=\"<\",P3527,P3527+1)),P3527)","v":1}]
[{"$f":"IF('XML a procesar'!A3528>0,'XML a procesar'!A3528,\"\")","v":""},0,0,0,0,"",0,0,0,"","",0,"",0,"",{"$f":"IF(ROW()<$S$4+2,IF('XML a procesar'!A3528=\"\",P3528,IF(MID('XML a procesar'!A3528,1,1)=\"<\",P3528,P3528+1)),P3528)","v":1}]
[{"$f":"IF('XML a procesar'!A3529>0,'XML a procesar'!A3529,\"\")","v":""},0,0,0,0,"",0,0,0,"","",0,"",0,"",{"$f":"IF(ROW()<$S$4+2,IF('XML a procesar'!A3529=\"\",P3529,IF(MID('XML a procesar'!A3529,1,1)=\"<\",P3529,P3529+1)),P3529)","v":1}]
[{"$f":"IF('XML a procesar'!A3530>0,'XML a procesar'!A3530,\"\")","v":""},0,0,0,0,"",0,0,0,"","",0,"",0,"",{"$f":"IF(ROW()<$S$4+2,IF('XML a procesar'!A3530=\"\",P3530,IF(MID('XML a procesar'!A3530,1,1)=\"<\",P3530,P3530+1)),P3530)","v":1}]
[{"$f":"IF('XML a procesar'!A3531>0,'XML a procesar'!A3531,\"\")","v":""},0,0,0,0,"",0,0,0,"","",0,"",0,"",{"$f":"IF(ROW()<$S$4+2,IF('XML a procesar'!A3531=\"\",P3531,IF(MID('XML a procesar'!A3531,1,1)=\"<\",P3531,P3531+1)),P3531)","v":1}]
[{"$f":"IF('XML a procesar'!A3532>0,'XML a procesar'!A3532,\"\")","v":""},0,0,0,0,"",0,0,0,"","",0,"",0,"",{"$f":"IF(ROW()<$S$4+2,IF('XML a procesar'!A3532=\"\",P3532,IF(MID('XML a procesar'!A3532,1,1)=\"<\",P3532,P3532+1)),P3532)","v":1}]
[{"$f":"IF('XML a procesar'!A3533>0,'XML a procesar'!A3533,\"\")","v":""},0,0,0,0,"",0,0,0,"","",0,"",0,"",{"$f":"IF(ROW()<$S$4+2,IF('XML a procesar'!A3533=\"\",P3533,IF(MID('XML a procesar'!A3533,1,1)=\"<\",P3533,P3533+1)),P3533)","v":1}]
[{"$f":"IF('XML a procesar'!A3534>0,'XML a procesar'!A3534,\"\")","v":""},0,0,0,0,"",0,0,0,"","",0,"",0,"",{"$f":"IF(ROW()<$S$4+2,IF('XML a procesar'!A3534=\"\",P3534,IF(MID('XML a procesar'!A3534,1,1)=\"<\",P3534,P3534+1)),P3534)","v":1}]
[{"$f":"IF('XML a procesar'!A3535>0,'XML a procesar'!A3535,\"\")","v":""},0,0,0,0,"",0,0,0,"","",0,"",0,"",{"$f":"IF(ROW()<$S$4+2,IF('XML a procesar'!A3535=\"\",P3535,IF(MID('XML a procesar'!A3535,1,1)=\"<\",P3535,P3535+1)),P3535)","v":1}]
[{"$f":"IF('XML a procesar'!A3536>0,'XML a procesar'!A3536,\"\")","v":""},0,0,0,0,"",0,0,0,"","",0,"",0,"",{"$f":"IF(ROW()<$S$4+2,IF('XML a procesar'!A3536=\"\",P3536,IF(MID('XML a procesar'!A3536,1,1)=\"<\",P3536,P3536+1)),P3536)","v":1}]
[{"$f":"IF('XML a procesar'!A3537>0,'XML a procesar'!A3537,\"\")","v":""},0,0,0,0,"",0,0,0,"","",0,"",0,"",{"$f":"IF(ROW()<$S$4+2,IF('XML a procesar'!A3537=\"\",P3537,IF(MID('XML a procesar'!A3537,1,1)=\"<\",P3537,P3537+1)),P3537)","v":1}]
[{"$f":"IF('XML a procesar'!A3538>0,'XML a procesar'!A3538,\"\")","v":""},0,0,0,0,"",0,0,0,"","",0,"",0,"",{"$f":"IF(ROW()<$S$4+2,IF('XML a procesar'!A3538=\"\",P3538,IF(MID('XML a procesar'!A3538,1,1)=\"<\",P3538,P3538+1)),P3538)","v":1}]
[{"$f":"IF('XML a procesar'!A3539>0,'XML a procesar'!A3539,\"\")","v":""},0,0,0,0,"",0,0,0,"","",0,"",0,"",{"$f":"IF(ROW()<$S$4+2,IF('XML a procesar'!A3539=\"\",P3539,IF(MID('XML a procesar'!A3539,1,1)=\"<\",P3539,P3539+1)),P3539)","v":1}]
[{"$f":"IF('XML a procesar'!A3540>0,'XML a procesar'!A3540,\"\")","v":""},0,0,0,0,"",0,0,0,"","",0,"",0,"",{"$f":"IF(ROW()<$S$4+2,IF('XML a procesar'!A3540=\"\",P3540,IF(MID('XML a procesar'!A3540,1,1)=\"<\",P3540,P3540+1)),P3540)","v":1}]
[{"$f":"IF('XML a procesar'!A3541>0,'XML a procesar'!A3541,\"\")","v":""},0,0,0,0,"",0,0,0,"","",0,"",0,"",{"$f":"IF(ROW()<$S$4+2,IF('XML a procesar'!A3541=\"\",P3541,IF(MID('XML a procesar'!A3541,1,1)=\"<\",P3541,P3541+1)),P3541)","v":1}]
[{"$f":"IF('XML a procesar'!A3542>0,'XML a procesar'!A3542,\"\")","v":""},0,0,0,0,"",0,0,0,"","",0,"",0,"",{"$f":"IF(ROW()<$S$4+2,IF('XML a procesar'!A3542=\"\",P3542,IF(MID('XML a procesar'!A3542,1,1)=\"<\",P3542,P3542+1)),P3542)","v":1}]
[{"$f":"IF('XML a procesar'!A3543>0,'XML a procesar'!A3543,\"\")","v":""},0,0,0,0,"",0,0,0,"","",0,"",0,"",{"$f":"IF(ROW()<$S$4+2,IF('XML a procesar'!A3543=\"\",P3543,IF(MID('XML a procesar'!A3543,1,1)=\"<\",P3543,P3543+1)),P3543)","v":1}]
[{"$f":"IF('XML a procesar'!A3544>0,'XML a procesar'!A3544,\"\")","v":""},0,0,0,0,"",0,0,0,"","",0,"",0,"",{"$f":"IF(ROW()<$S$4+2,IF('XML a procesar'!A3544=\"\",P3544,IF(MID('XML a procesar'!A3544,1,1)=\"<\",P3544,P3544+1)),P3544)","v":1}]
[{"$f":"IF('XML a procesar'!A3545>0,'XML a procesar'!A3545,\"\")","v":""},0,0,0,0,"",0,0,0,"","",0,"",0,"",{"$f":"IF(ROW()<$S$4+2,IF('XML a procesar'!A3545=\"\",P3545,IF(MID('XML a procesar'!A3545,1,1)=\"<\",P3545,P3545+1)),P3545)","v":1}]
[{"$f":"IF('XML a procesar'!A3546>0,'XML a procesar'!A3546,\"\")","v":""},0,0,0,0,"",0,0,0,"","",0,"",0,"",{"$f":"IF(ROW()<$S$4+2,IF('XML a procesar'!A3546=\"\",P3546,IF(MID('XML a procesar'!A3546,1,1)=\"<\",P3546,P3546+1)),P3546)","v":1}]
[{"$f":"IF('XML a procesar'!A3547>0,'XML a procesar'!A3547,\"\")","v":""},0,0,0,0,"",0,0,0,"","",0,"",0,"",{"$f":"IF(ROW()<$S$4+2,IF('XML a procesar'!A3547=\"\",P3547,IF(MID('XML a procesar'!A3547,1,1)=\"<\",P3547,P3547+1)),P3547)","v":1}]
[{"$f":"IF('XML a procesar'!A3548>0,'XML a procesar'!A3548,\"\")","v":""},0,0,0,0,"",0,0,0,"","",0,"",0,"",{"$f":"IF(ROW()<$S$4+2,IF('XML a procesar'!A3548=\"\",P3548,IF(MID('XML a procesar'!A3548,1,1)=\"<\",P3548,P3548+1)),P3548)","v":1}]
[{"$f":"IF('XML a procesar'!A3549>0,'XML a procesar'!A3549,\"\")","v":""},0,0,0,0,"",0,0,0,"","",0,"",0,"",{"$f":"IF(ROW()<$S$4+2,IF('XML a procesar'!A3549=\"\",P3549,IF(MID('XML a procesar'!A3549,1,1)=\"<\",P3549,P3549+1)),P3549)","v":1}]
[{"$f":"IF('XML a procesar'!A3550>0,'XML a procesar'!A3550,\"\")","v":""},0,0,0,0,"",0,0,0,"","",0,"",0,"",{"$f":"IF(ROW()<$S$4+2,IF('XML a procesar'!A3550=\"\",P3550,IF(MID('XML a procesar'!A3550,1,1)=\"<\",P3550,P3550+1)),P3550)","v":1}]
[{"$f":"IF('XML a procesar'!A3551>0,'XML a procesar'!A3551,\"\")","v":""},0,0,0,0,"",0,0,0,"","",0,"",0,"",{"$f":"IF(ROW()<$S$4+2,IF('XML a procesar'!A3551=\"\",P3551,IF(MID('XML a procesar'!A3551,1,1)=\"<\",P3551,P3551+1)),P3551)","v":1}]
[{"$f":"IF('XML a procesar'!A3552>0,'XML a procesar'!A3552,\"\")","v":""},0,0,0,0,"",0,0,0,"","",0,"",0,"",{"$f":"IF(ROW()<$S$4+2,IF('XML a procesar'!A3552=\"\",P3552,IF(MID('XML a procesar'!A3552,1,1)=\"<\",P3552,P3552+1)),P3552)","v":1}]
[{"$f":"IF('XML a procesar'!A3553>0,'XML a procesar'!A3553,\"\")","v":""},0,0,0,0,"",0,0,0,"","",0,"",0,"",{"$f":"IF(ROW()<$S$4+2,IF('XML a procesar'!A3553=\"\",P3553,IF(MID('XML a procesar'!A3553,1,1)=\"<\",P3553,P3553+1)),P3553)","v":1}]
[{"$f":"IF('XML a procesar'!A3554>0,'XML a procesar'!A3554,\"\")","v":""},0,0,0,0,"",0,0,0,"","",0,"",0,"",{"$f":"IF(ROW()<$S$4+2,IF('XML a procesar'!A3554=\"\",P3554,IF(MID('XML a procesar'!A3554,1,1)=\"<\",P3554,P3554+1)),P3554)","v":1}]
[{"$f":"IF('XML a procesar'!A3555>0,'XML a procesar'!A3555,\"\")","v":""},0,0,0,0,"",0,0,0,"","",0,"",0,"",{"$f":"IF(ROW()<$S$4+2,IF('XML a procesar'!A3555=\"\",P3555,IF(MID('XML a procesar'!A3555,1,1)=\"<\",P3555,P3555+1)),P3555)","v":1}]
[{"$f":"IF('XML a procesar'!A3556>0,'XML a procesar'!A3556,\"\")","v":""},0,0,0,0,"",0,0,0,"","",0,"",0,"",{"$f":"IF(ROW()<$S$4+2,IF('XML a procesar'!A3556=\"\",P3556,IF(MID('XML a procesar'!A3556,1,1)=\"<\",P3556,P3556+1)),P3556)","v":1}]
[{"$f":"IF('XML a procesar'!A3557>0,'XML a procesar'!A3557,\"\")","v":""},0,0,0,0,"",0,0,0,"","",0,"",0,"",{"$f":"IF(ROW()<$S$4+2,IF('XML a procesar'!A3557=\"\",P3557,IF(MID('XML a procesar'!A3557,1,1)=\"<\",P3557,P3557+1)),P3557)","v":1}]
[{"$f":"IF('XML a procesar'!A3558>0,'XML a procesar'!A3558,\"\")","v":""},0,0,0,0,"",0,0,0,"","",0,"",0,"",{"$f":"IF(ROW()<$S$4+2,IF('XML a procesar'!A3558=\"\",P3558,IF(MID('XML a procesar'!A3558,1,1)=\"<\",P3558,P3558+1)),P3558)","v":1}]
[{"$f":"IF('XML a procesar'!A3559>0,'XML a procesar'!A3559,\"\")","v":""},0,0,0,0,"",0,0,0,"","",0,"",0,"",{"$f":"IF(ROW()<$S$4+2,IF('XML a procesar'!A3559=\"\",P3559,IF(MID('XML a procesar'!A3559,1,1)=\"<\",P3559,P3559+1)),P3559)","v":1}]
[{"$f":"IF('XML a procesar'!A3560>0,'XML a procesar'!A3560,\"\")","v":""},0,0,0,0,"",0,0,0,"","",0,"",0,"",{"$f":"IF(ROW()<$S$4+2,IF('XML a procesar'!A3560=\"\",P3560,IF(MID('XML a procesar'!A3560,1,1)=\"<\",P3560,P3560+1)),P3560)","v":1}]
[{"$f":"IF('XML a procesar'!A3561>0,'XML a procesar'!A3561,\"\")","v":""},0,0,0,0,"",0,0,0,"","",0,"",0,"",{"$f":"IF(ROW()<$S$4+2,IF('XML a procesar'!A3561=\"\",P3561,IF(MID('XML a procesar'!A3561,1,1)=\"<\",P3561,P3561+1)),P3561)","v":1}]
[{"$f":"IF('XML a procesar'!A3562>0,'XML a procesar'!A3562,\"\")","v":""},0,0,0,0,"",0,0,0,"","",0,"",0,"",{"$f":"IF(ROW()<$S$4+2,IF('XML a procesar'!A3562=\"\",P3562,IF(MID('XML a procesar'!A3562,1,1)=\"<\",P3562,P3562+1)),P3562)","v":1}]
[{"$f":"IF('XML a procesar'!A3563>0,'XML a procesar'!A3563,\"\")","v":""},0,0,0,0,"",0,0,0,"","",0,"",0,"",{"$f":"IF(ROW()<$S$4+2,IF('XML a procesar'!A3563=\"\",P3563,IF(MID('XML a procesar'!A3563,1,1)=\"<\",P3563,P3563+1)),P3563)","v":1}]
[{"$f":"IF('XML a procesar'!A3564>0,'XML a procesar'!A3564,\"\")","v":""},0,0,0,0,"",0,0,0,"","",0,"",0,"",{"$f":"IF(ROW()<$S$4+2,IF('XML a procesar'!A3564=\"\",P3564,IF(MID('XML a procesar'!A3564,1,1)=\"<\",P3564,P3564+1)),P3564)","v":1}]
[{"$f":"IF('XML a procesar'!A3565>0,'XML a procesar'!A3565,\"\")","v":""},0,0,0,0,"",0,0,0,"","",0,"",0,"",{"$f":"IF(ROW()<$S$4+2,IF('XML a procesar'!A3565=\"\",P3565,IF(MID('XML a procesar'!A3565,1,1)=\"<\",P3565,P3565+1)),P3565)","v":1}]
[{"$f":"IF('XML a procesar'!A3566>0,'XML a procesar'!A3566,\"\")","v":""},0,0,0,0,"",0,0,0,"","",0,"",0,"",{"$f":"IF(ROW()<$S$4+2,IF('XML a procesar'!A3566=\"\",P3566,IF(MID('XML a procesar'!A3566,1,1)=\"<\",P3566,P3566+1)),P3566)","v":1}]
[{"$f":"IF('XML a procesar'!A3567>0,'XML a procesar'!A3567,\"\")","v":""},0,0,0,0,"",0,0,0,"","",0,"",0,"",{"$f":"IF(ROW()<$S$4+2,IF('XML a procesar'!A3567=\"\",P3567,IF(MID('XML a procesar'!A3567,1,1)=\"<\",P3567,P3567+1)),P3567)","v":1}]
[{"$f":"IF('XML a procesar'!A3568>0,'XML a procesar'!A3568,\"\")","v":""},0,0,0,0,"",0,0,0,"","",0,"",0,"",{"$f":"IF(ROW()<$S$4+2,IF('XML a procesar'!A3568=\"\",P3568,IF(MID('XML a procesar'!A3568,1,1)=\"<\",P3568,P3568+1)),P3568)","v":1}]
[{"$f":"IF('XML a procesar'!A3569>0,'XML a procesar'!A3569,\"\")","v":""},0,0,0,0,"",0,0,0,"","",0,"",0,"",{"$f":"IF(ROW()<$S$4+2,IF('XML a procesar'!A3569=\"\",P3569,IF(MID('XML a procesar'!A3569,1,1)=\"<\",P3569,P3569+1)),P3569)","v":1}]
[{"$f":"IF('XML a procesar'!A3570>0,'XML a procesar'!A3570,\"\")","v":""},0,0,0,0,"",0,0,0,"","",0,"",0,"",{"$f":"IF(ROW()<$S$4+2,IF('XML a procesar'!A3570=\"\",P3570,IF(MID('XML a procesar'!A3570,1,1)=\"<\",P3570,P3570+1)),P3570)","v":1}]
[{"$f":"IF('XML a procesar'!A3571>0,'XML a procesar'!A3571,\"\")","v":""},0,0,0,0,"",0,0,0,"","",0,"",0,"",{"$f":"IF(ROW()<$S$4+2,IF('XML a procesar'!A3571=\"\",P3571,IF(MID('XML a procesar'!A3571,1,1)=\"<\",P3571,P3571+1)),P3571)","v":1}]
[{"$f":"IF('XML a procesar'!A3572>0,'XML a procesar'!A3572,\"\")","v":""},0,0,0,0,"",0,0,0,"","",0,"",0,"",{"$f":"IF(ROW()<$S$4+2,IF('XML a procesar'!A3572=\"\",P3572,IF(MID('XML a procesar'!A3572,1,1)=\"<\",P3572,P3572+1)),P3572)","v":1}]
[{"$f":"IF('XML a procesar'!A3573>0,'XML a procesar'!A3573,\"\")","v":""},0,0,0,0,"",0,0,0,"","",0,"",0,"",{"$f":"IF(ROW()<$S$4+2,IF('XML a procesar'!A3573=\"\",P3573,IF(MID('XML a procesar'!A3573,1,1)=\"<\",P3573,P3573+1)),P3573)","v":1}]
[{"$f":"IF('XML a procesar'!A3574>0,'XML a procesar'!A3574,\"\")","v":""},0,0,0,0,"",0,0,0,"","",0,"",0,"",{"$f":"IF(ROW()<$S$4+2,IF('XML a procesar'!A3574=\"\",P3574,IF(MID('XML a procesar'!A3574,1,1)=\"<\",P3574,P3574+1)),P3574)","v":1}]
[{"$f":"IF('XML a procesar'!A3575>0,'XML a procesar'!A3575,\"\")","v":""},0,0,0,0,"",0,0,0,"","",0,"",0,"",{"$f":"IF(ROW()<$S$4+2,IF('XML a procesar'!A3575=\"\",P3575,IF(MID('XML a procesar'!A3575,1,1)=\"<\",P3575,P3575+1)),P3575)","v":1}]
[{"$f":"IF('XML a procesar'!A3576>0,'XML a procesar'!A3576,\"\")","v":""},0,0,0,0,"",0,0,0,"","",0,"",0,"",{"$f":"IF(ROW()<$S$4+2,IF('XML a procesar'!A3576=\"\",P3576,IF(MID('XML a procesar'!A3576,1,1)=\"<\",P3576,P3576+1)),P3576)","v":1}]
[{"$f":"IF('XML a procesar'!A3577>0,'XML a procesar'!A3577,\"\")","v":""},0,0,0,0,"",0,0,0,"","",0,"",0,"",{"$f":"IF(ROW()<$S$4+2,IF('XML a procesar'!A3577=\"\",P3577,IF(MID('XML a procesar'!A3577,1,1)=\"<\",P3577,P3577+1)),P3577)","v":1}]
[{"$f":"IF('XML a procesar'!A3578>0,'XML a procesar'!A3578,\"\")","v":""},0,0,0,0,"",0,0,0,"","",0,"",0,"",{"$f":"IF(ROW()<$S$4+2,IF('XML a procesar'!A3578=\"\",P3578,IF(MID('XML a procesar'!A3578,1,1)=\"<\",P3578,P3578+1)),P3578)","v":1}]
[{"$f":"IF('XML a procesar'!A3579>0,'XML a procesar'!A3579,\"\")","v":""},0,0,0,0,"",0,0,0,"","",0,"",0,"",{"$f":"IF(ROW()<$S$4+2,IF('XML a procesar'!A3579=\"\",P3579,IF(MID('XML a procesar'!A3579,1,1)=\"<\",P3579,P3579+1)),P3579)","v":1}]
[{"$f":"IF('XML a procesar'!A3580>0,'XML a procesar'!A3580,\"\")","v":""},0,0,0,0,"",0,0,0,"","",0,"",0,"",{"$f":"IF(ROW()<$S$4+2,IF('XML a procesar'!A3580=\"\",P3580,IF(MID('XML a procesar'!A3580,1,1)=\"<\",P3580,P3580+1)),P3580)","v":1}]
[{"$f":"IF('XML a procesar'!A3581>0,'XML a procesar'!A3581,\"\")","v":""},0,0,0,0,"",0,0,0,"","",0,"",0,"",{"$f":"IF(ROW()<$S$4+2,IF('XML a procesar'!A3581=\"\",P3581,IF(MID('XML a procesar'!A3581,1,1)=\"<\",P3581,P3581+1)),P3581)","v":1}]
[{"$f":"IF('XML a procesar'!A3582>0,'XML a procesar'!A3582,\"\")","v":""},0,0,0,0,"",0,0,0,"","",0,"",0,"",{"$f":"IF(ROW()<$S$4+2,IF('XML a procesar'!A3582=\"\",P3582,IF(MID('XML a procesar'!A3582,1,1)=\"<\",P3582,P3582+1)),P3582)","v":1}]
[{"$f":"IF('XML a procesar'!A3583>0,'XML a procesar'!A3583,\"\")","v":""},0,0,0,0,"",0,0,0,"","",0,"",0,"",{"$f":"IF(ROW()<$S$4+2,IF('XML a procesar'!A3583=\"\",P3583,IF(MID('XML a procesar'!A3583,1,1)=\"<\",P3583,P3583+1)),P3583)","v":1}]
[{"$f":"IF('XML a procesar'!A3584>0,'XML a procesar'!A3584,\"\")","v":""},{"$f":"IF(ISERROR(FIND(\"/doi.org/\",A3585,1)),0,1)","v":0},{"$f":"IF(LEFT(A3584,16)=\"<contrib contrib\",C3584+1,IF(LEFT(A3584,16)=\"</contrib-group>\",0,IF(LEFT(A3584,10)=\"</contrib>\",C3584,C3584)))","v":0},{"$f":"IF(AND(C3585>0,LEFT(A3585,7)=\"<email>\",ISNUMBER(SEARCH(\"@\",A3585,1))),C3585,IF(LEFT(A3585,10)=\"<alt-text>\",-1,0))","v":0},{"$f":"IF(D3585=0,E3584,E3584+1)","v":0},{"$f":"INDIRECT(ADDRESS(ROW()+INDIRECT(ADDRESS(ROW()+E3585,5)),1))","v":""},{"$f":"IF(LEFT(F3585,7)=\"<aff id\",_xlfn.NUMBERVALUE(MID(F3585,13,LEN(F3585)-14)),IF(F3585=\"</aff>\",G3584+1,G3584))","v":0},0,{"$f":"INDIRECT(ADDRESS(ROW()-INDIRECT(ADDRESS(ROW()-H3585,8)),8))","v":0},{"$f":"IF(J3584=\"Linea_para_MAIL_creada_por_LuXML\",\"</aff>\",IF(I3585>INDIRECT(ADDRESS(ROW()-I3585-1,8)),\"Linea_para_MAIL_creada_por_LuXML\",INDIRECT(ADDRESS(ROW()-I3585,6))))","v":""},"",{"$f":"IF(OR(MID(K3583,3,5)=\"page>\",MID(K3584,3,5)=\"page>\"),L3584,IF(OR(K3584=\"<history>\",K3585=\"<history>\"),L3584+1,L3584))","v":0},{"$f":"IF(L3585>L3584,IF(L3585=1,CONCATENATE(\"<fpage>\",$S$10,\"</fpage>\"),CONCATENATE(\"<lpage>\",$S$10+1,\"</lpage>\")),IF(ISERROR(INDIRECT(ADDRESS(ROW()-L3585,11),1)),\"\",INDIRECT(ADDRESS(ROW()-L3585,11),1)))","v":""},{"$f":"IF(N3584=-1,-1,IF(M3585=\"</counts>\",-1,IF(OR(LEFT(M3585,7)=\"<fpage>\",LEFT(M3585,7)=\"<lpage>\"),VALUE(MID(M3585,8,LEN(M3585)-15)),0)))","v":0},"",{"$f":"IF(ROW()<$S$4+2,IF('XML a procesar'!A3584=\"\",P3584,IF(MID('XML a procesar'!A3584,1,1)=\"<\",P3584,P3584+1)),P3584)","v":1}]
[{"$f":"IF('XML a procesar'!A3585>0,'XML a procesar'!A3585,\"\")","v":""},0,0,0,0,"",0,0,0,"","",0,"",0,{"$f":"IF(N3586>-1,INDIRECT(ADDRESS(ROW(),13)),IF(N3586<N3585,CONCATENATE(\"<page-count count=\",CHAR(34),1+LARGE(N:N,1)-LARGE(N:N,2),CHAR(34),\"/>\"),INDIRECT(ADDRESS(ROW()-1,13))))","v":""},{"$f":"IF(ROW()<$S$4+2,IF('XML a procesar'!A3585=\"\",P3585,IF(MID('XML a procesar'!A3585,1,1)=\"<\",P3585,P3585+1)),P3585)","v":1}]
[{"$f":"IF('XML a procesar'!A3586>0,'XML a procesar'!A3586,\"\")","v":""},0,0,0,0,"",0,{"$f":"IF(AND(G3586>0,G3587>G3586,NOT(ISERROR(MATCH(G3586,D:D,0)))),H3586+1,H3586)","v":0},0,"",{"$f":"IF(J3587=\"Linea_para_MAIL_creada_por_LuXML\",IF(ISERROR(MATCH(INDIRECT(ADDRESS(ROW()-G3587,7)),D:D,0)),J3587,INDIRECT(ADDRESS(MATCH(INDIRECT(ADDRESS(ROW()-G3587,7)),D:D,0),1))),J3587)","v":""},0,"",0,"",{"$f":"IF(ROW()<$S$4+2,IF('XML a procesar'!A3586=\"\",P3586,IF(MID('XML a procesar'!A3586,1,1)=\"<\",P3586,P3586+1)),P3586)","v":1}]
[{"$f":"IF('XML a procesar'!A3587>0,'XML a procesar'!A3587,\"\")","v":""},0,0,0,0,"",0,0,0,"","",0,"",0,"",{"$f":"IF(ROW()<$S$4+2,IF('XML a procesar'!A3587=\"\",P3587,IF(MID('XML a procesar'!A3587,1,1)=\"<\",P3587,P3587+1)),P3587)","v":1}]
[{"$f":"IF('XML a procesar'!A3588>0,'XML a procesar'!A3588,\"\")","v":""},0,0,0,0,"",0,0,0,"","",0,"",0,"",{"$f":"IF(ROW()<$S$4+2,IF('XML a procesar'!A3588=\"\",P3588,IF(MID('XML a procesar'!A3588,1,1)=\"<\",P3588,P3588+1)),P3588)","v":1}]
[{"$f":"IF('XML a procesar'!A3589>0,'XML a procesar'!A3589,\"\")","v":""},0,0,0,0,"",0,0,0,"","",0,"",0,"",{"$f":"IF(ROW()<$S$4+2,IF('XML a procesar'!A3589=\"\",P3589,IF(MID('XML a procesar'!A3589,1,1)=\"<\",P3589,P3589+1)),P3589)","v":1}]
[{"$f":"IF('XML a procesar'!A3590>0,'XML a procesar'!A3590,\"\")","v":""},0,0,0,0,"",0,0,0,"","",0,"",0,"",{"$f":"IF(ROW()<$S$4+2,IF('XML a procesar'!A3590=\"\",P3590,IF(MID('XML a procesar'!A3590,1,1)=\"<\",P3590,P3590+1)),P3590)","v":1}]
[{"$f":"IF('XML a procesar'!A3591>0,'XML a procesar'!A3591,\"\")","v":""},0,0,0,0,"",0,0,0,"","",0,"",0,"",{"$f":"IF(ROW()<$S$4+2,IF('XML a procesar'!A3591=\"\",P3591,IF(MID('XML a procesar'!A3591,1,1)=\"<\",P3591,P3591+1)),P3591)","v":1}]
[{"$f":"IF('XML a procesar'!A3592>0,'XML a procesar'!A3592,\"\")","v":""},0,0,0,0,"",0,0,0,"","",0,"",0,"",{"$f":"IF(ROW()<$S$4+2,IF('XML a procesar'!A3592=\"\",P3592,IF(MID('XML a procesar'!A3592,1,1)=\"<\",P3592,P3592+1)),P3592)","v":1}]
[{"$f":"IF('XML a procesar'!A3593>0,'XML a procesar'!A3593,\"\")","v":""},0,0,0,0,"",0,0,0,"","",0,"",0,"",{"$f":"IF(ROW()<$S$4+2,IF('XML a procesar'!A3593=\"\",P3593,IF(MID('XML a procesar'!A3593,1,1)=\"<\",P3593,P3593+1)),P3593)","v":1}]
[{"$f":"IF('XML a procesar'!A3594>0,'XML a procesar'!A3594,\"\")","v":""},0,0,0,0,"",0,0,0,"","",0,"",0,"",{"$f":"IF(ROW()<$S$4+2,IF('XML a procesar'!A3594=\"\",P3594,IF(MID('XML a procesar'!A3594,1,1)=\"<\",P3594,P3594+1)),P3594)","v":1}]
[{"$f":"IF('XML a procesar'!A3595>0,'XML a procesar'!A3595,\"\")","v":""},0,0,0,0,"",0,0,0,"","",0,"",0,"",{"$f":"IF(ROW()<$S$4+2,IF('XML a procesar'!A3595=\"\",P3595,IF(MID('XML a procesar'!A3595,1,1)=\"<\",P3595,P3595+1)),P3595)","v":1}]
[{"$f":"IF('XML a procesar'!A3596>0,'XML a procesar'!A3596,\"\")","v":""},0,0,0,0,"",0,0,0,"","",0,"",0,"",{"$f":"IF(ROW()<$S$4+2,IF('XML a procesar'!A3596=\"\",P3596,IF(MID('XML a procesar'!A3596,1,1)=\"<\",P3596,P3596+1)),P3596)","v":1}]
[{"$f":"IF('XML a procesar'!A3597>0,'XML a procesar'!A3597,\"\")","v":""},0,0,0,0,"",0,0,0,"","",0,"",0,"",{"$f":"IF(ROW()<$S$4+2,IF('XML a procesar'!A3597=\"\",P3597,IF(MID('XML a procesar'!A3597,1,1)=\"<\",P3597,P3597+1)),P3597)","v":1}]
[{"$f":"IF('XML a procesar'!A3598>0,'XML a procesar'!A3598,\"\")","v":""},0,0,0,0,"",0,0,0,"","",0,"",0,"",{"$f":"IF(ROW()<$S$4+2,IF('XML a procesar'!A3598=\"\",P3598,IF(MID('XML a procesar'!A3598,1,1)=\"<\",P3598,P3598+1)),P3598)","v":1}]
[{"$f":"IF('XML a procesar'!A3599>0,'XML a procesar'!A3599,\"\")","v":""},0,0,0,0,"",0,0,0,"","",0,"",0,"",{"$f":"IF(ROW()<$S$4+2,IF('XML a procesar'!A3599=\"\",P3599,IF(MID('XML a procesar'!A3599,1,1)=\"<\",P3599,P3599+1)),P3599)","v":1}]
[{"$f":"IF('XML a procesar'!A3600>0,'XML a procesar'!A3600,\"\")","v":""},0,0,0,0,"",0,0,0,"","",0,"",0,"",{"$f":"IF(ROW()<$S$4+2,IF('XML a procesar'!A3600=\"\",P3600,IF(MID('XML a procesar'!A3600,1,1)=\"<\",P3600,P3600+1)),P3600)","v":1}]
[{"$f":"IF('XML a procesar'!A3601>0,'XML a procesar'!A3601,\"\")","v":""},0,0,0,0,"",0,0,0,"","",0,"",0,"",{"$f":"IF(ROW()<$S$4+2,IF('XML a procesar'!A3601=\"\",P3601,IF(MID('XML a procesar'!A3601,1,1)=\"<\",P3601,P3601+1)),P3601)","v":1}]
[{"$f":"IF('XML a procesar'!A3602>0,'XML a procesar'!A3602,\"\")","v":""},0,0,0,0,"",0,0,0,"","",0,"",0,"",{"$f":"IF(ROW()<$S$4+2,IF('XML a procesar'!A3602=\"\",P3602,IF(MID('XML a procesar'!A3602,1,1)=\"<\",P3602,P3602+1)),P3602)","v":1}]
[{"$f":"IF('XML a procesar'!A3603>0,'XML a procesar'!A3603,\"\")","v":""},0,0,0,0,"",0,0,0,"","",0,"",0,"",{"$f":"IF(ROW()<$S$4+2,IF('XML a procesar'!A3603=\"\",P3603,IF(MID('XML a procesar'!A3603,1,1)=\"<\",P3603,P3603+1)),P3603)","v":1}]
[{"$f":"IF('XML a procesar'!A3604>0,'XML a procesar'!A3604,\"\")","v":""},0,0,0,0,"",0,0,0,"","",0,"",0,"",{"$f":"IF(ROW()<$S$4+2,IF('XML a procesar'!A3604=\"\",P3604,IF(MID('XML a procesar'!A3604,1,1)=\"<\",P3604,P3604+1)),P3604)","v":1}]
[{"$f":"IF('XML a procesar'!A3605>0,'XML a procesar'!A3605,\"\")","v":""},0,0,0,0,"",0,0,0,"","",0,"",0,"",{"$f":"IF(ROW()<$S$4+2,IF('XML a procesar'!A3605=\"\",P3605,IF(MID('XML a procesar'!A3605,1,1)=\"<\",P3605,P3605+1)),P3605)","v":1}]
[{"$f":"IF('XML a procesar'!A3606>0,'XML a procesar'!A3606,\"\")","v":""},0,0,0,0,"",0,0,0,"","",0,"",0,"",{"$f":"IF(ROW()<$S$4+2,IF('XML a procesar'!A3606=\"\",P3606,IF(MID('XML a procesar'!A3606,1,1)=\"<\",P3606,P3606+1)),P3606)","v":1}]
[{"$f":"IF('XML a procesar'!A3607>0,'XML a procesar'!A3607,\"\")","v":""},0,0,0,0,"",0,0,0,"","",0,"",0,"",{"$f":"IF(ROW()<$S$4+2,IF('XML a procesar'!A3607=\"\",P3607,IF(MID('XML a procesar'!A3607,1,1)=\"<\",P3607,P3607+1)),P3607)","v":1}]
[{"$f":"IF('XML a procesar'!A3608>0,'XML a procesar'!A3608,\"\")","v":""},0,0,0,0,"",0,0,0,"","",0,"",0,"",{"$f":"IF(ROW()<$S$4+2,IF('XML a procesar'!A3608=\"\",P3608,IF(MID('XML a procesar'!A3608,1,1)=\"<\",P3608,P3608+1)),P3608)","v":1}]
[{"$f":"IF('XML a procesar'!A3609>0,'XML a procesar'!A3609,\"\")","v":""},0,0,0,0,"",0,0,0,"","",0,"",0,"",{"$f":"IF(ROW()<$S$4+2,IF('XML a procesar'!A3609=\"\",P3609,IF(MID('XML a procesar'!A3609,1,1)=\"<\",P3609,P3609+1)),P3609)","v":1}]
[{"$f":"IF('XML a procesar'!A3610>0,'XML a procesar'!A3610,\"\")","v":""},0,0,0,0,"",0,0,0,"","",0,"",0,"",{"$f":"IF(ROW()<$S$4+2,IF('XML a procesar'!A3610=\"\",P3610,IF(MID('XML a procesar'!A3610,1,1)=\"<\",P3610,P3610+1)),P3610)","v":1}]
[{"$f":"IF('XML a procesar'!A3611>0,'XML a procesar'!A3611,\"\")","v":""},0,0,0,0,"",0,0,0,"","",0,"",0,"",{"$f":"IF(ROW()<$S$4+2,IF('XML a procesar'!A3611=\"\",P3611,IF(MID('XML a procesar'!A3611,1,1)=\"<\",P3611,P3611+1)),P3611)","v":1}]
[{"$f":"IF('XML a procesar'!A3612>0,'XML a procesar'!A3612,\"\")","v":""},0,0,0,0,"",0,0,0,"","",0,"",0,"",{"$f":"IF(ROW()<$S$4+2,IF('XML a procesar'!A3612=\"\",P3612,IF(MID('XML a procesar'!A3612,1,1)=\"<\",P3612,P3612+1)),P3612)","v":1}]
[{"$f":"IF('XML a procesar'!A3613>0,'XML a procesar'!A3613,\"\")","v":""},0,0,0,0,"",0,0,0,"","",0,"",0,"",{"$f":"IF(ROW()<$S$4+2,IF('XML a procesar'!A3613=\"\",P3613,IF(MID('XML a procesar'!A3613,1,1)=\"<\",P3613,P3613+1)),P3613)","v":1}]
[{"$f":"IF('XML a procesar'!A3614>0,'XML a procesar'!A3614,\"\")","v":""},0,0,0,0,"",0,0,0,"","",0,"",0,"",{"$f":"IF(ROW()<$S$4+2,IF('XML a procesar'!A3614=\"\",P3614,IF(MID('XML a procesar'!A3614,1,1)=\"<\",P3614,P3614+1)),P3614)","v":1}]
[{"$f":"IF('XML a procesar'!A3615>0,'XML a procesar'!A3615,\"\")","v":""},0,0,0,0,"",0,0,0,"","",0,"",0,"",{"$f":"IF(ROW()<$S$4+2,IF('XML a procesar'!A3615=\"\",P3615,IF(MID('XML a procesar'!A3615,1,1)=\"<\",P3615,P3615+1)),P3615)","v":1}]
[{"$f":"IF('XML a procesar'!A3616>0,'XML a procesar'!A3616,\"\")","v":""},0,0,0,0,"",0,0,0,"","",0,"",0,"",{"$f":"IF(ROW()<$S$4+2,IF('XML a procesar'!A3616=\"\",P3616,IF(MID('XML a procesar'!A3616,1,1)=\"<\",P3616,P3616+1)),P3616)","v":1}]
[{"$f":"IF('XML a procesar'!A3617>0,'XML a procesar'!A3617,\"\")","v":""},0,0,0,0,"",0,0,0,"","",0,"",0,"",{"$f":"IF(ROW()<$S$4+2,IF('XML a procesar'!A3617=\"\",P3617,IF(MID('XML a procesar'!A3617,1,1)=\"<\",P3617,P3617+1)),P3617)","v":1}]
[{"$f":"IF('XML a procesar'!A3618>0,'XML a procesar'!A3618,\"\")","v":""},0,0,0,0,"",0,0,0,"","",0,"",0,"",{"$f":"IF(ROW()<$S$4+2,IF('XML a procesar'!A3618=\"\",P3618,IF(MID('XML a procesar'!A3618,1,1)=\"<\",P3618,P3618+1)),P3618)","v":1}]
[{"$f":"IF('XML a procesar'!A3619>0,'XML a procesar'!A3619,\"\")","v":""},0,0,0,0,"",0,0,0,"","",0,"",0,"",{"$f":"IF(ROW()<$S$4+2,IF('XML a procesar'!A3619=\"\",P3619,IF(MID('XML a procesar'!A3619,1,1)=\"<\",P3619,P3619+1)),P3619)","v":1}]
[{"$f":"IF('XML a procesar'!A3620>0,'XML a procesar'!A3620,\"\")","v":""},0,0,0,0,"",0,0,0,"","",0,"",0,"",{"$f":"IF(ROW()<$S$4+2,IF('XML a procesar'!A3620=\"\",P3620,IF(MID('XML a procesar'!A3620,1,1)=\"<\",P3620,P3620+1)),P3620)","v":1}]
[{"$f":"IF('XML a procesar'!A3621>0,'XML a procesar'!A3621,\"\")","v":""},0,0,0,0,"",0,0,0,"","",0,"",0,"",{"$f":"IF(ROW()<$S$4+2,IF('XML a procesar'!A3621=\"\",P3621,IF(MID('XML a procesar'!A3621,1,1)=\"<\",P3621,P3621+1)),P3621)","v":1}]
[{"$f":"IF('XML a procesar'!A3622>0,'XML a procesar'!A3622,\"\")","v":""},0,0,0,0,"",0,0,0,"","",0,"",0,"",{"$f":"IF(ROW()<$S$4+2,IF('XML a procesar'!A3622=\"\",P3622,IF(MID('XML a procesar'!A3622,1,1)=\"<\",P3622,P3622+1)),P3622)","v":1}]
[{"$f":"IF('XML a procesar'!A3623>0,'XML a procesar'!A3623,\"\")","v":""},0,0,0,0,"",0,0,0,"","",0,"",0,"",{"$f":"IF(ROW()<$S$4+2,IF('XML a procesar'!A3623=\"\",P3623,IF(MID('XML a procesar'!A3623,1,1)=\"<\",P3623,P3623+1)),P3623)","v":1}]
[{"$f":"IF('XML a procesar'!A3624>0,'XML a procesar'!A3624,\"\")","v":""},0,0,0,0,"",0,0,0,"","",0,"",0,"",{"$f":"IF(ROW()<$S$4+2,IF('XML a procesar'!A3624=\"\",P3624,IF(MID('XML a procesar'!A3624,1,1)=\"<\",P3624,P3624+1)),P3624)","v":1}]
[{"$f":"IF('XML a procesar'!A3625>0,'XML a procesar'!A3625,\"\")","v":""},0,0,0,0,"",0,0,0,"","",0,"",0,"",{"$f":"IF(ROW()<$S$4+2,IF('XML a procesar'!A3625=\"\",P3625,IF(MID('XML a procesar'!A3625,1,1)=\"<\",P3625,P3625+1)),P3625)","v":1}]
[{"$f":"IF('XML a procesar'!A3626>0,'XML a procesar'!A3626,\"\")","v":""},0,0,0,0,"",0,0,0,"","",0,"",0,"",{"$f":"IF(ROW()<$S$4+2,IF('XML a procesar'!A3626=\"\",P3626,IF(MID('XML a procesar'!A3626,1,1)=\"<\",P3626,P3626+1)),P3626)","v":1}]
[{"$f":"IF('XML a procesar'!A3627>0,'XML a procesar'!A3627,\"\")","v":""},0,0,0,0,"",0,0,0,"","",0,"",0,"",{"$f":"IF(ROW()<$S$4+2,IF('XML a procesar'!A3627=\"\",P3627,IF(MID('XML a procesar'!A3627,1,1)=\"<\",P3627,P3627+1)),P3627)","v":1}]
[{"$f":"IF('XML a procesar'!A3628>0,'XML a procesar'!A3628,\"\")","v":""},0,0,0,0,"",0,0,0,"","",0,"",0,"",{"$f":"IF(ROW()<$S$4+2,IF('XML a procesar'!A3628=\"\",P3628,IF(MID('XML a procesar'!A3628,1,1)=\"<\",P3628,P3628+1)),P3628)","v":1}]
[{"$f":"IF('XML a procesar'!A3629>0,'XML a procesar'!A3629,\"\")","v":""},0,0,0,0,"",0,0,0,"","",0,"",0,"",{"$f":"IF(ROW()<$S$4+2,IF('XML a procesar'!A3629=\"\",P3629,IF(MID('XML a procesar'!A3629,1,1)=\"<\",P3629,P3629+1)),P3629)","v":1}]
[{"$f":"IF('XML a procesar'!A3630>0,'XML a procesar'!A3630,\"\")","v":""},0,0,0,0,"",0,0,0,"","",0,"",0,"",{"$f":"IF(ROW()<$S$4+2,IF('XML a procesar'!A3630=\"\",P3630,IF(MID('XML a procesar'!A3630,1,1)=\"<\",P3630,P3630+1)),P3630)","v":1}]
[{"$f":"IF('XML a procesar'!A3631>0,'XML a procesar'!A3631,\"\")","v":""},0,0,0,0,"",0,0,0,"","",0,"",0,"",{"$f":"IF(ROW()<$S$4+2,IF('XML a procesar'!A3631=\"\",P3631,IF(MID('XML a procesar'!A3631,1,1)=\"<\",P3631,P3631+1)),P3631)","v":1}]
[{"$f":"IF('XML a procesar'!A3632>0,'XML a procesar'!A3632,\"\")","v":""},0,0,0,0,"",0,0,0,"","",0,"",0,"",{"$f":"IF(ROW()<$S$4+2,IF('XML a procesar'!A3632=\"\",P3632,IF(MID('XML a procesar'!A3632,1,1)=\"<\",P3632,P3632+1)),P3632)","v":1}]
[{"$f":"IF('XML a procesar'!A3633>0,'XML a procesar'!A3633,\"\")","v":""},0,0,0,0,"",0,0,0,"","",0,"",0,"",{"$f":"IF(ROW()<$S$4+2,IF('XML a procesar'!A3633=\"\",P3633,IF(MID('XML a procesar'!A3633,1,1)=\"<\",P3633,P3633+1)),P3633)","v":1}]
[{"$f":"IF('XML a procesar'!A3634>0,'XML a procesar'!A3634,\"\")","v":""},0,0,0,0,"",0,0,0,"","",0,"",0,"",{"$f":"IF(ROW()<$S$4+2,IF('XML a procesar'!A3634=\"\",P3634,IF(MID('XML a procesar'!A3634,1,1)=\"<\",P3634,P3634+1)),P3634)","v":1}]
[{"$f":"IF('XML a procesar'!A3635>0,'XML a procesar'!A3635,\"\")","v":""},0,0,0,0,"",0,0,0,"","",0,"",0,"",{"$f":"IF(ROW()<$S$4+2,IF('XML a procesar'!A3635=\"\",P3635,IF(MID('XML a procesar'!A3635,1,1)=\"<\",P3635,P3635+1)),P3635)","v":1}]
[{"$f":"IF('XML a procesar'!A3636>0,'XML a procesar'!A3636,\"\")","v":""},0,0,0,0,"",0,0,0,"","",0,"",0,"",{"$f":"IF(ROW()<$S$4+2,IF('XML a procesar'!A3636=\"\",P3636,IF(MID('XML a procesar'!A3636,1,1)=\"<\",P3636,P3636+1)),P3636)","v":1}]
[{"$f":"IF('XML a procesar'!A3637>0,'XML a procesar'!A3637,\"\")","v":""},0,0,0,0,"",0,0,0,"","",0,"",0,"",{"$f":"IF(ROW()<$S$4+2,IF('XML a procesar'!A3637=\"\",P3637,IF(MID('XML a procesar'!A3637,1,1)=\"<\",P3637,P3637+1)),P3637)","v":1}]
[{"$f":"IF('XML a procesar'!A3638>0,'XML a procesar'!A3638,\"\")","v":""},0,0,0,0,"",0,0,0,"","",0,"",0,"",{"$f":"IF(ROW()<$S$4+2,IF('XML a procesar'!A3638=\"\",P3638,IF(MID('XML a procesar'!A3638,1,1)=\"<\",P3638,P3638+1)),P3638)","v":1}]
[{"$f":"IF('XML a procesar'!A3639>0,'XML a procesar'!A3639,\"\")","v":""},0,0,0,0,"",0,0,0,"","",0,"",0,"",{"$f":"IF(ROW()<$S$4+2,IF('XML a procesar'!A3639=\"\",P3639,IF(MID('XML a procesar'!A3639,1,1)=\"<\",P3639,P3639+1)),P3639)","v":1}]
[{"$f":"IF('XML a procesar'!A3640>0,'XML a procesar'!A3640,\"\")","v":""},0,0,0,0,"",0,0,0,"","",0,"",0,"",{"$f":"IF(ROW()<$S$4+2,IF('XML a procesar'!A3640=\"\",P3640,IF(MID('XML a procesar'!A3640,1,1)=\"<\",P3640,P3640+1)),P3640)","v":1}]
[{"$f":"IF('XML a procesar'!A3641>0,'XML a procesar'!A3641,\"\")","v":""},0,0,0,0,"",0,0,0,"","",0,"",0,"",{"$f":"IF(ROW()<$S$4+2,IF('XML a procesar'!A3641=\"\",P3641,IF(MID('XML a procesar'!A3641,1,1)=\"<\",P3641,P3641+1)),P3641)","v":1}]
[{"$f":"IF('XML a procesar'!A3642>0,'XML a procesar'!A3642,\"\")","v":""},0,0,0,0,"",0,0,0,"","",0,"",0,"",{"$f":"IF(ROW()<$S$4+2,IF('XML a procesar'!A3642=\"\",P3642,IF(MID('XML a procesar'!A3642,1,1)=\"<\",P3642,P3642+1)),P3642)","v":1}]
[{"$f":"IF('XML a procesar'!A3643>0,'XML a procesar'!A3643,\"\")","v":""},0,0,0,0,"",0,0,0,"","",0,"",0,"",{"$f":"IF(ROW()<$S$4+2,IF('XML a procesar'!A3643=\"\",P3643,IF(MID('XML a procesar'!A3643,1,1)=\"<\",P3643,P3643+1)),P3643)","v":1}]
[{"$f":"IF('XML a procesar'!A3644>0,'XML a procesar'!A3644,\"\")","v":""},0,0,0,0,"",0,0,0,"","",0,"",0,"",{"$f":"IF(ROW()<$S$4+2,IF('XML a procesar'!A3644=\"\",P3644,IF(MID('XML a procesar'!A3644,1,1)=\"<\",P3644,P3644+1)),P3644)","v":1}]
[{"$f":"IF('XML a procesar'!A3645>0,'XML a procesar'!A3645,\"\")","v":""},0,0,0,0,"",0,0,0,"","",0,"",0,"",{"$f":"IF(ROW()<$S$4+2,IF('XML a procesar'!A3645=\"\",P3645,IF(MID('XML a procesar'!A3645,1,1)=\"<\",P3645,P3645+1)),P3645)","v":1}]
[{"$f":"IF('XML a procesar'!A3646>0,'XML a procesar'!A3646,\"\")","v":""},0,0,0,0,"",0,0,0,"","",0,"",0,"",{"$f":"IF(ROW()<$S$4+2,IF('XML a procesar'!A3646=\"\",P3646,IF(MID('XML a procesar'!A3646,1,1)=\"<\",P3646,P3646+1)),P3646)","v":1}]
[{"$f":"IF('XML a procesar'!A3647>0,'XML a procesar'!A3647,\"\")","v":""},0,0,0,0,"",0,0,0,"","",0,"",0,"",{"$f":"IF(ROW()<$S$4+2,IF('XML a procesar'!A3647=\"\",P3647,IF(MID('XML a procesar'!A3647,1,1)=\"<\",P3647,P3647+1)),P3647)","v":1}]
[{"$f":"IF('XML a procesar'!A3648>0,'XML a procesar'!A3648,\"\")","v":""},{"$f":"IF(ISERROR(FIND(\"/doi.org/\",A3649,1)),0,1)","v":0},{"$f":"IF(LEFT(A3648,16)=\"<contrib contrib\",C3648+1,IF(LEFT(A3648,16)=\"</contrib-group>\",0,IF(LEFT(A3648,10)=\"</contrib>\",C3648,C3648)))","v":0},{"$f":"IF(AND(C3649>0,LEFT(A3649,7)=\"<email>\",ISNUMBER(SEARCH(\"@\",A3649,1))),C3649,IF(LEFT(A3649,10)=\"<alt-text>\",-1,0))","v":0},{"$f":"IF(D3649=0,E3648,E3648+1)","v":0},{"$f":"INDIRECT(ADDRESS(ROW()+INDIRECT(ADDRESS(ROW()+E3649,5)),1))","v":""},{"$f":"IF(LEFT(F3649,7)=\"<aff id\",_xlfn.NUMBERVALUE(MID(F3649,13,LEN(F3649)-14)),IF(F3649=\"</aff>\",G3648+1,G3648))","v":0},0,{"$f":"INDIRECT(ADDRESS(ROW()-INDIRECT(ADDRESS(ROW()-H3649,8)),8))","v":0},{"$f":"IF(J3648=\"Linea_para_MAIL_creada_por_LuXML\",\"</aff>\",IF(I3649>INDIRECT(ADDRESS(ROW()-I3649-1,8)),\"Linea_para_MAIL_creada_por_LuXML\",INDIRECT(ADDRESS(ROW()-I3649,6))))","v":""},"",{"$f":"IF(OR(MID(K3647,3,5)=\"page>\",MID(K3648,3,5)=\"page>\"),L3648,IF(OR(K3648=\"<history>\",K3649=\"<history>\"),L3648+1,L3648))","v":0},{"$f":"IF(L3649>L3648,IF(L3649=1,CONCATENATE(\"<fpage>\",$S$10,\"</fpage>\"),CONCATENATE(\"<lpage>\",$S$10+1,\"</lpage>\")),IF(ISERROR(INDIRECT(ADDRESS(ROW()-L3649,11),1)),\"\",INDIRECT(ADDRESS(ROW()-L3649,11),1)))","v":""},{"$f":"IF(N3648=-1,-1,IF(M3649=\"</counts>\",-1,IF(OR(LEFT(M3649,7)=\"<fpage>\",LEFT(M3649,7)=\"<lpage>\"),VALUE(MID(M3649,8,LEN(M3649)-15)),0)))","v":0},"",{"$f":"IF(ROW()<$S$4+2,IF('XML a procesar'!A3648=\"\",P3648,IF(MID('XML a procesar'!A3648,1,1)=\"<\",P3648,P3648+1)),P3648)","v":1}]
[{"$f":"IF('XML a procesar'!A3649>0,'XML a procesar'!A3649,\"\")","v":""},0,0,0,0,"",0,0,0,"","",0,"",0,{"$f":"IF(N3650>-1,INDIRECT(ADDRESS(ROW(),13)),IF(N3650<N3649,CONCATENATE(\"<page-count count=\",CHAR(34),1+LARGE(N:N,1)-LARGE(N:N,2),CHAR(34),\"/>\"),INDIRECT(ADDRESS(ROW()-1,13))))","v":""},{"$f":"IF(ROW()<$S$4+2,IF('XML a procesar'!A3649=\"\",P3649,IF(MID('XML a procesar'!A3649,1,1)=\"<\",P3649,P3649+1)),P3649)","v":1}]
[{"$f":"IF('XML a procesar'!A3650>0,'XML a procesar'!A3650,\"\")","v":""},0,0,0,0,"",0,{"$f":"IF(AND(G3650>0,G3651>G3650,NOT(ISERROR(MATCH(G3650,D:D,0)))),H3650+1,H3650)","v":0},0,"",{"$f":"IF(J3651=\"Linea_para_MAIL_creada_por_LuXML\",IF(ISERROR(MATCH(INDIRECT(ADDRESS(ROW()-G3651,7)),D:D,0)),J3651,INDIRECT(ADDRESS(MATCH(INDIRECT(ADDRESS(ROW()-G3651,7)),D:D,0),1))),J3651)","v":""},0,"",0,"",{"$f":"IF(ROW()<$S$4+2,IF('XML a procesar'!A3650=\"\",P3650,IF(MID('XML a procesar'!A3650,1,1)=\"<\",P3650,P3650+1)),P3650)","v":1}]
[{"$f":"IF('XML a procesar'!A3651>0,'XML a procesar'!A3651,\"\")","v":""},0,0,0,0,"",0,0,0,"","",0,"",0,"",{"$f":"IF(ROW()<$S$4+2,IF('XML a procesar'!A3651=\"\",P3651,IF(MID('XML a procesar'!A3651,1,1)=\"<\",P3651,P3651+1)),P3651)","v":1}]
[{"$f":"IF('XML a procesar'!A3652>0,'XML a procesar'!A3652,\"\")","v":""},0,0,0,0,"",0,0,0,"","",0,"",0,"",{"$f":"IF(ROW()<$S$4+2,IF('XML a procesar'!A3652=\"\",P3652,IF(MID('XML a procesar'!A3652,1,1)=\"<\",P3652,P3652+1)),P3652)","v":1}]
[{"$f":"IF('XML a procesar'!A3653>0,'XML a procesar'!A3653,\"\")","v":""},0,0,0,0,"",0,0,0,"","",0,"",0,"",{"$f":"IF(ROW()<$S$4+2,IF('XML a procesar'!A3653=\"\",P3653,IF(MID('XML a procesar'!A3653,1,1)=\"<\",P3653,P3653+1)),P3653)","v":1}]
[{"$f":"IF('XML a procesar'!A3654>0,'XML a procesar'!A3654,\"\")","v":""},0,0,0,0,"",0,0,0,"","",0,"",0,"",{"$f":"IF(ROW()<$S$4+2,IF('XML a procesar'!A3654=\"\",P3654,IF(MID('XML a procesar'!A3654,1,1)=\"<\",P3654,P3654+1)),P3654)","v":1}]
[{"$f":"IF('XML a procesar'!A3655>0,'XML a procesar'!A3655,\"\")","v":""},0,0,0,0,"",0,0,0,"","",0,"",0,"",{"$f":"IF(ROW()<$S$4+2,IF('XML a procesar'!A3655=\"\",P3655,IF(MID('XML a procesar'!A3655,1,1)=\"<\",P3655,P3655+1)),P3655)","v":1}]
[{"$f":"IF('XML a procesar'!A3656>0,'XML a procesar'!A3656,\"\")","v":""},0,0,0,0,"",0,0,0,"","",0,"",0,"",{"$f":"IF(ROW()<$S$4+2,IF('XML a procesar'!A3656=\"\",P3656,IF(MID('XML a procesar'!A3656,1,1)=\"<\",P3656,P3656+1)),P3656)","v":1}]
[{"$f":"IF('XML a procesar'!A3657>0,'XML a procesar'!A3657,\"\")","v":""},0,0,0,0,"",0,0,0,"","",0,"",0,"",{"$f":"IF(ROW()<$S$4+2,IF('XML a procesar'!A3657=\"\",P3657,IF(MID('XML a procesar'!A3657,1,1)=\"<\",P3657,P3657+1)),P3657)","v":1}]
[{"$f":"IF('XML a procesar'!A3658>0,'XML a procesar'!A3658,\"\")","v":""},0,0,0,0,"",0,0,0,"","",0,"",0,"",{"$f":"IF(ROW()<$S$4+2,IF('XML a procesar'!A3658=\"\",P3658,IF(MID('XML a procesar'!A3658,1,1)=\"<\",P3658,P3658+1)),P3658)","v":1}]
[{"$f":"IF('XML a procesar'!A3659>0,'XML a procesar'!A3659,\"\")","v":""},0,0,0,0,"",0,0,0,"","",0,"",0,"",{"$f":"IF(ROW()<$S$4+2,IF('XML a procesar'!A3659=\"\",P3659,IF(MID('XML a procesar'!A3659,1,1)=\"<\",P3659,P3659+1)),P3659)","v":1}]
[{"$f":"IF('XML a procesar'!A3660>0,'XML a procesar'!A3660,\"\")","v":""},0,0,0,0,"",0,0,0,"","",0,"",0,"",{"$f":"IF(ROW()<$S$4+2,IF('XML a procesar'!A3660=\"\",P3660,IF(MID('XML a procesar'!A3660,1,1)=\"<\",P3660,P3660+1)),P3660)","v":1}]
[{"$f":"IF('XML a procesar'!A3661>0,'XML a procesar'!A3661,\"\")","v":""},0,0,0,0,"",0,0,0,"","",0,"",0,"",{"$f":"IF(ROW()<$S$4+2,IF('XML a procesar'!A3661=\"\",P3661,IF(MID('XML a procesar'!A3661,1,1)=\"<\",P3661,P3661+1)),P3661)","v":1}]
[{"$f":"IF('XML a procesar'!A3662>0,'XML a procesar'!A3662,\"\")","v":""},0,0,0,0,"",0,0,0,"","",0,"",0,"",{"$f":"IF(ROW()<$S$4+2,IF('XML a procesar'!A3662=\"\",P3662,IF(MID('XML a procesar'!A3662,1,1)=\"<\",P3662,P3662+1)),P3662)","v":1}]
[{"$f":"IF('XML a procesar'!A3663>0,'XML a procesar'!A3663,\"\")","v":""},0,0,0,0,"",0,0,0,"","",0,"",0,"",{"$f":"IF(ROW()<$S$4+2,IF('XML a procesar'!A3663=\"\",P3663,IF(MID('XML a procesar'!A3663,1,1)=\"<\",P3663,P3663+1)),P3663)","v":1}]
[{"$f":"IF('XML a procesar'!A3664>0,'XML a procesar'!A3664,\"\")","v":""},0,0,0,0,"",0,0,0,"","",0,"",0,"",{"$f":"IF(ROW()<$S$4+2,IF('XML a procesar'!A3664=\"\",P3664,IF(MID('XML a procesar'!A3664,1,1)=\"<\",P3664,P3664+1)),P3664)","v":1}]
[{"$f":"IF('XML a procesar'!A3665>0,'XML a procesar'!A3665,\"\")","v":""},0,0,0,0,"",0,0,0,"","",0,"",0,"",{"$f":"IF(ROW()<$S$4+2,IF('XML a procesar'!A3665=\"\",P3665,IF(MID('XML a procesar'!A3665,1,1)=\"<\",P3665,P3665+1)),P3665)","v":1}]
[{"$f":"IF('XML a procesar'!A3666>0,'XML a procesar'!A3666,\"\")","v":""},0,0,0,0,"",0,0,0,"","",0,"",0,"",{"$f":"IF(ROW()<$S$4+2,IF('XML a procesar'!A3666=\"\",P3666,IF(MID('XML a procesar'!A3666,1,1)=\"<\",P3666,P3666+1)),P3666)","v":1}]
[{"$f":"IF('XML a procesar'!A3667>0,'XML a procesar'!A3667,\"\")","v":""},0,0,0,0,"",0,0,0,"","",0,"",0,"",{"$f":"IF(ROW()<$S$4+2,IF('XML a procesar'!A3667=\"\",P3667,IF(MID('XML a procesar'!A3667,1,1)=\"<\",P3667,P3667+1)),P3667)","v":1}]
[{"$f":"IF('XML a procesar'!A3668>0,'XML a procesar'!A3668,\"\")","v":""},0,0,0,0,"",0,0,0,"","",0,"",0,"",{"$f":"IF(ROW()<$S$4+2,IF('XML a procesar'!A3668=\"\",P3668,IF(MID('XML a procesar'!A3668,1,1)=\"<\",P3668,P3668+1)),P3668)","v":1}]
[{"$f":"IF('XML a procesar'!A3669>0,'XML a procesar'!A3669,\"\")","v":""},0,0,0,0,"",0,0,0,"","",0,"",0,"",{"$f":"IF(ROW()<$S$4+2,IF('XML a procesar'!A3669=\"\",P3669,IF(MID('XML a procesar'!A3669,1,1)=\"<\",P3669,P3669+1)),P3669)","v":1}]
[{"$f":"IF('XML a procesar'!A3670>0,'XML a procesar'!A3670,\"\")","v":""},0,0,0,0,"",0,0,0,"","",0,"",0,"",{"$f":"IF(ROW()<$S$4+2,IF('XML a procesar'!A3670=\"\",P3670,IF(MID('XML a procesar'!A3670,1,1)=\"<\",P3670,P3670+1)),P3670)","v":1}]
[{"$f":"IF('XML a procesar'!A3671>0,'XML a procesar'!A3671,\"\")","v":""},0,0,0,0,"",0,0,0,"","",0,"",0,"",{"$f":"IF(ROW()<$S$4+2,IF('XML a procesar'!A3671=\"\",P3671,IF(MID('XML a procesar'!A3671,1,1)=\"<\",P3671,P3671+1)),P3671)","v":1}]
[{"$f":"IF('XML a procesar'!A3672>0,'XML a procesar'!A3672,\"\")","v":""},0,0,0,0,"",0,0,0,"","",0,"",0,"",{"$f":"IF(ROW()<$S$4+2,IF('XML a procesar'!A3672=\"\",P3672,IF(MID('XML a procesar'!A3672,1,1)=\"<\",P3672,P3672+1)),P3672)","v":1}]
[{"$f":"IF('XML a procesar'!A3673>0,'XML a procesar'!A3673,\"\")","v":""},0,0,0,0,"",0,0,0,"","",0,"",0,"",{"$f":"IF(ROW()<$S$4+2,IF('XML a procesar'!A3673=\"\",P3673,IF(MID('XML a procesar'!A3673,1,1)=\"<\",P3673,P3673+1)),P3673)","v":1}]
[{"$f":"IF('XML a procesar'!A3674>0,'XML a procesar'!A3674,\"\")","v":""},0,0,0,0,"",0,0,0,"","",0,"",0,"",{"$f":"IF(ROW()<$S$4+2,IF('XML a procesar'!A3674=\"\",P3674,IF(MID('XML a procesar'!A3674,1,1)=\"<\",P3674,P3674+1)),P3674)","v":1}]
[{"$f":"IF('XML a procesar'!A3675>0,'XML a procesar'!A3675,\"\")","v":""},0,0,0,0,"",0,0,0,"","",0,"",0,"",{"$f":"IF(ROW()<$S$4+2,IF('XML a procesar'!A3675=\"\",P3675,IF(MID('XML a procesar'!A3675,1,1)=\"<\",P3675,P3675+1)),P3675)","v":1}]
[{"$f":"IF('XML a procesar'!A3676>0,'XML a procesar'!A3676,\"\")","v":""},0,0,0,0,"",0,0,0,"","",0,"",0,"",{"$f":"IF(ROW()<$S$4+2,IF('XML a procesar'!A3676=\"\",P3676,IF(MID('XML a procesar'!A3676,1,1)=\"<\",P3676,P3676+1)),P3676)","v":1}]
[{"$f":"IF('XML a procesar'!A3677>0,'XML a procesar'!A3677,\"\")","v":""},0,0,0,0,"",0,0,0,"","",0,"",0,"",{"$f":"IF(ROW()<$S$4+2,IF('XML a procesar'!A3677=\"\",P3677,IF(MID('XML a procesar'!A3677,1,1)=\"<\",P3677,P3677+1)),P3677)","v":1}]
[{"$f":"IF('XML a procesar'!A3678>0,'XML a procesar'!A3678,\"\")","v":""},0,0,0,0,"",0,0,0,"","",0,"",0,"",{"$f":"IF(ROW()<$S$4+2,IF('XML a procesar'!A3678=\"\",P3678,IF(MID('XML a procesar'!A3678,1,1)=\"<\",P3678,P3678+1)),P3678)","v":1}]
[{"$f":"IF('XML a procesar'!A3679>0,'XML a procesar'!A3679,\"\")","v":""},0,0,0,0,"",0,0,0,"","",0,"",0,"",{"$f":"IF(ROW()<$S$4+2,IF('XML a procesar'!A3679=\"\",P3679,IF(MID('XML a procesar'!A3679,1,1)=\"<\",P3679,P3679+1)),P3679)","v":1}]
[{"$f":"IF('XML a procesar'!A3680>0,'XML a procesar'!A3680,\"\")","v":""},0,0,0,0,"",0,0,0,"","",0,"",0,"",{"$f":"IF(ROW()<$S$4+2,IF('XML a procesar'!A3680=\"\",P3680,IF(MID('XML a procesar'!A3680,1,1)=\"<\",P3680,P3680+1)),P3680)","v":1}]
[{"$f":"IF('XML a procesar'!A3681>0,'XML a procesar'!A3681,\"\")","v":""},0,0,0,0,"",0,0,0,"","",0,"",0,"",{"$f":"IF(ROW()<$S$4+2,IF('XML a procesar'!A3681=\"\",P3681,IF(MID('XML a procesar'!A3681,1,1)=\"<\",P3681,P3681+1)),P3681)","v":1}]
[{"$f":"IF('XML a procesar'!A3682>0,'XML a procesar'!A3682,\"\")","v":""},0,0,0,0,"",0,0,0,"","",0,"",0,"",{"$f":"IF(ROW()<$S$4+2,IF('XML a procesar'!A3682=\"\",P3682,IF(MID('XML a procesar'!A3682,1,1)=\"<\",P3682,P3682+1)),P3682)","v":1}]
[{"$f":"IF('XML a procesar'!A3683>0,'XML a procesar'!A3683,\"\")","v":""},0,0,0,0,"",0,0,0,"","",0,"",0,"",{"$f":"IF(ROW()<$S$4+2,IF('XML a procesar'!A3683=\"\",P3683,IF(MID('XML a procesar'!A3683,1,1)=\"<\",P3683,P3683+1)),P3683)","v":1}]
[{"$f":"IF('XML a procesar'!A3684>0,'XML a procesar'!A3684,\"\")","v":""},0,0,0,0,"",0,0,0,"","",0,"",0,"",{"$f":"IF(ROW()<$S$4+2,IF('XML a procesar'!A3684=\"\",P3684,IF(MID('XML a procesar'!A3684,1,1)=\"<\",P3684,P3684+1)),P3684)","v":1}]
[{"$f":"IF('XML a procesar'!A3685>0,'XML a procesar'!A3685,\"\")","v":""},0,0,0,0,"",0,0,0,"","",0,"",0,"",{"$f":"IF(ROW()<$S$4+2,IF('XML a procesar'!A3685=\"\",P3685,IF(MID('XML a procesar'!A3685,1,1)=\"<\",P3685,P3685+1)),P3685)","v":1}]
[{"$f":"IF('XML a procesar'!A3686>0,'XML a procesar'!A3686,\"\")","v":""},0,0,0,0,"",0,0,0,"","",0,"",0,"",{"$f":"IF(ROW()<$S$4+2,IF('XML a procesar'!A3686=\"\",P3686,IF(MID('XML a procesar'!A3686,1,1)=\"<\",P3686,P3686+1)),P3686)","v":1}]
[{"$f":"IF('XML a procesar'!A3687>0,'XML a procesar'!A3687,\"\")","v":""},0,0,0,0,"",0,0,0,"","",0,"",0,"",{"$f":"IF(ROW()<$S$4+2,IF('XML a procesar'!A3687=\"\",P3687,IF(MID('XML a procesar'!A3687,1,1)=\"<\",P3687,P3687+1)),P3687)","v":1}]
[{"$f":"IF('XML a procesar'!A3688>0,'XML a procesar'!A3688,\"\")","v":""},0,0,0,0,"",0,0,0,"","",0,"",0,"",{"$f":"IF(ROW()<$S$4+2,IF('XML a procesar'!A3688=\"\",P3688,IF(MID('XML a procesar'!A3688,1,1)=\"<\",P3688,P3688+1)),P3688)","v":1}]
[{"$f":"IF('XML a procesar'!A3689>0,'XML a procesar'!A3689,\"\")","v":""},0,0,0,0,"",0,0,0,"","",0,"",0,"",{"$f":"IF(ROW()<$S$4+2,IF('XML a procesar'!A3689=\"\",P3689,IF(MID('XML a procesar'!A3689,1,1)=\"<\",P3689,P3689+1)),P3689)","v":1}]
[{"$f":"IF('XML a procesar'!A3690>0,'XML a procesar'!A3690,\"\")","v":""},0,0,0,0,"",0,0,0,"","",0,"",0,"",{"$f":"IF(ROW()<$S$4+2,IF('XML a procesar'!A3690=\"\",P3690,IF(MID('XML a procesar'!A3690,1,1)=\"<\",P3690,P3690+1)),P3690)","v":1}]
[{"$f":"IF('XML a procesar'!A3691>0,'XML a procesar'!A3691,\"\")","v":""},0,0,0,0,"",0,0,0,"","",0,"",0,"",{"$f":"IF(ROW()<$S$4+2,IF('XML a procesar'!A3691=\"\",P3691,IF(MID('XML a procesar'!A3691,1,1)=\"<\",P3691,P3691+1)),P3691)","v":1}]
[{"$f":"IF('XML a procesar'!A3692>0,'XML a procesar'!A3692,\"\")","v":""},0,0,0,0,"",0,0,0,"","",0,"",0,"",{"$f":"IF(ROW()<$S$4+2,IF('XML a procesar'!A3692=\"\",P3692,IF(MID('XML a procesar'!A3692,1,1)=\"<\",P3692,P3692+1)),P3692)","v":1}]
[{"$f":"IF('XML a procesar'!A3693>0,'XML a procesar'!A3693,\"\")","v":""},0,0,0,0,"",0,0,0,"","",0,"",0,"",{"$f":"IF(ROW()<$S$4+2,IF('XML a procesar'!A3693=\"\",P3693,IF(MID('XML a procesar'!A3693,1,1)=\"<\",P3693,P3693+1)),P3693)","v":1}]
[{"$f":"IF('XML a procesar'!A3694>0,'XML a procesar'!A3694,\"\")","v":""},0,0,0,0,"",0,0,0,"","",0,"",0,"",{"$f":"IF(ROW()<$S$4+2,IF('XML a procesar'!A3694=\"\",P3694,IF(MID('XML a procesar'!A3694,1,1)=\"<\",P3694,P3694+1)),P3694)","v":1}]
[{"$f":"IF('XML a procesar'!A3695>0,'XML a procesar'!A3695,\"\")","v":""},0,0,0,0,"",0,0,0,"","",0,"",0,"",{"$f":"IF(ROW()<$S$4+2,IF('XML a procesar'!A3695=\"\",P3695,IF(MID('XML a procesar'!A3695,1,1)=\"<\",P3695,P3695+1)),P3695)","v":1}]
[{"$f":"IF('XML a procesar'!A3696>0,'XML a procesar'!A3696,\"\")","v":""},0,0,0,0,"",0,0,0,"","",0,"",0,"",{"$f":"IF(ROW()<$S$4+2,IF('XML a procesar'!A3696=\"\",P3696,IF(MID('XML a procesar'!A3696,1,1)=\"<\",P3696,P3696+1)),P3696)","v":1}]
[{"$f":"IF('XML a procesar'!A3697>0,'XML a procesar'!A3697,\"\")","v":""},0,0,0,0,"",0,0,0,"","",0,"",0,"",{"$f":"IF(ROW()<$S$4+2,IF('XML a procesar'!A3697=\"\",P3697,IF(MID('XML a procesar'!A3697,1,1)=\"<\",P3697,P3697+1)),P3697)","v":1}]
[{"$f":"IF('XML a procesar'!A3698>0,'XML a procesar'!A3698,\"\")","v":""},0,0,0,0,"",0,0,0,"","",0,"",0,"",{"$f":"IF(ROW()<$S$4+2,IF('XML a procesar'!A3698=\"\",P3698,IF(MID('XML a procesar'!A3698,1,1)=\"<\",P3698,P3698+1)),P3698)","v":1}]
[{"$f":"IF('XML a procesar'!A3699>0,'XML a procesar'!A3699,\"\")","v":""},0,0,0,0,"",0,0,0,"","",0,"",0,"",{"$f":"IF(ROW()<$S$4+2,IF('XML a procesar'!A3699=\"\",P3699,IF(MID('XML a procesar'!A3699,1,1)=\"<\",P3699,P3699+1)),P3699)","v":1}]
[{"$f":"IF('XML a procesar'!A3700>0,'XML a procesar'!A3700,\"\")","v":""},0,0,0,0,"",0,0,0,"","",0,"",0,"",{"$f":"IF(ROW()<$S$4+2,IF('XML a procesar'!A3700=\"\",P3700,IF(MID('XML a procesar'!A3700,1,1)=\"<\",P3700,P3700+1)),P3700)","v":1}]
[{"$f":"IF('XML a procesar'!A3701>0,'XML a procesar'!A3701,\"\")","v":""},0,0,0,0,"",0,0,0,"","",0,"",0,"",{"$f":"IF(ROW()<$S$4+2,IF('XML a procesar'!A3701=\"\",P3701,IF(MID('XML a procesar'!A3701,1,1)=\"<\",P3701,P3701+1)),P3701)","v":1}]
[{"$f":"IF('XML a procesar'!A3702>0,'XML a procesar'!A3702,\"\")","v":""},0,0,0,0,"",0,0,0,"","",0,"",0,"",{"$f":"IF(ROW()<$S$4+2,IF('XML a procesar'!A3702=\"\",P3702,IF(MID('XML a procesar'!A3702,1,1)=\"<\",P3702,P3702+1)),P3702)","v":1}]
[{"$f":"IF('XML a procesar'!A3703>0,'XML a procesar'!A3703,\"\")","v":""},0,0,0,0,"",0,0,0,"","",0,"",0,"",{"$f":"IF(ROW()<$S$4+2,IF('XML a procesar'!A3703=\"\",P3703,IF(MID('XML a procesar'!A3703,1,1)=\"<\",P3703,P3703+1)),P3703)","v":1}]
[{"$f":"IF('XML a procesar'!A3704>0,'XML a procesar'!A3704,\"\")","v":""},0,0,0,0,"",0,0,0,"","",0,"",0,"",{"$f":"IF(ROW()<$S$4+2,IF('XML a procesar'!A3704=\"\",P3704,IF(MID('XML a procesar'!A3704,1,1)=\"<\",P3704,P3704+1)),P3704)","v":1}]
[{"$f":"IF('XML a procesar'!A3705>0,'XML a procesar'!A3705,\"\")","v":""},0,0,0,0,"",0,0,0,"","",0,"",0,"",{"$f":"IF(ROW()<$S$4+2,IF('XML a procesar'!A3705=\"\",P3705,IF(MID('XML a procesar'!A3705,1,1)=\"<\",P3705,P3705+1)),P3705)","v":1}]
[{"$f":"IF('XML a procesar'!A3706>0,'XML a procesar'!A3706,\"\")","v":""},0,0,0,0,"",0,0,0,"","",0,"",0,"",{"$f":"IF(ROW()<$S$4+2,IF('XML a procesar'!A3706=\"\",P3706,IF(MID('XML a procesar'!A3706,1,1)=\"<\",P3706,P3706+1)),P3706)","v":1}]
[{"$f":"IF('XML a procesar'!A3707>0,'XML a procesar'!A3707,\"\")","v":""},0,0,0,0,"",0,0,0,"","",0,"",0,"",{"$f":"IF(ROW()<$S$4+2,IF('XML a procesar'!A3707=\"\",P3707,IF(MID('XML a procesar'!A3707,1,1)=\"<\",P3707,P3707+1)),P3707)","v":1}]
[{"$f":"IF('XML a procesar'!A3708>0,'XML a procesar'!A3708,\"\")","v":""},0,0,0,0,"",0,0,0,"","",0,"",0,"",{"$f":"IF(ROW()<$S$4+2,IF('XML a procesar'!A3708=\"\",P3708,IF(MID('XML a procesar'!A3708,1,1)=\"<\",P3708,P3708+1)),P3708)","v":1}]
[{"$f":"IF('XML a procesar'!A3709>0,'XML a procesar'!A3709,\"\")","v":""},0,0,0,0,"",0,0,0,"","",0,"",0,"",{"$f":"IF(ROW()<$S$4+2,IF('XML a procesar'!A3709=\"\",P3709,IF(MID('XML a procesar'!A3709,1,1)=\"<\",P3709,P3709+1)),P3709)","v":1}]
[{"$f":"IF('XML a procesar'!A3710>0,'XML a procesar'!A3710,\"\")","v":""},0,0,0,0,"",0,0,0,"","",0,"",0,"",{"$f":"IF(ROW()<$S$4+2,IF('XML a procesar'!A3710=\"\",P3710,IF(MID('XML a procesar'!A3710,1,1)=\"<\",P3710,P3710+1)),P3710)","v":1}]
[{"$f":"IF('XML a procesar'!A3711>0,'XML a procesar'!A3711,\"\")","v":""},0,0,0,0,"",0,0,0,"","",0,"",0,"",{"$f":"IF(ROW()<$S$4+2,IF('XML a procesar'!A3711=\"\",P3711,IF(MID('XML a procesar'!A3711,1,1)=\"<\",P3711,P3711+1)),P3711)","v":1}]
[{"$f":"IF('XML a procesar'!A3712>0,'XML a procesar'!A3712,\"\")","v":""},{"$f":"IF(ISERROR(FIND(\"/doi.org/\",A3713,1)),0,1)","v":0},{"$f":"IF(LEFT(A3712,16)=\"<contrib contrib\",C3712+1,IF(LEFT(A3712,16)=\"</contrib-group>\",0,IF(LEFT(A3712,10)=\"</contrib>\",C3712,C3712)))","v":0},{"$f":"IF(AND(C3713>0,LEFT(A3713,7)=\"<email>\",ISNUMBER(SEARCH(\"@\",A3713,1))),C3713,IF(LEFT(A3713,10)=\"<alt-text>\",-1,0))","v":0},{"$f":"IF(D3713=0,E3712,E3712+1)","v":0},{"$f":"INDIRECT(ADDRESS(ROW()+INDIRECT(ADDRESS(ROW()+E3713,5)),1))","v":""},{"$f":"IF(LEFT(F3713,7)=\"<aff id\",_xlfn.NUMBERVALUE(MID(F3713,13,LEN(F3713)-14)),IF(F3713=\"</aff>\",G3712+1,G3712))","v":0},0,{"$f":"INDIRECT(ADDRESS(ROW()-INDIRECT(ADDRESS(ROW()-H3713,8)),8))","v":0},{"$f":"IF(J3712=\"Linea_para_MAIL_creada_por_LuXML\",\"</aff>\",IF(I3713>INDIRECT(ADDRESS(ROW()-I3713-1,8)),\"Linea_para_MAIL_creada_por_LuXML\",INDIRECT(ADDRESS(ROW()-I3713,6))))","v":""},"",{"$f":"IF(OR(MID(K3711,3,5)=\"page>\",MID(K3712,3,5)=\"page>\"),L3712,IF(OR(K3712=\"<history>\",K3713=\"<history>\"),L3712+1,L3712))","v":0},{"$f":"IF(L3713>L3712,IF(L3713=1,CONCATENATE(\"<fpage>\",$S$10,\"</fpage>\"),CONCATENATE(\"<lpage>\",$S$10+1,\"</lpage>\")),IF(ISERROR(INDIRECT(ADDRESS(ROW()-L3713,11),1)),\"\",INDIRECT(ADDRESS(ROW()-L3713,11),1)))","v":""},{"$f":"IF(N3712=-1,-1,IF(M3713=\"</counts>\",-1,IF(OR(LEFT(M3713,7)=\"<fpage>\",LEFT(M3713,7)=\"<lpage>\"),VALUE(MID(M3713,8,LEN(M3713)-15)),0)))","v":0},"",{"$f":"IF(ROW()<$S$4+2,IF('XML a procesar'!A3712=\"\",P3712,IF(MID('XML a procesar'!A3712,1,1)=\"<\",P3712,P3712+1)),P3712)","v":1}]
[{"$f":"IF('XML a procesar'!A3713>0,'XML a procesar'!A3713,\"\")","v":""},0,0,0,0,"",0,0,0,"","",0,"",0,{"$f":"IF(N3714>-1,INDIRECT(ADDRESS(ROW(),13)),IF(N3714<N3713,CONCATENATE(\"<page-count count=\",CHAR(34),1+LARGE(N:N,1)-LARGE(N:N,2),CHAR(34),\"/>\"),INDIRECT(ADDRESS(ROW()-1,13))))","v":""},{"$f":"IF(ROW()<$S$4+2,IF('XML a procesar'!A3713=\"\",P3713,IF(MID('XML a procesar'!A3713,1,1)=\"<\",P3713,P3713+1)),P3713)","v":1}]
[{"$f":"IF('XML a procesar'!A3714>0,'XML a procesar'!A3714,\"\")","v":""},0,0,0,0,"",0,{"$f":"IF(AND(G3714>0,G3715>G3714,NOT(ISERROR(MATCH(G3714,D:D,0)))),H3714+1,H3714)","v":0},0,"",{"$f":"IF(J3715=\"Linea_para_MAIL_creada_por_LuXML\",IF(ISERROR(MATCH(INDIRECT(ADDRESS(ROW()-G3715,7)),D:D,0)),J3715,INDIRECT(ADDRESS(MATCH(INDIRECT(ADDRESS(ROW()-G3715,7)),D:D,0),1))),J3715)","v":""},0,"",0,"",{"$f":"IF(ROW()<$S$4+2,IF('XML a procesar'!A3714=\"\",P3714,IF(MID('XML a procesar'!A3714,1,1)=\"<\",P3714,P3714+1)),P3714)","v":1}]
[{"$f":"IF('XML a procesar'!A3715>0,'XML a procesar'!A3715,\"\")","v":""},0,0,0,0,"",0,0,0,"","",0,"",0,"",{"$f":"IF(ROW()<$S$4+2,IF('XML a procesar'!A3715=\"\",P3715,IF(MID('XML a procesar'!A3715,1,1)=\"<\",P3715,P3715+1)),P3715)","v":1}]
[{"$f":"IF('XML a procesar'!A3716>0,'XML a procesar'!A3716,\"\")","v":""},0,0,0,0,"",0,0,0,"","",0,"",0,"",{"$f":"IF(ROW()<$S$4+2,IF('XML a procesar'!A3716=\"\",P3716,IF(MID('XML a procesar'!A3716,1,1)=\"<\",P3716,P3716+1)),P3716)","v":1}]
[{"$f":"IF('XML a procesar'!A3717>0,'XML a procesar'!A3717,\"\")","v":""},0,0,0,0,"",0,0,0,"","",0,"",0,"",{"$f":"IF(ROW()<$S$4+2,IF('XML a procesar'!A3717=\"\",P3717,IF(MID('XML a procesar'!A3717,1,1)=\"<\",P3717,P3717+1)),P3717)","v":1}]
[{"$f":"IF('XML a procesar'!A3718>0,'XML a procesar'!A3718,\"\")","v":""},0,0,0,0,"",0,0,0,"","",0,"",0,"",{"$f":"IF(ROW()<$S$4+2,IF('XML a procesar'!A3718=\"\",P3718,IF(MID('XML a procesar'!A3718,1,1)=\"<\",P3718,P3718+1)),P3718)","v":1}]
[{"$f":"IF('XML a procesar'!A3719>0,'XML a procesar'!A3719,\"\")","v":""},0,0,0,0,"",0,0,0,"","",0,"",0,"",{"$f":"IF(ROW()<$S$4+2,IF('XML a procesar'!A3719=\"\",P3719,IF(MID('XML a procesar'!A3719,1,1)=\"<\",P3719,P3719+1)),P3719)","v":1}]
[{"$f":"IF('XML a procesar'!A3720>0,'XML a procesar'!A3720,\"\")","v":""},0,0,0,0,"",0,0,0,"","",0,"",0,"",{"$f":"IF(ROW()<$S$4+2,IF('XML a procesar'!A3720=\"\",P3720,IF(MID('XML a procesar'!A3720,1,1)=\"<\",P3720,P3720+1)),P3720)","v":1}]
[{"$f":"IF('XML a procesar'!A3721>0,'XML a procesar'!A3721,\"\")","v":""},0,0,0,0,"",0,0,0,"","",0,"",0,"",{"$f":"IF(ROW()<$S$4+2,IF('XML a procesar'!A3721=\"\",P3721,IF(MID('XML a procesar'!A3721,1,1)=\"<\",P3721,P3721+1)),P3721)","v":1}]
[{"$f":"IF('XML a procesar'!A3722>0,'XML a procesar'!A3722,\"\")","v":""},0,0,0,0,"",0,0,0,"","",0,"",0,"",{"$f":"IF(ROW()<$S$4+2,IF('XML a procesar'!A3722=\"\",P3722,IF(MID('XML a procesar'!A3722,1,1)=\"<\",P3722,P3722+1)),P3722)","v":1}]
[{"$f":"IF('XML a procesar'!A3723>0,'XML a procesar'!A3723,\"\")","v":""},0,0,0,0,"",0,0,0,"","",0,"",0,"",{"$f":"IF(ROW()<$S$4+2,IF('XML a procesar'!A3723=\"\",P3723,IF(MID('XML a procesar'!A3723,1,1)=\"<\",P3723,P3723+1)),P3723)","v":1}]
[{"$f":"IF('XML a procesar'!A3724>0,'XML a procesar'!A3724,\"\")","v":""},0,0,0,0,"",0,0,0,"","",0,"",0,"",{"$f":"IF(ROW()<$S$4+2,IF('XML a procesar'!A3724=\"\",P3724,IF(MID('XML a procesar'!A3724,1,1)=\"<\",P3724,P3724+1)),P3724)","v":1}]
[{"$f":"IF('XML a procesar'!A3725>0,'XML a procesar'!A3725,\"\")","v":""},0,0,0,0,"",0,0,0,"","",0,"",0,"",{"$f":"IF(ROW()<$S$4+2,IF('XML a procesar'!A3725=\"\",P3725,IF(MID('XML a procesar'!A3725,1,1)=\"<\",P3725,P3725+1)),P3725)","v":1}]
[{"$f":"IF('XML a procesar'!A3726>0,'XML a procesar'!A3726,\"\")","v":""},0,0,0,0,"",0,0,0,"","",0,"",0,"",{"$f":"IF(ROW()<$S$4+2,IF('XML a procesar'!A3726=\"\",P3726,IF(MID('XML a procesar'!A3726,1,1)=\"<\",P3726,P3726+1)),P3726)","v":1}]
[{"$f":"IF('XML a procesar'!A3727>0,'XML a procesar'!A3727,\"\")","v":""},0,0,0,0,"",0,0,0,"","",0,"",0,"",{"$f":"IF(ROW()<$S$4+2,IF('XML a procesar'!A3727=\"\",P3727,IF(MID('XML a procesar'!A3727,1,1)=\"<\",P3727,P3727+1)),P3727)","v":1}]
[{"$f":"IF('XML a procesar'!A3728>0,'XML a procesar'!A3728,\"\")","v":""},0,0,0,0,"",0,0,0,"","",0,"",0,"",{"$f":"IF(ROW()<$S$4+2,IF('XML a procesar'!A3728=\"\",P3728,IF(MID('XML a procesar'!A3728,1,1)=\"<\",P3728,P3728+1)),P3728)","v":1}]
[{"$f":"IF('XML a procesar'!A3729>0,'XML a procesar'!A3729,\"\")","v":""},0,0,0,0,"",0,0,0,"","",0,"",0,"",{"$f":"IF(ROW()<$S$4+2,IF('XML a procesar'!A3729=\"\",P3729,IF(MID('XML a procesar'!A3729,1,1)=\"<\",P3729,P3729+1)),P3729)","v":1}]
[{"$f":"IF('XML a procesar'!A3730>0,'XML a procesar'!A3730,\"\")","v":""},0,0,0,0,"",0,0,0,"","",0,"",0,"",{"$f":"IF(ROW()<$S$4+2,IF('XML a procesar'!A3730=\"\",P3730,IF(MID('XML a procesar'!A3730,1,1)=\"<\",P3730,P3730+1)),P3730)","v":1}]
[{"$f":"IF('XML a procesar'!A3731>0,'XML a procesar'!A3731,\"\")","v":""},0,0,0,0,"",0,0,0,"","",0,"",0,"",{"$f":"IF(ROW()<$S$4+2,IF('XML a procesar'!A3731=\"\",P3731,IF(MID('XML a procesar'!A3731,1,1)=\"<\",P3731,P3731+1)),P3731)","v":1}]
[{"$f":"IF('XML a procesar'!A3732>0,'XML a procesar'!A3732,\"\")","v":""},0,0,0,0,"",0,0,0,"","",0,"",0,"",{"$f":"IF(ROW()<$S$4+2,IF('XML a procesar'!A3732=\"\",P3732,IF(MID('XML a procesar'!A3732,1,1)=\"<\",P3732,P3732+1)),P3732)","v":1}]
[{"$f":"IF('XML a procesar'!A3733>0,'XML a procesar'!A3733,\"\")","v":""},0,0,0,0,"",0,0,0,"","",0,"",0,"",{"$f":"IF(ROW()<$S$4+2,IF('XML a procesar'!A3733=\"\",P3733,IF(MID('XML a procesar'!A3733,1,1)=\"<\",P3733,P3733+1)),P3733)","v":1}]
[{"$f":"IF('XML a procesar'!A3734>0,'XML a procesar'!A3734,\"\")","v":""},0,0,0,0,"",0,0,0,"","",0,"",0,"",{"$f":"IF(ROW()<$S$4+2,IF('XML a procesar'!A3734=\"\",P3734,IF(MID('XML a procesar'!A3734,1,1)=\"<\",P3734,P3734+1)),P3734)","v":1}]
[{"$f":"IF('XML a procesar'!A3735>0,'XML a procesar'!A3735,\"\")","v":""},0,0,0,0,"",0,0,0,"","",0,"",0,"",{"$f":"IF(ROW()<$S$4+2,IF('XML a procesar'!A3735=\"\",P3735,IF(MID('XML a procesar'!A3735,1,1)=\"<\",P3735,P3735+1)),P3735)","v":1}]
[{"$f":"IF('XML a procesar'!A3736>0,'XML a procesar'!A3736,\"\")","v":""},0,0,0,0,"",0,0,0,"","",0,"",0,"",{"$f":"IF(ROW()<$S$4+2,IF('XML a procesar'!A3736=\"\",P3736,IF(MID('XML a procesar'!A3736,1,1)=\"<\",P3736,P3736+1)),P3736)","v":1}]
[{"$f":"IF('XML a procesar'!A3737>0,'XML a procesar'!A3737,\"\")","v":""},0,0,0,0,"",0,0,0,"","",0,"",0,"",{"$f":"IF(ROW()<$S$4+2,IF('XML a procesar'!A3737=\"\",P3737,IF(MID('XML a procesar'!A3737,1,1)=\"<\",P3737,P3737+1)),P3737)","v":1}]
[{"$f":"IF('XML a procesar'!A3738>0,'XML a procesar'!A3738,\"\")","v":""},0,0,0,0,"",0,0,0,"","",0,"",0,"",{"$f":"IF(ROW()<$S$4+2,IF('XML a procesar'!A3738=\"\",P3738,IF(MID('XML a procesar'!A3738,1,1)=\"<\",P3738,P3738+1)),P3738)","v":1}]
[{"$f":"IF('XML a procesar'!A3739>0,'XML a procesar'!A3739,\"\")","v":""},0,0,0,0,"",0,0,0,"","",0,"",0,"",{"$f":"IF(ROW()<$S$4+2,IF('XML a procesar'!A3739=\"\",P3739,IF(MID('XML a procesar'!A3739,1,1)=\"<\",P3739,P3739+1)),P3739)","v":1}]
[{"$f":"IF('XML a procesar'!A3740>0,'XML a procesar'!A3740,\"\")","v":""},0,0,0,0,"",0,0,0,"","",0,"",0,"",{"$f":"IF(ROW()<$S$4+2,IF('XML a procesar'!A3740=\"\",P3740,IF(MID('XML a procesar'!A3740,1,1)=\"<\",P3740,P3740+1)),P3740)","v":1}]
[{"$f":"IF('XML a procesar'!A3741>0,'XML a procesar'!A3741,\"\")","v":""},0,0,0,0,"",0,0,0,"","",0,"",0,"",{"$f":"IF(ROW()<$S$4+2,IF('XML a procesar'!A3741=\"\",P3741,IF(MID('XML a procesar'!A3741,1,1)=\"<\",P3741,P3741+1)),P3741)","v":1}]
[{"$f":"IF('XML a procesar'!A3742>0,'XML a procesar'!A3742,\"\")","v":""},0,0,0,0,"",0,0,0,"","",0,"",0,"",{"$f":"IF(ROW()<$S$4+2,IF('XML a procesar'!A3742=\"\",P3742,IF(MID('XML a procesar'!A3742,1,1)=\"<\",P3742,P3742+1)),P3742)","v":1}]
[{"$f":"IF('XML a procesar'!A3743>0,'XML a procesar'!A3743,\"\")","v":""},0,0,0,0,"",0,0,0,"","",0,"",0,"",{"$f":"IF(ROW()<$S$4+2,IF('XML a procesar'!A3743=\"\",P3743,IF(MID('XML a procesar'!A3743,1,1)=\"<\",P3743,P3743+1)),P3743)","v":1}]
[{"$f":"IF('XML a procesar'!A3744>0,'XML a procesar'!A3744,\"\")","v":""},0,0,0,0,"",0,0,0,"","",0,"",0,"",{"$f":"IF(ROW()<$S$4+2,IF('XML a procesar'!A3744=\"\",P3744,IF(MID('XML a procesar'!A3744,1,1)=\"<\",P3744,P3744+1)),P3744)","v":1}]
[{"$f":"IF('XML a procesar'!A3745>0,'XML a procesar'!A3745,\"\")","v":""},0,0,0,0,"",0,0,0,"","",0,"",0,"",{"$f":"IF(ROW()<$S$4+2,IF('XML a procesar'!A3745=\"\",P3745,IF(MID('XML a procesar'!A3745,1,1)=\"<\",P3745,P3745+1)),P3745)","v":1}]
[{"$f":"IF('XML a procesar'!A3746>0,'XML a procesar'!A3746,\"\")","v":""},0,0,0,0,"",0,0,0,"","",0,"",0,"",{"$f":"IF(ROW()<$S$4+2,IF('XML a procesar'!A3746=\"\",P3746,IF(MID('XML a procesar'!A3746,1,1)=\"<\",P3746,P3746+1)),P3746)","v":1}]
[{"$f":"IF('XML a procesar'!A3747>0,'XML a procesar'!A3747,\"\")","v":""},0,0,0,0,"",0,0,0,"","",0,"",0,"",{"$f":"IF(ROW()<$S$4+2,IF('XML a procesar'!A3747=\"\",P3747,IF(MID('XML a procesar'!A3747,1,1)=\"<\",P3747,P3747+1)),P3747)","v":1}]
[{"$f":"IF('XML a procesar'!A3748>0,'XML a procesar'!A3748,\"\")","v":""},0,0,0,0,"",0,0,0,"","",0,"",0,"",{"$f":"IF(ROW()<$S$4+2,IF('XML a procesar'!A3748=\"\",P3748,IF(MID('XML a procesar'!A3748,1,1)=\"<\",P3748,P3748+1)),P3748)","v":1}]
[{"$f":"IF('XML a procesar'!A3749>0,'XML a procesar'!A3749,\"\")","v":""},0,0,0,0,"",0,0,0,"","",0,"",0,"",{"$f":"IF(ROW()<$S$4+2,IF('XML a procesar'!A3749=\"\",P3749,IF(MID('XML a procesar'!A3749,1,1)=\"<\",P3749,P3749+1)),P3749)","v":1}]
[{"$f":"IF('XML a procesar'!A3750>0,'XML a procesar'!A3750,\"\")","v":""},0,0,0,0,"",0,0,0,"","",0,"",0,"",{"$f":"IF(ROW()<$S$4+2,IF('XML a procesar'!A3750=\"\",P3750,IF(MID('XML a procesar'!A3750,1,1)=\"<\",P3750,P3750+1)),P3750)","v":1}]
[{"$f":"IF('XML a procesar'!A3751>0,'XML a procesar'!A3751,\"\")","v":""},0,0,0,0,"",0,0,0,"","",0,"",0,"",{"$f":"IF(ROW()<$S$4+2,IF('XML a procesar'!A3751=\"\",P3751,IF(MID('XML a procesar'!A3751,1,1)=\"<\",P3751,P3751+1)),P3751)","v":1}]
[{"$f":"IF('XML a procesar'!A3752>0,'XML a procesar'!A3752,\"\")","v":""},0,0,0,0,"",0,0,0,"","",0,"",0,"",{"$f":"IF(ROW()<$S$4+2,IF('XML a procesar'!A3752=\"\",P3752,IF(MID('XML a procesar'!A3752,1,1)=\"<\",P3752,P3752+1)),P3752)","v":1}]
[{"$f":"IF('XML a procesar'!A3753>0,'XML a procesar'!A3753,\"\")","v":""},0,0,0,0,"",0,0,0,"","",0,"",0,"",{"$f":"IF(ROW()<$S$4+2,IF('XML a procesar'!A3753=\"\",P3753,IF(MID('XML a procesar'!A3753,1,1)=\"<\",P3753,P3753+1)),P3753)","v":1}]
[{"$f":"IF('XML a procesar'!A3754>0,'XML a procesar'!A3754,\"\")","v":""},0,0,0,0,"",0,0,0,"","",0,"",0,"",{"$f":"IF(ROW()<$S$4+2,IF('XML a procesar'!A3754=\"\",P3754,IF(MID('XML a procesar'!A3754,1,1)=\"<\",P3754,P3754+1)),P3754)","v":1}]
[{"$f":"IF('XML a procesar'!A3755>0,'XML a procesar'!A3755,\"\")","v":""},0,0,0,0,"",0,0,0,"","",0,"",0,"",{"$f":"IF(ROW()<$S$4+2,IF('XML a procesar'!A3755=\"\",P3755,IF(MID('XML a procesar'!A3755,1,1)=\"<\",P3755,P3755+1)),P3755)","v":1}]
[{"$f":"IF('XML a procesar'!A3756>0,'XML a procesar'!A3756,\"\")","v":""},0,0,0,0,"",0,0,0,"","",0,"",0,"",{"$f":"IF(ROW()<$S$4+2,IF('XML a procesar'!A3756=\"\",P3756,IF(MID('XML a procesar'!A3756,1,1)=\"<\",P3756,P3756+1)),P3756)","v":1}]
[{"$f":"IF('XML a procesar'!A3757>0,'XML a procesar'!A3757,\"\")","v":""},0,0,0,0,"",0,0,0,"","",0,"",0,"",{"$f":"IF(ROW()<$S$4+2,IF('XML a procesar'!A3757=\"\",P3757,IF(MID('XML a procesar'!A3757,1,1)=\"<\",P3757,P3757+1)),P3757)","v":1}]
[{"$f":"IF('XML a procesar'!A3758>0,'XML a procesar'!A3758,\"\")","v":""},0,0,0,0,"",0,0,0,"","",0,"",0,"",{"$f":"IF(ROW()<$S$4+2,IF('XML a procesar'!A3758=\"\",P3758,IF(MID('XML a procesar'!A3758,1,1)=\"<\",P3758,P3758+1)),P3758)","v":1}]
[{"$f":"IF('XML a procesar'!A3759>0,'XML a procesar'!A3759,\"\")","v":""},0,0,0,0,"",0,0,0,"","",0,"",0,"",{"$f":"IF(ROW()<$S$4+2,IF('XML a procesar'!A3759=\"\",P3759,IF(MID('XML a procesar'!A3759,1,1)=\"<\",P3759,P3759+1)),P3759)","v":1}]
[{"$f":"IF('XML a procesar'!A3760>0,'XML a procesar'!A3760,\"\")","v":""},0,0,0,0,"",0,0,0,"","",0,"",0,"",{"$f":"IF(ROW()<$S$4+2,IF('XML a procesar'!A3760=\"\",P3760,IF(MID('XML a procesar'!A3760,1,1)=\"<\",P3760,P3760+1)),P3760)","v":1}]
[{"$f":"IF('XML a procesar'!A3761>0,'XML a procesar'!A3761,\"\")","v":""},0,0,0,0,"",0,0,0,"","",0,"",0,"",{"$f":"IF(ROW()<$S$4+2,IF('XML a procesar'!A3761=\"\",P3761,IF(MID('XML a procesar'!A3761,1,1)=\"<\",P3761,P3761+1)),P3761)","v":1}]
[{"$f":"IF('XML a procesar'!A3762>0,'XML a procesar'!A3762,\"\")","v":""},0,0,0,0,"",0,0,0,"","",0,"",0,"",{"$f":"IF(ROW()<$S$4+2,IF('XML a procesar'!A3762=\"\",P3762,IF(MID('XML a procesar'!A3762,1,1)=\"<\",P3762,P3762+1)),P3762)","v":1}]
[{"$f":"IF('XML a procesar'!A3763>0,'XML a procesar'!A3763,\"\")","v":""},0,0,0,0,"",0,0,0,"","",0,"",0,"",{"$f":"IF(ROW()<$S$4+2,IF('XML a procesar'!A3763=\"\",P3763,IF(MID('XML a procesar'!A3763,1,1)=\"<\",P3763,P3763+1)),P3763)","v":1}]
[{"$f":"IF('XML a procesar'!A3764>0,'XML a procesar'!A3764,\"\")","v":""},0,0,0,0,"",0,0,0,"","",0,"",0,"",{"$f":"IF(ROW()<$S$4+2,IF('XML a procesar'!A3764=\"\",P3764,IF(MID('XML a procesar'!A3764,1,1)=\"<\",P3764,P3764+1)),P3764)","v":1}]
[{"$f":"IF('XML a procesar'!A3765>0,'XML a procesar'!A3765,\"\")","v":""},0,0,0,0,"",0,0,0,"","",0,"",0,"",{"$f":"IF(ROW()<$S$4+2,IF('XML a procesar'!A3765=\"\",P3765,IF(MID('XML a procesar'!A3765,1,1)=\"<\",P3765,P3765+1)),P3765)","v":1}]
[{"$f":"IF('XML a procesar'!A3766>0,'XML a procesar'!A3766,\"\")","v":""},0,0,0,0,"",0,0,0,"","",0,"",0,"",{"$f":"IF(ROW()<$S$4+2,IF('XML a procesar'!A3766=\"\",P3766,IF(MID('XML a procesar'!A3766,1,1)=\"<\",P3766,P3766+1)),P3766)","v":1}]
[{"$f":"IF('XML a procesar'!A3767>0,'XML a procesar'!A3767,\"\")","v":""},0,0,0,0,"",0,0,0,"","",0,"",0,"",{"$f":"IF(ROW()<$S$4+2,IF('XML a procesar'!A3767=\"\",P3767,IF(MID('XML a procesar'!A3767,1,1)=\"<\",P3767,P3767+1)),P3767)","v":1}]
[{"$f":"IF('XML a procesar'!A3768>0,'XML a procesar'!A3768,\"\")","v":""},0,0,0,0,"",0,0,0,"","",0,"",0,"",{"$f":"IF(ROW()<$S$4+2,IF('XML a procesar'!A3768=\"\",P3768,IF(MID('XML a procesar'!A3768,1,1)=\"<\",P3768,P3768+1)),P3768)","v":1}]
[{"$f":"IF('XML a procesar'!A3769>0,'XML a procesar'!A3769,\"\")","v":""},0,0,0,0,"",0,0,0,"","",0,"",0,"",{"$f":"IF(ROW()<$S$4+2,IF('XML a procesar'!A3769=\"\",P3769,IF(MID('XML a procesar'!A3769,1,1)=\"<\",P3769,P3769+1)),P3769)","v":1}]
[{"$f":"IF('XML a procesar'!A3770>0,'XML a procesar'!A3770,\"\")","v":""},0,0,0,0,"",0,0,0,"","",0,"",0,"",{"$f":"IF(ROW()<$S$4+2,IF('XML a procesar'!A3770=\"\",P3770,IF(MID('XML a procesar'!A3770,1,1)=\"<\",P3770,P3770+1)),P3770)","v":1}]
[{"$f":"IF('XML a procesar'!A3771>0,'XML a procesar'!A3771,\"\")","v":""},0,0,0,0,"",0,0,0,"","",0,"",0,"",{"$f":"IF(ROW()<$S$4+2,IF('XML a procesar'!A3771=\"\",P3771,IF(MID('XML a procesar'!A3771,1,1)=\"<\",P3771,P3771+1)),P3771)","v":1}]
[{"$f":"IF('XML a procesar'!A3772>0,'XML a procesar'!A3772,\"\")","v":""},0,0,0,0,"",0,0,0,"","",0,"",0,"",{"$f":"IF(ROW()<$S$4+2,IF('XML a procesar'!A3772=\"\",P3772,IF(MID('XML a procesar'!A3772,1,1)=\"<\",P3772,P3772+1)),P3772)","v":1}]
[{"$f":"IF('XML a procesar'!A3773>0,'XML a procesar'!A3773,\"\")","v":""},0,0,0,0,"",0,0,0,"","",0,"",0,"",{"$f":"IF(ROW()<$S$4+2,IF('XML a procesar'!A3773=\"\",P3773,IF(MID('XML a procesar'!A3773,1,1)=\"<\",P3773,P3773+1)),P3773)","v":1}]
[{"$f":"IF('XML a procesar'!A3774>0,'XML a procesar'!A3774,\"\")","v":""},0,0,0,0,"",0,0,0,"","",0,"",0,"",{"$f":"IF(ROW()<$S$4+2,IF('XML a procesar'!A3774=\"\",P3774,IF(MID('XML a procesar'!A3774,1,1)=\"<\",P3774,P3774+1)),P3774)","v":1}]
[{"$f":"IF('XML a procesar'!A3775>0,'XML a procesar'!A3775,\"\")","v":""},0,0,0,0,"",0,0,0,"","",0,"",0,"",{"$f":"IF(ROW()<$S$4+2,IF('XML a procesar'!A3775=\"\",P3775,IF(MID('XML a procesar'!A3775,1,1)=\"<\",P3775,P3775+1)),P3775)","v":1}]
[{"$f":"IF('XML a procesar'!A3776>0,'XML a procesar'!A3776,\"\")","v":""},{"$f":"IF(ISERROR(FIND(\"/doi.org/\",A3777,1)),0,1)","v":0},{"$f":"IF(LEFT(A3776,16)=\"<contrib contrib\",C3776+1,IF(LEFT(A3776,16)=\"</contrib-group>\",0,IF(LEFT(A3776,10)=\"</contrib>\",C3776,C3776)))","v":0},{"$f":"IF(AND(C3777>0,LEFT(A3777,7)=\"<email>\",ISNUMBER(SEARCH(\"@\",A3777,1))),C3777,IF(LEFT(A3777,10)=\"<alt-text>\",-1,0))","v":0},{"$f":"IF(D3777=0,E3776,E3776+1)","v":0},{"$f":"INDIRECT(ADDRESS(ROW()+INDIRECT(ADDRESS(ROW()+E3777,5)),1))","v":""},{"$f":"IF(LEFT(F3777,7)=\"<aff id\",_xlfn.NUMBERVALUE(MID(F3777,13,LEN(F3777)-14)),IF(F3777=\"</aff>\",G3776+1,G3776))","v":0},0,{"$f":"INDIRECT(ADDRESS(ROW()-INDIRECT(ADDRESS(ROW()-H3777,8)),8))","v":0},{"$f":"IF(J3776=\"Linea_para_MAIL_creada_por_LuXML\",\"</aff>\",IF(I3777>INDIRECT(ADDRESS(ROW()-I3777-1,8)),\"Linea_para_MAIL_creada_por_LuXML\",INDIRECT(ADDRESS(ROW()-I3777,6))))","v":""},"",{"$f":"IF(OR(MID(K3775,3,5)=\"page>\",MID(K3776,3,5)=\"page>\"),L3776,IF(OR(K3776=\"<history>\",K3777=\"<history>\"),L3776+1,L3776))","v":0},{"$f":"IF(L3777>L3776,IF(L3777=1,CONCATENATE(\"<fpage>\",$S$10,\"</fpage>\"),CONCATENATE(\"<lpage>\",$S$10+1,\"</lpage>\")),IF(ISERROR(INDIRECT(ADDRESS(ROW()-L3777,11),1)),\"\",INDIRECT(ADDRESS(ROW()-L3777,11),1)))","v":""},{"$f":"IF(N3776=-1,-1,IF(M3777=\"</counts>\",-1,IF(OR(LEFT(M3777,7)=\"<fpage>\",LEFT(M3777,7)=\"<lpage>\"),VALUE(MID(M3777,8,LEN(M3777)-15)),0)))","v":0},"",{"$f":"IF(ROW()<$S$4+2,IF('XML a procesar'!A3776=\"\",P3776,IF(MID('XML a procesar'!A3776,1,1)=\"<\",P3776,P3776+1)),P3776)","v":1}]
[{"$f":"IF('XML a procesar'!A3777>0,'XML a procesar'!A3777,\"\")","v":""},0,0,0,0,"",0,0,0,"","",0,"",0,{"$f":"IF(N3778>-1,INDIRECT(ADDRESS(ROW(),13)),IF(N3778<N3777,CONCATENATE(\"<page-count count=\",CHAR(34),1+LARGE(N:N,1)-LARGE(N:N,2),CHAR(34),\"/>\"),INDIRECT(ADDRESS(ROW()-1,13))))","v":""},{"$f":"IF(ROW()<$S$4+2,IF('XML a procesar'!A3777=\"\",P3777,IF(MID('XML a procesar'!A3777,1,1)=\"<\",P3777,P3777+1)),P3777)","v":1}]
[{"$f":"IF('XML a procesar'!A3778>0,'XML a procesar'!A3778,\"\")","v":""},0,0,0,0,"",0,{"$f":"IF(AND(G3778>0,G3779>G3778,NOT(ISERROR(MATCH(G3778,D:D,0)))),H3778+1,H3778)","v":0},0,"",{"$f":"IF(J3779=\"Linea_para_MAIL_creada_por_LuXML\",IF(ISERROR(MATCH(INDIRECT(ADDRESS(ROW()-G3779,7)),D:D,0)),J3779,INDIRECT(ADDRESS(MATCH(INDIRECT(ADDRESS(ROW()-G3779,7)),D:D,0),1))),J3779)","v":""},0,"",0,"",{"$f":"IF(ROW()<$S$4+2,IF('XML a procesar'!A3778=\"\",P3778,IF(MID('XML a procesar'!A3778,1,1)=\"<\",P3778,P3778+1)),P3778)","v":1}]
[{"$f":"IF('XML a procesar'!A3779>0,'XML a procesar'!A3779,\"\")","v":""},0,0,0,0,"",0,0,0,"","",0,"",0,"",{"$f":"IF(ROW()<$S$4+2,IF('XML a procesar'!A3779=\"\",P3779,IF(MID('XML a procesar'!A3779,1,1)=\"<\",P3779,P3779+1)),P3779)","v":1}]
[{"$f":"IF('XML a procesar'!A3780>0,'XML a procesar'!A3780,\"\")","v":""},0,0,0,0,"",0,0,0,"","",0,"",0,"",{"$f":"IF(ROW()<$S$4+2,IF('XML a procesar'!A3780=\"\",P3780,IF(MID('XML a procesar'!A3780,1,1)=\"<\",P3780,P3780+1)),P3780)","v":1}]
[{"$f":"IF('XML a procesar'!A3781>0,'XML a procesar'!A3781,\"\")","v":""},0,0,0,0,"",0,0,0,"","",0,"",0,"",{"$f":"IF(ROW()<$S$4+2,IF('XML a procesar'!A3781=\"\",P3781,IF(MID('XML a procesar'!A3781,1,1)=\"<\",P3781,P3781+1)),P3781)","v":1}]
[{"$f":"IF('XML a procesar'!A3782>0,'XML a procesar'!A3782,\"\")","v":""},0,0,0,0,"",0,0,0,"","",0,"",0,"",{"$f":"IF(ROW()<$S$4+2,IF('XML a procesar'!A3782=\"\",P3782,IF(MID('XML a procesar'!A3782,1,1)=\"<\",P3782,P3782+1)),P3782)","v":1}]
[{"$f":"IF('XML a procesar'!A3783>0,'XML a procesar'!A3783,\"\")","v":""},0,0,0,0,"",0,0,0,"","",0,"",0,"",{"$f":"IF(ROW()<$S$4+2,IF('XML a procesar'!A3783=\"\",P3783,IF(MID('XML a procesar'!A3783,1,1)=\"<\",P3783,P3783+1)),P3783)","v":1}]
[{"$f":"IF('XML a procesar'!A3784>0,'XML a procesar'!A3784,\"\")","v":""},0,0,0,0,"",0,0,0,"","",0,"",0,"",{"$f":"IF(ROW()<$S$4+2,IF('XML a procesar'!A3784=\"\",P3784,IF(MID('XML a procesar'!A3784,1,1)=\"<\",P3784,P3784+1)),P3784)","v":1}]
[{"$f":"IF('XML a procesar'!A3785>0,'XML a procesar'!A3785,\"\")","v":""},0,0,0,0,"",0,0,0,"","",0,"",0,"",{"$f":"IF(ROW()<$S$4+2,IF('XML a procesar'!A3785=\"\",P3785,IF(MID('XML a procesar'!A3785,1,1)=\"<\",P3785,P3785+1)),P3785)","v":1}]
[{"$f":"IF('XML a procesar'!A3786>0,'XML a procesar'!A3786,\"\")","v":""},0,0,0,0,"",0,0,0,"","",0,"",0,"",{"$f":"IF(ROW()<$S$4+2,IF('XML a procesar'!A3786=\"\",P3786,IF(MID('XML a procesar'!A3786,1,1)=\"<\",P3786,P3786+1)),P3786)","v":1}]
[{"$f":"IF('XML a procesar'!A3787>0,'XML a procesar'!A3787,\"\")","v":""},0,0,0,0,"",0,0,0,"","",0,"",0,"",{"$f":"IF(ROW()<$S$4+2,IF('XML a procesar'!A3787=\"\",P3787,IF(MID('XML a procesar'!A3787,1,1)=\"<\",P3787,P3787+1)),P3787)","v":1}]
[{"$f":"IF('XML a procesar'!A3788>0,'XML a procesar'!A3788,\"\")","v":""},0,0,0,0,"",0,0,0,"","",0,"",0,"",{"$f":"IF(ROW()<$S$4+2,IF('XML a procesar'!A3788=\"\",P3788,IF(MID('XML a procesar'!A3788,1,1)=\"<\",P3788,P3788+1)),P3788)","v":1}]
[{"$f":"IF('XML a procesar'!A3789>0,'XML a procesar'!A3789,\"\")","v":""},0,0,0,0,"",0,0,0,"","",0,"",0,"",{"$f":"IF(ROW()<$S$4+2,IF('XML a procesar'!A3789=\"\",P3789,IF(MID('XML a procesar'!A3789,1,1)=\"<\",P3789,P3789+1)),P3789)","v":1}]
[{"$f":"IF('XML a procesar'!A3790>0,'XML a procesar'!A3790,\"\")","v":""},0,0,0,0,"",0,0,0,"","",0,"",0,"",{"$f":"IF(ROW()<$S$4+2,IF('XML a procesar'!A3790=\"\",P3790,IF(MID('XML a procesar'!A3790,1,1)=\"<\",P3790,P3790+1)),P3790)","v":1}]
[{"$f":"IF('XML a procesar'!A3791>0,'XML a procesar'!A3791,\"\")","v":""},0,0,0,0,"",0,0,0,"","",0,"",0,"",{"$f":"IF(ROW()<$S$4+2,IF('XML a procesar'!A3791=\"\",P3791,IF(MID('XML a procesar'!A3791,1,1)=\"<\",P3791,P3791+1)),P3791)","v":1}]
[{"$f":"IF('XML a procesar'!A3792>0,'XML a procesar'!A3792,\"\")","v":""},0,0,0,0,"",0,0,0,"","",0,"",0,"",{"$f":"IF(ROW()<$S$4+2,IF('XML a procesar'!A3792=\"\",P3792,IF(MID('XML a procesar'!A3792,1,1)=\"<\",P3792,P3792+1)),P3792)","v":1}]
[{"$f":"IF('XML a procesar'!A3793>0,'XML a procesar'!A3793,\"\")","v":""},0,0,0,0,"",0,0,0,"","",0,"",0,"",{"$f":"IF(ROW()<$S$4+2,IF('XML a procesar'!A3793=\"\",P3793,IF(MID('XML a procesar'!A3793,1,1)=\"<\",P3793,P3793+1)),P3793)","v":1}]
[{"$f":"IF('XML a procesar'!A3794>0,'XML a procesar'!A3794,\"\")","v":""},0,0,0,0,"",0,0,0,"","",0,"",0,"",{"$f":"IF(ROW()<$S$4+2,IF('XML a procesar'!A3794=\"\",P3794,IF(MID('XML a procesar'!A3794,1,1)=\"<\",P3794,P3794+1)),P3794)","v":1}]
[{"$f":"IF('XML a procesar'!A3795>0,'XML a procesar'!A3795,\"\")","v":""},0,0,0,0,"",0,0,0,"","",0,"",0,"",{"$f":"IF(ROW()<$S$4+2,IF('XML a procesar'!A3795=\"\",P3795,IF(MID('XML a procesar'!A3795,1,1)=\"<\",P3795,P3795+1)),P3795)","v":1}]
[{"$f":"IF('XML a procesar'!A3796>0,'XML a procesar'!A3796,\"\")","v":""},0,0,0,0,"",0,0,0,"","",0,"",0,"",{"$f":"IF(ROW()<$S$4+2,IF('XML a procesar'!A3796=\"\",P3796,IF(MID('XML a procesar'!A3796,1,1)=\"<\",P3796,P3796+1)),P3796)","v":1}]
[{"$f":"IF('XML a procesar'!A3797>0,'XML a procesar'!A3797,\"\")","v":""},0,0,0,0,"",0,0,0,"","",0,"",0,"",{"$f":"IF(ROW()<$S$4+2,IF('XML a procesar'!A3797=\"\",P3797,IF(MID('XML a procesar'!A3797,1,1)=\"<\",P3797,P3797+1)),P3797)","v":1}]
[{"$f":"IF('XML a procesar'!A3798>0,'XML a procesar'!A3798,\"\")","v":""},0,0,0,0,"",0,0,0,"","",0,"",0,"",{"$f":"IF(ROW()<$S$4+2,IF('XML a procesar'!A3798=\"\",P3798,IF(MID('XML a procesar'!A3798,1,1)=\"<\",P3798,P3798+1)),P3798)","v":1}]
[{"$f":"IF('XML a procesar'!A3799>0,'XML a procesar'!A3799,\"\")","v":""},0,0,0,0,"",0,0,0,"","",0,"",0,"",{"$f":"IF(ROW()<$S$4+2,IF('XML a procesar'!A3799=\"\",P3799,IF(MID('XML a procesar'!A3799,1,1)=\"<\",P3799,P3799+1)),P3799)","v":1}]
[{"$f":"IF('XML a procesar'!A3800>0,'XML a procesar'!A3800,\"\")","v":""},0,0,0,0,"",0,0,0,"","",0,"",0,"",{"$f":"IF(ROW()<$S$4+2,IF('XML a procesar'!A3800=\"\",P3800,IF(MID('XML a procesar'!A3800,1,1)=\"<\",P3800,P3800+1)),P3800)","v":1}]
[{"$f":"IF('XML a procesar'!A3801>0,'XML a procesar'!A3801,\"\")","v":""},0,0,0,0,"",0,0,0,"","",0,"",0,"",{"$f":"IF(ROW()<$S$4+2,IF('XML a procesar'!A3801=\"\",P3801,IF(MID('XML a procesar'!A3801,1,1)=\"<\",P3801,P3801+1)),P3801)","v":1}]
[{"$f":"IF('XML a procesar'!A3802>0,'XML a procesar'!A3802,\"\")","v":""},0,0,0,0,"",0,0,0,"","",0,"",0,"",{"$f":"IF(ROW()<$S$4+2,IF('XML a procesar'!A3802=\"\",P3802,IF(MID('XML a procesar'!A3802,1,1)=\"<\",P3802,P3802+1)),P3802)","v":1}]
[{"$f":"IF('XML a procesar'!A3803>0,'XML a procesar'!A3803,\"\")","v":""},0,0,0,0,"",0,0,0,"","",0,"",0,"",{"$f":"IF(ROW()<$S$4+2,IF('XML a procesar'!A3803=\"\",P3803,IF(MID('XML a procesar'!A3803,1,1)=\"<\",P3803,P3803+1)),P3803)","v":1}]
[{"$f":"IF('XML a procesar'!A3804>0,'XML a procesar'!A3804,\"\")","v":""},0,0,0,0,"",0,0,0,"","",0,"",0,"",{"$f":"IF(ROW()<$S$4+2,IF('XML a procesar'!A3804=\"\",P3804,IF(MID('XML a procesar'!A3804,1,1)=\"<\",P3804,P3804+1)),P3804)","v":1}]
[{"$f":"IF('XML a procesar'!A3805>0,'XML a procesar'!A3805,\"\")","v":""},0,0,0,0,"",0,0,0,"","",0,"",0,"",{"$f":"IF(ROW()<$S$4+2,IF('XML a procesar'!A3805=\"\",P3805,IF(MID('XML a procesar'!A3805,1,1)=\"<\",P3805,P3805+1)),P3805)","v":1}]
[{"$f":"IF('XML a procesar'!A3806>0,'XML a procesar'!A3806,\"\")","v":""},0,0,0,0,"",0,0,0,"","",0,"",0,"",{"$f":"IF(ROW()<$S$4+2,IF('XML a procesar'!A3806=\"\",P3806,IF(MID('XML a procesar'!A3806,1,1)=\"<\",P3806,P3806+1)),P3806)","v":1}]
[{"$f":"IF('XML a procesar'!A3807>0,'XML a procesar'!A3807,\"\")","v":""},0,0,0,0,"",0,0,0,"","",0,"",0,"",{"$f":"IF(ROW()<$S$4+2,IF('XML a procesar'!A3807=\"\",P3807,IF(MID('XML a procesar'!A3807,1,1)=\"<\",P3807,P3807+1)),P3807)","v":1}]
[{"$f":"IF('XML a procesar'!A3808>0,'XML a procesar'!A3808,\"\")","v":""},0,0,0,0,"",0,0,0,"","",0,"",0,"",{"$f":"IF(ROW()<$S$4+2,IF('XML a procesar'!A3808=\"\",P3808,IF(MID('XML a procesar'!A3808,1,1)=\"<\",P3808,P3808+1)),P3808)","v":1}]
[{"$f":"IF('XML a procesar'!A3809>0,'XML a procesar'!A3809,\"\")","v":""},0,0,0,0,"",0,0,0,"","",0,"",0,"",{"$f":"IF(ROW()<$S$4+2,IF('XML a procesar'!A3809=\"\",P3809,IF(MID('XML a procesar'!A3809,1,1)=\"<\",P3809,P3809+1)),P3809)","v":1}]
[{"$f":"IF('XML a procesar'!A3810>0,'XML a procesar'!A3810,\"\")","v":""},0,0,0,0,"",0,0,0,"","",0,"",0,"",{"$f":"IF(ROW()<$S$4+2,IF('XML a procesar'!A3810=\"\",P3810,IF(MID('XML a procesar'!A3810,1,1)=\"<\",P3810,P3810+1)),P3810)","v":1}]
[{"$f":"IF('XML a procesar'!A3811>0,'XML a procesar'!A3811,\"\")","v":""},0,0,0,0,"",0,0,0,"","",0,"",0,"",{"$f":"IF(ROW()<$S$4+2,IF('XML a procesar'!A3811=\"\",P3811,IF(MID('XML a procesar'!A3811,1,1)=\"<\",P3811,P3811+1)),P3811)","v":1}]
[{"$f":"IF('XML a procesar'!A3812>0,'XML a procesar'!A3812,\"\")","v":""},0,0,0,0,"",0,0,0,"","",0,"",0,"",{"$f":"IF(ROW()<$S$4+2,IF('XML a procesar'!A3812=\"\",P3812,IF(MID('XML a procesar'!A3812,1,1)=\"<\",P3812,P3812+1)),P3812)","v":1}]
[{"$f":"IF('XML a procesar'!A3813>0,'XML a procesar'!A3813,\"\")","v":""},0,0,0,0,"",0,0,0,"","",0,"",0,"",{"$f":"IF(ROW()<$S$4+2,IF('XML a procesar'!A3813=\"\",P3813,IF(MID('XML a procesar'!A3813,1,1)=\"<\",P3813,P3813+1)),P3813)","v":1}]
[{"$f":"IF('XML a procesar'!A3814>0,'XML a procesar'!A3814,\"\")","v":""},0,0,0,0,"",0,0,0,"","",0,"",0,"",{"$f":"IF(ROW()<$S$4+2,IF('XML a procesar'!A3814=\"\",P3814,IF(MID('XML a procesar'!A3814,1,1)=\"<\",P3814,P3814+1)),P3814)","v":1}]
[{"$f":"IF('XML a procesar'!A3815>0,'XML a procesar'!A3815,\"\")","v":""},0,0,0,0,"",0,0,0,"","",0,"",0,"",{"$f":"IF(ROW()<$S$4+2,IF('XML a procesar'!A3815=\"\",P3815,IF(MID('XML a procesar'!A3815,1,1)=\"<\",P3815,P3815+1)),P3815)","v":1}]
[{"$f":"IF('XML a procesar'!A3816>0,'XML a procesar'!A3816,\"\")","v":""},0,0,0,0,"",0,0,0,"","",0,"",0,"",{"$f":"IF(ROW()<$S$4+2,IF('XML a procesar'!A3816=\"\",P3816,IF(MID('XML a procesar'!A3816,1,1)=\"<\",P3816,P3816+1)),P3816)","v":1}]
[{"$f":"IF('XML a procesar'!A3817>0,'XML a procesar'!A3817,\"\")","v":""},0,0,0,0,"",0,0,0,"","",0,"",0,"",{"$f":"IF(ROW()<$S$4+2,IF('XML a procesar'!A3817=\"\",P3817,IF(MID('XML a procesar'!A3817,1,1)=\"<\",P3817,P3817+1)),P3817)","v":1}]
[{"$f":"IF('XML a procesar'!A3818>0,'XML a procesar'!A3818,\"\")","v":""},0,0,0,0,"",0,0,0,"","",0,"",0,"",{"$f":"IF(ROW()<$S$4+2,IF('XML a procesar'!A3818=\"\",P3818,IF(MID('XML a procesar'!A3818,1,1)=\"<\",P3818,P3818+1)),P3818)","v":1}]
[{"$f":"IF('XML a procesar'!A3819>0,'XML a procesar'!A3819,\"\")","v":""},0,0,0,0,"",0,0,0,"","",0,"",0,"",{"$f":"IF(ROW()<$S$4+2,IF('XML a procesar'!A3819=\"\",P3819,IF(MID('XML a procesar'!A3819,1,1)=\"<\",P3819,P3819+1)),P3819)","v":1}]
[{"$f":"IF('XML a procesar'!A3820>0,'XML a procesar'!A3820,\"\")","v":""},0,0,0,0,"",0,0,0,"","",0,"",0,"",{"$f":"IF(ROW()<$S$4+2,IF('XML a procesar'!A3820=\"\",P3820,IF(MID('XML a procesar'!A3820,1,1)=\"<\",P3820,P3820+1)),P3820)","v":1}]
[{"$f":"IF('XML a procesar'!A3821>0,'XML a procesar'!A3821,\"\")","v":""},0,0,0,0,"",0,0,0,"","",0,"",0,"",{"$f":"IF(ROW()<$S$4+2,IF('XML a procesar'!A3821=\"\",P3821,IF(MID('XML a procesar'!A3821,1,1)=\"<\",P3821,P3821+1)),P3821)","v":1}]
[{"$f":"IF('XML a procesar'!A3822>0,'XML a procesar'!A3822,\"\")","v":""},0,0,0,0,"",0,0,0,"","",0,"",0,"",{"$f":"IF(ROW()<$S$4+2,IF('XML a procesar'!A3822=\"\",P3822,IF(MID('XML a procesar'!A3822,1,1)=\"<\",P3822,P3822+1)),P3822)","v":1}]
[{"$f":"IF('XML a procesar'!A3823>0,'XML a procesar'!A3823,\"\")","v":""},0,0,0,0,"",0,0,0,"","",0,"",0,"",{"$f":"IF(ROW()<$S$4+2,IF('XML a procesar'!A3823=\"\",P3823,IF(MID('XML a procesar'!A3823,1,1)=\"<\",P3823,P3823+1)),P3823)","v":1}]
[{"$f":"IF('XML a procesar'!A3824>0,'XML a procesar'!A3824,\"\")","v":""},0,0,0,0,"",0,0,0,"","",0,"",0,"",{"$f":"IF(ROW()<$S$4+2,IF('XML a procesar'!A3824=\"\",P3824,IF(MID('XML a procesar'!A3824,1,1)=\"<\",P3824,P3824+1)),P3824)","v":1}]
[{"$f":"IF('XML a procesar'!A3825>0,'XML a procesar'!A3825,\"\")","v":""},0,0,0,0,"",0,0,0,"","",0,"",0,"",{"$f":"IF(ROW()<$S$4+2,IF('XML a procesar'!A3825=\"\",P3825,IF(MID('XML a procesar'!A3825,1,1)=\"<\",P3825,P3825+1)),P3825)","v":1}]
[{"$f":"IF('XML a procesar'!A3826>0,'XML a procesar'!A3826,\"\")","v":""},0,0,0,0,"",0,0,0,"","",0,"",0,"",{"$f":"IF(ROW()<$S$4+2,IF('XML a procesar'!A3826=\"\",P3826,IF(MID('XML a procesar'!A3826,1,1)=\"<\",P3826,P3826+1)),P3826)","v":1}]
[{"$f":"IF('XML a procesar'!A3827>0,'XML a procesar'!A3827,\"\")","v":""},0,0,0,0,"",0,0,0,"","",0,"",0,"",{"$f":"IF(ROW()<$S$4+2,IF('XML a procesar'!A3827=\"\",P3827,IF(MID('XML a procesar'!A3827,1,1)=\"<\",P3827,P3827+1)),P3827)","v":1}]
[{"$f":"IF('XML a procesar'!A3828>0,'XML a procesar'!A3828,\"\")","v":""},0,0,0,0,"",0,0,0,"","",0,"",0,"",{"$f":"IF(ROW()<$S$4+2,IF('XML a procesar'!A3828=\"\",P3828,IF(MID('XML a procesar'!A3828,1,1)=\"<\",P3828,P3828+1)),P3828)","v":1}]
[{"$f":"IF('XML a procesar'!A3829>0,'XML a procesar'!A3829,\"\")","v":""},0,0,0,0,"",0,0,0,"","",0,"",0,"",{"$f":"IF(ROW()<$S$4+2,IF('XML a procesar'!A3829=\"\",P3829,IF(MID('XML a procesar'!A3829,1,1)=\"<\",P3829,P3829+1)),P3829)","v":1}]
[{"$f":"IF('XML a procesar'!A3830>0,'XML a procesar'!A3830,\"\")","v":""},0,0,0,0,"",0,0,0,"","",0,"",0,"",{"$f":"IF(ROW()<$S$4+2,IF('XML a procesar'!A3830=\"\",P3830,IF(MID('XML a procesar'!A3830,1,1)=\"<\",P3830,P3830+1)),P3830)","v":1}]
[{"$f":"IF('XML a procesar'!A3831>0,'XML a procesar'!A3831,\"\")","v":""},0,0,0,0,"",0,0,0,"","",0,"",0,"",{"$f":"IF(ROW()<$S$4+2,IF('XML a procesar'!A3831=\"\",P3831,IF(MID('XML a procesar'!A3831,1,1)=\"<\",P3831,P3831+1)),P3831)","v":1}]
[{"$f":"IF('XML a procesar'!A3832>0,'XML a procesar'!A3832,\"\")","v":""},0,0,0,0,"",0,0,0,"","",0,"",0,"",{"$f":"IF(ROW()<$S$4+2,IF('XML a procesar'!A3832=\"\",P3832,IF(MID('XML a procesar'!A3832,1,1)=\"<\",P3832,P3832+1)),P3832)","v":1}]
[{"$f":"IF('XML a procesar'!A3833>0,'XML a procesar'!A3833,\"\")","v":""},0,0,0,0,"",0,0,0,"","",0,"",0,"",{"$f":"IF(ROW()<$S$4+2,IF('XML a procesar'!A3833=\"\",P3833,IF(MID('XML a procesar'!A3833,1,1)=\"<\",P3833,P3833+1)),P3833)","v":1}]
[{"$f":"IF('XML a procesar'!A3834>0,'XML a procesar'!A3834,\"\")","v":""},0,0,0,0,"",0,0,0,"","",0,"",0,"",{"$f":"IF(ROW()<$S$4+2,IF('XML a procesar'!A3834=\"\",P3834,IF(MID('XML a procesar'!A3834,1,1)=\"<\",P3834,P3834+1)),P3834)","v":1}]
[{"$f":"IF('XML a procesar'!A3835>0,'XML a procesar'!A3835,\"\")","v":""},0,0,0,0,"",0,0,0,"","",0,"",0,"",{"$f":"IF(ROW()<$S$4+2,IF('XML a procesar'!A3835=\"\",P3835,IF(MID('XML a procesar'!A3835,1,1)=\"<\",P3835,P3835+1)),P3835)","v":1}]
[{"$f":"IF('XML a procesar'!A3836>0,'XML a procesar'!A3836,\"\")","v":""},0,0,0,0,"",0,0,0,"","",0,"",0,"",{"$f":"IF(ROW()<$S$4+2,IF('XML a procesar'!A3836=\"\",P3836,IF(MID('XML a procesar'!A3836,1,1)=\"<\",P3836,P3836+1)),P3836)","v":1}]
[{"$f":"IF('XML a procesar'!A3837>0,'XML a procesar'!A3837,\"\")","v":""},0,0,0,0,"",0,0,0,"","",0,"",0,"",{"$f":"IF(ROW()<$S$4+2,IF('XML a procesar'!A3837=\"\",P3837,IF(MID('XML a procesar'!A3837,1,1)=\"<\",P3837,P3837+1)),P3837)","v":1}]
[{"$f":"IF('XML a procesar'!A3838>0,'XML a procesar'!A3838,\"\")","v":""},0,0,0,0,"",0,0,0,"","",0,"",0,"",{"$f":"IF(ROW()<$S$4+2,IF('XML a procesar'!A3838=\"\",P3838,IF(MID('XML a procesar'!A3838,1,1)=\"<\",P3838,P3838+1)),P3838)","v":1}]
[{"$f":"IF('XML a procesar'!A3839>0,'XML a procesar'!A3839,\"\")","v":""},0,0,0,0,"",0,0,0,"","",0,"",0,"",{"$f":"IF(ROW()<$S$4+2,IF('XML a procesar'!A3839=\"\",P3839,IF(MID('XML a procesar'!A3839,1,1)=\"<\",P3839,P3839+1)),P3839)","v":1}]
[{"$f":"IF('XML a procesar'!A3840>0,'XML a procesar'!A3840,\"\")","v":""},{"$f":"IF(ISERROR(FIND(\"/doi.org/\",A3841,1)),0,1)","v":0},{"$f":"IF(LEFT(A3840,16)=\"<contrib contrib\",C3840+1,IF(LEFT(A3840,16)=\"</contrib-group>\",0,IF(LEFT(A3840,10)=\"</contrib>\",C3840,C3840)))","v":0},{"$f":"IF(AND(C3841>0,LEFT(A3841,7)=\"<email>\",ISNUMBER(SEARCH(\"@\",A3841,1))),C3841,IF(LEFT(A3841,10)=\"<alt-text>\",-1,0))","v":0},{"$f":"IF(D3841=0,E3840,E3840+1)","v":0},{"$f":"INDIRECT(ADDRESS(ROW()+INDIRECT(ADDRESS(ROW()+E3841,5)),1))","v":""},{"$f":"IF(LEFT(F3841,7)=\"<aff id\",_xlfn.NUMBERVALUE(MID(F3841,13,LEN(F3841)-14)),IF(F3841=\"</aff>\",G3840+1,G3840))","v":0},0,{"$f":"INDIRECT(ADDRESS(ROW()-INDIRECT(ADDRESS(ROW()-H3841,8)),8))","v":0},{"$f":"IF(J3840=\"Linea_para_MAIL_creada_por_LuXML\",\"</aff>\",IF(I3841>INDIRECT(ADDRESS(ROW()-I3841-1,8)),\"Linea_para_MAIL_creada_por_LuXML\",INDIRECT(ADDRESS(ROW()-I3841,6))))","v":""},"",{"$f":"IF(OR(MID(K3839,3,5)=\"page>\",MID(K3840,3,5)=\"page>\"),L3840,IF(OR(K3840=\"<history>\",K3841=\"<history>\"),L3840+1,L3840))","v":0},{"$f":"IF(L3841>L3840,IF(L3841=1,CONCATENATE(\"<fpage>\",$S$10,\"</fpage>\"),CONCATENATE(\"<lpage>\",$S$10+1,\"</lpage>\")),IF(ISERROR(INDIRECT(ADDRESS(ROW()-L3841,11),1)),\"\",INDIRECT(ADDRESS(ROW()-L3841,11),1)))","v":""},{"$f":"IF(N3840=-1,-1,IF(M3841=\"</counts>\",-1,IF(OR(LEFT(M3841,7)=\"<fpage>\",LEFT(M3841,7)=\"<lpage>\"),VALUE(MID(M3841,8,LEN(M3841)-15)),0)))","v":0},"",{"$f":"IF(ROW()<$S$4+2,IF('XML a procesar'!A3840=\"\",P3840,IF(MID('XML a procesar'!A3840,1,1)=\"<\",P3840,P3840+1)),P3840)","v":1}]
[{"$f":"IF('XML a procesar'!A3841>0,'XML a procesar'!A3841,\"\")","v":""},0,0,0,0,"",0,0,0,"","",0,"",0,{"$f":"IF(N3842>-1,INDIRECT(ADDRESS(ROW(),13)),IF(N3842<N3841,CONCATENATE(\"<page-count count=\",CHAR(34),1+LARGE(N:N,1)-LARGE(N:N,2),CHAR(34),\"/>\"),INDIRECT(ADDRESS(ROW()-1,13))))","v":""},{"$f":"IF(ROW()<$S$4+2,IF('XML a procesar'!A3841=\"\",P3841,IF(MID('XML a procesar'!A3841,1,1)=\"<\",P3841,P3841+1)),P3841)","v":1}]
[{"$f":"IF('XML a procesar'!A3842>0,'XML a procesar'!A3842,\"\")","v":""},0,0,0,0,"",0,{"$f":"IF(AND(G3842>0,G3843>G3842,NOT(ISERROR(MATCH(G3842,D:D,0)))),H3842+1,H3842)","v":0},0,"",{"$f":"IF(J3843=\"Linea_para_MAIL_creada_por_LuXML\",IF(ISERROR(MATCH(INDIRECT(ADDRESS(ROW()-G3843,7)),D:D,0)),J3843,INDIRECT(ADDRESS(MATCH(INDIRECT(ADDRESS(ROW()-G3843,7)),D:D,0),1))),J3843)","v":""},0,"",0,"",{"$f":"IF(ROW()<$S$4+2,IF('XML a procesar'!A3842=\"\",P3842,IF(MID('XML a procesar'!A3842,1,1)=\"<\",P3842,P3842+1)),P3842)","v":1}]
[{"$f":"IF('XML a procesar'!A3843>0,'XML a procesar'!A3843,\"\")","v":""},0,0,0,0,"",0,0,0,"","",0,"",0,"",{"$f":"IF(ROW()<$S$4+2,IF('XML a procesar'!A3843=\"\",P3843,IF(MID('XML a procesar'!A3843,1,1)=\"<\",P3843,P3843+1)),P3843)","v":1}]
[{"$f":"IF('XML a procesar'!A3844>0,'XML a procesar'!A3844,\"\")","v":""},0,0,0,0,"",0,0,0,"","",0,"",0,"",{"$f":"IF(ROW()<$S$4+2,IF('XML a procesar'!A3844=\"\",P3844,IF(MID('XML a procesar'!A3844,1,1)=\"<\",P3844,P3844+1)),P3844)","v":1}]
[{"$f":"IF('XML a procesar'!A3845>0,'XML a procesar'!A3845,\"\")","v":""},0,0,0,0,"",0,0,0,"","",0,"",0,"",{"$f":"IF(ROW()<$S$4+2,IF('XML a procesar'!A3845=\"\",P3845,IF(MID('XML a procesar'!A3845,1,1)=\"<\",P3845,P3845+1)),P3845)","v":1}]
[{"$f":"IF('XML a procesar'!A3846>0,'XML a procesar'!A3846,\"\")","v":""},0,0,0,0,"",0,0,0,"","",0,"",0,"",{"$f":"IF(ROW()<$S$4+2,IF('XML a procesar'!A3846=\"\",P3846,IF(MID('XML a procesar'!A3846,1,1)=\"<\",P3846,P3846+1)),P3846)","v":1}]
[{"$f":"IF('XML a procesar'!A3847>0,'XML a procesar'!A3847,\"\")","v":""},0,0,0,0,"",0,0,0,"","",0,"",0,"",{"$f":"IF(ROW()<$S$4+2,IF('XML a procesar'!A3847=\"\",P3847,IF(MID('XML a procesar'!A3847,1,1)=\"<\",P3847,P3847+1)),P3847)","v":1}]
[{"$f":"IF('XML a procesar'!A3848>0,'XML a procesar'!A3848,\"\")","v":""},0,0,0,0,"",0,0,0,"","",0,"",0,"",{"$f":"IF(ROW()<$S$4+2,IF('XML a procesar'!A3848=\"\",P3848,IF(MID('XML a procesar'!A3848,1,1)=\"<\",P3848,P3848+1)),P3848)","v":1}]
[{"$f":"IF('XML a procesar'!A3849>0,'XML a procesar'!A3849,\"\")","v":""},0,0,0,0,"",0,0,0,"","",0,"",0,"",{"$f":"IF(ROW()<$S$4+2,IF('XML a procesar'!A3849=\"\",P3849,IF(MID('XML a procesar'!A3849,1,1)=\"<\",P3849,P3849+1)),P3849)","v":1}]
[{"$f":"IF('XML a procesar'!A3850>0,'XML a procesar'!A3850,\"\")","v":""},0,0,0,0,"",0,0,0,"","",0,"",0,"",{"$f":"IF(ROW()<$S$4+2,IF('XML a procesar'!A3850=\"\",P3850,IF(MID('XML a procesar'!A3850,1,1)=\"<\",P3850,P3850+1)),P3850)","v":1}]
[{"$f":"IF('XML a procesar'!A3851>0,'XML a procesar'!A3851,\"\")","v":""},0,0,0,0,"",0,0,0,"","",0,"",0,"",{"$f":"IF(ROW()<$S$4+2,IF('XML a procesar'!A3851=\"\",P3851,IF(MID('XML a procesar'!A3851,1,1)=\"<\",P3851,P3851+1)),P3851)","v":1}]
[{"$f":"IF('XML a procesar'!A3852>0,'XML a procesar'!A3852,\"\")","v":""},0,0,0,0,"",0,0,0,"","",0,"",0,"",{"$f":"IF(ROW()<$S$4+2,IF('XML a procesar'!A3852=\"\",P3852,IF(MID('XML a procesar'!A3852,1,1)=\"<\",P3852,P3852+1)),P3852)","v":1}]
[{"$f":"IF('XML a procesar'!A3853>0,'XML a procesar'!A3853,\"\")","v":""},0,0,0,0,"",0,0,0,"","",0,"",0,"",{"$f":"IF(ROW()<$S$4+2,IF('XML a procesar'!A3853=\"\",P3853,IF(MID('XML a procesar'!A3853,1,1)=\"<\",P3853,P3853+1)),P3853)","v":1}]
[{"$f":"IF('XML a procesar'!A3854>0,'XML a procesar'!A3854,\"\")","v":""},0,0,0,0,"",0,0,0,"","",0,"",0,"",{"$f":"IF(ROW()<$S$4+2,IF('XML a procesar'!A3854=\"\",P3854,IF(MID('XML a procesar'!A3854,1,1)=\"<\",P3854,P3854+1)),P3854)","v":1}]
[{"$f":"IF('XML a procesar'!A3855>0,'XML a procesar'!A3855,\"\")","v":""},0,0,0,0,"",0,0,0,"","",0,"",0,"",{"$f":"IF(ROW()<$S$4+2,IF('XML a procesar'!A3855=\"\",P3855,IF(MID('XML a procesar'!A3855,1,1)=\"<\",P3855,P3855+1)),P3855)","v":1}]
[{"$f":"IF('XML a procesar'!A3856>0,'XML a procesar'!A3856,\"\")","v":""},0,0,0,0,"",0,0,0,"","",0,"",0,"",{"$f":"IF(ROW()<$S$4+2,IF('XML a procesar'!A3856=\"\",P3856,IF(MID('XML a procesar'!A3856,1,1)=\"<\",P3856,P3856+1)),P3856)","v":1}]
[{"$f":"IF('XML a procesar'!A3857>0,'XML a procesar'!A3857,\"\")","v":""},0,0,0,0,"",0,0,0,"","",0,"",0,"",{"$f":"IF(ROW()<$S$4+2,IF('XML a procesar'!A3857=\"\",P3857,IF(MID('XML a procesar'!A3857,1,1)=\"<\",P3857,P3857+1)),P3857)","v":1}]
[{"$f":"IF('XML a procesar'!A3858>0,'XML a procesar'!A3858,\"\")","v":""},0,0,0,0,"",0,0,0,"","",0,"",0,"",{"$f":"IF(ROW()<$S$4+2,IF('XML a procesar'!A3858=\"\",P3858,IF(MID('XML a procesar'!A3858,1,1)=\"<\",P3858,P3858+1)),P3858)","v":1}]
[{"$f":"IF('XML a procesar'!A3859>0,'XML a procesar'!A3859,\"\")","v":""},0,0,0,0,"",0,0,0,"","",0,"",0,"",{"$f":"IF(ROW()<$S$4+2,IF('XML a procesar'!A3859=\"\",P3859,IF(MID('XML a procesar'!A3859,1,1)=\"<\",P3859,P3859+1)),P3859)","v":1}]
[{"$f":"IF('XML a procesar'!A3860>0,'XML a procesar'!A3860,\"\")","v":""},0,0,0,0,"",0,0,0,"","",0,"",0,"",{"$f":"IF(ROW()<$S$4+2,IF('XML a procesar'!A3860=\"\",P3860,IF(MID('XML a procesar'!A3860,1,1)=\"<\",P3860,P3860+1)),P3860)","v":1}]
[{"$f":"IF('XML a procesar'!A3861>0,'XML a procesar'!A3861,\"\")","v":""},0,0,0,0,"",0,0,0,"","",0,"",0,"",{"$f":"IF(ROW()<$S$4+2,IF('XML a procesar'!A3861=\"\",P3861,IF(MID('XML a procesar'!A3861,1,1)=\"<\",P3861,P3861+1)),P3861)","v":1}]
[{"$f":"IF('XML a procesar'!A3862>0,'XML a procesar'!A3862,\"\")","v":""},0,0,0,0,"",0,0,0,"","",0,"",0,"",{"$f":"IF(ROW()<$S$4+2,IF('XML a procesar'!A3862=\"\",P3862,IF(MID('XML a procesar'!A3862,1,1)=\"<\",P3862,P3862+1)),P3862)","v":1}]
[{"$f":"IF('XML a procesar'!A3863>0,'XML a procesar'!A3863,\"\")","v":""},0,0,0,0,"",0,0,0,"","",0,"",0,"",{"$f":"IF(ROW()<$S$4+2,IF('XML a procesar'!A3863=\"\",P3863,IF(MID('XML a procesar'!A3863,1,1)=\"<\",P3863,P3863+1)),P3863)","v":1}]
[{"$f":"IF('XML a procesar'!A3864>0,'XML a procesar'!A3864,\"\")","v":""},0,0,0,0,"",0,0,0,"","",0,"",0,"",{"$f":"IF(ROW()<$S$4+2,IF('XML a procesar'!A3864=\"\",P3864,IF(MID('XML a procesar'!A3864,1,1)=\"<\",P3864,P3864+1)),P3864)","v":1}]
[{"$f":"IF('XML a procesar'!A3865>0,'XML a procesar'!A3865,\"\")","v":""},0,0,0,0,"",0,0,0,"","",0,"",0,"",{"$f":"IF(ROW()<$S$4+2,IF('XML a procesar'!A3865=\"\",P3865,IF(MID('XML a procesar'!A3865,1,1)=\"<\",P3865,P3865+1)),P3865)","v":1}]
[{"$f":"IF('XML a procesar'!A3866>0,'XML a procesar'!A3866,\"\")","v":""},0,0,0,0,"",0,0,0,"","",0,"",0,"",{"$f":"IF(ROW()<$S$4+2,IF('XML a procesar'!A3866=\"\",P3866,IF(MID('XML a procesar'!A3866,1,1)=\"<\",P3866,P3866+1)),P3866)","v":1}]
[{"$f":"IF('XML a procesar'!A3867>0,'XML a procesar'!A3867,\"\")","v":""},0,0,0,0,"",0,0,0,"","",0,"",0,"",{"$f":"IF(ROW()<$S$4+2,IF('XML a procesar'!A3867=\"\",P3867,IF(MID('XML a procesar'!A3867,1,1)=\"<\",P3867,P3867+1)),P3867)","v":1}]
[{"$f":"IF('XML a procesar'!A3868>0,'XML a procesar'!A3868,\"\")","v":""},0,0,0,0,"",0,0,0,"","",0,"",0,"",{"$f":"IF(ROW()<$S$4+2,IF('XML a procesar'!A3868=\"\",P3868,IF(MID('XML a procesar'!A3868,1,1)=\"<\",P3868,P3868+1)),P3868)","v":1}]
[{"$f":"IF('XML a procesar'!A3869>0,'XML a procesar'!A3869,\"\")","v":""},0,0,0,0,"",0,0,0,"","",0,"",0,"",{"$f":"IF(ROW()<$S$4+2,IF('XML a procesar'!A3869=\"\",P3869,IF(MID('XML a procesar'!A3869,1,1)=\"<\",P3869,P3869+1)),P3869)","v":1}]
[{"$f":"IF('XML a procesar'!A3870>0,'XML a procesar'!A3870,\"\")","v":""},0,0,0,0,"",0,0,0,"","",0,"",0,"",{"$f":"IF(ROW()<$S$4+2,IF('XML a procesar'!A3870=\"\",P3870,IF(MID('XML a procesar'!A3870,1,1)=\"<\",P3870,P3870+1)),P3870)","v":1}]
[{"$f":"IF('XML a procesar'!A3871>0,'XML a procesar'!A3871,\"\")","v":""},0,0,0,0,"",0,0,0,"","",0,"",0,"",{"$f":"IF(ROW()<$S$4+2,IF('XML a procesar'!A3871=\"\",P3871,IF(MID('XML a procesar'!A3871,1,1)=\"<\",P3871,P3871+1)),P3871)","v":1}]
[{"$f":"IF('XML a procesar'!A3872>0,'XML a procesar'!A3872,\"\")","v":""},0,0,0,0,"",0,0,0,"","",0,"",0,"",{"$f":"IF(ROW()<$S$4+2,IF('XML a procesar'!A3872=\"\",P3872,IF(MID('XML a procesar'!A3872,1,1)=\"<\",P3872,P3872+1)),P3872)","v":1}]
[{"$f":"IF('XML a procesar'!A3873>0,'XML a procesar'!A3873,\"\")","v":""},0,0,0,0,"",0,0,0,"","",0,"",0,"",{"$f":"IF(ROW()<$S$4+2,IF('XML a procesar'!A3873=\"\",P3873,IF(MID('XML a procesar'!A3873,1,1)=\"<\",P3873,P3873+1)),P3873)","v":1}]
[{"$f":"IF('XML a procesar'!A3874>0,'XML a procesar'!A3874,\"\")","v":""},0,0,0,0,"",0,0,0,"","",0,"",0,"",{"$f":"IF(ROW()<$S$4+2,IF('XML a procesar'!A3874=\"\",P3874,IF(MID('XML a procesar'!A3874,1,1)=\"<\",P3874,P3874+1)),P3874)","v":1}]
[{"$f":"IF('XML a procesar'!A3875>0,'XML a procesar'!A3875,\"\")","v":""},0,0,0,0,"",0,0,0,"","",0,"",0,"",{"$f":"IF(ROW()<$S$4+2,IF('XML a procesar'!A3875=\"\",P3875,IF(MID('XML a procesar'!A3875,1,1)=\"<\",P3875,P3875+1)),P3875)","v":1}]
[{"$f":"IF('XML a procesar'!A3876>0,'XML a procesar'!A3876,\"\")","v":""},0,0,0,0,"",0,0,0,"","",0,"",0,"",{"$f":"IF(ROW()<$S$4+2,IF('XML a procesar'!A3876=\"\",P3876,IF(MID('XML a procesar'!A3876,1,1)=\"<\",P3876,P3876+1)),P3876)","v":1}]
[{"$f":"IF('XML a procesar'!A3877>0,'XML a procesar'!A3877,\"\")","v":""},0,0,0,0,"",0,0,0,"","",0,"",0,"",{"$f":"IF(ROW()<$S$4+2,IF('XML a procesar'!A3877=\"\",P3877,IF(MID('XML a procesar'!A3877,1,1)=\"<\",P3877,P3877+1)),P3877)","v":1}]
[{"$f":"IF('XML a procesar'!A3878>0,'XML a procesar'!A3878,\"\")","v":""},0,0,0,0,"",0,0,0,"","",0,"",0,"",{"$f":"IF(ROW()<$S$4+2,IF('XML a procesar'!A3878=\"\",P3878,IF(MID('XML a procesar'!A3878,1,1)=\"<\",P3878,P3878+1)),P3878)","v":1}]
[{"$f":"IF('XML a procesar'!A3879>0,'XML a procesar'!A3879,\"\")","v":""},0,0,0,0,"",0,0,0,"","",0,"",0,"",{"$f":"IF(ROW()<$S$4+2,IF('XML a procesar'!A3879=\"\",P3879,IF(MID('XML a procesar'!A3879,1,1)=\"<\",P3879,P3879+1)),P3879)","v":1}]
[{"$f":"IF('XML a procesar'!A3880>0,'XML a procesar'!A3880,\"\")","v":""},0,0,0,0,"",0,0,0,"","",0,"",0,"",{"$f":"IF(ROW()<$S$4+2,IF('XML a procesar'!A3880=\"\",P3880,IF(MID('XML a procesar'!A3880,1,1)=\"<\",P3880,P3880+1)),P3880)","v":1}]
[{"$f":"IF('XML a procesar'!A3881>0,'XML a procesar'!A3881,\"\")","v":""},0,0,0,0,"",0,0,0,"","",0,"",0,"",{"$f":"IF(ROW()<$S$4+2,IF('XML a procesar'!A3881=\"\",P3881,IF(MID('XML a procesar'!A3881,1,1)=\"<\",P3881,P3881+1)),P3881)","v":1}]
[{"$f":"IF('XML a procesar'!A3882>0,'XML a procesar'!A3882,\"\")","v":""},0,0,0,0,"",0,0,0,"","",0,"",0,"",{"$f":"IF(ROW()<$S$4+2,IF('XML a procesar'!A3882=\"\",P3882,IF(MID('XML a procesar'!A3882,1,1)=\"<\",P3882,P3882+1)),P3882)","v":1}]
[{"$f":"IF('XML a procesar'!A3883>0,'XML a procesar'!A3883,\"\")","v":""},0,0,0,0,"",0,0,0,"","",0,"",0,"",{"$f":"IF(ROW()<$S$4+2,IF('XML a procesar'!A3883=\"\",P3883,IF(MID('XML a procesar'!A3883,1,1)=\"<\",P3883,P3883+1)),P3883)","v":1}]
[{"$f":"IF('XML a procesar'!A3884>0,'XML a procesar'!A3884,\"\")","v":""},0,0,0,0,"",0,0,0,"","",0,"",0,"",{"$f":"IF(ROW()<$S$4+2,IF('XML a procesar'!A3884=\"\",P3884,IF(MID('XML a procesar'!A3884,1,1)=\"<\",P3884,P3884+1)),P3884)","v":1}]
[{"$f":"IF('XML a procesar'!A3885>0,'XML a procesar'!A3885,\"\")","v":""},0,0,0,0,"",0,0,0,"","",0,"",0,"",{"$f":"IF(ROW()<$S$4+2,IF('XML a procesar'!A3885=\"\",P3885,IF(MID('XML a procesar'!A3885,1,1)=\"<\",P3885,P3885+1)),P3885)","v":1}]
[{"$f":"IF('XML a procesar'!A3886>0,'XML a procesar'!A3886,\"\")","v":""},0,0,0,0,"",0,0,0,"","",0,"",0,"",{"$f":"IF(ROW()<$S$4+2,IF('XML a procesar'!A3886=\"\",P3886,IF(MID('XML a procesar'!A3886,1,1)=\"<\",P3886,P3886+1)),P3886)","v":1}]
[{"$f":"IF('XML a procesar'!A3887>0,'XML a procesar'!A3887,\"\")","v":""},0,0,0,0,"",0,0,0,"","",0,"",0,"",{"$f":"IF(ROW()<$S$4+2,IF('XML a procesar'!A3887=\"\",P3887,IF(MID('XML a procesar'!A3887,1,1)=\"<\",P3887,P3887+1)),P3887)","v":1}]
[{"$f":"IF('XML a procesar'!A3888>0,'XML a procesar'!A3888,\"\")","v":""},0,0,0,0,"",0,0,0,"","",0,"",0,"",{"$f":"IF(ROW()<$S$4+2,IF('XML a procesar'!A3888=\"\",P3888,IF(MID('XML a procesar'!A3888,1,1)=\"<\",P3888,P3888+1)),P3888)","v":1}]
[{"$f":"IF('XML a procesar'!A3889>0,'XML a procesar'!A3889,\"\")","v":""},0,0,0,0,"",0,0,0,"","",0,"",0,"",{"$f":"IF(ROW()<$S$4+2,IF('XML a procesar'!A3889=\"\",P3889,IF(MID('XML a procesar'!A3889,1,1)=\"<\",P3889,P3889+1)),P3889)","v":1}]
[{"$f":"IF('XML a procesar'!A3890>0,'XML a procesar'!A3890,\"\")","v":""},0,0,0,0,"",0,0,0,"","",0,"",0,"",{"$f":"IF(ROW()<$S$4+2,IF('XML a procesar'!A3890=\"\",P3890,IF(MID('XML a procesar'!A3890,1,1)=\"<\",P3890,P3890+1)),P3890)","v":1}]
[{"$f":"IF('XML a procesar'!A3891>0,'XML a procesar'!A3891,\"\")","v":""},0,0,0,0,"",0,0,0,"","",0,"",0,"",{"$f":"IF(ROW()<$S$4+2,IF('XML a procesar'!A3891=\"\",P3891,IF(MID('XML a procesar'!A3891,1,1)=\"<\",P3891,P3891+1)),P3891)","v":1}]
[{"$f":"IF('XML a procesar'!A3892>0,'XML a procesar'!A3892,\"\")","v":""},0,0,0,0,"",0,0,0,"","",0,"",0,"",{"$f":"IF(ROW()<$S$4+2,IF('XML a procesar'!A3892=\"\",P3892,IF(MID('XML a procesar'!A3892,1,1)=\"<\",P3892,P3892+1)),P3892)","v":1}]
[{"$f":"IF('XML a procesar'!A3893>0,'XML a procesar'!A3893,\"\")","v":""},0,0,0,0,"",0,0,0,"","",0,"",0,"",{"$f":"IF(ROW()<$S$4+2,IF('XML a procesar'!A3893=\"\",P3893,IF(MID('XML a procesar'!A3893,1,1)=\"<\",P3893,P3893+1)),P3893)","v":1}]
[{"$f":"IF('XML a procesar'!A3894>0,'XML a procesar'!A3894,\"\")","v":""},0,0,0,0,"",0,0,0,"","",0,"",0,"",{"$f":"IF(ROW()<$S$4+2,IF('XML a procesar'!A3894=\"\",P3894,IF(MID('XML a procesar'!A3894,1,1)=\"<\",P3894,P3894+1)),P3894)","v":1}]
[{"$f":"IF('XML a procesar'!A3895>0,'XML a procesar'!A3895,\"\")","v":""},0,0,0,0,"",0,0,0,"","",0,"",0,"",{"$f":"IF(ROW()<$S$4+2,IF('XML a procesar'!A3895=\"\",P3895,IF(MID('XML a procesar'!A3895,1,1)=\"<\",P3895,P3895+1)),P3895)","v":1}]
[{"$f":"IF('XML a procesar'!A3896>0,'XML a procesar'!A3896,\"\")","v":""},0,0,0,0,"",0,0,0,"","",0,"",0,"",{"$f":"IF(ROW()<$S$4+2,IF('XML a procesar'!A3896=\"\",P3896,IF(MID('XML a procesar'!A3896,1,1)=\"<\",P3896,P3896+1)),P3896)","v":1}]
[{"$f":"IF('XML a procesar'!A3897>0,'XML a procesar'!A3897,\"\")","v":""},0,0,0,0,"",0,0,0,"","",0,"",0,"",{"$f":"IF(ROW()<$S$4+2,IF('XML a procesar'!A3897=\"\",P3897,IF(MID('XML a procesar'!A3897,1,1)=\"<\",P3897,P3897+1)),P3897)","v":1}]
[{"$f":"IF('XML a procesar'!A3898>0,'XML a procesar'!A3898,\"\")","v":""},0,0,0,0,"",0,0,0,"","",0,"",0,"",{"$f":"IF(ROW()<$S$4+2,IF('XML a procesar'!A3898=\"\",P3898,IF(MID('XML a procesar'!A3898,1,1)=\"<\",P3898,P3898+1)),P3898)","v":1}]
[{"$f":"IF('XML a procesar'!A3899>0,'XML a procesar'!A3899,\"\")","v":""},0,0,0,0,"",0,0,0,"","",0,"",0,"",{"$f":"IF(ROW()<$S$4+2,IF('XML a procesar'!A3899=\"\",P3899,IF(MID('XML a procesar'!A3899,1,1)=\"<\",P3899,P3899+1)),P3899)","v":1}]
[{"$f":"IF('XML a procesar'!A3900>0,'XML a procesar'!A3900,\"\")","v":""},0,0,0,0,"",0,0,0,"","",0,"",0,"",{"$f":"IF(ROW()<$S$4+2,IF('XML a procesar'!A3900=\"\",P3900,IF(MID('XML a procesar'!A3900,1,1)=\"<\",P3900,P3900+1)),P3900)","v":1}]
[{"$f":"IF('XML a procesar'!A3901>0,'XML a procesar'!A3901,\"\")","v":""},0,0,0,0,"",0,0,0,"","",0,"",0,"",{"$f":"IF(ROW()<$S$4+2,IF('XML a procesar'!A3901=\"\",P3901,IF(MID('XML a procesar'!A3901,1,1)=\"<\",P3901,P3901+1)),P3901)","v":1}]
[{"$f":"IF('XML a procesar'!A3902>0,'XML a procesar'!A3902,\"\")","v":""},0,0,0,0,"",0,0,0,"","",0,"",0,"",{"$f":"IF(ROW()<$S$4+2,IF('XML a procesar'!A3902=\"\",P3902,IF(MID('XML a procesar'!A3902,1,1)=\"<\",P3902,P3902+1)),P3902)","v":1}]
[{"$f":"IF('XML a procesar'!A3903>0,'XML a procesar'!A3903,\"\")","v":""},0,0,0,0,"",0,0,0,"","",0,"",0,"",{"$f":"IF(ROW()<$S$4+2,IF('XML a procesar'!A3903=\"\",P3903,IF(MID('XML a procesar'!A3903,1,1)=\"<\",P3903,P3903+1)),P3903)","v":1}]
[{"$f":"IF('XML a procesar'!A3904>0,'XML a procesar'!A3904,\"\")","v":""},{"$f":"IF(ISERROR(FIND(\"/doi.org/\",A3905,1)),0,1)","v":0},{"$f":"IF(LEFT(A3904,16)=\"<contrib contrib\",C3904+1,IF(LEFT(A3904,16)=\"</contrib-group>\",0,IF(LEFT(A3904,10)=\"</contrib>\",C3904,C3904)))","v":0},{"$f":"IF(AND(C3905>0,LEFT(A3905,7)=\"<email>\",ISNUMBER(SEARCH(\"@\",A3905,1))),C3905,IF(LEFT(A3905,10)=\"<alt-text>\",-1,0))","v":0},{"$f":"IF(D3905=0,E3904,E3904+1)","v":0},{"$f":"INDIRECT(ADDRESS(ROW()+INDIRECT(ADDRESS(ROW()+E3905,5)),1))","v":""},{"$f":"IF(LEFT(F3905,7)=\"<aff id\",_xlfn.NUMBERVALUE(MID(F3905,13,LEN(F3905)-14)),IF(F3905=\"</aff>\",G3904+1,G3904))","v":0},0,{"$f":"INDIRECT(ADDRESS(ROW()-INDIRECT(ADDRESS(ROW()-H3905,8)),8))","v":0},{"$f":"IF(J3904=\"Linea_para_MAIL_creada_por_LuXML\",\"</aff>\",IF(I3905>INDIRECT(ADDRESS(ROW()-I3905-1,8)),\"Linea_para_MAIL_creada_por_LuXML\",INDIRECT(ADDRESS(ROW()-I3905,6))))","v":""},"",{"$f":"IF(OR(MID(K3903,3,5)=\"page>\",MID(K3904,3,5)=\"page>\"),L3904,IF(OR(K3904=\"<history>\",K3905=\"<history>\"),L3904+1,L3904))","v":0},{"$f":"IF(L3905>L3904,IF(L3905=1,CONCATENATE(\"<fpage>\",$S$10,\"</fpage>\"),CONCATENATE(\"<lpage>\",$S$10+1,\"</lpage>\")),IF(ISERROR(INDIRECT(ADDRESS(ROW()-L3905,11),1)),\"\",INDIRECT(ADDRESS(ROW()-L3905,11),1)))","v":""},{"$f":"IF(N3904=-1,-1,IF(M3905=\"</counts>\",-1,IF(OR(LEFT(M3905,7)=\"<fpage>\",LEFT(M3905,7)=\"<lpage>\"),VALUE(MID(M3905,8,LEN(M3905)-15)),0)))","v":0},"",{"$f":"IF(ROW()<$S$4+2,IF('XML a procesar'!A3904=\"\",P3904,IF(MID('XML a procesar'!A3904,1,1)=\"<\",P3904,P3904+1)),P3904)","v":1}]
[{"$f":"IF('XML a procesar'!A3905>0,'XML a procesar'!A3905,\"\")","v":""},0,0,0,0,"",0,0,0,"","",0,"",0,{"$f":"IF(N3906>-1,INDIRECT(ADDRESS(ROW(),13)),IF(N3906<N3905,CONCATENATE(\"<page-count count=\",CHAR(34),1+LARGE(N:N,1)-LARGE(N:N,2),CHAR(34),\"/>\"),INDIRECT(ADDRESS(ROW()-1,13))))","v":""},{"$f":"IF(ROW()<$S$4+2,IF('XML a procesar'!A3905=\"\",P3905,IF(MID('XML a procesar'!A3905,1,1)=\"<\",P3905,P3905+1)),P3905)","v":1}]
[{"$f":"IF('XML a procesar'!A3906>0,'XML a procesar'!A3906,\"\")","v":""},0,0,0,0,"",0,{"$f":"IF(AND(G3906>0,G3907>G3906,NOT(ISERROR(MATCH(G3906,D:D,0)))),H3906+1,H3906)","v":0},0,"",{"$f":"IF(J3907=\"Linea_para_MAIL_creada_por_LuXML\",IF(ISERROR(MATCH(INDIRECT(ADDRESS(ROW()-G3907,7)),D:D,0)),J3907,INDIRECT(ADDRESS(MATCH(INDIRECT(ADDRESS(ROW()-G3907,7)),D:D,0),1))),J3907)","v":""},0,"",0,"",{"$f":"IF(ROW()<$S$4+2,IF('XML a procesar'!A3906=\"\",P3906,IF(MID('XML a procesar'!A3906,1,1)=\"<\",P3906,P3906+1)),P3906)","v":1}]
[{"$f":"IF('XML a procesar'!A3907>0,'XML a procesar'!A3907,\"\")","v":""},0,0,0,0,"",0,0,0,"","",0,"",0,"",{"$f":"IF(ROW()<$S$4+2,IF('XML a procesar'!A3907=\"\",P3907,IF(MID('XML a procesar'!A3907,1,1)=\"<\",P3907,P3907+1)),P3907)","v":1}]
[{"$f":"IF('XML a procesar'!A3908>0,'XML a procesar'!A3908,\"\")","v":""},0,0,0,0,"",0,0,0,"","",0,"",0,"",{"$f":"IF(ROW()<$S$4+2,IF('XML a procesar'!A3908=\"\",P3908,IF(MID('XML a procesar'!A3908,1,1)=\"<\",P3908,P3908+1)),P3908)","v":1}]
[{"$f":"IF('XML a procesar'!A3909>0,'XML a procesar'!A3909,\"\")","v":""},0,0,0,0,"",0,0,0,"","",0,"",0,"",{"$f":"IF(ROW()<$S$4+2,IF('XML a procesar'!A3909=\"\",P3909,IF(MID('XML a procesar'!A3909,1,1)=\"<\",P3909,P3909+1)),P3909)","v":1}]
[{"$f":"IF('XML a procesar'!A3910>0,'XML a procesar'!A3910,\"\")","v":""},0,0,0,0,"",0,0,0,"","",0,"",0,"",{"$f":"IF(ROW()<$S$4+2,IF('XML a procesar'!A3910=\"\",P3910,IF(MID('XML a procesar'!A3910,1,1)=\"<\",P3910,P3910+1)),P3910)","v":1}]
[{"$f":"IF('XML a procesar'!A3911>0,'XML a procesar'!A3911,\"\")","v":""},0,0,0,0,"",0,0,0,"","",0,"",0,"",{"$f":"IF(ROW()<$S$4+2,IF('XML a procesar'!A3911=\"\",P3911,IF(MID('XML a procesar'!A3911,1,1)=\"<\",P3911,P3911+1)),P3911)","v":1}]
[{"$f":"IF('XML a procesar'!A3912>0,'XML a procesar'!A3912,\"\")","v":""},0,0,0,0,"",0,0,0,"","",0,"",0,"",{"$f":"IF(ROW()<$S$4+2,IF('XML a procesar'!A3912=\"\",P3912,IF(MID('XML a procesar'!A3912,1,1)=\"<\",P3912,P3912+1)),P3912)","v":1}]
[{"$f":"IF('XML a procesar'!A3913>0,'XML a procesar'!A3913,\"\")","v":""},0,0,0,0,"",0,0,0,"","",0,"",0,"",{"$f":"IF(ROW()<$S$4+2,IF('XML a procesar'!A3913=\"\",P3913,IF(MID('XML a procesar'!A3913,1,1)=\"<\",P3913,P3913+1)),P3913)","v":1}]
[{"$f":"IF('XML a procesar'!A3914>0,'XML a procesar'!A3914,\"\")","v":""},0,0,0,0,"",0,0,0,"","",0,"",0,"",{"$f":"IF(ROW()<$S$4+2,IF('XML a procesar'!A3914=\"\",P3914,IF(MID('XML a procesar'!A3914,1,1)=\"<\",P3914,P3914+1)),P3914)","v":1}]
[{"$f":"IF('XML a procesar'!A3915>0,'XML a procesar'!A3915,\"\")","v":""},0,0,0,0,"",0,0,0,"","",0,"",0,"",{"$f":"IF(ROW()<$S$4+2,IF('XML a procesar'!A3915=\"\",P3915,IF(MID('XML a procesar'!A3915,1,1)=\"<\",P3915,P3915+1)),P3915)","v":1}]
[{"$f":"IF('XML a procesar'!A3916>0,'XML a procesar'!A3916,\"\")","v":""},0,0,0,0,"",0,0,0,"","",0,"",0,"",{"$f":"IF(ROW()<$S$4+2,IF('XML a procesar'!A3916=\"\",P3916,IF(MID('XML a procesar'!A3916,1,1)=\"<\",P3916,P3916+1)),P3916)","v":1}]
[{"$f":"IF('XML a procesar'!A3917>0,'XML a procesar'!A3917,\"\")","v":""},0,0,0,0,"",0,0,0,"","",0,"",0,"",{"$f":"IF(ROW()<$S$4+2,IF('XML a procesar'!A3917=\"\",P3917,IF(MID('XML a procesar'!A3917,1,1)=\"<\",P3917,P3917+1)),P3917)","v":1}]
[{"$f":"IF('XML a procesar'!A3918>0,'XML a procesar'!A3918,\"\")","v":""},0,0,0,0,"",0,0,0,"","",0,"",0,"",{"$f":"IF(ROW()<$S$4+2,IF('XML a procesar'!A3918=\"\",P3918,IF(MID('XML a procesar'!A3918,1,1)=\"<\",P3918,P3918+1)),P3918)","v":1}]
[{"$f":"IF('XML a procesar'!A3919>0,'XML a procesar'!A3919,\"\")","v":""},0,0,0,0,"",0,0,0,"","",0,"",0,"",{"$f":"IF(ROW()<$S$4+2,IF('XML a procesar'!A3919=\"\",P3919,IF(MID('XML a procesar'!A3919,1,1)=\"<\",P3919,P3919+1)),P3919)","v":1}]
[{"$f":"IF('XML a procesar'!A3920>0,'XML a procesar'!A3920,\"\")","v":""},0,0,0,0,"",0,0,0,"","",0,"",0,"",{"$f":"IF(ROW()<$S$4+2,IF('XML a procesar'!A3920=\"\",P3920,IF(MID('XML a procesar'!A3920,1,1)=\"<\",P3920,P3920+1)),P3920)","v":1}]
[{"$f":"IF('XML a procesar'!A3921>0,'XML a procesar'!A3921,\"\")","v":""},0,0,0,0,"",0,0,0,"","",0,"",0,"",{"$f":"IF(ROW()<$S$4+2,IF('XML a procesar'!A3921=\"\",P3921,IF(MID('XML a procesar'!A3921,1,1)=\"<\",P3921,P3921+1)),P3921)","v":1}]
[{"$f":"IF('XML a procesar'!A3922>0,'XML a procesar'!A3922,\"\")","v":""},0,0,0,0,"",0,0,0,"","",0,"",0,"",{"$f":"IF(ROW()<$S$4+2,IF('XML a procesar'!A3922=\"\",P3922,IF(MID('XML a procesar'!A3922,1,1)=\"<\",P3922,P3922+1)),P3922)","v":1}]
[{"$f":"IF('XML a procesar'!A3923>0,'XML a procesar'!A3923,\"\")","v":""},0,0,0,0,"",0,0,0,"","",0,"",0,"",{"$f":"IF(ROW()<$S$4+2,IF('XML a procesar'!A3923=\"\",P3923,IF(MID('XML a procesar'!A3923,1,1)=\"<\",P3923,P3923+1)),P3923)","v":1}]
[{"$f":"IF('XML a procesar'!A3924>0,'XML a procesar'!A3924,\"\")","v":""},0,0,0,0,"",0,0,0,"","",0,"",0,"",{"$f":"IF(ROW()<$S$4+2,IF('XML a procesar'!A3924=\"\",P3924,IF(MID('XML a procesar'!A3924,1,1)=\"<\",P3924,P3924+1)),P3924)","v":1}]
[{"$f":"IF('XML a procesar'!A3925>0,'XML a procesar'!A3925,\"\")","v":""},0,0,0,0,"",0,0,0,"","",0,"",0,"",{"$f":"IF(ROW()<$S$4+2,IF('XML a procesar'!A3925=\"\",P3925,IF(MID('XML a procesar'!A3925,1,1)=\"<\",P3925,P3925+1)),P3925)","v":1}]
[{"$f":"IF('XML a procesar'!A3926>0,'XML a procesar'!A3926,\"\")","v":""},0,0,0,0,"",0,0,0,"","",0,"",0,"",{"$f":"IF(ROW()<$S$4+2,IF('XML a procesar'!A3926=\"\",P3926,IF(MID('XML a procesar'!A3926,1,1)=\"<\",P3926,P3926+1)),P3926)","v":1}]
[{"$f":"IF('XML a procesar'!A3927>0,'XML a procesar'!A3927,\"\")","v":""},0,0,0,0,"",0,0,0,"","",0,"",0,"",{"$f":"IF(ROW()<$S$4+2,IF('XML a procesar'!A3927=\"\",P3927,IF(MID('XML a procesar'!A3927,1,1)=\"<\",P3927,P3927+1)),P3927)","v":1}]
[{"$f":"IF('XML a procesar'!A3928>0,'XML a procesar'!A3928,\"\")","v":""},0,0,0,0,"",0,0,0,"","",0,"",0,"",{"$f":"IF(ROW()<$S$4+2,IF('XML a procesar'!A3928=\"\",P3928,IF(MID('XML a procesar'!A3928,1,1)=\"<\",P3928,P3928+1)),P3928)","v":1}]
[{"$f":"IF('XML a procesar'!A3929>0,'XML a procesar'!A3929,\"\")","v":""},0,0,0,0,"",0,0,0,"","",0,"",0,"",{"$f":"IF(ROW()<$S$4+2,IF('XML a procesar'!A3929=\"\",P3929,IF(MID('XML a procesar'!A3929,1,1)=\"<\",P3929,P3929+1)),P3929)","v":1}]
[{"$f":"IF('XML a procesar'!A3930>0,'XML a procesar'!A3930,\"\")","v":""},0,0,0,0,"",0,0,0,"","",0,"",0,"",{"$f":"IF(ROW()<$S$4+2,IF('XML a procesar'!A3930=\"\",P3930,IF(MID('XML a procesar'!A3930,1,1)=\"<\",P3930,P3930+1)),P3930)","v":1}]
[{"$f":"IF('XML a procesar'!A3931>0,'XML a procesar'!A3931,\"\")","v":""},0,0,0,0,"",0,0,0,"","",0,"",0,"",{"$f":"IF(ROW()<$S$4+2,IF('XML a procesar'!A3931=\"\",P3931,IF(MID('XML a procesar'!A3931,1,1)=\"<\",P3931,P3931+1)),P3931)","v":1}]
[{"$f":"IF('XML a procesar'!A3932>0,'XML a procesar'!A3932,\"\")","v":""},0,0,0,0,"",0,0,0,"","",0,"",0,"",{"$f":"IF(ROW()<$S$4+2,IF('XML a procesar'!A3932=\"\",P3932,IF(MID('XML a procesar'!A3932,1,1)=\"<\",P3932,P3932+1)),P3932)","v":1}]
[{"$f":"IF('XML a procesar'!A3933>0,'XML a procesar'!A3933,\"\")","v":""},0,0,0,0,"",0,0,0,"","",0,"",0,"",{"$f":"IF(ROW()<$S$4+2,IF('XML a procesar'!A3933=\"\",P3933,IF(MID('XML a procesar'!A3933,1,1)=\"<\",P3933,P3933+1)),P3933)","v":1}]
[{"$f":"IF('XML a procesar'!A3934>0,'XML a procesar'!A3934,\"\")","v":""},0,0,0,0,"",0,0,0,"","",0,"",0,"",{"$f":"IF(ROW()<$S$4+2,IF('XML a procesar'!A3934=\"\",P3934,IF(MID('XML a procesar'!A3934,1,1)=\"<\",P3934,P3934+1)),P3934)","v":1}]
[{"$f":"IF('XML a procesar'!A3935>0,'XML a procesar'!A3935,\"\")","v":""},0,0,0,0,"",0,0,0,"","",0,"",0,"",{"$f":"IF(ROW()<$S$4+2,IF('XML a procesar'!A3935=\"\",P3935,IF(MID('XML a procesar'!A3935,1,1)=\"<\",P3935,P3935+1)),P3935)","v":1}]
[{"$f":"IF('XML a procesar'!A3936>0,'XML a procesar'!A3936,\"\")","v":""},0,0,0,0,"",0,0,0,"","",0,"",0,"",{"$f":"IF(ROW()<$S$4+2,IF('XML a procesar'!A3936=\"\",P3936,IF(MID('XML a procesar'!A3936,1,1)=\"<\",P3936,P3936+1)),P3936)","v":1}]
[{"$f":"IF('XML a procesar'!A3937>0,'XML a procesar'!A3937,\"\")","v":""},0,0,0,0,"",0,0,0,"","",0,"",0,"",{"$f":"IF(ROW()<$S$4+2,IF('XML a procesar'!A3937=\"\",P3937,IF(MID('XML a procesar'!A3937,1,1)=\"<\",P3937,P3937+1)),P3937)","v":1}]
[{"$f":"IF('XML a procesar'!A3938>0,'XML a procesar'!A3938,\"\")","v":""},0,0,0,0,"",0,0,0,"","",0,"",0,"",{"$f":"IF(ROW()<$S$4+2,IF('XML a procesar'!A3938=\"\",P3938,IF(MID('XML a procesar'!A3938,1,1)=\"<\",P3938,P3938+1)),P3938)","v":1}]
[{"$f":"IF('XML a procesar'!A3939>0,'XML a procesar'!A3939,\"\")","v":""},0,0,0,0,"",0,0,0,"","",0,"",0,"",{"$f":"IF(ROW()<$S$4+2,IF('XML a procesar'!A3939=\"\",P3939,IF(MID('XML a procesar'!A3939,1,1)=\"<\",P3939,P3939+1)),P3939)","v":1}]
[{"$f":"IF('XML a procesar'!A3940>0,'XML a procesar'!A3940,\"\")","v":""},0,0,0,0,"",0,0,0,"","",0,"",0,"",{"$f":"IF(ROW()<$S$4+2,IF('XML a procesar'!A3940=\"\",P3940,IF(MID('XML a procesar'!A3940,1,1)=\"<\",P3940,P3940+1)),P3940)","v":1}]
[{"$f":"IF('XML a procesar'!A3941>0,'XML a procesar'!A3941,\"\")","v":""},0,0,0,0,"",0,0,0,"","",0,"",0,"",{"$f":"IF(ROW()<$S$4+2,IF('XML a procesar'!A3941=\"\",P3941,IF(MID('XML a procesar'!A3941,1,1)=\"<\",P3941,P3941+1)),P3941)","v":1}]
[{"$f":"IF('XML a procesar'!A3942>0,'XML a procesar'!A3942,\"\")","v":""},0,0,0,0,"",0,0,0,"","",0,"",0,"",{"$f":"IF(ROW()<$S$4+2,IF('XML a procesar'!A3942=\"\",P3942,IF(MID('XML a procesar'!A3942,1,1)=\"<\",P3942,P3942+1)),P3942)","v":1}]
[{"$f":"IF('XML a procesar'!A3943>0,'XML a procesar'!A3943,\"\")","v":""},0,0,0,0,"",0,0,0,"","",0,"",0,"",{"$f":"IF(ROW()<$S$4+2,IF('XML a procesar'!A3943=\"\",P3943,IF(MID('XML a procesar'!A3943,1,1)=\"<\",P3943,P3943+1)),P3943)","v":1}]
[{"$f":"IF('XML a procesar'!A3944>0,'XML a procesar'!A3944,\"\")","v":""},0,0,0,0,"",0,0,0,"","",0,"",0,"",{"$f":"IF(ROW()<$S$4+2,IF('XML a procesar'!A3944=\"\",P3944,IF(MID('XML a procesar'!A3944,1,1)=\"<\",P3944,P3944+1)),P3944)","v":1}]
[{"$f":"IF('XML a procesar'!A3945>0,'XML a procesar'!A3945,\"\")","v":""},0,0,0,0,"",0,0,0,"","",0,"",0,"",{"$f":"IF(ROW()<$S$4+2,IF('XML a procesar'!A3945=\"\",P3945,IF(MID('XML a procesar'!A3945,1,1)=\"<\",P3945,P3945+1)),P3945)","v":1}]
[{"$f":"IF('XML a procesar'!A3946>0,'XML a procesar'!A3946,\"\")","v":""},0,0,0,0,"",0,0,0,"","",0,"",0,"",{"$f":"IF(ROW()<$S$4+2,IF('XML a procesar'!A3946=\"\",P3946,IF(MID('XML a procesar'!A3946,1,1)=\"<\",P3946,P3946+1)),P3946)","v":1}]
[{"$f":"IF('XML a procesar'!A3947>0,'XML a procesar'!A3947,\"\")","v":""},0,0,0,0,"",0,0,0,"","",0,"",0,"",{"$f":"IF(ROW()<$S$4+2,IF('XML a procesar'!A3947=\"\",P3947,IF(MID('XML a procesar'!A3947,1,1)=\"<\",P3947,P3947+1)),P3947)","v":1}]
[{"$f":"IF('XML a procesar'!A3948>0,'XML a procesar'!A3948,\"\")","v":""},0,0,0,0,"",0,0,0,"","",0,"",0,"",{"$f":"IF(ROW()<$S$4+2,IF('XML a procesar'!A3948=\"\",P3948,IF(MID('XML a procesar'!A3948,1,1)=\"<\",P3948,P3948+1)),P3948)","v":1}]
[{"$f":"IF('XML a procesar'!A3949>0,'XML a procesar'!A3949,\"\")","v":""},0,0,0,0,"",0,0,0,"","",0,"",0,"",{"$f":"IF(ROW()<$S$4+2,IF('XML a procesar'!A3949=\"\",P3949,IF(MID('XML a procesar'!A3949,1,1)=\"<\",P3949,P3949+1)),P3949)","v":1}]
[{"$f":"IF('XML a procesar'!A3950>0,'XML a procesar'!A3950,\"\")","v":""},0,0,0,0,"",0,0,0,"","",0,"",0,"",{"$f":"IF(ROW()<$S$4+2,IF('XML a procesar'!A3950=\"\",P3950,IF(MID('XML a procesar'!A3950,1,1)=\"<\",P3950,P3950+1)),P3950)","v":1}]
[{"$f":"IF('XML a procesar'!A3951>0,'XML a procesar'!A3951,\"\")","v":""},0,0,0,0,"",0,0,0,"","",0,"",0,"",{"$f":"IF(ROW()<$S$4+2,IF('XML a procesar'!A3951=\"\",P3951,IF(MID('XML a procesar'!A3951,1,1)=\"<\",P3951,P3951+1)),P3951)","v":1}]
[{"$f":"IF('XML a procesar'!A3952>0,'XML a procesar'!A3952,\"\")","v":""},0,0,0,0,"",0,0,0,"","",0,"",0,"",{"$f":"IF(ROW()<$S$4+2,IF('XML a procesar'!A3952=\"\",P3952,IF(MID('XML a procesar'!A3952,1,1)=\"<\",P3952,P3952+1)),P3952)","v":1}]
[{"$f":"IF('XML a procesar'!A3953>0,'XML a procesar'!A3953,\"\")","v":""},0,0,0,0,"",0,0,0,"","",0,"",0,"",{"$f":"IF(ROW()<$S$4+2,IF('XML a procesar'!A3953=\"\",P3953,IF(MID('XML a procesar'!A3953,1,1)=\"<\",P3953,P3953+1)),P3953)","v":1}]
[{"$f":"IF('XML a procesar'!A3954>0,'XML a procesar'!A3954,\"\")","v":""},0,0,0,0,"",0,0,0,"","",0,"",0,"",{"$f":"IF(ROW()<$S$4+2,IF('XML a procesar'!A3954=\"\",P3954,IF(MID('XML a procesar'!A3954,1,1)=\"<\",P3954,P3954+1)),P3954)","v":1}]
[{"$f":"IF('XML a procesar'!A3955>0,'XML a procesar'!A3955,\"\")","v":""},0,0,0,0,"",0,0,0,"","",0,"",0,"",{"$f":"IF(ROW()<$S$4+2,IF('XML a procesar'!A3955=\"\",P3955,IF(MID('XML a procesar'!A3955,1,1)=\"<\",P3955,P3955+1)),P3955)","v":1}]
[{"$f":"IF('XML a procesar'!A3956>0,'XML a procesar'!A3956,\"\")","v":""},0,0,0,0,"",0,0,0,"","",0,"",0,"",{"$f":"IF(ROW()<$S$4+2,IF('XML a procesar'!A3956=\"\",P3956,IF(MID('XML a procesar'!A3956,1,1)=\"<\",P3956,P3956+1)),P3956)","v":1}]
[{"$f":"IF('XML a procesar'!A3957>0,'XML a procesar'!A3957,\"\")","v":""},0,0,0,0,"",0,0,0,"","",0,"",0,"",{"$f":"IF(ROW()<$S$4+2,IF('XML a procesar'!A3957=\"\",P3957,IF(MID('XML a procesar'!A3957,1,1)=\"<\",P3957,P3957+1)),P3957)","v":1}]
[{"$f":"IF('XML a procesar'!A3958>0,'XML a procesar'!A3958,\"\")","v":""},0,0,0,0,"",0,0,0,"","",0,"",0,"",{"$f":"IF(ROW()<$S$4+2,IF('XML a procesar'!A3958=\"\",P3958,IF(MID('XML a procesar'!A3958,1,1)=\"<\",P3958,P3958+1)),P3958)","v":1}]
[{"$f":"IF('XML a procesar'!A3959>0,'XML a procesar'!A3959,\"\")","v":""},0,0,0,0,"",0,0,0,"","",0,"",0,"",{"$f":"IF(ROW()<$S$4+2,IF('XML a procesar'!A3959=\"\",P3959,IF(MID('XML a procesar'!A3959,1,1)=\"<\",P3959,P3959+1)),P3959)","v":1}]
[{"$f":"IF('XML a procesar'!A3960>0,'XML a procesar'!A3960,\"\")","v":""},0,0,0,0,"",0,0,0,"","",0,"",0,"",{"$f":"IF(ROW()<$S$4+2,IF('XML a procesar'!A3960=\"\",P3960,IF(MID('XML a procesar'!A3960,1,1)=\"<\",P3960,P3960+1)),P3960)","v":1}]
[{"$f":"IF('XML a procesar'!A3961>0,'XML a procesar'!A3961,\"\")","v":""},0,0,0,0,"",0,0,0,"","",0,"",0,"",{"$f":"IF(ROW()<$S$4+2,IF('XML a procesar'!A3961=\"\",P3961,IF(MID('XML a procesar'!A3961,1,1)=\"<\",P3961,P3961+1)),P3961)","v":1}]
[{"$f":"IF('XML a procesar'!A3962>0,'XML a procesar'!A3962,\"\")","v":""},0,0,0,0,"",0,0,0,"","",0,"",0,"",{"$f":"IF(ROW()<$S$4+2,IF('XML a procesar'!A3962=\"\",P3962,IF(MID('XML a procesar'!A3962,1,1)=\"<\",P3962,P3962+1)),P3962)","v":1}]
[{"$f":"IF('XML a procesar'!A3963>0,'XML a procesar'!A3963,\"\")","v":""},0,0,0,0,"",0,0,0,"","",0,"",0,"",{"$f":"IF(ROW()<$S$4+2,IF('XML a procesar'!A3963=\"\",P3963,IF(MID('XML a procesar'!A3963,1,1)=\"<\",P3963,P3963+1)),P3963)","v":1}]
[{"$f":"IF('XML a procesar'!A3964>0,'XML a procesar'!A3964,\"\")","v":""},0,0,0,0,"",0,0,0,"","",0,"",0,"",{"$f":"IF(ROW()<$S$4+2,IF('XML a procesar'!A3964=\"\",P3964,IF(MID('XML a procesar'!A3964,1,1)=\"<\",P3964,P3964+1)),P3964)","v":1}]
[{"$f":"IF('XML a procesar'!A3965>0,'XML a procesar'!A3965,\"\")","v":""},0,0,0,0,"",0,0,0,"","",0,"",0,"",{"$f":"IF(ROW()<$S$4+2,IF('XML a procesar'!A3965=\"\",P3965,IF(MID('XML a procesar'!A3965,1,1)=\"<\",P3965,P3965+1)),P3965)","v":1}]
[{"$f":"IF('XML a procesar'!A3966>0,'XML a procesar'!A3966,\"\")","v":""},0,0,0,0,"",0,0,0,"","",0,"",0,"",{"$f":"IF(ROW()<$S$4+2,IF('XML a procesar'!A3966=\"\",P3966,IF(MID('XML a procesar'!A3966,1,1)=\"<\",P3966,P3966+1)),P3966)","v":1}]
[{"$f":"IF('XML a procesar'!A3967>0,'XML a procesar'!A3967,\"\")","v":""},0,0,0,0,"",0,0,0,"","",0,"",0,"",{"$f":"IF(ROW()<$S$4+2,IF('XML a procesar'!A3967=\"\",P3967,IF(MID('XML a procesar'!A3967,1,1)=\"<\",P3967,P3967+1)),P3967)","v":1}]
[{"$f":"IF('XML a procesar'!A3968>0,'XML a procesar'!A3968,\"\")","v":""},{"$f":"IF(ISERROR(FIND(\"/doi.org/\",A3969,1)),0,1)","v":0},{"$f":"IF(LEFT(A3968,16)=\"<contrib contrib\",C3968+1,IF(LEFT(A3968,16)=\"</contrib-group>\",0,IF(LEFT(A3968,10)=\"</contrib>\",C3968,C3968)))","v":0},{"$f":"IF(AND(C3969>0,LEFT(A3969,7)=\"<email>\",ISNUMBER(SEARCH(\"@\",A3969,1))),C3969,IF(LEFT(A3969,10)=\"<alt-text>\",-1,0))","v":0},{"$f":"IF(D3969=0,E3968,E3968+1)","v":0},{"$f":"INDIRECT(ADDRESS(ROW()+INDIRECT(ADDRESS(ROW()+E3969,5)),1))","v":""},{"$f":"IF(LEFT(F3969,7)=\"<aff id\",_xlfn.NUMBERVALUE(MID(F3969,13,LEN(F3969)-14)),IF(F3969=\"</aff>\",G3968+1,G3968))","v":0},0,{"$f":"INDIRECT(ADDRESS(ROW()-INDIRECT(ADDRESS(ROW()-H3969,8)),8))","v":0},{"$f":"IF(J3968=\"Linea_para_MAIL_creada_por_LuXML\",\"</aff>\",IF(I3969>INDIRECT(ADDRESS(ROW()-I3969-1,8)),\"Linea_para_MAIL_creada_por_LuXML\",INDIRECT(ADDRESS(ROW()-I3969,6))))","v":""},"",{"$f":"IF(OR(MID(K3967,3,5)=\"page>\",MID(K3968,3,5)=\"page>\"),L3968,IF(OR(K3968=\"<history>\",K3969=\"<history>\"),L3968+1,L3968))","v":0},{"$f":"IF(L3969>L3968,IF(L3969=1,CONCATENATE(\"<fpage>\",$S$10,\"</fpage>\"),CONCATENATE(\"<lpage>\",$S$10+1,\"</lpage>\")),IF(ISERROR(INDIRECT(ADDRESS(ROW()-L3969,11),1)),\"\",INDIRECT(ADDRESS(ROW()-L3969,11),1)))","v":""},{"$f":"IF(N3968=-1,-1,IF(M3969=\"</counts>\",-1,IF(OR(LEFT(M3969,7)=\"<fpage>\",LEFT(M3969,7)=\"<lpage>\"),VALUE(MID(M3969,8,LEN(M3969)-15)),0)))","v":0},"",{"$f":"IF(ROW()<$S$4+2,IF('XML a procesar'!A3968=\"\",P3968,IF(MID('XML a procesar'!A3968,1,1)=\"<\",P3968,P3968+1)),P3968)","v":1}]
[{"$f":"IF('XML a procesar'!A3969>0,'XML a procesar'!A3969,\"\")","v":""},0,0,0,0,"",0,0,0,"","",0,"",0,{"$f":"IF(N3970>-1,INDIRECT(ADDRESS(ROW(),13)),IF(N3970<N3969,CONCATENATE(\"<page-count count=\",CHAR(34),1+LARGE(N:N,1)-LARGE(N:N,2),CHAR(34),\"/>\"),INDIRECT(ADDRESS(ROW()-1,13))))","v":""},{"$f":"IF(ROW()<$S$4+2,IF('XML a procesar'!A3969=\"\",P3969,IF(MID('XML a procesar'!A3969,1,1)=\"<\",P3969,P3969+1)),P3969)","v":1}]
[{"$f":"IF('XML a procesar'!A3970>0,'XML a procesar'!A3970,\"\")","v":""},0,0,0,0,"",0,{"$f":"IF(AND(G3970>0,G3971>G3970,NOT(ISERROR(MATCH(G3970,D:D,0)))),H3970+1,H3970)","v":0},0,"",{"$f":"IF(J3971=\"Linea_para_MAIL_creada_por_LuXML\",IF(ISERROR(MATCH(INDIRECT(ADDRESS(ROW()-G3971,7)),D:D,0)),J3971,INDIRECT(ADDRESS(MATCH(INDIRECT(ADDRESS(ROW()-G3971,7)),D:D,0),1))),J3971)","v":""},0,"",0,"",{"$f":"IF(ROW()<$S$4+2,IF('XML a procesar'!A3970=\"\",P3970,IF(MID('XML a procesar'!A3970,1,1)=\"<\",P3970,P3970+1)),P3970)","v":1}]
[{"$f":"IF('XML a procesar'!A3971>0,'XML a procesar'!A3971,\"\")","v":""},0,0,0,0,"",0,0,0,"","",0,"",0,"",{"$f":"IF(ROW()<$S$4+2,IF('XML a procesar'!A3971=\"\",P3971,IF(MID('XML a procesar'!A3971,1,1)=\"<\",P3971,P3971+1)),P3971)","v":1}]
[{"$f":"IF('XML a procesar'!A3972>0,'XML a procesar'!A3972,\"\")","v":""},0,0,0,0,"",0,0,0,"","",0,"",0,"",{"$f":"IF(ROW()<$S$4+2,IF('XML a procesar'!A3972=\"\",P3972,IF(MID('XML a procesar'!A3972,1,1)=\"<\",P3972,P3972+1)),P3972)","v":1}]
[{"$f":"IF('XML a procesar'!A3973>0,'XML a procesar'!A3973,\"\")","v":""},0,0,0,0,"",0,0,0,"","",0,"",0,"",{"$f":"IF(ROW()<$S$4+2,IF('XML a procesar'!A3973=\"\",P3973,IF(MID('XML a procesar'!A3973,1,1)=\"<\",P3973,P3973+1)),P3973)","v":1}]
[{"$f":"IF('XML a procesar'!A3974>0,'XML a procesar'!A3974,\"\")","v":""},0,0,0,0,"",0,0,0,"","",0,"",0,"",{"$f":"IF(ROW()<$S$4+2,IF('XML a procesar'!A3974=\"\",P3974,IF(MID('XML a procesar'!A3974,1,1)=\"<\",P3974,P3974+1)),P3974)","v":1}]
[{"$f":"IF('XML a procesar'!A3975>0,'XML a procesar'!A3975,\"\")","v":""},0,0,0,0,"",0,0,0,"","",0,"",0,"",{"$f":"IF(ROW()<$S$4+2,IF('XML a procesar'!A3975=\"\",P3975,IF(MID('XML a procesar'!A3975,1,1)=\"<\",P3975,P3975+1)),P3975)","v":1}]
[{"$f":"IF('XML a procesar'!A3976>0,'XML a procesar'!A3976,\"\")","v":""},0,0,0,0,"",0,0,0,"","",0,"",0,"",{"$f":"IF(ROW()<$S$4+2,IF('XML a procesar'!A3976=\"\",P3976,IF(MID('XML a procesar'!A3976,1,1)=\"<\",P3976,P3976+1)),P3976)","v":1}]
[{"$f":"IF('XML a procesar'!A3977>0,'XML a procesar'!A3977,\"\")","v":""},0,0,0,0,"",0,0,0,"","",0,"",0,"",{"$f":"IF(ROW()<$S$4+2,IF('XML a procesar'!A3977=\"\",P3977,IF(MID('XML a procesar'!A3977,1,1)=\"<\",P3977,P3977+1)),P3977)","v":1}]
[{"$f":"IF('XML a procesar'!A3978>0,'XML a procesar'!A3978,\"\")","v":""},0,0,0,0,"",0,0,0,"","",0,"",0,"",{"$f":"IF(ROW()<$S$4+2,IF('XML a procesar'!A3978=\"\",P3978,IF(MID('XML a procesar'!A3978,1,1)=\"<\",P3978,P3978+1)),P3978)","v":1}]
[{"$f":"IF('XML a procesar'!A3979>0,'XML a procesar'!A3979,\"\")","v":""},0,0,0,0,"",0,0,0,"","",0,"",0,"",{"$f":"IF(ROW()<$S$4+2,IF('XML a procesar'!A3979=\"\",P3979,IF(MID('XML a procesar'!A3979,1,1)=\"<\",P3979,P3979+1)),P3979)","v":1}]
[{"$f":"IF('XML a procesar'!A3980>0,'XML a procesar'!A3980,\"\")","v":""},0,0,0,0,"",0,0,0,"","",0,"",0,"",{"$f":"IF(ROW()<$S$4+2,IF('XML a procesar'!A3980=\"\",P3980,IF(MID('XML a procesar'!A3980,1,1)=\"<\",P3980,P3980+1)),P3980)","v":1}]
[{"$f":"IF('XML a procesar'!A3981>0,'XML a procesar'!A3981,\"\")","v":""},0,0,0,0,"",0,0,0,"","",0,"",0,"",{"$f":"IF(ROW()<$S$4+2,IF('XML a procesar'!A3981=\"\",P3981,IF(MID('XML a procesar'!A3981,1,1)=\"<\",P3981,P3981+1)),P3981)","v":1}]
[{"$f":"IF('XML a procesar'!A3982>0,'XML a procesar'!A3982,\"\")","v":""},0,0,0,0,"",0,0,0,"","",0,"",0,"",{"$f":"IF(ROW()<$S$4+2,IF('XML a procesar'!A3982=\"\",P3982,IF(MID('XML a procesar'!A3982,1,1)=\"<\",P3982,P3982+1)),P3982)","v":1}]
[{"$f":"IF('XML a procesar'!A3983>0,'XML a procesar'!A3983,\"\")","v":""},0,0,0,0,"",0,0,0,"","",0,"",0,"",{"$f":"IF(ROW()<$S$4+2,IF('XML a procesar'!A3983=\"\",P3983,IF(MID('XML a procesar'!A3983,1,1)=\"<\",P3983,P3983+1)),P3983)","v":1}]
[{"$f":"IF('XML a procesar'!A3984>0,'XML a procesar'!A3984,\"\")","v":""},0,0,0,0,"",0,0,0,"","",0,"",0,"",{"$f":"IF(ROW()<$S$4+2,IF('XML a procesar'!A3984=\"\",P3984,IF(MID('XML a procesar'!A3984,1,1)=\"<\",P3984,P3984+1)),P3984)","v":1}]
[{"$f":"IF('XML a procesar'!A3985>0,'XML a procesar'!A3985,\"\")","v":""},0,0,0,0,"",0,0,0,"","",0,"",0,"",{"$f":"IF(ROW()<$S$4+2,IF('XML a procesar'!A3985=\"\",P3985,IF(MID('XML a procesar'!A3985,1,1)=\"<\",P3985,P3985+1)),P3985)","v":1}]
[{"$f":"IF('XML a procesar'!A3986>0,'XML a procesar'!A3986,\"\")","v":""},0,0,0,0,"",0,0,0,"","",0,"",0,"",{"$f":"IF(ROW()<$S$4+2,IF('XML a procesar'!A3986=\"\",P3986,IF(MID('XML a procesar'!A3986,1,1)=\"<\",P3986,P3986+1)),P3986)","v":1}]
[{"$f":"IF('XML a procesar'!A3987>0,'XML a procesar'!A3987,\"\")","v":""},0,0,0,0,"",0,0,0,"","",0,"",0,"",{"$f":"IF(ROW()<$S$4+2,IF('XML a procesar'!A3987=\"\",P3987,IF(MID('XML a procesar'!A3987,1,1)=\"<\",P3987,P3987+1)),P3987)","v":1}]
[{"$f":"IF('XML a procesar'!A3988>0,'XML a procesar'!A3988,\"\")","v":""},0,0,0,0,"",0,0,0,"","",0,"",0,"",{"$f":"IF(ROW()<$S$4+2,IF('XML a procesar'!A3988=\"\",P3988,IF(MID('XML a procesar'!A3988,1,1)=\"<\",P3988,P3988+1)),P3988)","v":1}]
[{"$f":"IF('XML a procesar'!A3989>0,'XML a procesar'!A3989,\"\")","v":""},0,0,0,0,"",0,0,0,"","",0,"",0,"",{"$f":"IF(ROW()<$S$4+2,IF('XML a procesar'!A3989=\"\",P3989,IF(MID('XML a procesar'!A3989,1,1)=\"<\",P3989,P3989+1)),P3989)","v":1}]
[{"$f":"IF('XML a procesar'!A3990>0,'XML a procesar'!A3990,\"\")","v":""},0,0,0,0,"",0,0,0,"","",0,"",0,"",{"$f":"IF(ROW()<$S$4+2,IF('XML a procesar'!A3990=\"\",P3990,IF(MID('XML a procesar'!A3990,1,1)=\"<\",P3990,P3990+1)),P3990)","v":1}]
[{"$f":"IF('XML a procesar'!A3991>0,'XML a procesar'!A3991,\"\")","v":""},0,0,0,0,"",0,0,0,"","",0,"",0,"",{"$f":"IF(ROW()<$S$4+2,IF('XML a procesar'!A3991=\"\",P3991,IF(MID('XML a procesar'!A3991,1,1)=\"<\",P3991,P3991+1)),P3991)","v":1}]
[{"$f":"IF('XML a procesar'!A3992>0,'XML a procesar'!A3992,\"\")","v":""},0,0,0,0,"",0,0,0,"","",0,"",0,"",{"$f":"IF(ROW()<$S$4+2,IF('XML a procesar'!A3992=\"\",P3992,IF(MID('XML a procesar'!A3992,1,1)=\"<\",P3992,P3992+1)),P3992)","v":1}]
[{"$f":"IF('XML a procesar'!A3993>0,'XML a procesar'!A3993,\"\")","v":""},0,0,0,0,"",0,0,0,"","",0,"",0,"",{"$f":"IF(ROW()<$S$4+2,IF('XML a procesar'!A3993=\"\",P3993,IF(MID('XML a procesar'!A3993,1,1)=\"<\",P3993,P3993+1)),P3993)","v":1}]
[{"$f":"IF('XML a procesar'!A3994>0,'XML a procesar'!A3994,\"\")","v":""},0,0,0,0,"",0,0,0,"","",0,"",0,"",{"$f":"IF(ROW()<$S$4+2,IF('XML a procesar'!A3994=\"\",P3994,IF(MID('XML a procesar'!A3994,1,1)=\"<\",P3994,P3994+1)),P3994)","v":1}]
[{"$f":"IF('XML a procesar'!A3995>0,'XML a procesar'!A3995,\"\")","v":""},0,0,0,0,"",0,0,0,"","",0,"",0,"",{"$f":"IF(ROW()<$S$4+2,IF('XML a procesar'!A3995=\"\",P3995,IF(MID('XML a procesar'!A3995,1,1)=\"<\",P3995,P3995+1)),P3995)","v":1}]
[{"$f":"IF('XML a procesar'!A3996>0,'XML a procesar'!A3996,\"\")","v":""},0,0,0,0,"",0,0,0,"","",0,"",0,"",{"$f":"IF(ROW()<$S$4+2,IF('XML a procesar'!A3996=\"\",P3996,IF(MID('XML a procesar'!A3996,1,1)=\"<\",P3996,P3996+1)),P3996)","v":1}]
[{"$f":"IF('XML a procesar'!A3997>0,'XML a procesar'!A3997,\"\")","v":""},0,0,0,0,"",0,0,0,"","",0,"",0,"",{"$f":"IF(ROW()<$S$4+2,IF('XML a procesar'!A3997=\"\",P3997,IF(MID('XML a procesar'!A3997,1,1)=\"<\",P3997,P3997+1)),P3997)","v":1}]
[{"$f":"IF('XML a procesar'!A3998>0,'XML a procesar'!A3998,\"\")","v":""},0,0,0,0,"",0,0,0,"","",0,"",0,"",{"$f":"IF(ROW()<$S$4+2,IF('XML a procesar'!A3998=\"\",P3998,IF(MID('XML a procesar'!A3998,1,1)=\"<\",P3998,P3998+1)),P3998)","v":1}]
[{"$f":"IF('XML a procesar'!A3999>0,'XML a procesar'!A3999,\"\")","v":""},0,0,0,0,"",0,0,0,"","",0,"",0,"",{"$f":"IF(ROW()<$S$4+2,IF('XML a procesar'!A3999=\"\",P3999,IF(MID('XML a procesar'!A3999,1,1)=\"<\",P3999,P3999+1)),P3999)","v":1}]
[{"$f":"IF('XML a procesar'!A4000>0,'XML a procesar'!A4000,\"\")","v":""},0,0,0,0,"",0,0,0,"","",0,"",0,"",{"$f":"IF(ROW()<$S$4+2,IF('XML a procesar'!A4000=\"\",P4000,IF(MID('XML a procesar'!A4000,1,1)=\"<\",P4000,P4000+1)),P4000)","v":1}]
[{"$f":"IF('XML a procesar'!A4001>0,'XML a procesar'!A4001,\"\")","v":""},0,0,0,0,"",0,0,0,"","",0,"",0,"",{"$f":"IF(ROW()<$S$4+2,IF('XML a procesar'!A4001=\"\",P4001,IF(MID('XML a procesar'!A4001,1,1)=\"<\",P4001,P4001+1)),P4001)","v":1}]
[{"$f":"IF('XML a procesar'!A4002>0,'XML a procesar'!A4002,\"\")","v":""},0,0,0,0,"",0,0,0,"","",0,"",0,"",{"$f":"IF(ROW()<$S$4+2,IF('XML a procesar'!A4002=\"\",P4002,IF(MID('XML a procesar'!A4002,1,1)=\"<\",P4002,P4002+1)),P4002)","v":1}]
[{"$f":"IF('XML a procesar'!A4003>0,'XML a procesar'!A4003,\"\")","v":""},0,0,0,0,"",0,0,0,"","",0,"",0,"",{"$f":"IF(ROW()<$S$4+2,IF('XML a procesar'!A4003=\"\",P4003,IF(MID('XML a procesar'!A4003,1,1)=\"<\",P4003,P4003+1)),P4003)","v":1}]
[{"$f":"IF('XML a procesar'!A4004>0,'XML a procesar'!A4004,\"\")","v":""},0,0,0,0,"",0,0,0,"","",0,"",0,"",{"$f":"IF(ROW()<$S$4+2,IF('XML a procesar'!A4004=\"\",P4004,IF(MID('XML a procesar'!A4004,1,1)=\"<\",P4004,P4004+1)),P4004)","v":1}]
[{"$f":"IF('XML a procesar'!A4005>0,'XML a procesar'!A4005,\"\")","v":""},0,0,0,0,"",0,0,0,"","",0,"",0,"",{"$f":"IF(ROW()<$S$4+2,IF('XML a procesar'!A4005=\"\",P4005,IF(MID('XML a procesar'!A4005,1,1)=\"<\",P4005,P4005+1)),P4005)","v":1}]
[{"$f":"IF('XML a procesar'!A4006>0,'XML a procesar'!A4006,\"\")","v":""},0,0,0,0,"",0,0,0,"","",0,"",0,"",{"$f":"IF(ROW()<$S$4+2,IF('XML a procesar'!A4006=\"\",P4006,IF(MID('XML a procesar'!A4006,1,1)=\"<\",P4006,P4006+1)),P4006)","v":1}]
[{"$f":"IF('XML a procesar'!A4007>0,'XML a procesar'!A4007,\"\")","v":""},0,0,0,0,"",0,0,0,"","",0,"",0,"",{"$f":"IF(ROW()<$S$4+2,IF('XML a procesar'!A4007=\"\",P4007,IF(MID('XML a procesar'!A4007,1,1)=\"<\",P4007,P4007+1)),P4007)","v":1}]
[{"$f":"IF('XML a procesar'!A4008>0,'XML a procesar'!A4008,\"\")","v":""},0,0,0,0,"",0,0,0,"","",0,"",0,"",{"$f":"IF(ROW()<$S$4+2,IF('XML a procesar'!A4008=\"\",P4008,IF(MID('XML a procesar'!A4008,1,1)=\"<\",P4008,P4008+1)),P4008)","v":1}]
[{"$f":"IF('XML a procesar'!A4009>0,'XML a procesar'!A4009,\"\")","v":""},0,0,0,0,"",0,0,0,"","",0,"",0,"",{"$f":"IF(ROW()<$S$4+2,IF('XML a procesar'!A4009=\"\",P4009,IF(MID('XML a procesar'!A4009,1,1)=\"<\",P4009,P4009+1)),P4009)","v":1}]
[{"$f":"IF('XML a procesar'!A4010>0,'XML a procesar'!A4010,\"\")","v":""},0,0,0,0,"",0,0,0,"","",0,"",0,"",{"$f":"IF(ROW()<$S$4+2,IF('XML a procesar'!A4010=\"\",P4010,IF(MID('XML a procesar'!A4010,1,1)=\"<\",P4010,P4010+1)),P4010)","v":1}]
[{"$f":"IF('XML a procesar'!A4011>0,'XML a procesar'!A4011,\"\")","v":""},0,0,0,0,"",0,0,0,"","",0,"",0,"",{"$f":"IF(ROW()<$S$4+2,IF('XML a procesar'!A4011=\"\",P4011,IF(MID('XML a procesar'!A4011,1,1)=\"<\",P4011,P4011+1)),P4011)","v":1}]
[{"$f":"IF('XML a procesar'!A4012>0,'XML a procesar'!A4012,\"\")","v":""},0,0,0,0,"",0,0,0,"","",0,"",0,"",{"$f":"IF(ROW()<$S$4+2,IF('XML a procesar'!A4012=\"\",P4012,IF(MID('XML a procesar'!A4012,1,1)=\"<\",P4012,P4012+1)),P4012)","v":1}]
[{"$f":"IF('XML a procesar'!A4013>0,'XML a procesar'!A4013,\"\")","v":""},0,0,0,0,"",0,0,0,"","",0,"",0,"",{"$f":"IF(ROW()<$S$4+2,IF('XML a procesar'!A4013=\"\",P4013,IF(MID('XML a procesar'!A4013,1,1)=\"<\",P4013,P4013+1)),P4013)","v":1}]
[{"$f":"IF('XML a procesar'!A4014>0,'XML a procesar'!A4014,\"\")","v":""},0,0,0,0,"",0,0,0,"","",0,"",0,"",{"$f":"IF(ROW()<$S$4+2,IF('XML a procesar'!A4014=\"\",P4014,IF(MID('XML a procesar'!A4014,1,1)=\"<\",P4014,P4014+1)),P4014)","v":1}]
[{"$f":"IF('XML a procesar'!A4015>0,'XML a procesar'!A4015,\"\")","v":""},0,0,0,0,"",0,0,0,"","",0,"",0,"",{"$f":"IF(ROW()<$S$4+2,IF('XML a procesar'!A4015=\"\",P4015,IF(MID('XML a procesar'!A4015,1,1)=\"<\",P4015,P4015+1)),P4015)","v":1}]
[{"$f":"IF('XML a procesar'!A4016>0,'XML a procesar'!A4016,\"\")","v":""},0,0,0,0,"",0,0,0,"","",0,"",0,"",{"$f":"IF(ROW()<$S$4+2,IF('XML a procesar'!A4016=\"\",P4016,IF(MID('XML a procesar'!A4016,1,1)=\"<\",P4016,P4016+1)),P4016)","v":1}]
[{"$f":"IF('XML a procesar'!A4017>0,'XML a procesar'!A4017,\"\")","v":""},0,0,0,0,"",0,0,0,"","",0,"",0,"",{"$f":"IF(ROW()<$S$4+2,IF('XML a procesar'!A4017=\"\",P4017,IF(MID('XML a procesar'!A4017,1,1)=\"<\",P4017,P4017+1)),P4017)","v":1}]
[{"$f":"IF('XML a procesar'!A4018>0,'XML a procesar'!A4018,\"\")","v":""},0,0,0,0,"",0,0,0,"","",0,"",0,"",{"$f":"IF(ROW()<$S$4+2,IF('XML a procesar'!A4018=\"\",P4018,IF(MID('XML a procesar'!A4018,1,1)=\"<\",P4018,P4018+1)),P4018)","v":1}]
[{"$f":"IF('XML a procesar'!A4019>0,'XML a procesar'!A4019,\"\")","v":""},0,0,0,0,"",0,0,0,"","",0,"",0,"",{"$f":"IF(ROW()<$S$4+2,IF('XML a procesar'!A4019=\"\",P4019,IF(MID('XML a procesar'!A4019,1,1)=\"<\",P4019,P4019+1)),P4019)","v":1}]
[{"$f":"IF('XML a procesar'!A4020>0,'XML a procesar'!A4020,\"\")","v":""},0,0,0,0,"",0,0,0,"","",0,"",0,"",{"$f":"IF(ROW()<$S$4+2,IF('XML a procesar'!A4020=\"\",P4020,IF(MID('XML a procesar'!A4020,1,1)=\"<\",P4020,P4020+1)),P4020)","v":1}]
[{"$f":"IF('XML a procesar'!A4021>0,'XML a procesar'!A4021,\"\")","v":""},0,0,0,0,"",0,0,0,"","",0,"",0,"",{"$f":"IF(ROW()<$S$4+2,IF('XML a procesar'!A4021=\"\",P4021,IF(MID('XML a procesar'!A4021,1,1)=\"<\",P4021,P4021+1)),P4021)","v":1}]
[{"$f":"IF('XML a procesar'!A4022>0,'XML a procesar'!A4022,\"\")","v":""},0,0,0,0,"",0,0,0,"","",0,"",0,"",{"$f":"IF(ROW()<$S$4+2,IF('XML a procesar'!A4022=\"\",P4022,IF(MID('XML a procesar'!A4022,1,1)=\"<\",P4022,P4022+1)),P4022)","v":1}]
[{"$f":"IF('XML a procesar'!A4023>0,'XML a procesar'!A4023,\"\")","v":""},0,0,0,0,"",0,0,0,"","",0,"",0,"",{"$f":"IF(ROW()<$S$4+2,IF('XML a procesar'!A4023=\"\",P4023,IF(MID('XML a procesar'!A4023,1,1)=\"<\",P4023,P4023+1)),P4023)","v":1}]
[{"$f":"IF('XML a procesar'!A4024>0,'XML a procesar'!A4024,\"\")","v":""},0,0,0,0,"",0,0,0,"","",0,"",0,"",{"$f":"IF(ROW()<$S$4+2,IF('XML a procesar'!A4024=\"\",P4024,IF(MID('XML a procesar'!A4024,1,1)=\"<\",P4024,P4024+1)),P4024)","v":1}]
[{"$f":"IF('XML a procesar'!A4025>0,'XML a procesar'!A4025,\"\")","v":""},0,0,0,0,"",0,0,0,"","",0,"",0,"",{"$f":"IF(ROW()<$S$4+2,IF('XML a procesar'!A4025=\"\",P4025,IF(MID('XML a procesar'!A4025,1,1)=\"<\",P4025,P4025+1)),P4025)","v":1}]
[{"$f":"IF('XML a procesar'!A4026>0,'XML a procesar'!A4026,\"\")","v":""},0,0,0,0,"",0,0,0,"","",0,"",0,"",{"$f":"IF(ROW()<$S$4+2,IF('XML a procesar'!A4026=\"\",P4026,IF(MID('XML a procesar'!A4026,1,1)=\"<\",P4026,P4026+1)),P4026)","v":1}]
[{"$f":"IF('XML a procesar'!A4027>0,'XML a procesar'!A4027,\"\")","v":""},0,0,0,0,"",0,0,0,"","",0,"",0,"",{"$f":"IF(ROW()<$S$4+2,IF('XML a procesar'!A4027=\"\",P4027,IF(MID('XML a procesar'!A4027,1,1)=\"<\",P4027,P4027+1)),P4027)","v":1}]
[{"$f":"IF('XML a procesar'!A4028>0,'XML a procesar'!A4028,\"\")","v":""},0,0,0,0,"",0,0,0,"","",0,"",0,"",{"$f":"IF(ROW()<$S$4+2,IF('XML a procesar'!A4028=\"\",P4028,IF(MID('XML a procesar'!A4028,1,1)=\"<\",P4028,P4028+1)),P4028)","v":1}]
[{"$f":"IF('XML a procesar'!A4029>0,'XML a procesar'!A4029,\"\")","v":""},0,0,0,0,"",0,0,0,"","",0,"",0,"",{"$f":"IF(ROW()<$S$4+2,IF('XML a procesar'!A4029=\"\",P4029,IF(MID('XML a procesar'!A4029,1,1)=\"<\",P4029,P4029+1)),P4029)","v":1}]
[{"$f":"IF('XML a procesar'!A4030>0,'XML a procesar'!A4030,\"\")","v":""},0,0,0,0,"",0,0,0,"","",0,"",0,"",{"$f":"IF(ROW()<$S$4+2,IF('XML a procesar'!A4030=\"\",P4030,IF(MID('XML a procesar'!A4030,1,1)=\"<\",P4030,P4030+1)),P4030)","v":1}]
[{"$f":"IF('XML a procesar'!A4031>0,'XML a procesar'!A4031,\"\")","v":""},0,0,0,0,"",0,0,0,"","",0,"",0,"",{"$f":"IF(ROW()<$S$4+2,IF('XML a procesar'!A4031=\"\",P4031,IF(MID('XML a procesar'!A4031,1,1)=\"<\",P4031,P4031+1)),P4031)","v":1}]
[{"$f":"IF('XML a procesar'!A4032>0,'XML a procesar'!A4032,\"\")","v":""},{"$f":"IF(ISERROR(FIND(\"/doi.org/\",A4033,1)),0,1)","v":0},{"$f":"IF(LEFT(A4032,16)=\"<contrib contrib\",C4032+1,IF(LEFT(A4032,16)=\"</contrib-group>\",0,IF(LEFT(A4032,10)=\"</contrib>\",C4032,C4032)))","v":0},{"$f":"IF(AND(C4033>0,LEFT(A4033,7)=\"<email>\",ISNUMBER(SEARCH(\"@\",A4033,1))),C4033,IF(LEFT(A4033,10)=\"<alt-text>\",-1,0))","v":0},{"$f":"IF(D4033=0,E4032,E4032+1)","v":0},{"$f":"INDIRECT(ADDRESS(ROW()+INDIRECT(ADDRESS(ROW()+E4033,5)),1))","v":""},{"$f":"IF(LEFT(F4033,7)=\"<aff id\",_xlfn.NUMBERVALUE(MID(F4033,13,LEN(F4033)-14)),IF(F4033=\"</aff>\",G4032+1,G4032))","v":0},0,{"$f":"INDIRECT(ADDRESS(ROW()-INDIRECT(ADDRESS(ROW()-H4033,8)),8))","v":0},{"$f":"IF(J4032=\"Linea_para_MAIL_creada_por_LuXML\",\"</aff>\",IF(I4033>INDIRECT(ADDRESS(ROW()-I4033-1,8)),\"Linea_para_MAIL_creada_por_LuXML\",INDIRECT(ADDRESS(ROW()-I4033,6))))","v":""},"",{"$f":"IF(OR(MID(K4031,3,5)=\"page>\",MID(K4032,3,5)=\"page>\"),L4032,IF(OR(K4032=\"<history>\",K4033=\"<history>\"),L4032+1,L4032))","v":0},{"$f":"IF(L4033>L4032,IF(L4033=1,CONCATENATE(\"<fpage>\",$S$10,\"</fpage>\"),CONCATENATE(\"<lpage>\",$S$10+1,\"</lpage>\")),IF(ISERROR(INDIRECT(ADDRESS(ROW()-L4033,11),1)),\"\",INDIRECT(ADDRESS(ROW()-L4033,11),1)))","v":""},{"$f":"IF(N4032=-1,-1,IF(M4033=\"</counts>\",-1,IF(OR(LEFT(M4033,7)=\"<fpage>\",LEFT(M4033,7)=\"<lpage>\"),VALUE(MID(M4033,8,LEN(M4033)-15)),0)))","v":0},"",{"$f":"IF(ROW()<$S$4+2,IF('XML a procesar'!A4032=\"\",P4032,IF(MID('XML a procesar'!A4032,1,1)=\"<\",P4032,P4032+1)),P4032)","v":1}]
[{"$f":"IF('XML a procesar'!A4033>0,'XML a procesar'!A4033,\"\")","v":""},0,0,0,0,"",0,0,0,"","",0,"",0,{"$f":"IF(N4034>-1,INDIRECT(ADDRESS(ROW(),13)),IF(N4034<N4033,CONCATENATE(\"<page-count count=\",CHAR(34),1+LARGE(N:N,1)-LARGE(N:N,2),CHAR(34),\"/>\"),INDIRECT(ADDRESS(ROW()-1,13))))","v":""},{"$f":"IF(ROW()<$S$4+2,IF('XML a procesar'!A4033=\"\",P4033,IF(MID('XML a procesar'!A4033,1,1)=\"<\",P4033,P4033+1)),P4033)","v":1}]
[{"$f":"IF('XML a procesar'!A4034>0,'XML a procesar'!A4034,\"\")","v":""},0,0,0,0,"",0,{"$f":"IF(AND(G4034>0,G4035>G4034,NOT(ISERROR(MATCH(G4034,D:D,0)))),H4034+1,H4034)","v":0},0,"",{"$f":"IF(J4035=\"Linea_para_MAIL_creada_por_LuXML\",IF(ISERROR(MATCH(INDIRECT(ADDRESS(ROW()-G4035,7)),D:D,0)),J4035,INDIRECT(ADDRESS(MATCH(INDIRECT(ADDRESS(ROW()-G4035,7)),D:D,0),1))),J4035)","v":""},0,"",0,"",{"$f":"IF(ROW()<$S$4+2,IF('XML a procesar'!A4034=\"\",P4034,IF(MID('XML a procesar'!A4034,1,1)=\"<\",P4034,P4034+1)),P4034)","v":1}]
[{"$f":"IF('XML a procesar'!A4035>0,'XML a procesar'!A4035,\"\")","v":""},0,0,0,0,"",0,0,0,"","",0,"",0,"",{"$f":"IF(ROW()<$S$4+2,IF('XML a procesar'!A4035=\"\",P4035,IF(MID('XML a procesar'!A4035,1,1)=\"<\",P4035,P4035+1)),P4035)","v":1}]
[{"$f":"IF('XML a procesar'!A4036>0,'XML a procesar'!A4036,\"\")","v":""},0,0,0,0,"",0,0,0,"","",0,"",0,"",{"$f":"IF(ROW()<$S$4+2,IF('XML a procesar'!A4036=\"\",P4036,IF(MID('XML a procesar'!A4036,1,1)=\"<\",P4036,P4036+1)),P4036)","v":1}]
[{"$f":"IF('XML a procesar'!A4037>0,'XML a procesar'!A4037,\"\")","v":""},0,0,0,0,"",0,0,0,"","",0,"",0,"",{"$f":"IF(ROW()<$S$4+2,IF('XML a procesar'!A4037=\"\",P4037,IF(MID('XML a procesar'!A4037,1,1)=\"<\",P4037,P4037+1)),P4037)","v":1}]
[{"$f":"IF('XML a procesar'!A4038>0,'XML a procesar'!A4038,\"\")","v":""},0,0,0,0,"",0,0,0,"","",0,"",0,"",{"$f":"IF(ROW()<$S$4+2,IF('XML a procesar'!A4038=\"\",P4038,IF(MID('XML a procesar'!A4038,1,1)=\"<\",P4038,P4038+1)),P4038)","v":1}]
[{"$f":"IF('XML a procesar'!A4039>0,'XML a procesar'!A4039,\"\")","v":""},0,0,0,0,"",0,0,0,"","",0,"",0,"",{"$f":"IF(ROW()<$S$4+2,IF('XML a procesar'!A4039=\"\",P4039,IF(MID('XML a procesar'!A4039,1,1)=\"<\",P4039,P4039+1)),P4039)","v":1}]
[{"$f":"IF('XML a procesar'!A4040>0,'XML a procesar'!A4040,\"\")","v":""},0,0,0,0,"",0,0,0,"","",0,"",0,"",{"$f":"IF(ROW()<$S$4+2,IF('XML a procesar'!A4040=\"\",P4040,IF(MID('XML a procesar'!A4040,1,1)=\"<\",P4040,P4040+1)),P4040)","v":1}]
[{"$f":"IF('XML a procesar'!A4041>0,'XML a procesar'!A4041,\"\")","v":""},0,0,0,0,"",0,0,0,"","",0,"",0,"",{"$f":"IF(ROW()<$S$4+2,IF('XML a procesar'!A4041=\"\",P4041,IF(MID('XML a procesar'!A4041,1,1)=\"<\",P4041,P4041+1)),P4041)","v":1}]
[{"$f":"IF('XML a procesar'!A4042>0,'XML a procesar'!A4042,\"\")","v":""},0,0,0,0,"",0,0,0,"","",0,"",0,"",{"$f":"IF(ROW()<$S$4+2,IF('XML a procesar'!A4042=\"\",P4042,IF(MID('XML a procesar'!A4042,1,1)=\"<\",P4042,P4042+1)),P4042)","v":1}]
[{"$f":"IF('XML a procesar'!A4043>0,'XML a procesar'!A4043,\"\")","v":""},0,0,0,0,"",0,0,0,"","",0,"",0,"",{"$f":"IF(ROW()<$S$4+2,IF('XML a procesar'!A4043=\"\",P4043,IF(MID('XML a procesar'!A4043,1,1)=\"<\",P4043,P4043+1)),P4043)","v":1}]
[{"$f":"IF('XML a procesar'!A4044>0,'XML a procesar'!A4044,\"\")","v":""},0,0,0,0,"",0,0,0,"","",0,"",0,"",{"$f":"IF(ROW()<$S$4+2,IF('XML a procesar'!A4044=\"\",P4044,IF(MID('XML a procesar'!A4044,1,1)=\"<\",P4044,P4044+1)),P4044)","v":1}]
[{"$f":"IF('XML a procesar'!A4045>0,'XML a procesar'!A4045,\"\")","v":""},0,0,0,0,"",0,0,0,"","",0,"",0,"",{"$f":"IF(ROW()<$S$4+2,IF('XML a procesar'!A4045=\"\",P4045,IF(MID('XML a procesar'!A4045,1,1)=\"<\",P4045,P4045+1)),P4045)","v":1}]
[{"$f":"IF('XML a procesar'!A4046>0,'XML a procesar'!A4046,\"\")","v":""},0,0,0,0,"",0,0,0,"","",0,"",0,"",{"$f":"IF(ROW()<$S$4+2,IF('XML a procesar'!A4046=\"\",P4046,IF(MID('XML a procesar'!A4046,1,1)=\"<\",P4046,P4046+1)),P4046)","v":1}]
[{"$f":"IF('XML a procesar'!A4047>0,'XML a procesar'!A4047,\"\")","v":""},0,0,0,0,"",0,0,0,"","",0,"",0,"",{"$f":"IF(ROW()<$S$4+2,IF('XML a procesar'!A4047=\"\",P4047,IF(MID('XML a procesar'!A4047,1,1)=\"<\",P4047,P4047+1)),P4047)","v":1}]
[{"$f":"IF('XML a procesar'!A4048>0,'XML a procesar'!A4048,\"\")","v":""},0,0,0,0,"",0,0,0,"","",0,"",0,"",{"$f":"IF(ROW()<$S$4+2,IF('XML a procesar'!A4048=\"\",P4048,IF(MID('XML a procesar'!A4048,1,1)=\"<\",P4048,P4048+1)),P4048)","v":1}]
[{"$f":"IF('XML a procesar'!A4049>0,'XML a procesar'!A4049,\"\")","v":""},0,0,0,0,"",0,0,0,"","",0,"",0,"",{"$f":"IF(ROW()<$S$4+2,IF('XML a procesar'!A4049=\"\",P4049,IF(MID('XML a procesar'!A4049,1,1)=\"<\",P4049,P4049+1)),P4049)","v":1}]
[{"$f":"IF('XML a procesar'!A4050>0,'XML a procesar'!A4050,\"\")","v":""},0,0,0,0,"",0,0,0,"","",0,"",0,"",{"$f":"IF(ROW()<$S$4+2,IF('XML a procesar'!A4050=\"\",P4050,IF(MID('XML a procesar'!A4050,1,1)=\"<\",P4050,P4050+1)),P4050)","v":1}]
[{"$f":"IF('XML a procesar'!A4051>0,'XML a procesar'!A4051,\"\")","v":""},0,0,0,0,"",0,0,0,"","",0,"",0,"",{"$f":"IF(ROW()<$S$4+2,IF('XML a procesar'!A4051=\"\",P4051,IF(MID('XML a procesar'!A4051,1,1)=\"<\",P4051,P4051+1)),P4051)","v":1}]
[{"$f":"IF('XML a procesar'!A4052>0,'XML a procesar'!A4052,\"\")","v":""},0,0,0,0,"",0,0,0,"","",0,"",0,"",{"$f":"IF(ROW()<$S$4+2,IF('XML a procesar'!A4052=\"\",P4052,IF(MID('XML a procesar'!A4052,1,1)=\"<\",P4052,P4052+1)),P4052)","v":1}]
[{"$f":"IF('XML a procesar'!A4053>0,'XML a procesar'!A4053,\"\")","v":""},0,0,0,0,"",0,0,0,"","",0,"",0,"",{"$f":"IF(ROW()<$S$4+2,IF('XML a procesar'!A4053=\"\",P4053,IF(MID('XML a procesar'!A4053,1,1)=\"<\",P4053,P4053+1)),P4053)","v":1}]
[{"$f":"IF('XML a procesar'!A4054>0,'XML a procesar'!A4054,\"\")","v":""},0,0,0,0,"",0,0,0,"","",0,"",0,"",{"$f":"IF(ROW()<$S$4+2,IF('XML a procesar'!A4054=\"\",P4054,IF(MID('XML a procesar'!A4054,1,1)=\"<\",P4054,P4054+1)),P4054)","v":1}]
[{"$f":"IF('XML a procesar'!A4055>0,'XML a procesar'!A4055,\"\")","v":""},0,0,0,0,"",0,0,0,"","",0,"",0,"",{"$f":"IF(ROW()<$S$4+2,IF('XML a procesar'!A4055=\"\",P4055,IF(MID('XML a procesar'!A4055,1,1)=\"<\",P4055,P4055+1)),P4055)","v":1}]
[{"$f":"IF('XML a procesar'!A4056>0,'XML a procesar'!A4056,\"\")","v":""},0,0,0,0,"",0,0,0,"","",0,"",0,"",{"$f":"IF(ROW()<$S$4+2,IF('XML a procesar'!A4056=\"\",P4056,IF(MID('XML a procesar'!A4056,1,1)=\"<\",P4056,P4056+1)),P4056)","v":1}]
[{"$f":"IF('XML a procesar'!A4057>0,'XML a procesar'!A4057,\"\")","v":""},0,0,0,0,"",0,0,0,"","",0,"",0,"",{"$f":"IF(ROW()<$S$4+2,IF('XML a procesar'!A4057=\"\",P4057,IF(MID('XML a procesar'!A4057,1,1)=\"<\",P4057,P4057+1)),P4057)","v":1}]
[{"$f":"IF('XML a procesar'!A4058>0,'XML a procesar'!A4058,\"\")","v":""},0,0,0,0,"",0,0,0,"","",0,"",0,"",{"$f":"IF(ROW()<$S$4+2,IF('XML a procesar'!A4058=\"\",P4058,IF(MID('XML a procesar'!A4058,1,1)=\"<\",P4058,P4058+1)),P4058)","v":1}]
[{"$f":"IF('XML a procesar'!A4059>0,'XML a procesar'!A4059,\"\")","v":""},0,0,0,0,"",0,0,0,"","",0,"",0,"",{"$f":"IF(ROW()<$S$4+2,IF('XML a procesar'!A4059=\"\",P4059,IF(MID('XML a procesar'!A4059,1,1)=\"<\",P4059,P4059+1)),P4059)","v":1}]
[{"$f":"IF('XML a procesar'!A4060>0,'XML a procesar'!A4060,\"\")","v":""},0,0,0,0,"",0,0,0,"","",0,"",0,"",{"$f":"IF(ROW()<$S$4+2,IF('XML a procesar'!A4060=\"\",P4060,IF(MID('XML a procesar'!A4060,1,1)=\"<\",P4060,P4060+1)),P4060)","v":1}]
[{"$f":"IF('XML a procesar'!A4061>0,'XML a procesar'!A4061,\"\")","v":""},0,0,0,0,"",0,0,0,"","",0,"",0,"",{"$f":"IF(ROW()<$S$4+2,IF('XML a procesar'!A4061=\"\",P4061,IF(MID('XML a procesar'!A4061,1,1)=\"<\",P4061,P4061+1)),P4061)","v":1}]
[{"$f":"IF('XML a procesar'!A4062>0,'XML a procesar'!A4062,\"\")","v":""},0,0,0,0,"",0,0,0,"","",0,"",0,"",{"$f":"IF(ROW()<$S$4+2,IF('XML a procesar'!A4062=\"\",P4062,IF(MID('XML a procesar'!A4062,1,1)=\"<\",P4062,P4062+1)),P4062)","v":1}]
[{"$f":"IF('XML a procesar'!A4063>0,'XML a procesar'!A4063,\"\")","v":""},0,0,0,0,"",0,0,0,"","",0,"",0,"",{"$f":"IF(ROW()<$S$4+2,IF('XML a procesar'!A4063=\"\",P4063,IF(MID('XML a procesar'!A4063,1,1)=\"<\",P4063,P4063+1)),P4063)","v":1}]
[{"$f":"IF('XML a procesar'!A4064>0,'XML a procesar'!A4064,\"\")","v":""},0,0,0,0,"",0,0,0,"","",0,"",0,"",{"$f":"IF(ROW()<$S$4+2,IF('XML a procesar'!A4064=\"\",P4064,IF(MID('XML a procesar'!A4064,1,1)=\"<\",P4064,P4064+1)),P4064)","v":1}]
[{"$f":"IF('XML a procesar'!A4065>0,'XML a procesar'!A4065,\"\")","v":""},0,0,0,0,"",0,0,0,"","",0,"",0,"",{"$f":"IF(ROW()<$S$4+2,IF('XML a procesar'!A4065=\"\",P4065,IF(MID('XML a procesar'!A4065,1,1)=\"<\",P4065,P4065+1)),P4065)","v":1}]
[{"$f":"IF('XML a procesar'!A4066>0,'XML a procesar'!A4066,\"\")","v":""},0,0,0,0,"",0,0,0,"","",0,"",0,"",{"$f":"IF(ROW()<$S$4+2,IF('XML a procesar'!A4066=\"\",P4066,IF(MID('XML a procesar'!A4066,1,1)=\"<\",P4066,P4066+1)),P4066)","v":1}]
[{"$f":"IF('XML a procesar'!A4067>0,'XML a procesar'!A4067,\"\")","v":""},0,0,0,0,"",0,0,0,"","",0,"",0,"",{"$f":"IF(ROW()<$S$4+2,IF('XML a procesar'!A4067=\"\",P4067,IF(MID('XML a procesar'!A4067,1,1)=\"<\",P4067,P4067+1)),P4067)","v":1}]
[{"$f":"IF('XML a procesar'!A4068>0,'XML a procesar'!A4068,\"\")","v":""},0,0,0,0,"",0,0,0,"","",0,"",0,"",{"$f":"IF(ROW()<$S$4+2,IF('XML a procesar'!A4068=\"\",P4068,IF(MID('XML a procesar'!A4068,1,1)=\"<\",P4068,P4068+1)),P4068)","v":1}]
[{"$f":"IF('XML a procesar'!A4069>0,'XML a procesar'!A4069,\"\")","v":""},0,0,0,0,"",0,0,0,"","",0,"",0,"",{"$f":"IF(ROW()<$S$4+2,IF('XML a procesar'!A4069=\"\",P4069,IF(MID('XML a procesar'!A4069,1,1)=\"<\",P4069,P4069+1)),P4069)","v":1}]
[{"$f":"IF('XML a procesar'!A4070>0,'XML a procesar'!A4070,\"\")","v":""},0,0,0,0,"",0,0,0,"","",0,"",0,"",{"$f":"IF(ROW()<$S$4+2,IF('XML a procesar'!A4070=\"\",P4070,IF(MID('XML a procesar'!A4070,1,1)=\"<\",P4070,P4070+1)),P4070)","v":1}]
[{"$f":"IF('XML a procesar'!A4071>0,'XML a procesar'!A4071,\"\")","v":""},0,0,0,0,"",0,0,0,"","",0,"",0,"",{"$f":"IF(ROW()<$S$4+2,IF('XML a procesar'!A4071=\"\",P4071,IF(MID('XML a procesar'!A4071,1,1)=\"<\",P4071,P4071+1)),P4071)","v":1}]
[{"$f":"IF('XML a procesar'!A4072>0,'XML a procesar'!A4072,\"\")","v":""},0,0,0,0,"",0,0,0,"","",0,"",0,"",{"$f":"IF(ROW()<$S$4+2,IF('XML a procesar'!A4072=\"\",P4072,IF(MID('XML a procesar'!A4072,1,1)=\"<\",P4072,P4072+1)),P4072)","v":1}]
[{"$f":"IF('XML a procesar'!A4073>0,'XML a procesar'!A4073,\"\")","v":""},0,0,0,0,"",0,0,0,"","",0,"",0,"",{"$f":"IF(ROW()<$S$4+2,IF('XML a procesar'!A4073=\"\",P4073,IF(MID('XML a procesar'!A4073,1,1)=\"<\",P4073,P4073+1)),P4073)","v":1}]
[{"$f":"IF('XML a procesar'!A4074>0,'XML a procesar'!A4074,\"\")","v":""},0,0,0,0,"",0,0,0,"","",0,"",0,"",{"$f":"IF(ROW()<$S$4+2,IF('XML a procesar'!A4074=\"\",P4074,IF(MID('XML a procesar'!A4074,1,1)=\"<\",P4074,P4074+1)),P4074)","v":1}]
[{"$f":"IF('XML a procesar'!A4075>0,'XML a procesar'!A4075,\"\")","v":""},0,0,0,0,"",0,0,0,"","",0,"",0,"",{"$f":"IF(ROW()<$S$4+2,IF('XML a procesar'!A4075=\"\",P4075,IF(MID('XML a procesar'!A4075,1,1)=\"<\",P4075,P4075+1)),P4075)","v":1}]
[{"$f":"IF('XML a procesar'!A4076>0,'XML a procesar'!A4076,\"\")","v":""},0,0,0,0,"",0,0,0,"","",0,"",0,"",{"$f":"IF(ROW()<$S$4+2,IF('XML a procesar'!A4076=\"\",P4076,IF(MID('XML a procesar'!A4076,1,1)=\"<\",P4076,P4076+1)),P4076)","v":1}]
[{"$f":"IF('XML a procesar'!A4077>0,'XML a procesar'!A4077,\"\")","v":""},0,0,0,0,"",0,0,0,"","",0,"",0,"",{"$f":"IF(ROW()<$S$4+2,IF('XML a procesar'!A4077=\"\",P4077,IF(MID('XML a procesar'!A4077,1,1)=\"<\",P4077,P4077+1)),P4077)","v":1}]
[{"$f":"IF('XML a procesar'!A4078>0,'XML a procesar'!A4078,\"\")","v":""},0,0,0,0,"",0,0,0,"","",0,"",0,"",{"$f":"IF(ROW()<$S$4+2,IF('XML a procesar'!A4078=\"\",P4078,IF(MID('XML a procesar'!A4078,1,1)=\"<\",P4078,P4078+1)),P4078)","v":1}]
[{"$f":"IF('XML a procesar'!A4079>0,'XML a procesar'!A4079,\"\")","v":""},0,0,0,0,"",0,0,0,"","",0,"",0,"",{"$f":"IF(ROW()<$S$4+2,IF('XML a procesar'!A4079=\"\",P4079,IF(MID('XML a procesar'!A4079,1,1)=\"<\",P4079,P4079+1)),P4079)","v":1}]
[{"$f":"IF('XML a procesar'!A4080>0,'XML a procesar'!A4080,\"\")","v":""},0,0,0,0,"",0,0,0,"","",0,"",0,"",{"$f":"IF(ROW()<$S$4+2,IF('XML a procesar'!A4080=\"\",P4080,IF(MID('XML a procesar'!A4080,1,1)=\"<\",P4080,P4080+1)),P4080)","v":1}]
[{"$f":"IF('XML a procesar'!A4081>0,'XML a procesar'!A4081,\"\")","v":""},0,0,0,0,"",0,0,0,"","",0,"",0,"",{"$f":"IF(ROW()<$S$4+2,IF('XML a procesar'!A4081=\"\",P4081,IF(MID('XML a procesar'!A4081,1,1)=\"<\",P4081,P4081+1)),P4081)","v":1}]
[{"$f":"IF('XML a procesar'!A4082>0,'XML a procesar'!A4082,\"\")","v":""},0,0,0,0,"",0,0,0,"","",0,"",0,"",{"$f":"IF(ROW()<$S$4+2,IF('XML a procesar'!A4082=\"\",P4082,IF(MID('XML a procesar'!A4082,1,1)=\"<\",P4082,P4082+1)),P4082)","v":1}]
[{"$f":"IF('XML a procesar'!A4083>0,'XML a procesar'!A4083,\"\")","v":""},0,0,0,0,"",0,0,0,"","",0,"",0,"",{"$f":"IF(ROW()<$S$4+2,IF('XML a procesar'!A4083=\"\",P4083,IF(MID('XML a procesar'!A4083,1,1)=\"<\",P4083,P4083+1)),P4083)","v":1}]
[{"$f":"IF('XML a procesar'!A4084>0,'XML a procesar'!A4084,\"\")","v":""},0,0,0,0,"",0,0,0,"","",0,"",0,"",{"$f":"IF(ROW()<$S$4+2,IF('XML a procesar'!A4084=\"\",P4084,IF(MID('XML a procesar'!A4084,1,1)=\"<\",P4084,P4084+1)),P4084)","v":1}]
[{"$f":"IF('XML a procesar'!A4085>0,'XML a procesar'!A4085,\"\")","v":""},0,0,0,0,"",0,0,0,"","",0,"",0,"",{"$f":"IF(ROW()<$S$4+2,IF('XML a procesar'!A4085=\"\",P4085,IF(MID('XML a procesar'!A4085,1,1)=\"<\",P4085,P4085+1)),P4085)","v":1}]
[{"$f":"IF('XML a procesar'!A4086>0,'XML a procesar'!A4086,\"\")","v":""},0,0,0,0,"",0,0,0,"","",0,"",0,"",{"$f":"IF(ROW()<$S$4+2,IF('XML a procesar'!A4086=\"\",P4086,IF(MID('XML a procesar'!A4086,1,1)=\"<\",P4086,P4086+1)),P4086)","v":1}]
[{"$f":"IF('XML a procesar'!A4087>0,'XML a procesar'!A4087,\"\")","v":""},0,0,0,0,"",0,0,0,"","",0,"",0,"",{"$f":"IF(ROW()<$S$4+2,IF('XML a procesar'!A4087=\"\",P4087,IF(MID('XML a procesar'!A4087,1,1)=\"<\",P4087,P4087+1)),P4087)","v":1}]
[{"$f":"IF('XML a procesar'!A4088>0,'XML a procesar'!A4088,\"\")","v":""},0,0,0,0,"",0,0,0,"","",0,"",0,"",{"$f":"IF(ROW()<$S$4+2,IF('XML a procesar'!A4088=\"\",P4088,IF(MID('XML a procesar'!A4088,1,1)=\"<\",P4088,P4088+1)),P4088)","v":1}]
[{"$f":"IF('XML a procesar'!A4089>0,'XML a procesar'!A4089,\"\")","v":""},0,0,0,0,"",0,0,0,"","",0,"",0,"",{"$f":"IF(ROW()<$S$4+2,IF('XML a procesar'!A4089=\"\",P4089,IF(MID('XML a procesar'!A4089,1,1)=\"<\",P4089,P4089+1)),P4089)","v":1}]
[{"$f":"IF('XML a procesar'!A4090>0,'XML a procesar'!A4090,\"\")","v":""},0,0,0,0,"",0,0,0,"","",0,"",0,"",{"$f":"IF(ROW()<$S$4+2,IF('XML a procesar'!A4090=\"\",P4090,IF(MID('XML a procesar'!A4090,1,1)=\"<\",P4090,P4090+1)),P4090)","v":1}]
[{"$f":"IF('XML a procesar'!A4091>0,'XML a procesar'!A4091,\"\")","v":""},0,0,0,0,"",0,0,0,"","",0,"",0,"",{"$f":"IF(ROW()<$S$4+2,IF('XML a procesar'!A4091=\"\",P4091,IF(MID('XML a procesar'!A4091,1,1)=\"<\",P4091,P4091+1)),P4091)","v":1}]
[{"$f":"IF('XML a procesar'!A4092>0,'XML a procesar'!A4092,\"\")","v":""},0,0,0,0,"",0,0,0,"","",0,"",0,"",{"$f":"IF(ROW()<$S$4+2,IF('XML a procesar'!A4092=\"\",P4092,IF(MID('XML a procesar'!A4092,1,1)=\"<\",P4092,P4092+1)),P4092)","v":1}]
[{"$f":"IF('XML a procesar'!A4093>0,'XML a procesar'!A4093,\"\")","v":""},0,0,0,0,"",0,0,0,"","",0,"",0,"",{"$f":"IF(ROW()<$S$4+2,IF('XML a procesar'!A4093=\"\",P4093,IF(MID('XML a procesar'!A4093,1,1)=\"<\",P4093,P4093+1)),P4093)","v":1}]
[{"$f":"IF('XML a procesar'!A4094>0,'XML a procesar'!A4094,\"\")","v":""},0,0,0,0,"",0,0,0,"","",0,"",0,"",{"$f":"IF(ROW()<$S$4+2,IF('XML a procesar'!A4094=\"\",P4094,IF(MID('XML a procesar'!A4094,1,1)=\"<\",P4094,P4094+1)),P4094)","v":1}]
[{"$f":"IF('XML a procesar'!A4095>0,'XML a procesar'!A4095,\"\")","v":""},0,0,0,0,"",0,0,0,"","",0,"",0,"",{"$f":"IF(ROW()<$S$4+2,IF('XML a procesar'!A4095=\"\",P4095,IF(MID('XML a procesar'!A4095,1,1)=\"<\",P4095,P4095+1)),P4095)","v":1}]
[{"$f":"IF('XML a procesar'!A4096>0,'XML a procesar'!A4096,\"\")","v":""},{"$f":"IF(ISERROR(FIND(\"/doi.org/\",A4097,1)),0,1)","v":0},{"$f":"IF(LEFT(A4096,16)=\"<contrib contrib\",C4096+1,IF(LEFT(A4096,16)=\"</contrib-group>\",0,IF(LEFT(A4096,10)=\"</contrib>\",C4096,C4096)))","v":0},{"$f":"IF(AND(C4097>0,LEFT(A4097,7)=\"<email>\",ISNUMBER(SEARCH(\"@\",A4097,1))),C4097,IF(LEFT(A4097,10)=\"<alt-text>\",-1,0))","v":0},{"$f":"IF(D4097=0,E4096,E4096+1)","v":0},{"$f":"INDIRECT(ADDRESS(ROW()+INDIRECT(ADDRESS(ROW()+E4097,5)),1))","v":""},{"$f":"IF(LEFT(F4097,7)=\"<aff id\",_xlfn.NUMBERVALUE(MID(F4097,13,LEN(F4097)-14)),IF(F4097=\"</aff>\",G4096+1,G4096))","v":0},0,{"$f":"INDIRECT(ADDRESS(ROW()-INDIRECT(ADDRESS(ROW()-H4097,8)),8))","v":0},{"$f":"IF(J4096=\"Linea_para_MAIL_creada_por_LuXML\",\"</aff>\",IF(I4097>INDIRECT(ADDRESS(ROW()-I4097-1,8)),\"Linea_para_MAIL_creada_por_LuXML\",INDIRECT(ADDRESS(ROW()-I4097,6))))","v":""},"",{"$f":"IF(OR(MID(K4095,3,5)=\"page>\",MID(K4096,3,5)=\"page>\"),L4096,IF(OR(K4096=\"<history>\",K4097=\"<history>\"),L4096+1,L4096))","v":0},{"$f":"IF(L4097>L4096,IF(L4097=1,CONCATENATE(\"<fpage>\",$S$10,\"</fpage>\"),CONCATENATE(\"<lpage>\",$S$10+1,\"</lpage>\")),IF(ISERROR(INDIRECT(ADDRESS(ROW()-L4097,11),1)),\"\",INDIRECT(ADDRESS(ROW()-L4097,11),1)))","v":""},{"$f":"IF(N4096=-1,-1,IF(M4097=\"</counts>\",-1,IF(OR(LEFT(M4097,7)=\"<fpage>\",LEFT(M4097,7)=\"<lpage>\"),VALUE(MID(M4097,8,LEN(M4097)-15)),0)))","v":0},"",{"$f":"IF(ROW()<$S$4+2,IF('XML a procesar'!A4096=\"\",P4096,IF(MID('XML a procesar'!A4096,1,1)=\"<\",P4096,P4096+1)),P4096)","v":1}]
[{"$f":"IF('XML a procesar'!A4097>0,'XML a procesar'!A4097,\"\")","v":""},0,0,0,0,"",0,0,0,"","",0,"",0,{"$f":"IF(N4098>-1,INDIRECT(ADDRESS(ROW(),13)),IF(N4098<N4097,CONCATENATE(\"<page-count count=\",CHAR(34),1+LARGE(N:N,1)-LARGE(N:N,2),CHAR(34),\"/>\"),INDIRECT(ADDRESS(ROW()-1,13))))","v":""},{"$f":"IF(ROW()<$S$4+2,IF('XML a procesar'!A4097=\"\",P4097,IF(MID('XML a procesar'!A4097,1,1)=\"<\",P4097,P4097+1)),P4097)","v":1}]
[{"$f":"IF('XML a procesar'!A4098>0,'XML a procesar'!A4098,\"\")","v":""},0,0,0,0,"",0,{"$f":"IF(AND(G4098>0,G4099>G4098,NOT(ISERROR(MATCH(G4098,D:D,0)))),H4098+1,H4098)","v":0},0,"",{"$f":"IF(J4099=\"Linea_para_MAIL_creada_por_LuXML\",IF(ISERROR(MATCH(INDIRECT(ADDRESS(ROW()-G4099,7)),D:D,0)),J4099,INDIRECT(ADDRESS(MATCH(INDIRECT(ADDRESS(ROW()-G4099,7)),D:D,0),1))),J4099)","v":""},0,"",0,"",{"$f":"IF(ROW()<$S$4+2,IF('XML a procesar'!A4098=\"\",P4098,IF(MID('XML a procesar'!A4098,1,1)=\"<\",P4098,P4098+1)),P4098)","v":1}]
[{"$f":"IF('XML a procesar'!A4099>0,'XML a procesar'!A4099,\"\")","v":""},0,0,0,0,"",0,0,0,"","",0,"",0,"",{"$f":"IF(ROW()<$S$4+2,IF('XML a procesar'!A4099=\"\",P4099,IF(MID('XML a procesar'!A4099,1,1)=\"<\",P4099,P4099+1)),P4099)","v":1}]
[{"$f":"IF('XML a procesar'!A4100>0,'XML a procesar'!A4100,\"\")","v":""},0,0,0,0,"",0,0,0,"","",0,"",0,"",{"$f":"IF(ROW()<$S$4+2,IF('XML a procesar'!A4100=\"\",P4100,IF(MID('XML a procesar'!A4100,1,1)=\"<\",P4100,P4100+1)),P4100)","v":1}]
[{"$f":"IF('XML a procesar'!A4101>0,'XML a procesar'!A4101,\"\")","v":""},0,0,0,0,"",0,0,0,"","",0,"",0,"",{"$f":"IF(ROW()<$S$4+2,IF('XML a procesar'!A4101=\"\",P4101,IF(MID('XML a procesar'!A4101,1,1)=\"<\",P4101,P4101+1)),P4101)","v":1}]
[{"$f":"IF('XML a procesar'!A4102>0,'XML a procesar'!A4102,\"\")","v":""},0,0,0,0,"",0,0,0,"","",0,"",0,"",{"$f":"IF(ROW()<$S$4+2,IF('XML a procesar'!A4102=\"\",P4102,IF(MID('XML a procesar'!A4102,1,1)=\"<\",P4102,P4102+1)),P4102)","v":1}]
[{"$f":"IF('XML a procesar'!A4103>0,'XML a procesar'!A4103,\"\")","v":""},0,0,0,0,"",0,0,0,"","",0,"",0,"",{"$f":"IF(ROW()<$S$4+2,IF('XML a procesar'!A4103=\"\",P4103,IF(MID('XML a procesar'!A4103,1,1)=\"<\",P4103,P4103+1)),P4103)","v":1}]
[{"$f":"IF('XML a procesar'!A4104>0,'XML a procesar'!A4104,\"\")","v":""},0,0,0,0,"",0,0,0,"","",0,"",0,"",{"$f":"IF(ROW()<$S$4+2,IF('XML a procesar'!A4104=\"\",P4104,IF(MID('XML a procesar'!A4104,1,1)=\"<\",P4104,P4104+1)),P4104)","v":1}]
[{"$f":"IF('XML a procesar'!A4105>0,'XML a procesar'!A4105,\"\")","v":""},0,0,0,0,"",0,0,0,"","",0,"",0,"",{"$f":"IF(ROW()<$S$4+2,IF('XML a procesar'!A4105=\"\",P4105,IF(MID('XML a procesar'!A4105,1,1)=\"<\",P4105,P4105+1)),P4105)","v":1}]
[{"$f":"IF('XML a procesar'!A4106>0,'XML a procesar'!A4106,\"\")","v":""},0,0,0,0,"",0,0,0,"","",0,"",0,"",{"$f":"IF(ROW()<$S$4+2,IF('XML a procesar'!A4106=\"\",P4106,IF(MID('XML a procesar'!A4106,1,1)=\"<\",P4106,P4106+1)),P4106)","v":1}]
[{"$f":"IF('XML a procesar'!A4107>0,'XML a procesar'!A4107,\"\")","v":""},0,0,0,0,"",0,0,0,"","",0,"",0,"",{"$f":"IF(ROW()<$S$4+2,IF('XML a procesar'!A4107=\"\",P4107,IF(MID('XML a procesar'!A4107,1,1)=\"<\",P4107,P4107+1)),P4107)","v":1}]
[{"$f":"IF('XML a procesar'!A4108>0,'XML a procesar'!A4108,\"\")","v":""},0,0,0,0,"",0,0,0,"","",0,"",0,"",{"$f":"IF(ROW()<$S$4+2,IF('XML a procesar'!A4108=\"\",P4108,IF(MID('XML a procesar'!A4108,1,1)=\"<\",P4108,P4108+1)),P4108)","v":1}]
[{"$f":"IF('XML a procesar'!A4109>0,'XML a procesar'!A4109,\"\")","v":""},0,0,0,0,"",0,0,0,"","",0,"",0,"",{"$f":"IF(ROW()<$S$4+2,IF('XML a procesar'!A4109=\"\",P4109,IF(MID('XML a procesar'!A4109,1,1)=\"<\",P4109,P4109+1)),P4109)","v":1}]
[{"$f":"IF('XML a procesar'!A4110>0,'XML a procesar'!A4110,\"\")","v":""},0,0,0,0,"",0,0,0,"","",0,"",0,"",{"$f":"IF(ROW()<$S$4+2,IF('XML a procesar'!A4110=\"\",P4110,IF(MID('XML a procesar'!A4110,1,1)=\"<\",P4110,P4110+1)),P4110)","v":1}]
[{"$f":"IF('XML a procesar'!A4111>0,'XML a procesar'!A4111,\"\")","v":""},0,0,0,0,"",0,0,0,"","",0,"",0,"",{"$f":"IF(ROW()<$S$4+2,IF('XML a procesar'!A4111=\"\",P4111,IF(MID('XML a procesar'!A4111,1,1)=\"<\",P4111,P4111+1)),P4111)","v":1}]
[{"$f":"IF('XML a procesar'!A4112>0,'XML a procesar'!A4112,\"\")","v":""},0,0,0,0,"",0,0,0,"","",0,"",0,"",{"$f":"IF(ROW()<$S$4+2,IF('XML a procesar'!A4112=\"\",P4112,IF(MID('XML a procesar'!A4112,1,1)=\"<\",P4112,P4112+1)),P4112)","v":1}]
[{"$f":"IF('XML a procesar'!A4113>0,'XML a procesar'!A4113,\"\")","v":""},0,0,0,0,"",0,0,0,"","",0,"",0,"",{"$f":"IF(ROW()<$S$4+2,IF('XML a procesar'!A4113=\"\",P4113,IF(MID('XML a procesar'!A4113,1,1)=\"<\",P4113,P4113+1)),P4113)","v":1}]
[{"$f":"IF('XML a procesar'!A4114>0,'XML a procesar'!A4114,\"\")","v":""},0,0,0,0,"",0,0,0,"","",0,"",0,"",{"$f":"IF(ROW()<$S$4+2,IF('XML a procesar'!A4114=\"\",P4114,IF(MID('XML a procesar'!A4114,1,1)=\"<\",P4114,P4114+1)),P4114)","v":1}]
[{"$f":"IF('XML a procesar'!A4115>0,'XML a procesar'!A4115,\"\")","v":""},0,0,0,0,"",0,0,0,"","",0,"",0,"",{"$f":"IF(ROW()<$S$4+2,IF('XML a procesar'!A4115=\"\",P4115,IF(MID('XML a procesar'!A4115,1,1)=\"<\",P4115,P4115+1)),P4115)","v":1}]
[{"$f":"IF('XML a procesar'!A4116>0,'XML a procesar'!A4116,\"\")","v":""},0,0,0,0,"",0,0,0,"","",0,"",0,"",{"$f":"IF(ROW()<$S$4+2,IF('XML a procesar'!A4116=\"\",P4116,IF(MID('XML a procesar'!A4116,1,1)=\"<\",P4116,P4116+1)),P4116)","v":1}]
[{"$f":"IF('XML a procesar'!A4117>0,'XML a procesar'!A4117,\"\")","v":""},0,0,0,0,"",0,0,0,"","",0,"",0,"",{"$f":"IF(ROW()<$S$4+2,IF('XML a procesar'!A4117=\"\",P4117,IF(MID('XML a procesar'!A4117,1,1)=\"<\",P4117,P4117+1)),P4117)","v":1}]
[{"$f":"IF('XML a procesar'!A4118>0,'XML a procesar'!A4118,\"\")","v":""},0,0,0,0,"",0,0,0,"","",0,"",0,"",{"$f":"IF(ROW()<$S$4+2,IF('XML a procesar'!A4118=\"\",P4118,IF(MID('XML a procesar'!A4118,1,1)=\"<\",P4118,P4118+1)),P4118)","v":1}]
[{"$f":"IF('XML a procesar'!A4119>0,'XML a procesar'!A4119,\"\")","v":""},0,0,0,0,"",0,0,0,"","",0,"",0,"",{"$f":"IF(ROW()<$S$4+2,IF('XML a procesar'!A4119=\"\",P4119,IF(MID('XML a procesar'!A4119,1,1)=\"<\",P4119,P4119+1)),P4119)","v":1}]
[{"$f":"IF('XML a procesar'!A4120>0,'XML a procesar'!A4120,\"\")","v":""},0,0,0,0,"",0,0,0,"","",0,"",0,"",{"$f":"IF(ROW()<$S$4+2,IF('XML a procesar'!A4120=\"\",P4120,IF(MID('XML a procesar'!A4120,1,1)=\"<\",P4120,P4120+1)),P4120)","v":1}]
[{"$f":"IF('XML a procesar'!A4121>0,'XML a procesar'!A4121,\"\")","v":""},0,0,0,0,"",0,0,0,"","",0,"",0,"",{"$f":"IF(ROW()<$S$4+2,IF('XML a procesar'!A4121=\"\",P4121,IF(MID('XML a procesar'!A4121,1,1)=\"<\",P4121,P4121+1)),P4121)","v":1}]
[{"$f":"IF('XML a procesar'!A4122>0,'XML a procesar'!A4122,\"\")","v":""},0,0,0,0,"",0,0,0,"","",0,"",0,"",{"$f":"IF(ROW()<$S$4+2,IF('XML a procesar'!A4122=\"\",P4122,IF(MID('XML a procesar'!A4122,1,1)=\"<\",P4122,P4122+1)),P4122)","v":1}]
[{"$f":"IF('XML a procesar'!A4123>0,'XML a procesar'!A4123,\"\")","v":""},0,0,0,0,"",0,0,0,"","",0,"",0,"",{"$f":"IF(ROW()<$S$4+2,IF('XML a procesar'!A4123=\"\",P4123,IF(MID('XML a procesar'!A4123,1,1)=\"<\",P4123,P4123+1)),P4123)","v":1}]
[{"$f":"IF('XML a procesar'!A4124>0,'XML a procesar'!A4124,\"\")","v":""},0,0,0,0,"",0,0,0,"","",0,"",0,"",{"$f":"IF(ROW()<$S$4+2,IF('XML a procesar'!A4124=\"\",P4124,IF(MID('XML a procesar'!A4124,1,1)=\"<\",P4124,P4124+1)),P4124)","v":1}]
[{"$f":"IF('XML a procesar'!A4125>0,'XML a procesar'!A4125,\"\")","v":""},0,0,0,0,"",0,0,0,"","",0,"",0,"",{"$f":"IF(ROW()<$S$4+2,IF('XML a procesar'!A4125=\"\",P4125,IF(MID('XML a procesar'!A4125,1,1)=\"<\",P4125,P4125+1)),P4125)","v":1}]
[{"$f":"IF('XML a procesar'!A4126>0,'XML a procesar'!A4126,\"\")","v":""},0,0,0,0,"",0,0,0,"","",0,"",0,"",{"$f":"IF(ROW()<$S$4+2,IF('XML a procesar'!A4126=\"\",P4126,IF(MID('XML a procesar'!A4126,1,1)=\"<\",P4126,P4126+1)),P4126)","v":1}]
[{"$f":"IF('XML a procesar'!A4127>0,'XML a procesar'!A4127,\"\")","v":""},0,0,0,0,"",0,0,0,"","",0,"",0,"",{"$f":"IF(ROW()<$S$4+2,IF('XML a procesar'!A4127=\"\",P4127,IF(MID('XML a procesar'!A4127,1,1)=\"<\",P4127,P4127+1)),P4127)","v":1}]
[{"$f":"IF('XML a procesar'!A4128>0,'XML a procesar'!A4128,\"\")","v":""},0,0,0,0,"",0,0,0,"","",0,"",0,"",{"$f":"IF(ROW()<$S$4+2,IF('XML a procesar'!A4128=\"\",P4128,IF(MID('XML a procesar'!A4128,1,1)=\"<\",P4128,P4128+1)),P4128)","v":1}]
[{"$f":"IF('XML a procesar'!A4129>0,'XML a procesar'!A4129,\"\")","v":""},0,0,0,0,"",0,0,0,"","",0,"",0,"",{"$f":"IF(ROW()<$S$4+2,IF('XML a procesar'!A4129=\"\",P4129,IF(MID('XML a procesar'!A4129,1,1)=\"<\",P4129,P4129+1)),P4129)","v":1}]
[{"$f":"IF('XML a procesar'!A4130>0,'XML a procesar'!A4130,\"\")","v":""},0,0,0,0,"",0,0,0,"","",0,"",0,"",{"$f":"IF(ROW()<$S$4+2,IF('XML a procesar'!A4130=\"\",P4130,IF(MID('XML a procesar'!A4130,1,1)=\"<\",P4130,P4130+1)),P4130)","v":1}]
[{"$f":"IF('XML a procesar'!A4131>0,'XML a procesar'!A4131,\"\")","v":""},0,0,0,0,"",0,0,0,"","",0,"",0,"",{"$f":"IF(ROW()<$S$4+2,IF('XML a procesar'!A4131=\"\",P4131,IF(MID('XML a procesar'!A4131,1,1)=\"<\",P4131,P4131+1)),P4131)","v":1}]
[{"$f":"IF('XML a procesar'!A4132>0,'XML a procesar'!A4132,\"\")","v":""},0,0,0,0,"",0,0,0,"","",0,"",0,"",{"$f":"IF(ROW()<$S$4+2,IF('XML a procesar'!A4132=\"\",P4132,IF(MID('XML a procesar'!A4132,1,1)=\"<\",P4132,P4132+1)),P4132)","v":1}]
[{"$f":"IF('XML a procesar'!A4133>0,'XML a procesar'!A4133,\"\")","v":""},0,0,0,0,"",0,0,0,"","",0,"",0,"",{"$f":"IF(ROW()<$S$4+2,IF('XML a procesar'!A4133=\"\",P4133,IF(MID('XML a procesar'!A4133,1,1)=\"<\",P4133,P4133+1)),P4133)","v":1}]
[{"$f":"IF('XML a procesar'!A4134>0,'XML a procesar'!A4134,\"\")","v":""},0,0,0,0,"",0,0,0,"","",0,"",0,"",{"$f":"IF(ROW()<$S$4+2,IF('XML a procesar'!A4134=\"\",P4134,IF(MID('XML a procesar'!A4134,1,1)=\"<\",P4134,P4134+1)),P4134)","v":1}]
[{"$f":"IF('XML a procesar'!A4135>0,'XML a procesar'!A4135,\"\")","v":""},0,0,0,0,"",0,0,0,"","",0,"",0,"",{"$f":"IF(ROW()<$S$4+2,IF('XML a procesar'!A4135=\"\",P4135,IF(MID('XML a procesar'!A4135,1,1)=\"<\",P4135,P4135+1)),P4135)","v":1}]
[{"$f":"IF('XML a procesar'!A4136>0,'XML a procesar'!A4136,\"\")","v":""},0,0,0,0,"",0,0,0,"","",0,"",0,"",{"$f":"IF(ROW()<$S$4+2,IF('XML a procesar'!A4136=\"\",P4136,IF(MID('XML a procesar'!A4136,1,1)=\"<\",P4136,P4136+1)),P4136)","v":1}]
[{"$f":"IF('XML a procesar'!A4137>0,'XML a procesar'!A4137,\"\")","v":""},0,0,0,0,"",0,0,0,"","",0,"",0,"",{"$f":"IF(ROW()<$S$4+2,IF('XML a procesar'!A4137=\"\",P4137,IF(MID('XML a procesar'!A4137,1,1)=\"<\",P4137,P4137+1)),P4137)","v":1}]
[{"$f":"IF('XML a procesar'!A4138>0,'XML a procesar'!A4138,\"\")","v":""},0,0,0,0,"",0,0,0,"","",0,"",0,"",{"$f":"IF(ROW()<$S$4+2,IF('XML a procesar'!A4138=\"\",P4138,IF(MID('XML a procesar'!A4138,1,1)=\"<\",P4138,P4138+1)),P4138)","v":1}]
[{"$f":"IF('XML a procesar'!A4139>0,'XML a procesar'!A4139,\"\")","v":""},0,0,0,0,"",0,0,0,"","",0,"",0,"",{"$f":"IF(ROW()<$S$4+2,IF('XML a procesar'!A4139=\"\",P4139,IF(MID('XML a procesar'!A4139,1,1)=\"<\",P4139,P4139+1)),P4139)","v":1}]
[{"$f":"IF('XML a procesar'!A4140>0,'XML a procesar'!A4140,\"\")","v":""},0,0,0,0,"",0,0,0,"","",0,"",0,"",{"$f":"IF(ROW()<$S$4+2,IF('XML a procesar'!A4140=\"\",P4140,IF(MID('XML a procesar'!A4140,1,1)=\"<\",P4140,P4140+1)),P4140)","v":1}]
[{"$f":"IF('XML a procesar'!A4141>0,'XML a procesar'!A4141,\"\")","v":""},0,0,0,0,"",0,0,0,"","",0,"",0,"",{"$f":"IF(ROW()<$S$4+2,IF('XML a procesar'!A4141=\"\",P4141,IF(MID('XML a procesar'!A4141,1,1)=\"<\",P4141,P4141+1)),P4141)","v":1}]
[{"$f":"IF('XML a procesar'!A4142>0,'XML a procesar'!A4142,\"\")","v":""},0,0,0,0,"",0,0,0,"","",0,"",0,"",{"$f":"IF(ROW()<$S$4+2,IF('XML a procesar'!A4142=\"\",P4142,IF(MID('XML a procesar'!A4142,1,1)=\"<\",P4142,P4142+1)),P4142)","v":1}]
[{"$f":"IF('XML a procesar'!A4143>0,'XML a procesar'!A4143,\"\")","v":""},0,0,0,0,"",0,0,0,"","",0,"",0,"",{"$f":"IF(ROW()<$S$4+2,IF('XML a procesar'!A4143=\"\",P4143,IF(MID('XML a procesar'!A4143,1,1)=\"<\",P4143,P4143+1)),P4143)","v":1}]
[{"$f":"IF('XML a procesar'!A4144>0,'XML a procesar'!A4144,\"\")","v":""},0,0,0,0,"",0,0,0,"","",0,"",0,"",{"$f":"IF(ROW()<$S$4+2,IF('XML a procesar'!A4144=\"\",P4144,IF(MID('XML a procesar'!A4144,1,1)=\"<\",P4144,P4144+1)),P4144)","v":1}]
[{"$f":"IF('XML a procesar'!A4145>0,'XML a procesar'!A4145,\"\")","v":""},0,0,0,0,"",0,0,0,"","",0,"",0,"",{"$f":"IF(ROW()<$S$4+2,IF('XML a procesar'!A4145=\"\",P4145,IF(MID('XML a procesar'!A4145,1,1)=\"<\",P4145,P4145+1)),P4145)","v":1}]
[{"$f":"IF('XML a procesar'!A4146>0,'XML a procesar'!A4146,\"\")","v":""},0,0,0,0,"",0,0,0,"","",0,"",0,"",{"$f":"IF(ROW()<$S$4+2,IF('XML a procesar'!A4146=\"\",P4146,IF(MID('XML a procesar'!A4146,1,1)=\"<\",P4146,P4146+1)),P4146)","v":1}]
[{"$f":"IF('XML a procesar'!A4147>0,'XML a procesar'!A4147,\"\")","v":""},0,0,0,0,"",0,0,0,"","",0,"",0,"",{"$f":"IF(ROW()<$S$4+2,IF('XML a procesar'!A4147=\"\",P4147,IF(MID('XML a procesar'!A4147,1,1)=\"<\",P4147,P4147+1)),P4147)","v":1}]
[{"$f":"IF('XML a procesar'!A4148>0,'XML a procesar'!A4148,\"\")","v":""},0,0,0,0,"",0,0,0,"","",0,"",0,"",{"$f":"IF(ROW()<$S$4+2,IF('XML a procesar'!A4148=\"\",P4148,IF(MID('XML a procesar'!A4148,1,1)=\"<\",P4148,P4148+1)),P4148)","v":1}]
[{"$f":"IF('XML a procesar'!A4149>0,'XML a procesar'!A4149,\"\")","v":""},0,0,0,0,"",0,0,0,"","",0,"",0,"",{"$f":"IF(ROW()<$S$4+2,IF('XML a procesar'!A4149=\"\",P4149,IF(MID('XML a procesar'!A4149,1,1)=\"<\",P4149,P4149+1)),P4149)","v":1}]
[{"$f":"IF('XML a procesar'!A4150>0,'XML a procesar'!A4150,\"\")","v":""},0,0,0,0,"",0,0,0,"","",0,"",0,"",{"$f":"IF(ROW()<$S$4+2,IF('XML a procesar'!A4150=\"\",P4150,IF(MID('XML a procesar'!A4150,1,1)=\"<\",P4150,P4150+1)),P4150)","v":1}]
[{"$f":"IF('XML a procesar'!A4151>0,'XML a procesar'!A4151,\"\")","v":""},0,0,0,0,"",0,0,0,"","",0,"",0,"",{"$f":"IF(ROW()<$S$4+2,IF('XML a procesar'!A4151=\"\",P4151,IF(MID('XML a procesar'!A4151,1,1)=\"<\",P4151,P4151+1)),P4151)","v":1}]
[{"$f":"IF('XML a procesar'!A4152>0,'XML a procesar'!A4152,\"\")","v":""},0,0,0,0,"",0,0,0,"","",0,"",0,"",{"$f":"IF(ROW()<$S$4+2,IF('XML a procesar'!A4152=\"\",P4152,IF(MID('XML a procesar'!A4152,1,1)=\"<\",P4152,P4152+1)),P4152)","v":1}]
[{"$f":"IF('XML a procesar'!A4153>0,'XML a procesar'!A4153,\"\")","v":""},0,0,0,0,"",0,0,0,"","",0,"",0,"",{"$f":"IF(ROW()<$S$4+2,IF('XML a procesar'!A4153=\"\",P4153,IF(MID('XML a procesar'!A4153,1,1)=\"<\",P4153,P4153+1)),P4153)","v":1}]
[{"$f":"IF('XML a procesar'!A4154>0,'XML a procesar'!A4154,\"\")","v":""},0,0,0,0,"",0,0,0,"","",0,"",0,"",{"$f":"IF(ROW()<$S$4+2,IF('XML a procesar'!A4154=\"\",P4154,IF(MID('XML a procesar'!A4154,1,1)=\"<\",P4154,P4154+1)),P4154)","v":1}]
[{"$f":"IF('XML a procesar'!A4155>0,'XML a procesar'!A4155,\"\")","v":""},0,0,0,0,"",0,0,0,"","",0,"",0,"",{"$f":"IF(ROW()<$S$4+2,IF('XML a procesar'!A4155=\"\",P4155,IF(MID('XML a procesar'!A4155,1,1)=\"<\",P4155,P4155+1)),P4155)","v":1}]
[{"$f":"IF('XML a procesar'!A4156>0,'XML a procesar'!A4156,\"\")","v":""},0,0,0,0,"",0,0,0,"","",0,"",0,"",{"$f":"IF(ROW()<$S$4+2,IF('XML a procesar'!A4156=\"\",P4156,IF(MID('XML a procesar'!A4156,1,1)=\"<\",P4156,P4156+1)),P4156)","v":1}]
[{"$f":"IF('XML a procesar'!A4157>0,'XML a procesar'!A4157,\"\")","v":""},0,0,0,0,"",0,0,0,"","",0,"",0,"",{"$f":"IF(ROW()<$S$4+2,IF('XML a procesar'!A4157=\"\",P4157,IF(MID('XML a procesar'!A4157,1,1)=\"<\",P4157,P4157+1)),P4157)","v":1}]
[{"$f":"IF('XML a procesar'!A4158>0,'XML a procesar'!A4158,\"\")","v":""},0,0,0,0,"",0,0,0,"","",0,"",0,"",{"$f":"IF(ROW()<$S$4+2,IF('XML a procesar'!A4158=\"\",P4158,IF(MID('XML a procesar'!A4158,1,1)=\"<\",P4158,P4158+1)),P4158)","v":1}]
[{"$f":"IF('XML a procesar'!A4159>0,'XML a procesar'!A4159,\"\")","v":""},0,0,0,0,"",0,0,0,"","",0,"",0,"",{"$f":"IF(ROW()<$S$4+2,IF('XML a procesar'!A4159=\"\",P4159,IF(MID('XML a procesar'!A4159,1,1)=\"<\",P4159,P4159+1)),P4159)","v":1}]
[{"$f":"IF('XML a procesar'!A4160>0,'XML a procesar'!A4160,\"\")","v":""},{"$f":"IF(ISERROR(FIND(\"/doi.org/\",A4161,1)),0,1)","v":0},{"$f":"IF(LEFT(A4160,16)=\"<contrib contrib\",C4160+1,IF(LEFT(A4160,16)=\"</contrib-group>\",0,IF(LEFT(A4160,10)=\"</contrib>\",C4160,C4160)))","v":0},{"$f":"IF(AND(C4161>0,LEFT(A4161,7)=\"<email>\",ISNUMBER(SEARCH(\"@\",A4161,1))),C4161,IF(LEFT(A4161,10)=\"<alt-text>\",-1,0))","v":0},{"$f":"IF(D4161=0,E4160,E4160+1)","v":0},{"$f":"INDIRECT(ADDRESS(ROW()+INDIRECT(ADDRESS(ROW()+E4161,5)),1))","v":""},{"$f":"IF(LEFT(F4161,7)=\"<aff id\",_xlfn.NUMBERVALUE(MID(F4161,13,LEN(F4161)-14)),IF(F4161=\"</aff>\",G4160+1,G4160))","v":0},0,{"$f":"INDIRECT(ADDRESS(ROW()-INDIRECT(ADDRESS(ROW()-H4161,8)),8))","v":0},{"$f":"IF(J4160=\"Linea_para_MAIL_creada_por_LuXML\",\"</aff>\",IF(I4161>INDIRECT(ADDRESS(ROW()-I4161-1,8)),\"Linea_para_MAIL_creada_por_LuXML\",INDIRECT(ADDRESS(ROW()-I4161,6))))","v":""},"",{"$f":"IF(OR(MID(K4159,3,5)=\"page>\",MID(K4160,3,5)=\"page>\"),L4160,IF(OR(K4160=\"<history>\",K4161=\"<history>\"),L4160+1,L4160))","v":0},{"$f":"IF(L4161>L4160,IF(L4161=1,CONCATENATE(\"<fpage>\",$S$10,\"</fpage>\"),CONCATENATE(\"<lpage>\",$S$10+1,\"</lpage>\")),IF(ISERROR(INDIRECT(ADDRESS(ROW()-L4161,11),1)),\"\",INDIRECT(ADDRESS(ROW()-L4161,11),1)))","v":""},{"$f":"IF(N4160=-1,-1,IF(M4161=\"</counts>\",-1,IF(OR(LEFT(M4161,7)=\"<fpage>\",LEFT(M4161,7)=\"<lpage>\"),VALUE(MID(M4161,8,LEN(M4161)-15)),0)))","v":0},"",{"$f":"IF(ROW()<$S$4+2,IF('XML a procesar'!A4160=\"\",P4160,IF(MID('XML a procesar'!A4160,1,1)=\"<\",P4160,P4160+1)),P4160)","v":1}]
[{"$f":"IF('XML a procesar'!A4161>0,'XML a procesar'!A4161,\"\")","v":""},0,0,0,0,"",0,0,0,"","",0,"",0,{"$f":"IF(N4162>-1,INDIRECT(ADDRESS(ROW(),13)),IF(N4162<N4161,CONCATENATE(\"<page-count count=\",CHAR(34),1+LARGE(N:N,1)-LARGE(N:N,2),CHAR(34),\"/>\"),INDIRECT(ADDRESS(ROW()-1,13))))","v":""},{"$f":"IF(ROW()<$S$4+2,IF('XML a procesar'!A4161=\"\",P4161,IF(MID('XML a procesar'!A4161,1,1)=\"<\",P4161,P4161+1)),P4161)","v":1}]
[{"$f":"IF('XML a procesar'!A4162>0,'XML a procesar'!A4162,\"\")","v":""},0,0,0,0,"",0,{"$f":"IF(AND(G4162>0,G4163>G4162,NOT(ISERROR(MATCH(G4162,D:D,0)))),H4162+1,H4162)","v":0},0,"",{"$f":"IF(J4163=\"Linea_para_MAIL_creada_por_LuXML\",IF(ISERROR(MATCH(INDIRECT(ADDRESS(ROW()-G4163,7)),D:D,0)),J4163,INDIRECT(ADDRESS(MATCH(INDIRECT(ADDRESS(ROW()-G4163,7)),D:D,0),1))),J4163)","v":""},0,"",0,"",{"$f":"IF(ROW()<$S$4+2,IF('XML a procesar'!A4162=\"\",P4162,IF(MID('XML a procesar'!A4162,1,1)=\"<\",P4162,P4162+1)),P4162)","v":1}]
[{"$f":"IF('XML a procesar'!A4163>0,'XML a procesar'!A4163,\"\")","v":""},0,0,0,0,"",0,0,0,"","",0,"",0,"",{"$f":"IF(ROW()<$S$4+2,IF('XML a procesar'!A4163=\"\",P4163,IF(MID('XML a procesar'!A4163,1,1)=\"<\",P4163,P4163+1)),P4163)","v":1}]
[{"$f":"IF('XML a procesar'!A4164>0,'XML a procesar'!A4164,\"\")","v":""},0,0,0,0,"",0,0,0,"","",0,"",0,"",{"$f":"IF(ROW()<$S$4+2,IF('XML a procesar'!A4164=\"\",P4164,IF(MID('XML a procesar'!A4164,1,1)=\"<\",P4164,P4164+1)),P4164)","v":1}]
[{"$f":"IF('XML a procesar'!A4165>0,'XML a procesar'!A4165,\"\")","v":""},0,0,0,0,"",0,0,0,"","",0,"",0,"",{"$f":"IF(ROW()<$S$4+2,IF('XML a procesar'!A4165=\"\",P4165,IF(MID('XML a procesar'!A4165,1,1)=\"<\",P4165,P4165+1)),P4165)","v":1}]
[{"$f":"IF('XML a procesar'!A4166>0,'XML a procesar'!A4166,\"\")","v":""},0,0,0,0,"",0,0,0,"","",0,"",0,"",{"$f":"IF(ROW()<$S$4+2,IF('XML a procesar'!A4166=\"\",P4166,IF(MID('XML a procesar'!A4166,1,1)=\"<\",P4166,P4166+1)),P4166)","v":1}]
[{"$f":"IF('XML a procesar'!A4167>0,'XML a procesar'!A4167,\"\")","v":""},0,0,0,0,"",0,0,0,"","",0,"",0,"",{"$f":"IF(ROW()<$S$4+2,IF('XML a procesar'!A4167=\"\",P4167,IF(MID('XML a procesar'!A4167,1,1)=\"<\",P4167,P4167+1)),P4167)","v":1}]
[{"$f":"IF('XML a procesar'!A4168>0,'XML a procesar'!A4168,\"\")","v":""},0,0,0,0,"",0,0,0,"","",0,"",0,"",{"$f":"IF(ROW()<$S$4+2,IF('XML a procesar'!A4168=\"\",P4168,IF(MID('XML a procesar'!A4168,1,1)=\"<\",P4168,P4168+1)),P4168)","v":1}]
[{"$f":"IF('XML a procesar'!A4169>0,'XML a procesar'!A4169,\"\")","v":""},0,0,0,0,"",0,0,0,"","",0,"",0,"",{"$f":"IF(ROW()<$S$4+2,IF('XML a procesar'!A4169=\"\",P4169,IF(MID('XML a procesar'!A4169,1,1)=\"<\",P4169,P4169+1)),P4169)","v":1}]
[{"$f":"IF('XML a procesar'!A4170>0,'XML a procesar'!A4170,\"\")","v":""},0,0,0,0,"",0,0,0,"","",0,"",0,"",{"$f":"IF(ROW()<$S$4+2,IF('XML a procesar'!A4170=\"\",P4170,IF(MID('XML a procesar'!A4170,1,1)=\"<\",P4170,P4170+1)),P4170)","v":1}]
[{"$f":"IF('XML a procesar'!A4171>0,'XML a procesar'!A4171,\"\")","v":""},0,0,0,0,"",0,0,0,"","",0,"",0,"",{"$f":"IF(ROW()<$S$4+2,IF('XML a procesar'!A4171=\"\",P4171,IF(MID('XML a procesar'!A4171,1,1)=\"<\",P4171,P4171+1)),P4171)","v":1}]
[{"$f":"IF('XML a procesar'!A4172>0,'XML a procesar'!A4172,\"\")","v":""},0,0,0,0,"",0,0,0,"","",0,"",0,"",{"$f":"IF(ROW()<$S$4+2,IF('XML a procesar'!A4172=\"\",P4172,IF(MID('XML a procesar'!A4172,1,1)=\"<\",P4172,P4172+1)),P4172)","v":1}]
[{"$f":"IF('XML a procesar'!A4173>0,'XML a procesar'!A4173,\"\")","v":""},0,0,0,0,"",0,0,0,"","",0,"",0,"",{"$f":"IF(ROW()<$S$4+2,IF('XML a procesar'!A4173=\"\",P4173,IF(MID('XML a procesar'!A4173,1,1)=\"<\",P4173,P4173+1)),P4173)","v":1}]
[{"$f":"IF('XML a procesar'!A4174>0,'XML a procesar'!A4174,\"\")","v":""},0,0,0,0,"",0,0,0,"","",0,"",0,"",{"$f":"IF(ROW()<$S$4+2,IF('XML a procesar'!A4174=\"\",P4174,IF(MID('XML a procesar'!A4174,1,1)=\"<\",P4174,P4174+1)),P4174)","v":1}]
[{"$f":"IF('XML a procesar'!A4175>0,'XML a procesar'!A4175,\"\")","v":""},0,0,0,0,"",0,0,0,"","",0,"",0,"",{"$f":"IF(ROW()<$S$4+2,IF('XML a procesar'!A4175=\"\",P4175,IF(MID('XML a procesar'!A4175,1,1)=\"<\",P4175,P4175+1)),P4175)","v":1}]
[{"$f":"IF('XML a procesar'!A4176>0,'XML a procesar'!A4176,\"\")","v":""},0,0,0,0,"",0,0,0,"","",0,"",0,"",{"$f":"IF(ROW()<$S$4+2,IF('XML a procesar'!A4176=\"\",P4176,IF(MID('XML a procesar'!A4176,1,1)=\"<\",P4176,P4176+1)),P4176)","v":1}]
[{"$f":"IF('XML a procesar'!A4177>0,'XML a procesar'!A4177,\"\")","v":""},0,0,0,0,"",0,0,0,"","",0,"",0,"",{"$f":"IF(ROW()<$S$4+2,IF('XML a procesar'!A4177=\"\",P4177,IF(MID('XML a procesar'!A4177,1,1)=\"<\",P4177,P4177+1)),P4177)","v":1}]
[{"$f":"IF('XML a procesar'!A4178>0,'XML a procesar'!A4178,\"\")","v":""},0,0,0,0,"",0,0,0,"","",0,"",0,"",{"$f":"IF(ROW()<$S$4+2,IF('XML a procesar'!A4178=\"\",P4178,IF(MID('XML a procesar'!A4178,1,1)=\"<\",P4178,P4178+1)),P4178)","v":1}]
[{"$f":"IF('XML a procesar'!A4179>0,'XML a procesar'!A4179,\"\")","v":""},0,0,0,0,"",0,0,0,"","",0,"",0,"",{"$f":"IF(ROW()<$S$4+2,IF('XML a procesar'!A4179=\"\",P4179,IF(MID('XML a procesar'!A4179,1,1)=\"<\",P4179,P4179+1)),P4179)","v":1}]
[{"$f":"IF('XML a procesar'!A4180>0,'XML a procesar'!A4180,\"\")","v":""},0,0,0,0,"",0,0,0,"","",0,"",0,"",{"$f":"IF(ROW()<$S$4+2,IF('XML a procesar'!A4180=\"\",P4180,IF(MID('XML a procesar'!A4180,1,1)=\"<\",P4180,P4180+1)),P4180)","v":1}]
[{"$f":"IF('XML a procesar'!A4181>0,'XML a procesar'!A4181,\"\")","v":""},0,0,0,0,"",0,0,0,"","",0,"",0,"",{"$f":"IF(ROW()<$S$4+2,IF('XML a procesar'!A4181=\"\",P4181,IF(MID('XML a procesar'!A4181,1,1)=\"<\",P4181,P4181+1)),P4181)","v":1}]
[{"$f":"IF('XML a procesar'!A4182>0,'XML a procesar'!A4182,\"\")","v":""},0,0,0,0,"",0,0,0,"","",0,"",0,"",{"$f":"IF(ROW()<$S$4+2,IF('XML a procesar'!A4182=\"\",P4182,IF(MID('XML a procesar'!A4182,1,1)=\"<\",P4182,P4182+1)),P4182)","v":1}]
[{"$f":"IF('XML a procesar'!A4183>0,'XML a procesar'!A4183,\"\")","v":""},0,0,0,0,"",0,0,0,"","",0,"",0,"",{"$f":"IF(ROW()<$S$4+2,IF('XML a procesar'!A4183=\"\",P4183,IF(MID('XML a procesar'!A4183,1,1)=\"<\",P4183,P4183+1)),P4183)","v":1}]
[{"$f":"IF('XML a procesar'!A4184>0,'XML a procesar'!A4184,\"\")","v":""},0,0,0,0,"",0,0,0,"","",0,"",0,"",{"$f":"IF(ROW()<$S$4+2,IF('XML a procesar'!A4184=\"\",P4184,IF(MID('XML a procesar'!A4184,1,1)=\"<\",P4184,P4184+1)),P4184)","v":1}]
[{"$f":"IF('XML a procesar'!A4185>0,'XML a procesar'!A4185,\"\")","v":""},0,0,0,0,"",0,0,0,"","",0,"",0,"",{"$f":"IF(ROW()<$S$4+2,IF('XML a procesar'!A4185=\"\",P4185,IF(MID('XML a procesar'!A4185,1,1)=\"<\",P4185,P4185+1)),P4185)","v":1}]
[{"$f":"IF('XML a procesar'!A4186>0,'XML a procesar'!A4186,\"\")","v":""},0,0,0,0,"",0,0,0,"","",0,"",0,"",{"$f":"IF(ROW()<$S$4+2,IF('XML a procesar'!A4186=\"\",P4186,IF(MID('XML a procesar'!A4186,1,1)=\"<\",P4186,P4186+1)),P4186)","v":1}]
[{"$f":"IF('XML a procesar'!A4187>0,'XML a procesar'!A4187,\"\")","v":""},0,0,0,0,"",0,0,0,"","",0,"",0,"",{"$f":"IF(ROW()<$S$4+2,IF('XML a procesar'!A4187=\"\",P4187,IF(MID('XML a procesar'!A4187,1,1)=\"<\",P4187,P4187+1)),P4187)","v":1}]
[{"$f":"IF('XML a procesar'!A4188>0,'XML a procesar'!A4188,\"\")","v":""},0,0,0,0,"",0,0,0,"","",0,"",0,"",{"$f":"IF(ROW()<$S$4+2,IF('XML a procesar'!A4188=\"\",P4188,IF(MID('XML a procesar'!A4188,1,1)=\"<\",P4188,P4188+1)),P4188)","v":1}]
[{"$f":"IF('XML a procesar'!A4189>0,'XML a procesar'!A4189,\"\")","v":""},0,0,0,0,"",0,0,0,"","",0,"",0,"",{"$f":"IF(ROW()<$S$4+2,IF('XML a procesar'!A4189=\"\",P4189,IF(MID('XML a procesar'!A4189,1,1)=\"<\",P4189,P4189+1)),P4189)","v":1}]
[{"$f":"IF('XML a procesar'!A4190>0,'XML a procesar'!A4190,\"\")","v":""},0,0,0,0,"",0,0,0,"","",0,"",0,"",{"$f":"IF(ROW()<$S$4+2,IF('XML a procesar'!A4190=\"\",P4190,IF(MID('XML a procesar'!A4190,1,1)=\"<\",P4190,P4190+1)),P4190)","v":1}]
[{"$f":"IF('XML a procesar'!A4191>0,'XML a procesar'!A4191,\"\")","v":""},0,0,0,0,"",0,0,0,"","",0,"",0,"",{"$f":"IF(ROW()<$S$4+2,IF('XML a procesar'!A4191=\"\",P4191,IF(MID('XML a procesar'!A4191,1,1)=\"<\",P4191,P4191+1)),P4191)","v":1}]
[{"$f":"IF('XML a procesar'!A4192>0,'XML a procesar'!A4192,\"\")","v":""},0,0,0,0,"",0,0,0,"","",0,"",0,"",{"$f":"IF(ROW()<$S$4+2,IF('XML a procesar'!A4192=\"\",P4192,IF(MID('XML a procesar'!A4192,1,1)=\"<\",P4192,P4192+1)),P4192)","v":1}]
[{"$f":"IF('XML a procesar'!A4193>0,'XML a procesar'!A4193,\"\")","v":""},0,0,0,0,"",0,0,0,"","",0,"",0,"",{"$f":"IF(ROW()<$S$4+2,IF('XML a procesar'!A4193=\"\",P4193,IF(MID('XML a procesar'!A4193,1,1)=\"<\",P4193,P4193+1)),P4193)","v":1}]
[{"$f":"IF('XML a procesar'!A4194>0,'XML a procesar'!A4194,\"\")","v":""},0,0,0,0,"",0,0,0,"","",0,"",0,"",{"$f":"IF(ROW()<$S$4+2,IF('XML a procesar'!A4194=\"\",P4194,IF(MID('XML a procesar'!A4194,1,1)=\"<\",P4194,P4194+1)),P4194)","v":1}]
[{"$f":"IF('XML a procesar'!A4195>0,'XML a procesar'!A4195,\"\")","v":""},0,0,0,0,"",0,0,0,"","",0,"",0,"",{"$f":"IF(ROW()<$S$4+2,IF('XML a procesar'!A4195=\"\",P4195,IF(MID('XML a procesar'!A4195,1,1)=\"<\",P4195,P4195+1)),P4195)","v":1}]
[{"$f":"IF('XML a procesar'!A4196>0,'XML a procesar'!A4196,\"\")","v":""},0,0,0,0,"",0,0,0,"","",0,"",0,"",{"$f":"IF(ROW()<$S$4+2,IF('XML a procesar'!A4196=\"\",P4196,IF(MID('XML a procesar'!A4196,1,1)=\"<\",P4196,P4196+1)),P4196)","v":1}]
[{"$f":"IF('XML a procesar'!A4197>0,'XML a procesar'!A4197,\"\")","v":""},0,0,0,0,"",0,0,0,"","",0,"",0,"",{"$f":"IF(ROW()<$S$4+2,IF('XML a procesar'!A4197=\"\",P4197,IF(MID('XML a procesar'!A4197,1,1)=\"<\",P4197,P4197+1)),P4197)","v":1}]
[{"$f":"IF('XML a procesar'!A4198>0,'XML a procesar'!A4198,\"\")","v":""},0,0,0,0,"",0,0,0,"","",0,"",0,"",{"$f":"IF(ROW()<$S$4+2,IF('XML a procesar'!A4198=\"\",P4198,IF(MID('XML a procesar'!A4198,1,1)=\"<\",P4198,P4198+1)),P4198)","v":1}]
[{"$f":"IF('XML a procesar'!A4199>0,'XML a procesar'!A4199,\"\")","v":""},0,0,0,0,"",0,0,0,"","",0,"",0,"",{"$f":"IF(ROW()<$S$4+2,IF('XML a procesar'!A4199=\"\",P4199,IF(MID('XML a procesar'!A4199,1,1)=\"<\",P4199,P4199+1)),P4199)","v":1}]
[{"$f":"IF('XML a procesar'!A4200>0,'XML a procesar'!A4200,\"\")","v":""},0,0,0,0,"",0,0,0,"","",0,"",0,"",{"$f":"IF(ROW()<$S$4+2,IF('XML a procesar'!A4200=\"\",P4200,IF(MID('XML a procesar'!A4200,1,1)=\"<\",P4200,P4200+1)),P4200)","v":1}]
[{"$f":"IF('XML a procesar'!A4201>0,'XML a procesar'!A4201,\"\")","v":""},0,0,0,0,"",0,0,0,"","",0,"",0,"",{"$f":"IF(ROW()<$S$4+2,IF('XML a procesar'!A4201=\"\",P4201,IF(MID('XML a procesar'!A4201,1,1)=\"<\",P4201,P4201+1)),P4201)","v":1}]
[{"$f":"IF('XML a procesar'!A4202>0,'XML a procesar'!A4202,\"\")","v":""},0,0,0,0,"",0,0,0,"","",0,"",0,"",{"$f":"IF(ROW()<$S$4+2,IF('XML a procesar'!A4202=\"\",P4202,IF(MID('XML a procesar'!A4202,1,1)=\"<\",P4202,P4202+1)),P4202)","v":1}]
[{"$f":"IF('XML a procesar'!A4203>0,'XML a procesar'!A4203,\"\")","v":""},0,0,0,0,"",0,0,0,"","",0,"",0,"",{"$f":"IF(ROW()<$S$4+2,IF('XML a procesar'!A4203=\"\",P4203,IF(MID('XML a procesar'!A4203,1,1)=\"<\",P4203,P4203+1)),P4203)","v":1}]
[{"$f":"IF('XML a procesar'!A4204>0,'XML a procesar'!A4204,\"\")","v":""},0,0,0,0,"",0,0,0,"","",0,"",0,"",{"$f":"IF(ROW()<$S$4+2,IF('XML a procesar'!A4204=\"\",P4204,IF(MID('XML a procesar'!A4204,1,1)=\"<\",P4204,P4204+1)),P4204)","v":1}]
[{"$f":"IF('XML a procesar'!A4205>0,'XML a procesar'!A4205,\"\")","v":""},0,0,0,0,"",0,0,0,"","",0,"",0,"",{"$f":"IF(ROW()<$S$4+2,IF('XML a procesar'!A4205=\"\",P4205,IF(MID('XML a procesar'!A4205,1,1)=\"<\",P4205,P4205+1)),P4205)","v":1}]
[{"$f":"IF('XML a procesar'!A4206>0,'XML a procesar'!A4206,\"\")","v":""},0,0,0,0,"",0,0,0,"","",0,"",0,"",{"$f":"IF(ROW()<$S$4+2,IF('XML a procesar'!A4206=\"\",P4206,IF(MID('XML a procesar'!A4206,1,1)=\"<\",P4206,P4206+1)),P4206)","v":1}]
[{"$f":"IF('XML a procesar'!A4207>0,'XML a procesar'!A4207,\"\")","v":""},0,0,0,0,"",0,0,0,"","",0,"",0,"",{"$f":"IF(ROW()<$S$4+2,IF('XML a procesar'!A4207=\"\",P4207,IF(MID('XML a procesar'!A4207,1,1)=\"<\",P4207,P4207+1)),P4207)","v":1}]
[{"$f":"IF('XML a procesar'!A4208>0,'XML a procesar'!A4208,\"\")","v":""},0,0,0,0,"",0,0,0,"","",0,"",0,"",{"$f":"IF(ROW()<$S$4+2,IF('XML a procesar'!A4208=\"\",P4208,IF(MID('XML a procesar'!A4208,1,1)=\"<\",P4208,P4208+1)),P4208)","v":1}]
[{"$f":"IF('XML a procesar'!A4209>0,'XML a procesar'!A4209,\"\")","v":""},0,0,0,0,"",0,0,0,"","",0,"",0,"",{"$f":"IF(ROW()<$S$4+2,IF('XML a procesar'!A4209=\"\",P4209,IF(MID('XML a procesar'!A4209,1,1)=\"<\",P4209,P4209+1)),P4209)","v":1}]
[{"$f":"IF('XML a procesar'!A4210>0,'XML a procesar'!A4210,\"\")","v":""},0,0,0,0,"",0,0,0,"","",0,"",0,"",{"$f":"IF(ROW()<$S$4+2,IF('XML a procesar'!A4210=\"\",P4210,IF(MID('XML a procesar'!A4210,1,1)=\"<\",P4210,P4210+1)),P4210)","v":1}]
[{"$f":"IF('XML a procesar'!A4211>0,'XML a procesar'!A4211,\"\")","v":""},0,0,0,0,"",0,0,0,"","",0,"",0,"",{"$f":"IF(ROW()<$S$4+2,IF('XML a procesar'!A4211=\"\",P4211,IF(MID('XML a procesar'!A4211,1,1)=\"<\",P4211,P4211+1)),P4211)","v":1}]
[{"$f":"IF('XML a procesar'!A4212>0,'XML a procesar'!A4212,\"\")","v":""},0,0,0,0,"",0,0,0,"","",0,"",0,"",{"$f":"IF(ROW()<$S$4+2,IF('XML a procesar'!A4212=\"\",P4212,IF(MID('XML a procesar'!A4212,1,1)=\"<\",P4212,P4212+1)),P4212)","v":1}]
[{"$f":"IF('XML a procesar'!A4213>0,'XML a procesar'!A4213,\"\")","v":""},0,0,0,0,"",0,0,0,"","",0,"",0,"",{"$f":"IF(ROW()<$S$4+2,IF('XML a procesar'!A4213=\"\",P4213,IF(MID('XML a procesar'!A4213,1,1)=\"<\",P4213,P4213+1)),P4213)","v":1}]
[{"$f":"IF('XML a procesar'!A4214>0,'XML a procesar'!A4214,\"\")","v":""},0,0,0,0,"",0,0,0,"","",0,"",0,"",{"$f":"IF(ROW()<$S$4+2,IF('XML a procesar'!A4214=\"\",P4214,IF(MID('XML a procesar'!A4214,1,1)=\"<\",P4214,P4214+1)),P4214)","v":1}]
[{"$f":"IF('XML a procesar'!A4215>0,'XML a procesar'!A4215,\"\")","v":""},0,0,0,0,"",0,0,0,"","",0,"",0,"",{"$f":"IF(ROW()<$S$4+2,IF('XML a procesar'!A4215=\"\",P4215,IF(MID('XML a procesar'!A4215,1,1)=\"<\",P4215,P4215+1)),P4215)","v":1}]
[{"$f":"IF('XML a procesar'!A4216>0,'XML a procesar'!A4216,\"\")","v":""},0,0,0,0,"",0,0,0,"","",0,"",0,"",{"$f":"IF(ROW()<$S$4+2,IF('XML a procesar'!A4216=\"\",P4216,IF(MID('XML a procesar'!A4216,1,1)=\"<\",P4216,P4216+1)),P4216)","v":1}]
[{"$f":"IF('XML a procesar'!A4217>0,'XML a procesar'!A4217,\"\")","v":""},0,0,0,0,"",0,0,0,"","",0,"",0,"",{"$f":"IF(ROW()<$S$4+2,IF('XML a procesar'!A4217=\"\",P4217,IF(MID('XML a procesar'!A4217,1,1)=\"<\",P4217,P4217+1)),P4217)","v":1}]
[{"$f":"IF('XML a procesar'!A4218>0,'XML a procesar'!A4218,\"\")","v":""},0,0,0,0,"",0,0,0,"","",0,"",0,"",{"$f":"IF(ROW()<$S$4+2,IF('XML a procesar'!A4218=\"\",P4218,IF(MID('XML a procesar'!A4218,1,1)=\"<\",P4218,P4218+1)),P4218)","v":1}]
[{"$f":"IF('XML a procesar'!A4219>0,'XML a procesar'!A4219,\"\")","v":""},0,0,0,0,"",0,0,0,"","",0,"",0,"",{"$f":"IF(ROW()<$S$4+2,IF('XML a procesar'!A4219=\"\",P4219,IF(MID('XML a procesar'!A4219,1,1)=\"<\",P4219,P4219+1)),P4219)","v":1}]
[{"$f":"IF('XML a procesar'!A4220>0,'XML a procesar'!A4220,\"\")","v":""},0,0,0,0,"",0,0,0,"","",0,"",0,"",{"$f":"IF(ROW()<$S$4+2,IF('XML a procesar'!A4220=\"\",P4220,IF(MID('XML a procesar'!A4220,1,1)=\"<\",P4220,P4220+1)),P4220)","v":1}]
[{"$f":"IF('XML a procesar'!A4221>0,'XML a procesar'!A4221,\"\")","v":""},0,0,0,0,"",0,0,0,"","",0,"",0,"",{"$f":"IF(ROW()<$S$4+2,IF('XML a procesar'!A4221=\"\",P4221,IF(MID('XML a procesar'!A4221,1,1)=\"<\",P4221,P4221+1)),P4221)","v":1}]
[{"$f":"IF('XML a procesar'!A4222>0,'XML a procesar'!A4222,\"\")","v":""},0,0,0,0,"",0,0,0,"","",0,"",0,"",{"$f":"IF(ROW()<$S$4+2,IF('XML a procesar'!A4222=\"\",P4222,IF(MID('XML a procesar'!A4222,1,1)=\"<\",P4222,P4222+1)),P4222)","v":1}]
[{"$f":"IF('XML a procesar'!A4223>0,'XML a procesar'!A4223,\"\")","v":""},0,0,0,0,"",0,0,0,"","",0,"",0,"",{"$f":"IF(ROW()<$S$4+2,IF('XML a procesar'!A4223=\"\",P4223,IF(MID('XML a procesar'!A4223,1,1)=\"<\",P4223,P4223+1)),P4223)","v":1}]
[{"$f":"IF('XML a procesar'!A4224>0,'XML a procesar'!A4224,\"\")","v":""},{"$f":"IF(ISERROR(FIND(\"/doi.org/\",A4225,1)),0,1)","v":0},{"$f":"IF(LEFT(A4224,16)=\"<contrib contrib\",C4224+1,IF(LEFT(A4224,16)=\"</contrib-group>\",0,IF(LEFT(A4224,10)=\"</contrib>\",C4224,C4224)))","v":0},{"$f":"IF(AND(C4225>0,LEFT(A4225,7)=\"<email>\",ISNUMBER(SEARCH(\"@\",A4225,1))),C4225,IF(LEFT(A4225,10)=\"<alt-text>\",-1,0))","v":0},{"$f":"IF(D4225=0,E4224,E4224+1)","v":0},{"$f":"INDIRECT(ADDRESS(ROW()+INDIRECT(ADDRESS(ROW()+E4225,5)),1))","v":""},{"$f":"IF(LEFT(F4225,7)=\"<aff id\",_xlfn.NUMBERVALUE(MID(F4225,13,LEN(F4225)-14)),IF(F4225=\"</aff>\",G4224+1,G4224))","v":0},0,{"$f":"INDIRECT(ADDRESS(ROW()-INDIRECT(ADDRESS(ROW()-H4225,8)),8))","v":0},{"$f":"IF(J4224=\"Linea_para_MAIL_creada_por_LuXML\",\"</aff>\",IF(I4225>INDIRECT(ADDRESS(ROW()-I4225-1,8)),\"Linea_para_MAIL_creada_por_LuXML\",INDIRECT(ADDRESS(ROW()-I4225,6))))","v":""},"",{"$f":"IF(OR(MID(K4223,3,5)=\"page>\",MID(K4224,3,5)=\"page>\"),L4224,IF(OR(K4224=\"<history>\",K4225=\"<history>\"),L4224+1,L4224))","v":0},{"$f":"IF(L4225>L4224,IF(L4225=1,CONCATENATE(\"<fpage>\",$S$10,\"</fpage>\"),CONCATENATE(\"<lpage>\",$S$10+1,\"</lpage>\")),IF(ISERROR(INDIRECT(ADDRESS(ROW()-L4225,11),1)),\"\",INDIRECT(ADDRESS(ROW()-L4225,11),1)))","v":""},{"$f":"IF(N4224=-1,-1,IF(M4225=\"</counts>\",-1,IF(OR(LEFT(M4225,7)=\"<fpage>\",LEFT(M4225,7)=\"<lpage>\"),VALUE(MID(M4225,8,LEN(M4225)-15)),0)))","v":0},"",{"$f":"IF(ROW()<$S$4+2,IF('XML a procesar'!A4224=\"\",P4224,IF(MID('XML a procesar'!A4224,1,1)=\"<\",P4224,P4224+1)),P4224)","v":1}]
[{"$f":"IF('XML a procesar'!A4225>0,'XML a procesar'!A4225,\"\")","v":""},0,0,0,0,"",0,0,0,"","",0,"",0,{"$f":"IF(N4226>-1,INDIRECT(ADDRESS(ROW(),13)),IF(N4226<N4225,CONCATENATE(\"<page-count count=\",CHAR(34),1+LARGE(N:N,1)-LARGE(N:N,2),CHAR(34),\"/>\"),INDIRECT(ADDRESS(ROW()-1,13))))","v":""},{"$f":"IF(ROW()<$S$4+2,IF('XML a procesar'!A4225=\"\",P4225,IF(MID('XML a procesar'!A4225,1,1)=\"<\",P4225,P4225+1)),P4225)","v":1}]
[{"$f":"IF('XML a procesar'!A4226>0,'XML a procesar'!A4226,\"\")","v":""},0,0,0,0,"",0,{"$f":"IF(AND(G4226>0,G4227>G4226,NOT(ISERROR(MATCH(G4226,D:D,0)))),H4226+1,H4226)","v":0},0,"",{"$f":"IF(J4227=\"Linea_para_MAIL_creada_por_LuXML\",IF(ISERROR(MATCH(INDIRECT(ADDRESS(ROW()-G4227,7)),D:D,0)),J4227,INDIRECT(ADDRESS(MATCH(INDIRECT(ADDRESS(ROW()-G4227,7)),D:D,0),1))),J4227)","v":""},0,"",0,"",{"$f":"IF(ROW()<$S$4+2,IF('XML a procesar'!A4226=\"\",P4226,IF(MID('XML a procesar'!A4226,1,1)=\"<\",P4226,P4226+1)),P4226)","v":1}]
[{"$f":"IF('XML a procesar'!A4227>0,'XML a procesar'!A4227,\"\")","v":""},0,0,0,0,"",0,0,0,"","",0,"",0,"",{"$f":"IF(ROW()<$S$4+2,IF('XML a procesar'!A4227=\"\",P4227,IF(MID('XML a procesar'!A4227,1,1)=\"<\",P4227,P4227+1)),P4227)","v":1}]
[{"$f":"IF('XML a procesar'!A4228>0,'XML a procesar'!A4228,\"\")","v":""},0,0,0,0,"",0,0,0,"","",0,"",0,"",{"$f":"IF(ROW()<$S$4+2,IF('XML a procesar'!A4228=\"\",P4228,IF(MID('XML a procesar'!A4228,1,1)=\"<\",P4228,P4228+1)),P4228)","v":1}]
[{"$f":"IF('XML a procesar'!A4229>0,'XML a procesar'!A4229,\"\")","v":""},0,0,0,0,"",0,0,0,"","",0,"",0,"",{"$f":"IF(ROW()<$S$4+2,IF('XML a procesar'!A4229=\"\",P4229,IF(MID('XML a procesar'!A4229,1,1)=\"<\",P4229,P4229+1)),P4229)","v":1}]
[{"$f":"IF('XML a procesar'!A4230>0,'XML a procesar'!A4230,\"\")","v":""},0,0,0,0,"",0,0,0,"","",0,"",0,"",{"$f":"IF(ROW()<$S$4+2,IF('XML a procesar'!A4230=\"\",P4230,IF(MID('XML a procesar'!A4230,1,1)=\"<\",P4230,P4230+1)),P4230)","v":1}]
[{"$f":"IF('XML a procesar'!A4231>0,'XML a procesar'!A4231,\"\")","v":""},0,0,0,0,"",0,0,0,"","",0,"",0,"",{"$f":"IF(ROW()<$S$4+2,IF('XML a procesar'!A4231=\"\",P4231,IF(MID('XML a procesar'!A4231,1,1)=\"<\",P4231,P4231+1)),P4231)","v":1}]
[{"$f":"IF('XML a procesar'!A4232>0,'XML a procesar'!A4232,\"\")","v":""},0,0,0,0,"",0,0,0,"","",0,"",0,"",{"$f":"IF(ROW()<$S$4+2,IF('XML a procesar'!A4232=\"\",P4232,IF(MID('XML a procesar'!A4232,1,1)=\"<\",P4232,P4232+1)),P4232)","v":1}]
[{"$f":"IF('XML a procesar'!A4233>0,'XML a procesar'!A4233,\"\")","v":""},0,0,0,0,"",0,0,0,"","",0,"",0,"",{"$f":"IF(ROW()<$S$4+2,IF('XML a procesar'!A4233=\"\",P4233,IF(MID('XML a procesar'!A4233,1,1)=\"<\",P4233,P4233+1)),P4233)","v":1}]
[{"$f":"IF('XML a procesar'!A4234>0,'XML a procesar'!A4234,\"\")","v":""},0,0,0,0,"",0,0,0,"","",0,"",0,"",{"$f":"IF(ROW()<$S$4+2,IF('XML a procesar'!A4234=\"\",P4234,IF(MID('XML a procesar'!A4234,1,1)=\"<\",P4234,P4234+1)),P4234)","v":1}]
[{"$f":"IF('XML a procesar'!A4235>0,'XML a procesar'!A4235,\"\")","v":""},0,0,0,0,"",0,0,0,"","",0,"",0,"",{"$f":"IF(ROW()<$S$4+2,IF('XML a procesar'!A4235=\"\",P4235,IF(MID('XML a procesar'!A4235,1,1)=\"<\",P4235,P4235+1)),P4235)","v":1}]
[{"$f":"IF('XML a procesar'!A4236>0,'XML a procesar'!A4236,\"\")","v":""},0,0,0,0,"",0,0,0,"","",0,"",0,"",{"$f":"IF(ROW()<$S$4+2,IF('XML a procesar'!A4236=\"\",P4236,IF(MID('XML a procesar'!A4236,1,1)=\"<\",P4236,P4236+1)),P4236)","v":1}]
[{"$f":"IF('XML a procesar'!A4237>0,'XML a procesar'!A4237,\"\")","v":""},0,0,0,0,"",0,0,0,"","",0,"",0,"",{"$f":"IF(ROW()<$S$4+2,IF('XML a procesar'!A4237=\"\",P4237,IF(MID('XML a procesar'!A4237,1,1)=\"<\",P4237,P4237+1)),P4237)","v":1}]
[{"$f":"IF('XML a procesar'!A4238>0,'XML a procesar'!A4238,\"\")","v":""},0,0,0,0,"",0,0,0,"","",0,"",0,"",{"$f":"IF(ROW()<$S$4+2,IF('XML a procesar'!A4238=\"\",P4238,IF(MID('XML a procesar'!A4238,1,1)=\"<\",P4238,P4238+1)),P4238)","v":1}]
[{"$f":"IF('XML a procesar'!A4239>0,'XML a procesar'!A4239,\"\")","v":""},0,0,0,0,"",0,0,0,"","",0,"",0,"",{"$f":"IF(ROW()<$S$4+2,IF('XML a procesar'!A4239=\"\",P4239,IF(MID('XML a procesar'!A4239,1,1)=\"<\",P4239,P4239+1)),P4239)","v":1}]
[{"$f":"IF('XML a procesar'!A4240>0,'XML a procesar'!A4240,\"\")","v":""},0,0,0,0,"",0,0,0,"","",0,"",0,"",{"$f":"IF(ROW()<$S$4+2,IF('XML a procesar'!A4240=\"\",P4240,IF(MID('XML a procesar'!A4240,1,1)=\"<\",P4240,P4240+1)),P4240)","v":1}]
[{"$f":"IF('XML a procesar'!A4241>0,'XML a procesar'!A4241,\"\")","v":""},0,0,0,0,"",0,0,0,"","",0,"",0,"",{"$f":"IF(ROW()<$S$4+2,IF('XML a procesar'!A4241=\"\",P4241,IF(MID('XML a procesar'!A4241,1,1)=\"<\",P4241,P4241+1)),P4241)","v":1}]
[{"$f":"IF('XML a procesar'!A4242>0,'XML a procesar'!A4242,\"\")","v":""},0,0,0,0,"",0,0,0,"","",0,"",0,"",{"$f":"IF(ROW()<$S$4+2,IF('XML a procesar'!A4242=\"\",P4242,IF(MID('XML a procesar'!A4242,1,1)=\"<\",P4242,P4242+1)),P4242)","v":1}]
[{"$f":"IF('XML a procesar'!A4243>0,'XML a procesar'!A4243,\"\")","v":""},0,0,0,0,"",0,0,0,"","",0,"",0,"",{"$f":"IF(ROW()<$S$4+2,IF('XML a procesar'!A4243=\"\",P4243,IF(MID('XML a procesar'!A4243,1,1)=\"<\",P4243,P4243+1)),P4243)","v":1}]
[{"$f":"IF('XML a procesar'!A4244>0,'XML a procesar'!A4244,\"\")","v":""},0,0,0,0,"",0,0,0,"","",0,"",0,"",{"$f":"IF(ROW()<$S$4+2,IF('XML a procesar'!A4244=\"\",P4244,IF(MID('XML a procesar'!A4244,1,1)=\"<\",P4244,P4244+1)),P4244)","v":1}]
[{"$f":"IF('XML a procesar'!A4245>0,'XML a procesar'!A4245,\"\")","v":""},0,0,0,0,"",0,0,0,"","",0,"",0,"",{"$f":"IF(ROW()<$S$4+2,IF('XML a procesar'!A4245=\"\",P4245,IF(MID('XML a procesar'!A4245,1,1)=\"<\",P4245,P4245+1)),P4245)","v":1}]
[{"$f":"IF('XML a procesar'!A4246>0,'XML a procesar'!A4246,\"\")","v":""},0,0,0,0,"",0,0,0,"","",0,"",0,"",{"$f":"IF(ROW()<$S$4+2,IF('XML a procesar'!A4246=\"\",P4246,IF(MID('XML a procesar'!A4246,1,1)=\"<\",P4246,P4246+1)),P4246)","v":1}]
[{"$f":"IF('XML a procesar'!A4247>0,'XML a procesar'!A4247,\"\")","v":""},0,0,0,0,"",0,0,0,"","",0,"",0,"",{"$f":"IF(ROW()<$S$4+2,IF('XML a procesar'!A4247=\"\",P4247,IF(MID('XML a procesar'!A4247,1,1)=\"<\",P4247,P4247+1)),P4247)","v":1}]
[{"$f":"IF('XML a procesar'!A4248>0,'XML a procesar'!A4248,\"\")","v":""},0,0,0,0,"",0,0,0,"","",0,"",0,"",{"$f":"IF(ROW()<$S$4+2,IF('XML a procesar'!A4248=\"\",P4248,IF(MID('XML a procesar'!A4248,1,1)=\"<\",P4248,P4248+1)),P4248)","v":1}]
[{"$f":"IF('XML a procesar'!A4249>0,'XML a procesar'!A4249,\"\")","v":""},0,0,0,0,"",0,0,0,"","",0,"",0,"",{"$f":"IF(ROW()<$S$4+2,IF('XML a procesar'!A4249=\"\",P4249,IF(MID('XML a procesar'!A4249,1,1)=\"<\",P4249,P4249+1)),P4249)","v":1}]
[{"$f":"IF('XML a procesar'!A4250>0,'XML a procesar'!A4250,\"\")","v":""},0,0,0,0,"",0,0,0,"","",0,"",0,"",{"$f":"IF(ROW()<$S$4+2,IF('XML a procesar'!A4250=\"\",P4250,IF(MID('XML a procesar'!A4250,1,1)=\"<\",P4250,P4250+1)),P4250)","v":1}]
[{"$f":"IF('XML a procesar'!A4251>0,'XML a procesar'!A4251,\"\")","v":""},0,0,0,0,"",0,0,0,"","",0,"",0,"",{"$f":"IF(ROW()<$S$4+2,IF('XML a procesar'!A4251=\"\",P4251,IF(MID('XML a procesar'!A4251,1,1)=\"<\",P4251,P4251+1)),P4251)","v":1}]
[{"$f":"IF('XML a procesar'!A4252>0,'XML a procesar'!A4252,\"\")","v":""},0,0,0,0,"",0,0,0,"","",0,"",0,"",{"$f":"IF(ROW()<$S$4+2,IF('XML a procesar'!A4252=\"\",P4252,IF(MID('XML a procesar'!A4252,1,1)=\"<\",P4252,P4252+1)),P4252)","v":1}]
[{"$f":"IF('XML a procesar'!A4253>0,'XML a procesar'!A4253,\"\")","v":""},0,0,0,0,"",0,0,0,"","",0,"",0,"",{"$f":"IF(ROW()<$S$4+2,IF('XML a procesar'!A4253=\"\",P4253,IF(MID('XML a procesar'!A4253,1,1)=\"<\",P4253,P4253+1)),P4253)","v":1}]
[{"$f":"IF('XML a procesar'!A4254>0,'XML a procesar'!A4254,\"\")","v":""},0,0,0,0,"",0,0,0,"","",0,"",0,"",{"$f":"IF(ROW()<$S$4+2,IF('XML a procesar'!A4254=\"\",P4254,IF(MID('XML a procesar'!A4254,1,1)=\"<\",P4254,P4254+1)),P4254)","v":1}]
[{"$f":"IF('XML a procesar'!A4255>0,'XML a procesar'!A4255,\"\")","v":""},0,0,0,0,"",0,0,0,"","",0,"",0,"",{"$f":"IF(ROW()<$S$4+2,IF('XML a procesar'!A4255=\"\",P4255,IF(MID('XML a procesar'!A4255,1,1)=\"<\",P4255,P4255+1)),P4255)","v":1}]
[{"$f":"IF('XML a procesar'!A4256>0,'XML a procesar'!A4256,\"\")","v":""},0,0,0,0,"",0,0,0,"","",0,"",0,"",{"$f":"IF(ROW()<$S$4+2,IF('XML a procesar'!A4256=\"\",P4256,IF(MID('XML a procesar'!A4256,1,1)=\"<\",P4256,P4256+1)),P4256)","v":1}]
[{"$f":"IF('XML a procesar'!A4257>0,'XML a procesar'!A4257,\"\")","v":""},0,0,0,0,"",0,0,0,"","",0,"",0,"",{"$f":"IF(ROW()<$S$4+2,IF('XML a procesar'!A4257=\"\",P4257,IF(MID('XML a procesar'!A4257,1,1)=\"<\",P4257,P4257+1)),P4257)","v":1}]
[{"$f":"IF('XML a procesar'!A4258>0,'XML a procesar'!A4258,\"\")","v":""},0,0,0,0,"",0,0,0,"","",0,"",0,"",{"$f":"IF(ROW()<$S$4+2,IF('XML a procesar'!A4258=\"\",P4258,IF(MID('XML a procesar'!A4258,1,1)=\"<\",P4258,P4258+1)),P4258)","v":1}]
[{"$f":"IF('XML a procesar'!A4259>0,'XML a procesar'!A4259,\"\")","v":""},0,0,0,0,"",0,0,0,"","",0,"",0,"",{"$f":"IF(ROW()<$S$4+2,IF('XML a procesar'!A4259=\"\",P4259,IF(MID('XML a procesar'!A4259,1,1)=\"<\",P4259,P4259+1)),P4259)","v":1}]
[{"$f":"IF('XML a procesar'!A4260>0,'XML a procesar'!A4260,\"\")","v":""},0,0,0,0,"",0,0,0,"","",0,"",0,"",{"$f":"IF(ROW()<$S$4+2,IF('XML a procesar'!A4260=\"\",P4260,IF(MID('XML a procesar'!A4260,1,1)=\"<\",P4260,P4260+1)),P4260)","v":1}]
[{"$f":"IF('XML a procesar'!A4261>0,'XML a procesar'!A4261,\"\")","v":""},0,0,0,0,"",0,0,0,"","",0,"",0,"",{"$f":"IF(ROW()<$S$4+2,IF('XML a procesar'!A4261=\"\",P4261,IF(MID('XML a procesar'!A4261,1,1)=\"<\",P4261,P4261+1)),P4261)","v":1}]
[{"$f":"IF('XML a procesar'!A4262>0,'XML a procesar'!A4262,\"\")","v":""},0,0,0,0,"",0,0,0,"","",0,"",0,"",{"$f":"IF(ROW()<$S$4+2,IF('XML a procesar'!A4262=\"\",P4262,IF(MID('XML a procesar'!A4262,1,1)=\"<\",P4262,P4262+1)),P4262)","v":1}]
[{"$f":"IF('XML a procesar'!A4263>0,'XML a procesar'!A4263,\"\")","v":""},0,0,0,0,"",0,0,0,"","",0,"",0,"",{"$f":"IF(ROW()<$S$4+2,IF('XML a procesar'!A4263=\"\",P4263,IF(MID('XML a procesar'!A4263,1,1)=\"<\",P4263,P4263+1)),P4263)","v":1}]
[{"$f":"IF('XML a procesar'!A4264>0,'XML a procesar'!A4264,\"\")","v":""},0,0,0,0,"",0,0,0,"","",0,"",0,"",{"$f":"IF(ROW()<$S$4+2,IF('XML a procesar'!A4264=\"\",P4264,IF(MID('XML a procesar'!A4264,1,1)=\"<\",P4264,P4264+1)),P4264)","v":1}]
[{"$f":"IF('XML a procesar'!A4265>0,'XML a procesar'!A4265,\"\")","v":""},0,0,0,0,"",0,0,0,"","",0,"",0,"",{"$f":"IF(ROW()<$S$4+2,IF('XML a procesar'!A4265=\"\",P4265,IF(MID('XML a procesar'!A4265,1,1)=\"<\",P4265,P4265+1)),P4265)","v":1}]
[{"$f":"IF('XML a procesar'!A4266>0,'XML a procesar'!A4266,\"\")","v":""},0,0,0,0,"",0,0,0,"","",0,"",0,"",{"$f":"IF(ROW()<$S$4+2,IF('XML a procesar'!A4266=\"\",P4266,IF(MID('XML a procesar'!A4266,1,1)=\"<\",P4266,P4266+1)),P4266)","v":1}]
[{"$f":"IF('XML a procesar'!A4267>0,'XML a procesar'!A4267,\"\")","v":""},0,0,0,0,"",0,0,0,"","",0,"",0,"",{"$f":"IF(ROW()<$S$4+2,IF('XML a procesar'!A4267=\"\",P4267,IF(MID('XML a procesar'!A4267,1,1)=\"<\",P4267,P4267+1)),P4267)","v":1}]
[{"$f":"IF('XML a procesar'!A4268>0,'XML a procesar'!A4268,\"\")","v":""},0,0,0,0,"",0,0,0,"","",0,"",0,"",{"$f":"IF(ROW()<$S$4+2,IF('XML a procesar'!A4268=\"\",P4268,IF(MID('XML a procesar'!A4268,1,1)=\"<\",P4268,P4268+1)),P4268)","v":1}]
[{"$f":"IF('XML a procesar'!A4269>0,'XML a procesar'!A4269,\"\")","v":""},0,0,0,0,"",0,0,0,"","",0,"",0,"",{"$f":"IF(ROW()<$S$4+2,IF('XML a procesar'!A4269=\"\",P4269,IF(MID('XML a procesar'!A4269,1,1)=\"<\",P4269,P4269+1)),P4269)","v":1}]
[{"$f":"IF('XML a procesar'!A4270>0,'XML a procesar'!A4270,\"\")","v":""},0,0,0,0,"",0,0,0,"","",0,"",0,"",{"$f":"IF(ROW()<$S$4+2,IF('XML a procesar'!A4270=\"\",P4270,IF(MID('XML a procesar'!A4270,1,1)=\"<\",P4270,P4270+1)),P4270)","v":1}]
[{"$f":"IF('XML a procesar'!A4271>0,'XML a procesar'!A4271,\"\")","v":""},0,0,0,0,"",0,0,0,"","",0,"",0,"",{"$f":"IF(ROW()<$S$4+2,IF('XML a procesar'!A4271=\"\",P4271,IF(MID('XML a procesar'!A4271,1,1)=\"<\",P4271,P4271+1)),P4271)","v":1}]
[{"$f":"IF('XML a procesar'!A4272>0,'XML a procesar'!A4272,\"\")","v":""},0,0,0,0,"",0,0,0,"","",0,"",0,"",{"$f":"IF(ROW()<$S$4+2,IF('XML a procesar'!A4272=\"\",P4272,IF(MID('XML a procesar'!A4272,1,1)=\"<\",P4272,P4272+1)),P4272)","v":1}]
[{"$f":"IF('XML a procesar'!A4273>0,'XML a procesar'!A4273,\"\")","v":""},0,0,0,0,"",0,0,0,"","",0,"",0,"",{"$f":"IF(ROW()<$S$4+2,IF('XML a procesar'!A4273=\"\",P4273,IF(MID('XML a procesar'!A4273,1,1)=\"<\",P4273,P4273+1)),P4273)","v":1}]
[{"$f":"IF('XML a procesar'!A4274>0,'XML a procesar'!A4274,\"\")","v":""},0,0,0,0,"",0,0,0,"","",0,"",0,"",{"$f":"IF(ROW()<$S$4+2,IF('XML a procesar'!A4274=\"\",P4274,IF(MID('XML a procesar'!A4274,1,1)=\"<\",P4274,P4274+1)),P4274)","v":1}]
[{"$f":"IF('XML a procesar'!A4275>0,'XML a procesar'!A4275,\"\")","v":""},0,0,0,0,"",0,0,0,"","",0,"",0,"",{"$f":"IF(ROW()<$S$4+2,IF('XML a procesar'!A4275=\"\",P4275,IF(MID('XML a procesar'!A4275,1,1)=\"<\",P4275,P4275+1)),P4275)","v":1}]
[{"$f":"IF('XML a procesar'!A4276>0,'XML a procesar'!A4276,\"\")","v":""},0,0,0,0,"",0,0,0,"","",0,"",0,"",{"$f":"IF(ROW()<$S$4+2,IF('XML a procesar'!A4276=\"\",P4276,IF(MID('XML a procesar'!A4276,1,1)=\"<\",P4276,P4276+1)),P4276)","v":1}]
[{"$f":"IF('XML a procesar'!A4277>0,'XML a procesar'!A4277,\"\")","v":""},0,0,0,0,"",0,0,0,"","",0,"",0,"",{"$f":"IF(ROW()<$S$4+2,IF('XML a procesar'!A4277=\"\",P4277,IF(MID('XML a procesar'!A4277,1,1)=\"<\",P4277,P4277+1)),P4277)","v":1}]
[{"$f":"IF('XML a procesar'!A4278>0,'XML a procesar'!A4278,\"\")","v":""},0,0,0,0,"",0,0,0,"","",0,"",0,"",{"$f":"IF(ROW()<$S$4+2,IF('XML a procesar'!A4278=\"\",P4278,IF(MID('XML a procesar'!A4278,1,1)=\"<\",P4278,P4278+1)),P4278)","v":1}]
[{"$f":"IF('XML a procesar'!A4279>0,'XML a procesar'!A4279,\"\")","v":""},0,0,0,0,"",0,0,0,"","",0,"",0,"",{"$f":"IF(ROW()<$S$4+2,IF('XML a procesar'!A4279=\"\",P4279,IF(MID('XML a procesar'!A4279,1,1)=\"<\",P4279,P4279+1)),P4279)","v":1}]
[{"$f":"IF('XML a procesar'!A4280>0,'XML a procesar'!A4280,\"\")","v":""},0,0,0,0,"",0,0,0,"","",0,"",0,"",{"$f":"IF(ROW()<$S$4+2,IF('XML a procesar'!A4280=\"\",P4280,IF(MID('XML a procesar'!A4280,1,1)=\"<\",P4280,P4280+1)),P4280)","v":1}]
[{"$f":"IF('XML a procesar'!A4281>0,'XML a procesar'!A4281,\"\")","v":""},0,0,0,0,"",0,0,0,"","",0,"",0,"",{"$f":"IF(ROW()<$S$4+2,IF('XML a procesar'!A4281=\"\",P4281,IF(MID('XML a procesar'!A4281,1,1)=\"<\",P4281,P4281+1)),P4281)","v":1}]
[{"$f":"IF('XML a procesar'!A4282>0,'XML a procesar'!A4282,\"\")","v":""},0,0,0,0,"",0,0,0,"","",0,"",0,"",{"$f":"IF(ROW()<$S$4+2,IF('XML a procesar'!A4282=\"\",P4282,IF(MID('XML a procesar'!A4282,1,1)=\"<\",P4282,P4282+1)),P4282)","v":1}]
[{"$f":"IF('XML a procesar'!A4283>0,'XML a procesar'!A4283,\"\")","v":""},0,0,0,0,"",0,0,0,"","",0,"",0,"",{"$f":"IF(ROW()<$S$4+2,IF('XML a procesar'!A4283=\"\",P4283,IF(MID('XML a procesar'!A4283,1,1)=\"<\",P4283,P4283+1)),P4283)","v":1}]
[{"$f":"IF('XML a procesar'!A4284>0,'XML a procesar'!A4284,\"\")","v":""},0,0,0,0,"",0,0,0,"","",0,"",0,"",{"$f":"IF(ROW()<$S$4+2,IF('XML a procesar'!A4284=\"\",P4284,IF(MID('XML a procesar'!A4284,1,1)=\"<\",P4284,P4284+1)),P4284)","v":1}]
[{"$f":"IF('XML a procesar'!A4285>0,'XML a procesar'!A4285,\"\")","v":""},0,0,0,0,"",0,0,0,"","",0,"",0,"",{"$f":"IF(ROW()<$S$4+2,IF('XML a procesar'!A4285=\"\",P4285,IF(MID('XML a procesar'!A4285,1,1)=\"<\",P4285,P4285+1)),P4285)","v":1}]
[{"$f":"IF('XML a procesar'!A4286>0,'XML a procesar'!A4286,\"\")","v":""},0,0,0,0,"",0,0,0,"","",0,"",0,"",{"$f":"IF(ROW()<$S$4+2,IF('XML a procesar'!A4286=\"\",P4286,IF(MID('XML a procesar'!A4286,1,1)=\"<\",P4286,P4286+1)),P4286)","v":1}]
[{"$f":"IF('XML a procesar'!A4287>0,'XML a procesar'!A4287,\"\")","v":""},0,0,0,0,"",0,0,0,"","",0,"",0,"",{"$f":"IF(ROW()<$S$4+2,IF('XML a procesar'!A4287=\"\",P4287,IF(MID('XML a procesar'!A4287,1,1)=\"<\",P4287,P4287+1)),P4287)","v":1}]
[{"$f":"IF('XML a procesar'!A4288>0,'XML a procesar'!A4288,\"\")","v":""},{"$f":"IF(ISERROR(FIND(\"/doi.org/\",A4289,1)),0,1)","v":0},{"$f":"IF(LEFT(A4288,16)=\"<contrib contrib\",C4288+1,IF(LEFT(A4288,16)=\"</contrib-group>\",0,IF(LEFT(A4288,10)=\"</contrib>\",C4288,C4288)))","v":0},{"$f":"IF(AND(C4289>0,LEFT(A4289,7)=\"<email>\",ISNUMBER(SEARCH(\"@\",A4289,1))),C4289,IF(LEFT(A4289,10)=\"<alt-text>\",-1,0))","v":0},{"$f":"IF(D4289=0,E4288,E4288+1)","v":0},{"$f":"INDIRECT(ADDRESS(ROW()+INDIRECT(ADDRESS(ROW()+E4289,5)),1))","v":""},{"$f":"IF(LEFT(F4289,7)=\"<aff id\",_xlfn.NUMBERVALUE(MID(F4289,13,LEN(F4289)-14)),IF(F4289=\"</aff>\",G4288+1,G4288))","v":0},0,{"$f":"INDIRECT(ADDRESS(ROW()-INDIRECT(ADDRESS(ROW()-H4289,8)),8))","v":0},{"$f":"IF(J4288=\"Linea_para_MAIL_creada_por_LuXML\",\"</aff>\",IF(I4289>INDIRECT(ADDRESS(ROW()-I4289-1,8)),\"Linea_para_MAIL_creada_por_LuXML\",INDIRECT(ADDRESS(ROW()-I4289,6))))","v":""},"",{"$f":"IF(OR(MID(K4287,3,5)=\"page>\",MID(K4288,3,5)=\"page>\"),L4288,IF(OR(K4288=\"<history>\",K4289=\"<history>\"),L4288+1,L4288))","v":0},{"$f":"IF(L4289>L4288,IF(L4289=1,CONCATENATE(\"<fpage>\",$S$10,\"</fpage>\"),CONCATENATE(\"<lpage>\",$S$10+1,\"</lpage>\")),IF(ISERROR(INDIRECT(ADDRESS(ROW()-L4289,11),1)),\"\",INDIRECT(ADDRESS(ROW()-L4289,11),1)))","v":""},{"$f":"IF(N4288=-1,-1,IF(M4289=\"</counts>\",-1,IF(OR(LEFT(M4289,7)=\"<fpage>\",LEFT(M4289,7)=\"<lpage>\"),VALUE(MID(M4289,8,LEN(M4289)-15)),0)))","v":0},"",{"$f":"IF(ROW()<$S$4+2,IF('XML a procesar'!A4288=\"\",P4288,IF(MID('XML a procesar'!A4288,1,1)=\"<\",P4288,P4288+1)),P4288)","v":1}]
[{"$f":"IF('XML a procesar'!A4289>0,'XML a procesar'!A4289,\"\")","v":""},0,0,0,0,"",0,0,0,"","",0,"",0,{"$f":"IF(N4290>-1,INDIRECT(ADDRESS(ROW(),13)),IF(N4290<N4289,CONCATENATE(\"<page-count count=\",CHAR(34),1+LARGE(N:N,1)-LARGE(N:N,2),CHAR(34),\"/>\"),INDIRECT(ADDRESS(ROW()-1,13))))","v":""},{"$f":"IF(ROW()<$S$4+2,IF('XML a procesar'!A4289=\"\",P4289,IF(MID('XML a procesar'!A4289,1,1)=\"<\",P4289,P4289+1)),P4289)","v":1}]
[{"$f":"IF('XML a procesar'!A4290>0,'XML a procesar'!A4290,\"\")","v":""},0,0,0,0,"",0,{"$f":"IF(AND(G4290>0,G4291>G4290,NOT(ISERROR(MATCH(G4290,D:D,0)))),H4290+1,H4290)","v":0},0,"",{"$f":"IF(J4291=\"Linea_para_MAIL_creada_por_LuXML\",IF(ISERROR(MATCH(INDIRECT(ADDRESS(ROW()-G4291,7)),D:D,0)),J4291,INDIRECT(ADDRESS(MATCH(INDIRECT(ADDRESS(ROW()-G4291,7)),D:D,0),1))),J4291)","v":""},0,"",0,"",{"$f":"IF(ROW()<$S$4+2,IF('XML a procesar'!A4290=\"\",P4290,IF(MID('XML a procesar'!A4290,1,1)=\"<\",P4290,P4290+1)),P4290)","v":1}]
[{"$f":"IF('XML a procesar'!A4291>0,'XML a procesar'!A4291,\"\")","v":""},0,0,0,0,"",0,0,0,"","",0,"",0,"",{"$f":"IF(ROW()<$S$4+2,IF('XML a procesar'!A4291=\"\",P4291,IF(MID('XML a procesar'!A4291,1,1)=\"<\",P4291,P4291+1)),P4291)","v":1}]
[{"$f":"IF('XML a procesar'!A4292>0,'XML a procesar'!A4292,\"\")","v":""},0,0,0,0,"",0,0,0,"","",0,"",0,"",{"$f":"IF(ROW()<$S$4+2,IF('XML a procesar'!A4292=\"\",P4292,IF(MID('XML a procesar'!A4292,1,1)=\"<\",P4292,P4292+1)),P4292)","v":1}]
[{"$f":"IF('XML a procesar'!A4293>0,'XML a procesar'!A4293,\"\")","v":""},0,0,0,0,"",0,0,0,"","",0,"",0,"",{"$f":"IF(ROW()<$S$4+2,IF('XML a procesar'!A4293=\"\",P4293,IF(MID('XML a procesar'!A4293,1,1)=\"<\",P4293,P4293+1)),P4293)","v":1}]
[{"$f":"IF('XML a procesar'!A4294>0,'XML a procesar'!A4294,\"\")","v":""},0,0,0,0,"",0,0,0,"","",0,"",0,"",{"$f":"IF(ROW()<$S$4+2,IF('XML a procesar'!A4294=\"\",P4294,IF(MID('XML a procesar'!A4294,1,1)=\"<\",P4294,P4294+1)),P4294)","v":1}]
[{"$f":"IF('XML a procesar'!A4295>0,'XML a procesar'!A4295,\"\")","v":""},0,0,0,0,"",0,0,0,"","",0,"",0,"",{"$f":"IF(ROW()<$S$4+2,IF('XML a procesar'!A4295=\"\",P4295,IF(MID('XML a procesar'!A4295,1,1)=\"<\",P4295,P4295+1)),P4295)","v":1}]
[{"$f":"IF('XML a procesar'!A4296>0,'XML a procesar'!A4296,\"\")","v":""},0,0,0,0,"",0,0,0,"","",0,"",0,"",{"$f":"IF(ROW()<$S$4+2,IF('XML a procesar'!A4296=\"\",P4296,IF(MID('XML a procesar'!A4296,1,1)=\"<\",P4296,P4296+1)),P4296)","v":1}]
[{"$f":"IF('XML a procesar'!A4297>0,'XML a procesar'!A4297,\"\")","v":""},0,0,0,0,"",0,0,0,"","",0,"",0,"",{"$f":"IF(ROW()<$S$4+2,IF('XML a procesar'!A4297=\"\",P4297,IF(MID('XML a procesar'!A4297,1,1)=\"<\",P4297,P4297+1)),P4297)","v":1}]
[{"$f":"IF('XML a procesar'!A4298>0,'XML a procesar'!A4298,\"\")","v":""},0,0,0,0,"",0,0,0,"","",0,"",0,"",{"$f":"IF(ROW()<$S$4+2,IF('XML a procesar'!A4298=\"\",P4298,IF(MID('XML a procesar'!A4298,1,1)=\"<\",P4298,P4298+1)),P4298)","v":1}]
[{"$f":"IF('XML a procesar'!A4299>0,'XML a procesar'!A4299,\"\")","v":""},0,0,0,0,"",0,0,0,"","",0,"",0,"",{"$f":"IF(ROW()<$S$4+2,IF('XML a procesar'!A4299=\"\",P4299,IF(MID('XML a procesar'!A4299,1,1)=\"<\",P4299,P4299+1)),P4299)","v":1}]
[{"$f":"IF('XML a procesar'!A4300>0,'XML a procesar'!A4300,\"\")","v":""},0,0,0,0,"",0,0,0,"","",0,"",0,"",{"$f":"IF(ROW()<$S$4+2,IF('XML a procesar'!A4300=\"\",P4300,IF(MID('XML a procesar'!A4300,1,1)=\"<\",P4300,P4300+1)),P4300)","v":1}]
[{"$f":"IF('XML a procesar'!A4301>0,'XML a procesar'!A4301,\"\")","v":""},0,0,0,0,"",0,0,0,"","",0,"",0,"",{"$f":"IF(ROW()<$S$4+2,IF('XML a procesar'!A4301=\"\",P4301,IF(MID('XML a procesar'!A4301,1,1)=\"<\",P4301,P4301+1)),P4301)","v":1}]
[{"$f":"IF('XML a procesar'!A4302>0,'XML a procesar'!A4302,\"\")","v":""},0,0,0,0,"",0,0,0,"","",0,"",0,"",{"$f":"IF(ROW()<$S$4+2,IF('XML a procesar'!A4302=\"\",P4302,IF(MID('XML a procesar'!A4302,1,1)=\"<\",P4302,P4302+1)),P4302)","v":1}]
[{"$f":"IF('XML a procesar'!A4303>0,'XML a procesar'!A4303,\"\")","v":""},0,0,0,0,"",0,0,0,"","",0,"",0,"",{"$f":"IF(ROW()<$S$4+2,IF('XML a procesar'!A4303=\"\",P4303,IF(MID('XML a procesar'!A4303,1,1)=\"<\",P4303,P4303+1)),P4303)","v":1}]
[{"$f":"IF('XML a procesar'!A4304>0,'XML a procesar'!A4304,\"\")","v":""},0,0,0,0,"",0,0,0,"","",0,"",0,"",{"$f":"IF(ROW()<$S$4+2,IF('XML a procesar'!A4304=\"\",P4304,IF(MID('XML a procesar'!A4304,1,1)=\"<\",P4304,P4304+1)),P4304)","v":1}]
[{"$f":"IF('XML a procesar'!A4305>0,'XML a procesar'!A4305,\"\")","v":""},0,0,0,0,"",0,0,0,"","",0,"",0,"",{"$f":"IF(ROW()<$S$4+2,IF('XML a procesar'!A4305=\"\",P4305,IF(MID('XML a procesar'!A4305,1,1)=\"<\",P4305,P4305+1)),P4305)","v":1}]
[{"$f":"IF('XML a procesar'!A4306>0,'XML a procesar'!A4306,\"\")","v":""},0,0,0,0,"",0,0,0,"","",0,"",0,"",{"$f":"IF(ROW()<$S$4+2,IF('XML a procesar'!A4306=\"\",P4306,IF(MID('XML a procesar'!A4306,1,1)=\"<\",P4306,P4306+1)),P4306)","v":1}]
[{"$f":"IF('XML a procesar'!A4307>0,'XML a procesar'!A4307,\"\")","v":""},0,0,0,0,"",0,0,0,"","",0,"",0,"",{"$f":"IF(ROW()<$S$4+2,IF('XML a procesar'!A4307=\"\",P4307,IF(MID('XML a procesar'!A4307,1,1)=\"<\",P4307,P4307+1)),P4307)","v":1}]
[{"$f":"IF('XML a procesar'!A4308>0,'XML a procesar'!A4308,\"\")","v":""},0,0,0,0,"",0,0,0,"","",0,"",0,"",{"$f":"IF(ROW()<$S$4+2,IF('XML a procesar'!A4308=\"\",P4308,IF(MID('XML a procesar'!A4308,1,1)=\"<\",P4308,P4308+1)),P4308)","v":1}]
[{"$f":"IF('XML a procesar'!A4309>0,'XML a procesar'!A4309,\"\")","v":""},0,0,0,0,"",0,0,0,"","",0,"",0,"",{"$f":"IF(ROW()<$S$4+2,IF('XML a procesar'!A4309=\"\",P4309,IF(MID('XML a procesar'!A4309,1,1)=\"<\",P4309,P4309+1)),P4309)","v":1}]
[{"$f":"IF('XML a procesar'!A4310>0,'XML a procesar'!A4310,\"\")","v":""},0,0,0,0,"",0,0,0,"","",0,"",0,"",{"$f":"IF(ROW()<$S$4+2,IF('XML a procesar'!A4310=\"\",P4310,IF(MID('XML a procesar'!A4310,1,1)=\"<\",P4310,P4310+1)),P4310)","v":1}]
[{"$f":"IF('XML a procesar'!A4311>0,'XML a procesar'!A4311,\"\")","v":""},0,0,0,0,"",0,0,0,"","",0,"",0,"",{"$f":"IF(ROW()<$S$4+2,IF('XML a procesar'!A4311=\"\",P4311,IF(MID('XML a procesar'!A4311,1,1)=\"<\",P4311,P4311+1)),P4311)","v":1}]
[{"$f":"IF('XML a procesar'!A4312>0,'XML a procesar'!A4312,\"\")","v":""},0,0,0,0,"",0,0,0,"","",0,"",0,"",{"$f":"IF(ROW()<$S$4+2,IF('XML a procesar'!A4312=\"\",P4312,IF(MID('XML a procesar'!A4312,1,1)=\"<\",P4312,P4312+1)),P4312)","v":1}]
[{"$f":"IF('XML a procesar'!A4313>0,'XML a procesar'!A4313,\"\")","v":""},0,0,0,0,"",0,0,0,"","",0,"",0,"",{"$f":"IF(ROW()<$S$4+2,IF('XML a procesar'!A4313=\"\",P4313,IF(MID('XML a procesar'!A4313,1,1)=\"<\",P4313,P4313+1)),P4313)","v":1}]
[{"$f":"IF('XML a procesar'!A4314>0,'XML a procesar'!A4314,\"\")","v":""},0,0,0,0,"",0,0,0,"","",0,"",0,"",{"$f":"IF(ROW()<$S$4+2,IF('XML a procesar'!A4314=\"\",P4314,IF(MID('XML a procesar'!A4314,1,1)=\"<\",P4314,P4314+1)),P4314)","v":1}]
[{"$f":"IF('XML a procesar'!A4315>0,'XML a procesar'!A4315,\"\")","v":""},0,0,0,0,"",0,0,0,"","",0,"",0,"",{"$f":"IF(ROW()<$S$4+2,IF('XML a procesar'!A4315=\"\",P4315,IF(MID('XML a procesar'!A4315,1,1)=\"<\",P4315,P4315+1)),P4315)","v":1}]
[{"$f":"IF('XML a procesar'!A4316>0,'XML a procesar'!A4316,\"\")","v":""},0,0,0,0,"",0,0,0,"","",0,"",0,"",{"$f":"IF(ROW()<$S$4+2,IF('XML a procesar'!A4316=\"\",P4316,IF(MID('XML a procesar'!A4316,1,1)=\"<\",P4316,P4316+1)),P4316)","v":1}]
[{"$f":"IF('XML a procesar'!A4317>0,'XML a procesar'!A4317,\"\")","v":""},0,0,0,0,"",0,0,0,"","",0,"",0,"",{"$f":"IF(ROW()<$S$4+2,IF('XML a procesar'!A4317=\"\",P4317,IF(MID('XML a procesar'!A4317,1,1)=\"<\",P4317,P4317+1)),P4317)","v":1}]
[{"$f":"IF('XML a procesar'!A4318>0,'XML a procesar'!A4318,\"\")","v":""},0,0,0,0,"",0,0,0,"","",0,"",0,"",{"$f":"IF(ROW()<$S$4+2,IF('XML a procesar'!A4318=\"\",P4318,IF(MID('XML a procesar'!A4318,1,1)=\"<\",P4318,P4318+1)),P4318)","v":1}]
[{"$f":"IF('XML a procesar'!A4319>0,'XML a procesar'!A4319,\"\")","v":""},0,0,0,0,"",0,0,0,"","",0,"",0,"",{"$f":"IF(ROW()<$S$4+2,IF('XML a procesar'!A4319=\"\",P4319,IF(MID('XML a procesar'!A4319,1,1)=\"<\",P4319,P4319+1)),P4319)","v":1}]
[{"$f":"IF('XML a procesar'!A4320>0,'XML a procesar'!A4320,\"\")","v":""},0,0,0,0,"",0,0,0,"","",0,"",0,"",{"$f":"IF(ROW()<$S$4+2,IF('XML a procesar'!A4320=\"\",P4320,IF(MID('XML a procesar'!A4320,1,1)=\"<\",P4320,P4320+1)),P4320)","v":1}]
[{"$f":"IF('XML a procesar'!A4321>0,'XML a procesar'!A4321,\"\")","v":""},0,0,0,0,"",0,0,0,"","",0,"",0,"",{"$f":"IF(ROW()<$S$4+2,IF('XML a procesar'!A4321=\"\",P4321,IF(MID('XML a procesar'!A4321,1,1)=\"<\",P4321,P4321+1)),P4321)","v":1}]
[{"$f":"IF('XML a procesar'!A4322>0,'XML a procesar'!A4322,\"\")","v":""},0,0,0,0,"",0,0,0,"","",0,"",0,"",{"$f":"IF(ROW()<$S$4+2,IF('XML a procesar'!A4322=\"\",P4322,IF(MID('XML a procesar'!A4322,1,1)=\"<\",P4322,P4322+1)),P4322)","v":1}]
[{"$f":"IF('XML a procesar'!A4323>0,'XML a procesar'!A4323,\"\")","v":""},0,0,0,0,"",0,0,0,"","",0,"",0,"",{"$f":"IF(ROW()<$S$4+2,IF('XML a procesar'!A4323=\"\",P4323,IF(MID('XML a procesar'!A4323,1,1)=\"<\",P4323,P4323+1)),P4323)","v":1}]
[{"$f":"IF('XML a procesar'!A4324>0,'XML a procesar'!A4324,\"\")","v":""},0,0,0,0,"",0,0,0,"","",0,"",0,"",{"$f":"IF(ROW()<$S$4+2,IF('XML a procesar'!A4324=\"\",P4324,IF(MID('XML a procesar'!A4324,1,1)=\"<\",P4324,P4324+1)),P4324)","v":1}]
[{"$f":"IF('XML a procesar'!A4325>0,'XML a procesar'!A4325,\"\")","v":""},0,0,0,0,"",0,0,0,"","",0,"",0,"",{"$f":"IF(ROW()<$S$4+2,IF('XML a procesar'!A4325=\"\",P4325,IF(MID('XML a procesar'!A4325,1,1)=\"<\",P4325,P4325+1)),P4325)","v":1}]
[{"$f":"IF('XML a procesar'!A4326>0,'XML a procesar'!A4326,\"\")","v":""},0,0,0,0,"",0,0,0,"","",0,"",0,"",{"$f":"IF(ROW()<$S$4+2,IF('XML a procesar'!A4326=\"\",P4326,IF(MID('XML a procesar'!A4326,1,1)=\"<\",P4326,P4326+1)),P4326)","v":1}]
[{"$f":"IF('XML a procesar'!A4327>0,'XML a procesar'!A4327,\"\")","v":""},0,0,0,0,"",0,0,0,"","",0,"",0,"",{"$f":"IF(ROW()<$S$4+2,IF('XML a procesar'!A4327=\"\",P4327,IF(MID('XML a procesar'!A4327,1,1)=\"<\",P4327,P4327+1)),P4327)","v":1}]
[{"$f":"IF('XML a procesar'!A4328>0,'XML a procesar'!A4328,\"\")","v":""},0,0,0,0,"",0,0,0,"","",0,"",0,"",{"$f":"IF(ROW()<$S$4+2,IF('XML a procesar'!A4328=\"\",P4328,IF(MID('XML a procesar'!A4328,1,1)=\"<\",P4328,P4328+1)),P4328)","v":1}]
[{"$f":"IF('XML a procesar'!A4329>0,'XML a procesar'!A4329,\"\")","v":""},0,0,0,0,"",0,0,0,"","",0,"",0,"",{"$f":"IF(ROW()<$S$4+2,IF('XML a procesar'!A4329=\"\",P4329,IF(MID('XML a procesar'!A4329,1,1)=\"<\",P4329,P4329+1)),P4329)","v":1}]
[{"$f":"IF('XML a procesar'!A4330>0,'XML a procesar'!A4330,\"\")","v":""},0,0,0,0,"",0,0,0,"","",0,"",0,"",{"$f":"IF(ROW()<$S$4+2,IF('XML a procesar'!A4330=\"\",P4330,IF(MID('XML a procesar'!A4330,1,1)=\"<\",P4330,P4330+1)),P4330)","v":1}]
[{"$f":"IF('XML a procesar'!A4331>0,'XML a procesar'!A4331,\"\")","v":""},0,0,0,0,"",0,0,0,"","",0,"",0,"",{"$f":"IF(ROW()<$S$4+2,IF('XML a procesar'!A4331=\"\",P4331,IF(MID('XML a procesar'!A4331,1,1)=\"<\",P4331,P4331+1)),P4331)","v":1}]
[{"$f":"IF('XML a procesar'!A4332>0,'XML a procesar'!A4332,\"\")","v":""},0,0,0,0,"",0,0,0,"","",0,"",0,"",{"$f":"IF(ROW()<$S$4+2,IF('XML a procesar'!A4332=\"\",P4332,IF(MID('XML a procesar'!A4332,1,1)=\"<\",P4332,P4332+1)),P4332)","v":1}]
[{"$f":"IF('XML a procesar'!A4333>0,'XML a procesar'!A4333,\"\")","v":""},0,0,0,0,"",0,0,0,"","",0,"",0,"",{"$f":"IF(ROW()<$S$4+2,IF('XML a procesar'!A4333=\"\",P4333,IF(MID('XML a procesar'!A4333,1,1)=\"<\",P4333,P4333+1)),P4333)","v":1}]
[{"$f":"IF('XML a procesar'!A4334>0,'XML a procesar'!A4334,\"\")","v":""},0,0,0,0,"",0,0,0,"","",0,"",0,"",{"$f":"IF(ROW()<$S$4+2,IF('XML a procesar'!A4334=\"\",P4334,IF(MID('XML a procesar'!A4334,1,1)=\"<\",P4334,P4334+1)),P4334)","v":1}]
[{"$f":"IF('XML a procesar'!A4335>0,'XML a procesar'!A4335,\"\")","v":""},0,0,0,0,"",0,0,0,"","",0,"",0,"",{"$f":"IF(ROW()<$S$4+2,IF('XML a procesar'!A4335=\"\",P4335,IF(MID('XML a procesar'!A4335,1,1)=\"<\",P4335,P4335+1)),P4335)","v":1}]
[{"$f":"IF('XML a procesar'!A4336>0,'XML a procesar'!A4336,\"\")","v":""},0,0,0,0,"",0,0,0,"","",0,"",0,"",{"$f":"IF(ROW()<$S$4+2,IF('XML a procesar'!A4336=\"\",P4336,IF(MID('XML a procesar'!A4336,1,1)=\"<\",P4336,P4336+1)),P4336)","v":1}]
[{"$f":"IF('XML a procesar'!A4337>0,'XML a procesar'!A4337,\"\")","v":""},0,0,0,0,"",0,0,0,"","",0,"",0,"",{"$f":"IF(ROW()<$S$4+2,IF('XML a procesar'!A4337=\"\",P4337,IF(MID('XML a procesar'!A4337,1,1)=\"<\",P4337,P4337+1)),P4337)","v":1}]
[{"$f":"IF('XML a procesar'!A4338>0,'XML a procesar'!A4338,\"\")","v":""},0,0,0,0,"",0,0,0,"","",0,"",0,"",{"$f":"IF(ROW()<$S$4+2,IF('XML a procesar'!A4338=\"\",P4338,IF(MID('XML a procesar'!A4338,1,1)=\"<\",P4338,P4338+1)),P4338)","v":1}]
[{"$f":"IF('XML a procesar'!A4339>0,'XML a procesar'!A4339,\"\")","v":""},0,0,0,0,"",0,0,0,"","",0,"",0,"",{"$f":"IF(ROW()<$S$4+2,IF('XML a procesar'!A4339=\"\",P4339,IF(MID('XML a procesar'!A4339,1,1)=\"<\",P4339,P4339+1)),P4339)","v":1}]
[{"$f":"IF('XML a procesar'!A4340>0,'XML a procesar'!A4340,\"\")","v":""},0,0,0,0,"",0,0,0,"","",0,"",0,"",{"$f":"IF(ROW()<$S$4+2,IF('XML a procesar'!A4340=\"\",P4340,IF(MID('XML a procesar'!A4340,1,1)=\"<\",P4340,P4340+1)),P4340)","v":1}]
[{"$f":"IF('XML a procesar'!A4341>0,'XML a procesar'!A4341,\"\")","v":""},0,0,0,0,"",0,0,0,"","",0,"",0,"",{"$f":"IF(ROW()<$S$4+2,IF('XML a procesar'!A4341=\"\",P4341,IF(MID('XML a procesar'!A4341,1,1)=\"<\",P4341,P4341+1)),P4341)","v":1}]
[{"$f":"IF('XML a procesar'!A4342>0,'XML a procesar'!A4342,\"\")","v":""},0,0,0,0,"",0,0,0,"","",0,"",0,"",{"$f":"IF(ROW()<$S$4+2,IF('XML a procesar'!A4342=\"\",P4342,IF(MID('XML a procesar'!A4342,1,1)=\"<\",P4342,P4342+1)),P4342)","v":1}]
[{"$f":"IF('XML a procesar'!A4343>0,'XML a procesar'!A4343,\"\")","v":""},0,0,0,0,"",0,0,0,"","",0,"",0,"",{"$f":"IF(ROW()<$S$4+2,IF('XML a procesar'!A4343=\"\",P4343,IF(MID('XML a procesar'!A4343,1,1)=\"<\",P4343,P4343+1)),P4343)","v":1}]
[{"$f":"IF('XML a procesar'!A4344>0,'XML a procesar'!A4344,\"\")","v":""},0,0,0,0,"",0,0,0,"","",0,"",0,"",{"$f":"IF(ROW()<$S$4+2,IF('XML a procesar'!A4344=\"\",P4344,IF(MID('XML a procesar'!A4344,1,1)=\"<\",P4344,P4344+1)),P4344)","v":1}]
[{"$f":"IF('XML a procesar'!A4345>0,'XML a procesar'!A4345,\"\")","v":""},0,0,0,0,"",0,0,0,"","",0,"",0,"",{"$f":"IF(ROW()<$S$4+2,IF('XML a procesar'!A4345=\"\",P4345,IF(MID('XML a procesar'!A4345,1,1)=\"<\",P4345,P4345+1)),P4345)","v":1}]
[{"$f":"IF('XML a procesar'!A4346>0,'XML a procesar'!A4346,\"\")","v":""},0,0,0,0,"",0,0,0,"","",0,"",0,"",{"$f":"IF(ROW()<$S$4+2,IF('XML a procesar'!A4346=\"\",P4346,IF(MID('XML a procesar'!A4346,1,1)=\"<\",P4346,P4346+1)),P4346)","v":1}]
[{"$f":"IF('XML a procesar'!A4347>0,'XML a procesar'!A4347,\"\")","v":""},0,0,0,0,"",0,0,0,"","",0,"",0,"",{"$f":"IF(ROW()<$S$4+2,IF('XML a procesar'!A4347=\"\",P4347,IF(MID('XML a procesar'!A4347,1,1)=\"<\",P4347,P4347+1)),P4347)","v":1}]
[{"$f":"IF('XML a procesar'!A4348>0,'XML a procesar'!A4348,\"\")","v":""},0,0,0,0,"",0,0,0,"","",0,"",0,"",{"$f":"IF(ROW()<$S$4+2,IF('XML a procesar'!A4348=\"\",P4348,IF(MID('XML a procesar'!A4348,1,1)=\"<\",P4348,P4348+1)),P4348)","v":1}]
[{"$f":"IF('XML a procesar'!A4349>0,'XML a procesar'!A4349,\"\")","v":""},0,0,0,0,"",0,0,0,"","",0,"",0,"",{"$f":"IF(ROW()<$S$4+2,IF('XML a procesar'!A4349=\"\",P4349,IF(MID('XML a procesar'!A4349,1,1)=\"<\",P4349,P4349+1)),P4349)","v":1}]
[{"$f":"IF('XML a procesar'!A4350>0,'XML a procesar'!A4350,\"\")","v":""},0,0,0,0,"",0,0,0,"","",0,"",0,"",{"$f":"IF(ROW()<$S$4+2,IF('XML a procesar'!A4350=\"\",P4350,IF(MID('XML a procesar'!A4350,1,1)=\"<\",P4350,P4350+1)),P4350)","v":1}]
[{"$f":"IF('XML a procesar'!A4351>0,'XML a procesar'!A4351,\"\")","v":""},0,0,0,0,"",0,0,0,"","",0,"",0,"",{"$f":"IF(ROW()<$S$4+2,IF('XML a procesar'!A4351=\"\",P4351,IF(MID('XML a procesar'!A4351,1,1)=\"<\",P4351,P4351+1)),P4351)","v":1}]
[{"$f":"IF('XML a procesar'!A4352>0,'XML a procesar'!A4352,\"\")","v":""},{"$f":"IF(ISERROR(FIND(\"/doi.org/\",A4353,1)),0,1)","v":0},{"$f":"IF(LEFT(A4352,16)=\"<contrib contrib\",C4352+1,IF(LEFT(A4352,16)=\"</contrib-group>\",0,IF(LEFT(A4352,10)=\"</contrib>\",C4352,C4352)))","v":0},{"$f":"IF(AND(C4353>0,LEFT(A4353,7)=\"<email>\",ISNUMBER(SEARCH(\"@\",A4353,1))),C4353,IF(LEFT(A4353,10)=\"<alt-text>\",-1,0))","v":0},{"$f":"IF(D4353=0,E4352,E4352+1)","v":0},{"$f":"INDIRECT(ADDRESS(ROW()+INDIRECT(ADDRESS(ROW()+E4353,5)),1))","v":""},{"$f":"IF(LEFT(F4353,7)=\"<aff id\",_xlfn.NUMBERVALUE(MID(F4353,13,LEN(F4353)-14)),IF(F4353=\"</aff>\",G4352+1,G4352))","v":0},0,{"$f":"INDIRECT(ADDRESS(ROW()-INDIRECT(ADDRESS(ROW()-H4353,8)),8))","v":0},{"$f":"IF(J4352=\"Linea_para_MAIL_creada_por_LuXML\",\"</aff>\",IF(I4353>INDIRECT(ADDRESS(ROW()-I4353-1,8)),\"Linea_para_MAIL_creada_por_LuXML\",INDIRECT(ADDRESS(ROW()-I4353,6))))","v":""},"",{"$f":"IF(OR(MID(K4351,3,5)=\"page>\",MID(K4352,3,5)=\"page>\"),L4352,IF(OR(K4352=\"<history>\",K4353=\"<history>\"),L4352+1,L4352))","v":0},{"$f":"IF(L4353>L4352,IF(L4353=1,CONCATENATE(\"<fpage>\",$S$10,\"</fpage>\"),CONCATENATE(\"<lpage>\",$S$10+1,\"</lpage>\")),IF(ISERROR(INDIRECT(ADDRESS(ROW()-L4353,11),1)),\"\",INDIRECT(ADDRESS(ROW()-L4353,11),1)))","v":""},{"$f":"IF(N4352=-1,-1,IF(M4353=\"</counts>\",-1,IF(OR(LEFT(M4353,7)=\"<fpage>\",LEFT(M4353,7)=\"<lpage>\"),VALUE(MID(M4353,8,LEN(M4353)-15)),0)))","v":0},"",{"$f":"IF(ROW()<$S$4+2,IF('XML a procesar'!A4352=\"\",P4352,IF(MID('XML a procesar'!A4352,1,1)=\"<\",P4352,P4352+1)),P4352)","v":1}]
[{"$f":"IF('XML a procesar'!A4353>0,'XML a procesar'!A4353,\"\")","v":""},0,0,0,0,"",0,0,0,"","",0,"",0,{"$f":"IF(N4354>-1,INDIRECT(ADDRESS(ROW(),13)),IF(N4354<N4353,CONCATENATE(\"<page-count count=\",CHAR(34),1+LARGE(N:N,1)-LARGE(N:N,2),CHAR(34),\"/>\"),INDIRECT(ADDRESS(ROW()-1,13))))","v":""},{"$f":"IF(ROW()<$S$4+2,IF('XML a procesar'!A4353=\"\",P4353,IF(MID('XML a procesar'!A4353,1,1)=\"<\",P4353,P4353+1)),P4353)","v":1}]
[{"$f":"IF('XML a procesar'!A4354>0,'XML a procesar'!A4354,\"\")","v":""},0,0,0,0,"",0,{"$f":"IF(AND(G4354>0,G4355>G4354,NOT(ISERROR(MATCH(G4354,D:D,0)))),H4354+1,H4354)","v":0},0,"",{"$f":"IF(J4355=\"Linea_para_MAIL_creada_por_LuXML\",IF(ISERROR(MATCH(INDIRECT(ADDRESS(ROW()-G4355,7)),D:D,0)),J4355,INDIRECT(ADDRESS(MATCH(INDIRECT(ADDRESS(ROW()-G4355,7)),D:D,0),1))),J4355)","v":""},0,"",0,"",{"$f":"IF(ROW()<$S$4+2,IF('XML a procesar'!A4354=\"\",P4354,IF(MID('XML a procesar'!A4354,1,1)=\"<\",P4354,P4354+1)),P4354)","v":1}]
[{"$f":"IF('XML a procesar'!A4355>0,'XML a procesar'!A4355,\"\")","v":""},0,0,0,0,"",0,0,0,"","",0,"",0,"",{"$f":"IF(ROW()<$S$4+2,IF('XML a procesar'!A4355=\"\",P4355,IF(MID('XML a procesar'!A4355,1,1)=\"<\",P4355,P4355+1)),P4355)","v":1}]
[{"$f":"IF('XML a procesar'!A4356>0,'XML a procesar'!A4356,\"\")","v":""},0,0,0,0,"",0,0,0,"","",0,"",0,"",{"$f":"IF(ROW()<$S$4+2,IF('XML a procesar'!A4356=\"\",P4356,IF(MID('XML a procesar'!A4356,1,1)=\"<\",P4356,P4356+1)),P4356)","v":1}]
[{"$f":"IF('XML a procesar'!A4357>0,'XML a procesar'!A4357,\"\")","v":""},0,0,0,0,"",0,0,0,"","",0,"",0,"",{"$f":"IF(ROW()<$S$4+2,IF('XML a procesar'!A4357=\"\",P4357,IF(MID('XML a procesar'!A4357,1,1)=\"<\",P4357,P4357+1)),P4357)","v":1}]
[{"$f":"IF('XML a procesar'!A4358>0,'XML a procesar'!A4358,\"\")","v":""},0,0,0,0,"",0,0,0,"","",0,"",0,"",{"$f":"IF(ROW()<$S$4+2,IF('XML a procesar'!A4358=\"\",P4358,IF(MID('XML a procesar'!A4358,1,1)=\"<\",P4358,P4358+1)),P4358)","v":1}]
[{"$f":"IF('XML a procesar'!A4359>0,'XML a procesar'!A4359,\"\")","v":""},0,0,0,0,"",0,0,0,"","",0,"",0,"",{"$f":"IF(ROW()<$S$4+2,IF('XML a procesar'!A4359=\"\",P4359,IF(MID('XML a procesar'!A4359,1,1)=\"<\",P4359,P4359+1)),P4359)","v":1}]
[{"$f":"IF('XML a procesar'!A4360>0,'XML a procesar'!A4360,\"\")","v":""},0,0,0,0,"",0,0,0,"","",0,"",0,"",{"$f":"IF(ROW()<$S$4+2,IF('XML a procesar'!A4360=\"\",P4360,IF(MID('XML a procesar'!A4360,1,1)=\"<\",P4360,P4360+1)),P4360)","v":1}]
[{"$f":"IF('XML a procesar'!A4361>0,'XML a procesar'!A4361,\"\")","v":""},0,0,0,0,"",0,0,0,"","",0,"",0,"",{"$f":"IF(ROW()<$S$4+2,IF('XML a procesar'!A4361=\"\",P4361,IF(MID('XML a procesar'!A4361,1,1)=\"<\",P4361,P4361+1)),P4361)","v":1}]
[{"$f":"IF('XML a procesar'!A4362>0,'XML a procesar'!A4362,\"\")","v":""},0,0,0,0,"",0,0,0,"","",0,"",0,"",{"$f":"IF(ROW()<$S$4+2,IF('XML a procesar'!A4362=\"\",P4362,IF(MID('XML a procesar'!A4362,1,1)=\"<\",P4362,P4362+1)),P4362)","v":1}]
[{"$f":"IF('XML a procesar'!A4363>0,'XML a procesar'!A4363,\"\")","v":""},0,0,0,0,"",0,0,0,"","",0,"",0,"",{"$f":"IF(ROW()<$S$4+2,IF('XML a procesar'!A4363=\"\",P4363,IF(MID('XML a procesar'!A4363,1,1)=\"<\",P4363,P4363+1)),P4363)","v":1}]
[{"$f":"IF('XML a procesar'!A4364>0,'XML a procesar'!A4364,\"\")","v":""},0,0,0,0,"",0,0,0,"","",0,"",0,"",{"$f":"IF(ROW()<$S$4+2,IF('XML a procesar'!A4364=\"\",P4364,IF(MID('XML a procesar'!A4364,1,1)=\"<\",P4364,P4364+1)),P4364)","v":1}]
[{"$f":"IF('XML a procesar'!A4365>0,'XML a procesar'!A4365,\"\")","v":""},0,0,0,0,"",0,0,0,"","",0,"",0,"",{"$f":"IF(ROW()<$S$4+2,IF('XML a procesar'!A4365=\"\",P4365,IF(MID('XML a procesar'!A4365,1,1)=\"<\",P4365,P4365+1)),P4365)","v":1}]
[{"$f":"IF('XML a procesar'!A4366>0,'XML a procesar'!A4366,\"\")","v":""},0,0,0,0,"",0,0,0,"","",0,"",0,"",{"$f":"IF(ROW()<$S$4+2,IF('XML a procesar'!A4366=\"\",P4366,IF(MID('XML a procesar'!A4366,1,1)=\"<\",P4366,P4366+1)),P4366)","v":1}]
[{"$f":"IF('XML a procesar'!A4367>0,'XML a procesar'!A4367,\"\")","v":""},0,0,0,0,"",0,0,0,"","",0,"",0,"",{"$f":"IF(ROW()<$S$4+2,IF('XML a procesar'!A4367=\"\",P4367,IF(MID('XML a procesar'!A4367,1,1)=\"<\",P4367,P4367+1)),P4367)","v":1}]
[{"$f":"IF('XML a procesar'!A4368>0,'XML a procesar'!A4368,\"\")","v":""},0,0,0,0,"",0,0,0,"","",0,"",0,"",{"$f":"IF(ROW()<$S$4+2,IF('XML a procesar'!A4368=\"\",P4368,IF(MID('XML a procesar'!A4368,1,1)=\"<\",P4368,P4368+1)),P4368)","v":1}]
[{"$f":"IF('XML a procesar'!A4369>0,'XML a procesar'!A4369,\"\")","v":""},0,0,0,0,"",0,0,0,"","",0,"",0,"",{"$f":"IF(ROW()<$S$4+2,IF('XML a procesar'!A4369=\"\",P4369,IF(MID('XML a procesar'!A4369,1,1)=\"<\",P4369,P4369+1)),P4369)","v":1}]
[{"$f":"IF('XML a procesar'!A4370>0,'XML a procesar'!A4370,\"\")","v":""},0,0,0,0,"",0,0,0,"","",0,"",0,"",{"$f":"IF(ROW()<$S$4+2,IF('XML a procesar'!A4370=\"\",P4370,IF(MID('XML a procesar'!A4370,1,1)=\"<\",P4370,P4370+1)),P4370)","v":1}]
[{"$f":"IF('XML a procesar'!A4371>0,'XML a procesar'!A4371,\"\")","v":""},0,0,0,0,"",0,0,0,"","",0,"",0,"",{"$f":"IF(ROW()<$S$4+2,IF('XML a procesar'!A4371=\"\",P4371,IF(MID('XML a procesar'!A4371,1,1)=\"<\",P4371,P4371+1)),P4371)","v":1}]
[{"$f":"IF('XML a procesar'!A4372>0,'XML a procesar'!A4372,\"\")","v":""},0,0,0,0,"",0,0,0,"","",0,"",0,"",{"$f":"IF(ROW()<$S$4+2,IF('XML a procesar'!A4372=\"\",P4372,IF(MID('XML a procesar'!A4372,1,1)=\"<\",P4372,P4372+1)),P4372)","v":1}]
[{"$f":"IF('XML a procesar'!A4373>0,'XML a procesar'!A4373,\"\")","v":""},0,0,0,0,"",0,0,0,"","",0,"",0,"",{"$f":"IF(ROW()<$S$4+2,IF('XML a procesar'!A4373=\"\",P4373,IF(MID('XML a procesar'!A4373,1,1)=\"<\",P4373,P4373+1)),P4373)","v":1}]
[{"$f":"IF('XML a procesar'!A4374>0,'XML a procesar'!A4374,\"\")","v":""},0,0,0,0,"",0,0,0,"","",0,"",0,"",{"$f":"IF(ROW()<$S$4+2,IF('XML a procesar'!A4374=\"\",P4374,IF(MID('XML a procesar'!A4374,1,1)=\"<\",P4374,P4374+1)),P4374)","v":1}]
[{"$f":"IF('XML a procesar'!A4375>0,'XML a procesar'!A4375,\"\")","v":""},0,0,0,0,"",0,0,0,"","",0,"",0,"",{"$f":"IF(ROW()<$S$4+2,IF('XML a procesar'!A4375=\"\",P4375,IF(MID('XML a procesar'!A4375,1,1)=\"<\",P4375,P4375+1)),P4375)","v":1}]
[{"$f":"IF('XML a procesar'!A4376>0,'XML a procesar'!A4376,\"\")","v":""},0,0,0,0,"",0,0,0,"","",0,"",0,"",{"$f":"IF(ROW()<$S$4+2,IF('XML a procesar'!A4376=\"\",P4376,IF(MID('XML a procesar'!A4376,1,1)=\"<\",P4376,P4376+1)),P4376)","v":1}]
[{"$f":"IF('XML a procesar'!A4377>0,'XML a procesar'!A4377,\"\")","v":""},0,0,0,0,"",0,0,0,"","",0,"",0,"",{"$f":"IF(ROW()<$S$4+2,IF('XML a procesar'!A4377=\"\",P4377,IF(MID('XML a procesar'!A4377,1,1)=\"<\",P4377,P4377+1)),P4377)","v":1}]
[{"$f":"IF('XML a procesar'!A4378>0,'XML a procesar'!A4378,\"\")","v":""},0,0,0,0,"",0,0,0,"","",0,"",0,"",{"$f":"IF(ROW()<$S$4+2,IF('XML a procesar'!A4378=\"\",P4378,IF(MID('XML a procesar'!A4378,1,1)=\"<\",P4378,P4378+1)),P4378)","v":1}]
[{"$f":"IF('XML a procesar'!A4379>0,'XML a procesar'!A4379,\"\")","v":""},0,0,0,0,"",0,0,0,"","",0,"",0,"",{"$f":"IF(ROW()<$S$4+2,IF('XML a procesar'!A4379=\"\",P4379,IF(MID('XML a procesar'!A4379,1,1)=\"<\",P4379,P4379+1)),P4379)","v":1}]
[{"$f":"IF('XML a procesar'!A4380>0,'XML a procesar'!A4380,\"\")","v":""},0,0,0,0,"",0,0,0,"","",0,"",0,"",{"$f":"IF(ROW()<$S$4+2,IF('XML a procesar'!A4380=\"\",P4380,IF(MID('XML a procesar'!A4380,1,1)=\"<\",P4380,P4380+1)),P4380)","v":1}]
[{"$f":"IF('XML a procesar'!A4381>0,'XML a procesar'!A4381,\"\")","v":""},0,0,0,0,"",0,0,0,"","",0,"",0,"",{"$f":"IF(ROW()<$S$4+2,IF('XML a procesar'!A4381=\"\",P4381,IF(MID('XML a procesar'!A4381,1,1)=\"<\",P4381,P4381+1)),P4381)","v":1}]
[{"$f":"IF('XML a procesar'!A4382>0,'XML a procesar'!A4382,\"\")","v":""},0,0,0,0,"",0,0,0,"","",0,"",0,"",{"$f":"IF(ROW()<$S$4+2,IF('XML a procesar'!A4382=\"\",P4382,IF(MID('XML a procesar'!A4382,1,1)=\"<\",P4382,P4382+1)),P4382)","v":1}]
[{"$f":"IF('XML a procesar'!A4383>0,'XML a procesar'!A4383,\"\")","v":""},0,0,0,0,"",0,0,0,"","",0,"",0,"",{"$f":"IF(ROW()<$S$4+2,IF('XML a procesar'!A4383=\"\",P4383,IF(MID('XML a procesar'!A4383,1,1)=\"<\",P4383,P4383+1)),P4383)","v":1}]
[{"$f":"IF('XML a procesar'!A4384>0,'XML a procesar'!A4384,\"\")","v":""},0,0,0,0,"",0,0,0,"","",0,"",0,"",{"$f":"IF(ROW()<$S$4+2,IF('XML a procesar'!A4384=\"\",P4384,IF(MID('XML a procesar'!A4384,1,1)=\"<\",P4384,P4384+1)),P4384)","v":1}]
[{"$f":"IF('XML a procesar'!A4385>0,'XML a procesar'!A4385,\"\")","v":""},0,0,0,0,"",0,0,0,"","",0,"",0,"",{"$f":"IF(ROW()<$S$4+2,IF('XML a procesar'!A4385=\"\",P4385,IF(MID('XML a procesar'!A4385,1,1)=\"<\",P4385,P4385+1)),P4385)","v":1}]
[{"$f":"IF('XML a procesar'!A4386>0,'XML a procesar'!A4386,\"\")","v":""},0,0,0,0,"",0,0,0,"","",0,"",0,"",{"$f":"IF(ROW()<$S$4+2,IF('XML a procesar'!A4386=\"\",P4386,IF(MID('XML a procesar'!A4386,1,1)=\"<\",P4386,P4386+1)),P4386)","v":1}]
[{"$f":"IF('XML a procesar'!A4387>0,'XML a procesar'!A4387,\"\")","v":""},0,0,0,0,"",0,0,0,"","",0,"",0,"",{"$f":"IF(ROW()<$S$4+2,IF('XML a procesar'!A4387=\"\",P4387,IF(MID('XML a procesar'!A4387,1,1)=\"<\",P4387,P4387+1)),P4387)","v":1}]
[{"$f":"IF('XML a procesar'!A4388>0,'XML a procesar'!A4388,\"\")","v":""},0,0,0,0,"",0,0,0,"","",0,"",0,"",{"$f":"IF(ROW()<$S$4+2,IF('XML a procesar'!A4388=\"\",P4388,IF(MID('XML a procesar'!A4388,1,1)=\"<\",P4388,P4388+1)),P4388)","v":1}]
[{"$f":"IF('XML a procesar'!A4389>0,'XML a procesar'!A4389,\"\")","v":""},0,0,0,0,"",0,0,0,"","",0,"",0,"",{"$f":"IF(ROW()<$S$4+2,IF('XML a procesar'!A4389=\"\",P4389,IF(MID('XML a procesar'!A4389,1,1)=\"<\",P4389,P4389+1)),P4389)","v":1}]
[{"$f":"IF('XML a procesar'!A4390>0,'XML a procesar'!A4390,\"\")","v":""},0,0,0,0,"",0,0,0,"","",0,"",0,"",{"$f":"IF(ROW()<$S$4+2,IF('XML a procesar'!A4390=\"\",P4390,IF(MID('XML a procesar'!A4390,1,1)=\"<\",P4390,P4390+1)),P4390)","v":1}]
[{"$f":"IF('XML a procesar'!A4391>0,'XML a procesar'!A4391,\"\")","v":""},0,0,0,0,"",0,0,0,"","",0,"",0,"",{"$f":"IF(ROW()<$S$4+2,IF('XML a procesar'!A4391=\"\",P4391,IF(MID('XML a procesar'!A4391,1,1)=\"<\",P4391,P4391+1)),P4391)","v":1}]
[{"$f":"IF('XML a procesar'!A4392>0,'XML a procesar'!A4392,\"\")","v":""},0,0,0,0,"",0,0,0,"","",0,"",0,"",{"$f":"IF(ROW()<$S$4+2,IF('XML a procesar'!A4392=\"\",P4392,IF(MID('XML a procesar'!A4392,1,1)=\"<\",P4392,P4392+1)),P4392)","v":1}]
[{"$f":"IF('XML a procesar'!A4393>0,'XML a procesar'!A4393,\"\")","v":""},0,0,0,0,"",0,0,0,"","",0,"",0,"",{"$f":"IF(ROW()<$S$4+2,IF('XML a procesar'!A4393=\"\",P4393,IF(MID('XML a procesar'!A4393,1,1)=\"<\",P4393,P4393+1)),P4393)","v":1}]
[{"$f":"IF('XML a procesar'!A4394>0,'XML a procesar'!A4394,\"\")","v":""},0,0,0,0,"",0,0,0,"","",0,"",0,"",{"$f":"IF(ROW()<$S$4+2,IF('XML a procesar'!A4394=\"\",P4394,IF(MID('XML a procesar'!A4394,1,1)=\"<\",P4394,P4394+1)),P4394)","v":1}]
[{"$f":"IF('XML a procesar'!A4395>0,'XML a procesar'!A4395,\"\")","v":""},0,0,0,0,"",0,0,0,"","",0,"",0,"",{"$f":"IF(ROW()<$S$4+2,IF('XML a procesar'!A4395=\"\",P4395,IF(MID('XML a procesar'!A4395,1,1)=\"<\",P4395,P4395+1)),P4395)","v":1}]
[{"$f":"IF('XML a procesar'!A4396>0,'XML a procesar'!A4396,\"\")","v":""},0,0,0,0,"",0,0,0,"","",0,"",0,"",{"$f":"IF(ROW()<$S$4+2,IF('XML a procesar'!A4396=\"\",P4396,IF(MID('XML a procesar'!A4396,1,1)=\"<\",P4396,P4396+1)),P4396)","v":1}]
[{"$f":"IF('XML a procesar'!A4397>0,'XML a procesar'!A4397,\"\")","v":""},0,0,0,0,"",0,0,0,"","",0,"",0,"",{"$f":"IF(ROW()<$S$4+2,IF('XML a procesar'!A4397=\"\",P4397,IF(MID('XML a procesar'!A4397,1,1)=\"<\",P4397,P4397+1)),P4397)","v":1}]
[{"$f":"IF('XML a procesar'!A4398>0,'XML a procesar'!A4398,\"\")","v":""},0,0,0,0,"",0,0,0,"","",0,"",0,"",{"$f":"IF(ROW()<$S$4+2,IF('XML a procesar'!A4398=\"\",P4398,IF(MID('XML a procesar'!A4398,1,1)=\"<\",P4398,P4398+1)),P4398)","v":1}]
[{"$f":"IF('XML a procesar'!A4399>0,'XML a procesar'!A4399,\"\")","v":""},0,0,0,0,"",0,0,0,"","",0,"",0,"",{"$f":"IF(ROW()<$S$4+2,IF('XML a procesar'!A4399=\"\",P4399,IF(MID('XML a procesar'!A4399,1,1)=\"<\",P4399,P4399+1)),P4399)","v":1}]
[{"$f":"IF('XML a procesar'!A4400>0,'XML a procesar'!A4400,\"\")","v":""},0,0,0,0,"",0,0,0,"","",0,"",0,"",{"$f":"IF(ROW()<$S$4+2,IF('XML a procesar'!A4400=\"\",P4400,IF(MID('XML a procesar'!A4400,1,1)=\"<\",P4400,P4400+1)),P4400)","v":1}]
[{"$f":"IF('XML a procesar'!A4401>0,'XML a procesar'!A4401,\"\")","v":""},0,0,0,0,"",0,0,0,"","",0,"",0,"",{"$f":"IF(ROW()<$S$4+2,IF('XML a procesar'!A4401=\"\",P4401,IF(MID('XML a procesar'!A4401,1,1)=\"<\",P4401,P4401+1)),P4401)","v":1}]
[{"$f":"IF('XML a procesar'!A4402>0,'XML a procesar'!A4402,\"\")","v":""},0,0,0,0,"",0,0,0,"","",0,"",0,"",{"$f":"IF(ROW()<$S$4+2,IF('XML a procesar'!A4402=\"\",P4402,IF(MID('XML a procesar'!A4402,1,1)=\"<\",P4402,P4402+1)),P4402)","v":1}]
[{"$f":"IF('XML a procesar'!A4403>0,'XML a procesar'!A4403,\"\")","v":""},0,0,0,0,"",0,0,0,"","",0,"",0,"",{"$f":"IF(ROW()<$S$4+2,IF('XML a procesar'!A4403=\"\",P4403,IF(MID('XML a procesar'!A4403,1,1)=\"<\",P4403,P4403+1)),P4403)","v":1}]
[{"$f":"IF('XML a procesar'!A4404>0,'XML a procesar'!A4404,\"\")","v":""},0,0,0,0,"",0,0,0,"","",0,"",0,"",{"$f":"IF(ROW()<$S$4+2,IF('XML a procesar'!A4404=\"\",P4404,IF(MID('XML a procesar'!A4404,1,1)=\"<\",P4404,P4404+1)),P4404)","v":1}]
[{"$f":"IF('XML a procesar'!A4405>0,'XML a procesar'!A4405,\"\")","v":""},0,0,0,0,"",0,0,0,"","",0,"",0,"",{"$f":"IF(ROW()<$S$4+2,IF('XML a procesar'!A4405=\"\",P4405,IF(MID('XML a procesar'!A4405,1,1)=\"<\",P4405,P4405+1)),P4405)","v":1}]
[{"$f":"IF('XML a procesar'!A4406>0,'XML a procesar'!A4406,\"\")","v":""},0,0,0,0,"",0,0,0,"","",0,"",0,"",{"$f":"IF(ROW()<$S$4+2,IF('XML a procesar'!A4406=\"\",P4406,IF(MID('XML a procesar'!A4406,1,1)=\"<\",P4406,P4406+1)),P4406)","v":1}]
[{"$f":"IF('XML a procesar'!A4407>0,'XML a procesar'!A4407,\"\")","v":""},0,0,0,0,"",0,0,0,"","",0,"",0,"",{"$f":"IF(ROW()<$S$4+2,IF('XML a procesar'!A4407=\"\",P4407,IF(MID('XML a procesar'!A4407,1,1)=\"<\",P4407,P4407+1)),P4407)","v":1}]
[{"$f":"IF('XML a procesar'!A4408>0,'XML a procesar'!A4408,\"\")","v":""},0,0,0,0,"",0,0,0,"","",0,"",0,"",{"$f":"IF(ROW()<$S$4+2,IF('XML a procesar'!A4408=\"\",P4408,IF(MID('XML a procesar'!A4408,1,1)=\"<\",P4408,P4408+1)),P4408)","v":1}]
[{"$f":"IF('XML a procesar'!A4409>0,'XML a procesar'!A4409,\"\")","v":""},0,0,0,0,"",0,0,0,"","",0,"",0,"",{"$f":"IF(ROW()<$S$4+2,IF('XML a procesar'!A4409=\"\",P4409,IF(MID('XML a procesar'!A4409,1,1)=\"<\",P4409,P4409+1)),P4409)","v":1}]
[{"$f":"IF('XML a procesar'!A4410>0,'XML a procesar'!A4410,\"\")","v":""},0,0,0,0,"",0,0,0,"","",0,"",0,"",{"$f":"IF(ROW()<$S$4+2,IF('XML a procesar'!A4410=\"\",P4410,IF(MID('XML a procesar'!A4410,1,1)=\"<\",P4410,P4410+1)),P4410)","v":1}]
[{"$f":"IF('XML a procesar'!A4411>0,'XML a procesar'!A4411,\"\")","v":""},0,0,0,0,"",0,0,0,"","",0,"",0,"",{"$f":"IF(ROW()<$S$4+2,IF('XML a procesar'!A4411=\"\",P4411,IF(MID('XML a procesar'!A4411,1,1)=\"<\",P4411,P4411+1)),P4411)","v":1}]
[{"$f":"IF('XML a procesar'!A4412>0,'XML a procesar'!A4412,\"\")","v":""},0,0,0,0,"",0,0,0,"","",0,"",0,"",{"$f":"IF(ROW()<$S$4+2,IF('XML a procesar'!A4412=\"\",P4412,IF(MID('XML a procesar'!A4412,1,1)=\"<\",P4412,P4412+1)),P4412)","v":1}]
[{"$f":"IF('XML a procesar'!A4413>0,'XML a procesar'!A4413,\"\")","v":""},0,0,0,0,"",0,0,0,"","",0,"",0,"",{"$f":"IF(ROW()<$S$4+2,IF('XML a procesar'!A4413=\"\",P4413,IF(MID('XML a procesar'!A4413,1,1)=\"<\",P4413,P4413+1)),P4413)","v":1}]
[{"$f":"IF('XML a procesar'!A4414>0,'XML a procesar'!A4414,\"\")","v":""},0,0,0,0,"",0,0,0,"","",0,"",0,"",{"$f":"IF(ROW()<$S$4+2,IF('XML a procesar'!A4414=\"\",P4414,IF(MID('XML a procesar'!A4414,1,1)=\"<\",P4414,P4414+1)),P4414)","v":1}]
[{"$f":"IF('XML a procesar'!A4415>0,'XML a procesar'!A4415,\"\")","v":""},0,0,0,0,"",0,0,0,"","",0,"",0,"",{"$f":"IF(ROW()<$S$4+2,IF('XML a procesar'!A4415=\"\",P4415,IF(MID('XML a procesar'!A4415,1,1)=\"<\",P4415,P4415+1)),P4415)","v":1}]
[{"$f":"IF('XML a procesar'!A4416>0,'XML a procesar'!A4416,\"\")","v":""},{"$f":"IF(ISERROR(FIND(\"/doi.org/\",A4417,1)),0,1)","v":0},{"$f":"IF(LEFT(A4416,16)=\"<contrib contrib\",C4416+1,IF(LEFT(A4416,16)=\"</contrib-group>\",0,IF(LEFT(A4416,10)=\"</contrib>\",C4416,C4416)))","v":0},{"$f":"IF(AND(C4417>0,LEFT(A4417,7)=\"<email>\",ISNUMBER(SEARCH(\"@\",A4417,1))),C4417,IF(LEFT(A4417,10)=\"<alt-text>\",-1,0))","v":0},{"$f":"IF(D4417=0,E4416,E4416+1)","v":0},{"$f":"INDIRECT(ADDRESS(ROW()+INDIRECT(ADDRESS(ROW()+E4417,5)),1))","v":""},{"$f":"IF(LEFT(F4417,7)=\"<aff id\",_xlfn.NUMBERVALUE(MID(F4417,13,LEN(F4417)-14)),IF(F4417=\"</aff>\",G4416+1,G4416))","v":0},0,{"$f":"INDIRECT(ADDRESS(ROW()-INDIRECT(ADDRESS(ROW()-H4417,8)),8))","v":0},{"$f":"IF(J4416=\"Linea_para_MAIL_creada_por_LuXML\",\"</aff>\",IF(I4417>INDIRECT(ADDRESS(ROW()-I4417-1,8)),\"Linea_para_MAIL_creada_por_LuXML\",INDIRECT(ADDRESS(ROW()-I4417,6))))","v":""},"",{"$f":"IF(OR(MID(K4415,3,5)=\"page>\",MID(K4416,3,5)=\"page>\"),L4416,IF(OR(K4416=\"<history>\",K4417=\"<history>\"),L4416+1,L4416))","v":0},{"$f":"IF(L4417>L4416,IF(L4417=1,CONCATENATE(\"<fpage>\",$S$10,\"</fpage>\"),CONCATENATE(\"<lpage>\",$S$10+1,\"</lpage>\")),IF(ISERROR(INDIRECT(ADDRESS(ROW()-L4417,11),1)),\"\",INDIRECT(ADDRESS(ROW()-L4417,11),1)))","v":""},{"$f":"IF(N4416=-1,-1,IF(M4417=\"</counts>\",-1,IF(OR(LEFT(M4417,7)=\"<fpage>\",LEFT(M4417,7)=\"<lpage>\"),VALUE(MID(M4417,8,LEN(M4417)-15)),0)))","v":0},"",{"$f":"IF(ROW()<$S$4+2,IF('XML a procesar'!A4416=\"\",P4416,IF(MID('XML a procesar'!A4416,1,1)=\"<\",P4416,P4416+1)),P4416)","v":1}]
[{"$f":"IF('XML a procesar'!A4417>0,'XML a procesar'!A4417,\"\")","v":""},0,0,0,0,"",0,0,0,"","",0,"",0,{"$f":"IF(N4418>-1,INDIRECT(ADDRESS(ROW(),13)),IF(N4418<N4417,CONCATENATE(\"<page-count count=\",CHAR(34),1+LARGE(N:N,1)-LARGE(N:N,2),CHAR(34),\"/>\"),INDIRECT(ADDRESS(ROW()-1,13))))","v":""},{"$f":"IF(ROW()<$S$4+2,IF('XML a procesar'!A4417=\"\",P4417,IF(MID('XML a procesar'!A4417,1,1)=\"<\",P4417,P4417+1)),P4417)","v":1}]
[{"$f":"IF('XML a procesar'!A4418>0,'XML a procesar'!A4418,\"\")","v":""},0,0,0,0,"",0,{"$f":"IF(AND(G4418>0,G4419>G4418,NOT(ISERROR(MATCH(G4418,D:D,0)))),H4418+1,H4418)","v":0},0,"",{"$f":"IF(J4419=\"Linea_para_MAIL_creada_por_LuXML\",IF(ISERROR(MATCH(INDIRECT(ADDRESS(ROW()-G4419,7)),D:D,0)),J4419,INDIRECT(ADDRESS(MATCH(INDIRECT(ADDRESS(ROW()-G4419,7)),D:D,0),1))),J4419)","v":""},0,"",0,"",{"$f":"IF(ROW()<$S$4+2,IF('XML a procesar'!A4418=\"\",P4418,IF(MID('XML a procesar'!A4418,1,1)=\"<\",P4418,P4418+1)),P4418)","v":1}]
[{"$f":"IF('XML a procesar'!A4419>0,'XML a procesar'!A4419,\"\")","v":""},0,0,0,0,"",0,0,0,"","",0,"",0,"",{"$f":"IF(ROW()<$S$4+2,IF('XML a procesar'!A4419=\"\",P4419,IF(MID('XML a procesar'!A4419,1,1)=\"<\",P4419,P4419+1)),P4419)","v":1}]
[{"$f":"IF('XML a procesar'!A4420>0,'XML a procesar'!A4420,\"\")","v":""},0,0,0,0,"",0,0,0,"","",0,"",0,"",{"$f":"IF(ROW()<$S$4+2,IF('XML a procesar'!A4420=\"\",P4420,IF(MID('XML a procesar'!A4420,1,1)=\"<\",P4420,P4420+1)),P4420)","v":1}]
[{"$f":"IF('XML a procesar'!A4421>0,'XML a procesar'!A4421,\"\")","v":""},0,0,0,0,"",0,0,0,"","",0,"",0,"",{"$f":"IF(ROW()<$S$4+2,IF('XML a procesar'!A4421=\"\",P4421,IF(MID('XML a procesar'!A4421,1,1)=\"<\",P4421,P4421+1)),P4421)","v":1}]
[{"$f":"IF('XML a procesar'!A4422>0,'XML a procesar'!A4422,\"\")","v":""},0,0,0,0,"",0,0,0,"","",0,"",0,"",{"$f":"IF(ROW()<$S$4+2,IF('XML a procesar'!A4422=\"\",P4422,IF(MID('XML a procesar'!A4422,1,1)=\"<\",P4422,P4422+1)),P4422)","v":1}]
[{"$f":"IF('XML a procesar'!A4423>0,'XML a procesar'!A4423,\"\")","v":""},0,0,0,0,"",0,0,0,"","",0,"",0,"",{"$f":"IF(ROW()<$S$4+2,IF('XML a procesar'!A4423=\"\",P4423,IF(MID('XML a procesar'!A4423,1,1)=\"<\",P4423,P4423+1)),P4423)","v":1}]
[{"$f":"IF('XML a procesar'!A4424>0,'XML a procesar'!A4424,\"\")","v":""},0,0,0,0,"",0,0,0,"","",0,"",0,"",{"$f":"IF(ROW()<$S$4+2,IF('XML a procesar'!A4424=\"\",P4424,IF(MID('XML a procesar'!A4424,1,1)=\"<\",P4424,P4424+1)),P4424)","v":1}]
[{"$f":"IF('XML a procesar'!A4425>0,'XML a procesar'!A4425,\"\")","v":""},0,0,0,0,"",0,0,0,"","",0,"",0,"",{"$f":"IF(ROW()<$S$4+2,IF('XML a procesar'!A4425=\"\",P4425,IF(MID('XML a procesar'!A4425,1,1)=\"<\",P4425,P4425+1)),P4425)","v":1}]
[{"$f":"IF('XML a procesar'!A4426>0,'XML a procesar'!A4426,\"\")","v":""},0,0,0,0,"",0,0,0,"","",0,"",0,"",{"$f":"IF(ROW()<$S$4+2,IF('XML a procesar'!A4426=\"\",P4426,IF(MID('XML a procesar'!A4426,1,1)=\"<\",P4426,P4426+1)),P4426)","v":1}]
[{"$f":"IF('XML a procesar'!A4427>0,'XML a procesar'!A4427,\"\")","v":""},0,0,0,0,"",0,0,0,"","",0,"",0,"",{"$f":"IF(ROW()<$S$4+2,IF('XML a procesar'!A4427=\"\",P4427,IF(MID('XML a procesar'!A4427,1,1)=\"<\",P4427,P4427+1)),P4427)","v":1}]
[{"$f":"IF('XML a procesar'!A4428>0,'XML a procesar'!A4428,\"\")","v":""},0,0,0,0,"",0,0,0,"","",0,"",0,"",{"$f":"IF(ROW()<$S$4+2,IF('XML a procesar'!A4428=\"\",P4428,IF(MID('XML a procesar'!A4428,1,1)=\"<\",P4428,P4428+1)),P4428)","v":1}]
[{"$f":"IF('XML a procesar'!A4429>0,'XML a procesar'!A4429,\"\")","v":""},0,0,0,0,"",0,0,0,"","",0,"",0,"",{"$f":"IF(ROW()<$S$4+2,IF('XML a procesar'!A4429=\"\",P4429,IF(MID('XML a procesar'!A4429,1,1)=\"<\",P4429,P4429+1)),P4429)","v":1}]
[{"$f":"IF('XML a procesar'!A4430>0,'XML a procesar'!A4430,\"\")","v":""},0,0,0,0,"",0,0,0,"","",0,"",0,"",{"$f":"IF(ROW()<$S$4+2,IF('XML a procesar'!A4430=\"\",P4430,IF(MID('XML a procesar'!A4430,1,1)=\"<\",P4430,P4430+1)),P4430)","v":1}]
[{"$f":"IF('XML a procesar'!A4431>0,'XML a procesar'!A4431,\"\")","v":""},0,0,0,0,"",0,0,0,"","",0,"",0,"",{"$f":"IF(ROW()<$S$4+2,IF('XML a procesar'!A4431=\"\",P4431,IF(MID('XML a procesar'!A4431,1,1)=\"<\",P4431,P4431+1)),P4431)","v":1}]
[{"$f":"IF('XML a procesar'!A4432>0,'XML a procesar'!A4432,\"\")","v":""},0,0,0,0,"",0,0,0,"","",0,"",0,"",{"$f":"IF(ROW()<$S$4+2,IF('XML a procesar'!A4432=\"\",P4432,IF(MID('XML a procesar'!A4432,1,1)=\"<\",P4432,P4432+1)),P4432)","v":1}]
[{"$f":"IF('XML a procesar'!A4433>0,'XML a procesar'!A4433,\"\")","v":""},0,0,0,0,"",0,0,0,"","",0,"",0,"",{"$f":"IF(ROW()<$S$4+2,IF('XML a procesar'!A4433=\"\",P4433,IF(MID('XML a procesar'!A4433,1,1)=\"<\",P4433,P4433+1)),P4433)","v":1}]
[{"$f":"IF('XML a procesar'!A4434>0,'XML a procesar'!A4434,\"\")","v":""},0,0,0,0,"",0,0,0,"","",0,"",0,"",{"$f":"IF(ROW()<$S$4+2,IF('XML a procesar'!A4434=\"\",P4434,IF(MID('XML a procesar'!A4434,1,1)=\"<\",P4434,P4434+1)),P4434)","v":1}]
[{"$f":"IF('XML a procesar'!A4435>0,'XML a procesar'!A4435,\"\")","v":""},0,0,0,0,"",0,0,0,"","",0,"",0,"",{"$f":"IF(ROW()<$S$4+2,IF('XML a procesar'!A4435=\"\",P4435,IF(MID('XML a procesar'!A4435,1,1)=\"<\",P4435,P4435+1)),P4435)","v":1}]
[{"$f":"IF('XML a procesar'!A4436>0,'XML a procesar'!A4436,\"\")","v":""},0,0,0,0,"",0,0,0,"","",0,"",0,"",{"$f":"IF(ROW()<$S$4+2,IF('XML a procesar'!A4436=\"\",P4436,IF(MID('XML a procesar'!A4436,1,1)=\"<\",P4436,P4436+1)),P4436)","v":1}]
[{"$f":"IF('XML a procesar'!A4437>0,'XML a procesar'!A4437,\"\")","v":""},0,0,0,0,"",0,0,0,"","",0,"",0,"",{"$f":"IF(ROW()<$S$4+2,IF('XML a procesar'!A4437=\"\",P4437,IF(MID('XML a procesar'!A4437,1,1)=\"<\",P4437,P4437+1)),P4437)","v":1}]
[{"$f":"IF('XML a procesar'!A4438>0,'XML a procesar'!A4438,\"\")","v":""},0,0,0,0,"",0,0,0,"","",0,"",0,"",{"$f":"IF(ROW()<$S$4+2,IF('XML a procesar'!A4438=\"\",P4438,IF(MID('XML a procesar'!A4438,1,1)=\"<\",P4438,P4438+1)),P4438)","v":1}]
[{"$f":"IF('XML a procesar'!A4439>0,'XML a procesar'!A4439,\"\")","v":""},0,0,0,0,"",0,0,0,"","",0,"",0,"",{"$f":"IF(ROW()<$S$4+2,IF('XML a procesar'!A4439=\"\",P4439,IF(MID('XML a procesar'!A4439,1,1)=\"<\",P4439,P4439+1)),P4439)","v":1}]
[{"$f":"IF('XML a procesar'!A4440>0,'XML a procesar'!A4440,\"\")","v":""},0,0,0,0,"",0,0,0,"","",0,"",0,"",{"$f":"IF(ROW()<$S$4+2,IF('XML a procesar'!A4440=\"\",P4440,IF(MID('XML a procesar'!A4440,1,1)=\"<\",P4440,P4440+1)),P4440)","v":1}]
[{"$f":"IF('XML a procesar'!A4441>0,'XML a procesar'!A4441,\"\")","v":""},0,0,0,0,"",0,0,0,"","",0,"",0,"",{"$f":"IF(ROW()<$S$4+2,IF('XML a procesar'!A4441=\"\",P4441,IF(MID('XML a procesar'!A4441,1,1)=\"<\",P4441,P4441+1)),P4441)","v":1}]
[{"$f":"IF('XML a procesar'!A4442>0,'XML a procesar'!A4442,\"\")","v":""},0,0,0,0,"",0,0,0,"","",0,"",0,"",{"$f":"IF(ROW()<$S$4+2,IF('XML a procesar'!A4442=\"\",P4442,IF(MID('XML a procesar'!A4442,1,1)=\"<\",P4442,P4442+1)),P4442)","v":1}]
[{"$f":"IF('XML a procesar'!A4443>0,'XML a procesar'!A4443,\"\")","v":""},0,0,0,0,"",0,0,0,"","",0,"",0,"",{"$f":"IF(ROW()<$S$4+2,IF('XML a procesar'!A4443=\"\",P4443,IF(MID('XML a procesar'!A4443,1,1)=\"<\",P4443,P4443+1)),P4443)","v":1}]
[{"$f":"IF('XML a procesar'!A4444>0,'XML a procesar'!A4444,\"\")","v":""},0,0,0,0,"",0,0,0,"","",0,"",0,"",{"$f":"IF(ROW()<$S$4+2,IF('XML a procesar'!A4444=\"\",P4444,IF(MID('XML a procesar'!A4444,1,1)=\"<\",P4444,P4444+1)),P4444)","v":1}]
[{"$f":"IF('XML a procesar'!A4445>0,'XML a procesar'!A4445,\"\")","v":""},0,0,0,0,"",0,0,0,"","",0,"",0,"",{"$f":"IF(ROW()<$S$4+2,IF('XML a procesar'!A4445=\"\",P4445,IF(MID('XML a procesar'!A4445,1,1)=\"<\",P4445,P4445+1)),P4445)","v":1}]
[{"$f":"IF('XML a procesar'!A4446>0,'XML a procesar'!A4446,\"\")","v":""},0,0,0,0,"",0,0,0,"","",0,"",0,"",{"$f":"IF(ROW()<$S$4+2,IF('XML a procesar'!A4446=\"\",P4446,IF(MID('XML a procesar'!A4446,1,1)=\"<\",P4446,P4446+1)),P4446)","v":1}]
[{"$f":"IF('XML a procesar'!A4447>0,'XML a procesar'!A4447,\"\")","v":""},0,0,0,0,"",0,0,0,"","",0,"",0,"",{"$f":"IF(ROW()<$S$4+2,IF('XML a procesar'!A4447=\"\",P4447,IF(MID('XML a procesar'!A4447,1,1)=\"<\",P4447,P4447+1)),P4447)","v":1}]
[{"$f":"IF('XML a procesar'!A4448>0,'XML a procesar'!A4448,\"\")","v":""},0,0,0,0,"",0,0,0,"","",0,"",0,"",{"$f":"IF(ROW()<$S$4+2,IF('XML a procesar'!A4448=\"\",P4448,IF(MID('XML a procesar'!A4448,1,1)=\"<\",P4448,P4448+1)),P4448)","v":1}]
[{"$f":"IF('XML a procesar'!A4449>0,'XML a procesar'!A4449,\"\")","v":""},0,0,0,0,"",0,0,0,"","",0,"",0,"",{"$f":"IF(ROW()<$S$4+2,IF('XML a procesar'!A4449=\"\",P4449,IF(MID('XML a procesar'!A4449,1,1)=\"<\",P4449,P4449+1)),P4449)","v":1}]
[{"$f":"IF('XML a procesar'!A4450>0,'XML a procesar'!A4450,\"\")","v":""},0,0,0,0,"",0,0,0,"","",0,"",0,"",{"$f":"IF(ROW()<$S$4+2,IF('XML a procesar'!A4450=\"\",P4450,IF(MID('XML a procesar'!A4450,1,1)=\"<\",P4450,P4450+1)),P4450)","v":1}]
[{"$f":"IF('XML a procesar'!A4451>0,'XML a procesar'!A4451,\"\")","v":""},0,0,0,0,"",0,0,0,"","",0,"",0,"",{"$f":"IF(ROW()<$S$4+2,IF('XML a procesar'!A4451=\"\",P4451,IF(MID('XML a procesar'!A4451,1,1)=\"<\",P4451,P4451+1)),P4451)","v":1}]
[{"$f":"IF('XML a procesar'!A4452>0,'XML a procesar'!A4452,\"\")","v":""},0,0,0,0,"",0,0,0,"","",0,"",0,"",{"$f":"IF(ROW()<$S$4+2,IF('XML a procesar'!A4452=\"\",P4452,IF(MID('XML a procesar'!A4452,1,1)=\"<\",P4452,P4452+1)),P4452)","v":1}]
[{"$f":"IF('XML a procesar'!A4453>0,'XML a procesar'!A4453,\"\")","v":""},0,0,0,0,"",0,0,0,"","",0,"",0,"",{"$f":"IF(ROW()<$S$4+2,IF('XML a procesar'!A4453=\"\",P4453,IF(MID('XML a procesar'!A4453,1,1)=\"<\",P4453,P4453+1)),P4453)","v":1}]
[{"$f":"IF('XML a procesar'!A4454>0,'XML a procesar'!A4454,\"\")","v":""},0,0,0,0,"",0,0,0,"","",0,"",0,"",{"$f":"IF(ROW()<$S$4+2,IF('XML a procesar'!A4454=\"\",P4454,IF(MID('XML a procesar'!A4454,1,1)=\"<\",P4454,P4454+1)),P4454)","v":1}]
[{"$f":"IF('XML a procesar'!A4455>0,'XML a procesar'!A4455,\"\")","v":""},0,0,0,0,"",0,0,0,"","",0,"",0,"",{"$f":"IF(ROW()<$S$4+2,IF('XML a procesar'!A4455=\"\",P4455,IF(MID('XML a procesar'!A4455,1,1)=\"<\",P4455,P4455+1)),P4455)","v":1}]
[{"$f":"IF('XML a procesar'!A4456>0,'XML a procesar'!A4456,\"\")","v":""},0,0,0,0,"",0,0,0,"","",0,"",0,"",{"$f":"IF(ROW()<$S$4+2,IF('XML a procesar'!A4456=\"\",P4456,IF(MID('XML a procesar'!A4456,1,1)=\"<\",P4456,P4456+1)),P4456)","v":1}]
[{"$f":"IF('XML a procesar'!A4457>0,'XML a procesar'!A4457,\"\")","v":""},0,0,0,0,"",0,0,0,"","",0,"",0,"",{"$f":"IF(ROW()<$S$4+2,IF('XML a procesar'!A4457=\"\",P4457,IF(MID('XML a procesar'!A4457,1,1)=\"<\",P4457,P4457+1)),P4457)","v":1}]
[{"$f":"IF('XML a procesar'!A4458>0,'XML a procesar'!A4458,\"\")","v":""},0,0,0,0,"",0,0,0,"","",0,"",0,"",{"$f":"IF(ROW()<$S$4+2,IF('XML a procesar'!A4458=\"\",P4458,IF(MID('XML a procesar'!A4458,1,1)=\"<\",P4458,P4458+1)),P4458)","v":1}]
[{"$f":"IF('XML a procesar'!A4459>0,'XML a procesar'!A4459,\"\")","v":""},0,0,0,0,"",0,0,0,"","",0,"",0,"",{"$f":"IF(ROW()<$S$4+2,IF('XML a procesar'!A4459=\"\",P4459,IF(MID('XML a procesar'!A4459,1,1)=\"<\",P4459,P4459+1)),P4459)","v":1}]
[{"$f":"IF('XML a procesar'!A4460>0,'XML a procesar'!A4460,\"\")","v":""},0,0,0,0,"",0,0,0,"","",0,"",0,"",{"$f":"IF(ROW()<$S$4+2,IF('XML a procesar'!A4460=\"\",P4460,IF(MID('XML a procesar'!A4460,1,1)=\"<\",P4460,P4460+1)),P4460)","v":1}]
[{"$f":"IF('XML a procesar'!A4461>0,'XML a procesar'!A4461,\"\")","v":""},0,0,0,0,"",0,0,0,"","",0,"",0,"",{"$f":"IF(ROW()<$S$4+2,IF('XML a procesar'!A4461=\"\",P4461,IF(MID('XML a procesar'!A4461,1,1)=\"<\",P4461,P4461+1)),P4461)","v":1}]
[{"$f":"IF('XML a procesar'!A4462>0,'XML a procesar'!A4462,\"\")","v":""},0,0,0,0,"",0,0,0,"","",0,"",0,"",{"$f":"IF(ROW()<$S$4+2,IF('XML a procesar'!A4462=\"\",P4462,IF(MID('XML a procesar'!A4462,1,1)=\"<\",P4462,P4462+1)),P4462)","v":1}]
[{"$f":"IF('XML a procesar'!A4463>0,'XML a procesar'!A4463,\"\")","v":""},0,0,0,0,"",0,0,0,"","",0,"",0,"",{"$f":"IF(ROW()<$S$4+2,IF('XML a procesar'!A4463=\"\",P4463,IF(MID('XML a procesar'!A4463,1,1)=\"<\",P4463,P4463+1)),P4463)","v":1}]
[{"$f":"IF('XML a procesar'!A4464>0,'XML a procesar'!A4464,\"\")","v":""},0,0,0,0,"",0,0,0,"","",0,"",0,"",{"$f":"IF(ROW()<$S$4+2,IF('XML a procesar'!A4464=\"\",P4464,IF(MID('XML a procesar'!A4464,1,1)=\"<\",P4464,P4464+1)),P4464)","v":1}]
[{"$f":"IF('XML a procesar'!A4465>0,'XML a procesar'!A4465,\"\")","v":""},0,0,0,0,"",0,0,0,"","",0,"",0,"",{"$f":"IF(ROW()<$S$4+2,IF('XML a procesar'!A4465=\"\",P4465,IF(MID('XML a procesar'!A4465,1,1)=\"<\",P4465,P4465+1)),P4465)","v":1}]
[{"$f":"IF('XML a procesar'!A4466>0,'XML a procesar'!A4466,\"\")","v":""},0,0,0,0,"",0,0,0,"","",0,"",0,"",{"$f":"IF(ROW()<$S$4+2,IF('XML a procesar'!A4466=\"\",P4466,IF(MID('XML a procesar'!A4466,1,1)=\"<\",P4466,P4466+1)),P4466)","v":1}]
[{"$f":"IF('XML a procesar'!A4467>0,'XML a procesar'!A4467,\"\")","v":""},0,0,0,0,"",0,0,0,"","",0,"",0,"",{"$f":"IF(ROW()<$S$4+2,IF('XML a procesar'!A4467=\"\",P4467,IF(MID('XML a procesar'!A4467,1,1)=\"<\",P4467,P4467+1)),P4467)","v":1}]
[{"$f":"IF('XML a procesar'!A4468>0,'XML a procesar'!A4468,\"\")","v":""},0,0,0,0,"",0,0,0,"","",0,"",0,"",{"$f":"IF(ROW()<$S$4+2,IF('XML a procesar'!A4468=\"\",P4468,IF(MID('XML a procesar'!A4468,1,1)=\"<\",P4468,P4468+1)),P4468)","v":1}]
[{"$f":"IF('XML a procesar'!A4469>0,'XML a procesar'!A4469,\"\")","v":""},0,0,0,0,"",0,0,0,"","",0,"",0,"",{"$f":"IF(ROW()<$S$4+2,IF('XML a procesar'!A4469=\"\",P4469,IF(MID('XML a procesar'!A4469,1,1)=\"<\",P4469,P4469+1)),P4469)","v":1}]
[{"$f":"IF('XML a procesar'!A4470>0,'XML a procesar'!A4470,\"\")","v":""},0,0,0,0,"",0,0,0,"","",0,"",0,"",{"$f":"IF(ROW()<$S$4+2,IF('XML a procesar'!A4470=\"\",P4470,IF(MID('XML a procesar'!A4470,1,1)=\"<\",P4470,P4470+1)),P4470)","v":1}]
[{"$f":"IF('XML a procesar'!A4471>0,'XML a procesar'!A4471,\"\")","v":""},0,0,0,0,"",0,0,0,"","",0,"",0,"",{"$f":"IF(ROW()<$S$4+2,IF('XML a procesar'!A4471=\"\",P4471,IF(MID('XML a procesar'!A4471,1,1)=\"<\",P4471,P4471+1)),P4471)","v":1}]
[{"$f":"IF('XML a procesar'!A4472>0,'XML a procesar'!A4472,\"\")","v":""},0,0,0,0,"",0,0,0,"","",0,"",0,"",{"$f":"IF(ROW()<$S$4+2,IF('XML a procesar'!A4472=\"\",P4472,IF(MID('XML a procesar'!A4472,1,1)=\"<\",P4472,P4472+1)),P4472)","v":1}]
[{"$f":"IF('XML a procesar'!A4473>0,'XML a procesar'!A4473,\"\")","v":""},0,0,0,0,"",0,0,0,"","",0,"",0,"",{"$f":"IF(ROW()<$S$4+2,IF('XML a procesar'!A4473=\"\",P4473,IF(MID('XML a procesar'!A4473,1,1)=\"<\",P4473,P4473+1)),P4473)","v":1}]
[{"$f":"IF('XML a procesar'!A4474>0,'XML a procesar'!A4474,\"\")","v":""},0,0,0,0,"",0,0,0,"","",0,"",0,"",{"$f":"IF(ROW()<$S$4+2,IF('XML a procesar'!A4474=\"\",P4474,IF(MID('XML a procesar'!A4474,1,1)=\"<\",P4474,P4474+1)),P4474)","v":1}]
[{"$f":"IF('XML a procesar'!A4475>0,'XML a procesar'!A4475,\"\")","v":""},0,0,0,0,"",0,0,0,"","",0,"",0,"",{"$f":"IF(ROW()<$S$4+2,IF('XML a procesar'!A4475=\"\",P4475,IF(MID('XML a procesar'!A4475,1,1)=\"<\",P4475,P4475+1)),P4475)","v":1}]
[{"$f":"IF('XML a procesar'!A4476>0,'XML a procesar'!A4476,\"\")","v":""},0,0,0,0,"",0,0,0,"","",0,"",0,"",{"$f":"IF(ROW()<$S$4+2,IF('XML a procesar'!A4476=\"\",P4476,IF(MID('XML a procesar'!A4476,1,1)=\"<\",P4476,P4476+1)),P4476)","v":1}]
[{"$f":"IF('XML a procesar'!A4477>0,'XML a procesar'!A4477,\"\")","v":""},0,0,0,0,"",0,0,0,"","",0,"",0,"",{"$f":"IF(ROW()<$S$4+2,IF('XML a procesar'!A4477=\"\",P4477,IF(MID('XML a procesar'!A4477,1,1)=\"<\",P4477,P4477+1)),P4477)","v":1}]
[{"$f":"IF('XML a procesar'!A4478>0,'XML a procesar'!A4478,\"\")","v":""},0,0,0,0,"",0,0,0,"","",0,"",0,"",{"$f":"IF(ROW()<$S$4+2,IF('XML a procesar'!A4478=\"\",P4478,IF(MID('XML a procesar'!A4478,1,1)=\"<\",P4478,P4478+1)),P4478)","v":1}]
[{"$f":"IF('XML a procesar'!A4479>0,'XML a procesar'!A4479,\"\")","v":""},0,0,0,0,"",0,0,0,"","",0,"",0,"",{"$f":"IF(ROW()<$S$4+2,IF('XML a procesar'!A4479=\"\",P4479,IF(MID('XML a procesar'!A4479,1,1)=\"<\",P4479,P4479+1)),P4479)","v":1}]
[{"$f":"IF('XML a procesar'!A4480>0,'XML a procesar'!A4480,\"\")","v":""},{"$f":"IF(ISERROR(FIND(\"/doi.org/\",A4481,1)),0,1)","v":0},{"$f":"IF(LEFT(A4480,16)=\"<contrib contrib\",C4480+1,IF(LEFT(A4480,16)=\"</contrib-group>\",0,IF(LEFT(A4480,10)=\"</contrib>\",C4480,C4480)))","v":0},{"$f":"IF(AND(C4481>0,LEFT(A4481,7)=\"<email>\",ISNUMBER(SEARCH(\"@\",A4481,1))),C4481,IF(LEFT(A4481,10)=\"<alt-text>\",-1,0))","v":0},{"$f":"IF(D4481=0,E4480,E4480+1)","v":0},{"$f":"INDIRECT(ADDRESS(ROW()+INDIRECT(ADDRESS(ROW()+E4481,5)),1))","v":""},{"$f":"IF(LEFT(F4481,7)=\"<aff id\",_xlfn.NUMBERVALUE(MID(F4481,13,LEN(F4481)-14)),IF(F4481=\"</aff>\",G4480+1,G4480))","v":0},0,{"$f":"INDIRECT(ADDRESS(ROW()-INDIRECT(ADDRESS(ROW()-H4481,8)),8))","v":0},{"$f":"IF(J4480=\"Linea_para_MAIL_creada_por_LuXML\",\"</aff>\",IF(I4481>INDIRECT(ADDRESS(ROW()-I4481-1,8)),\"Linea_para_MAIL_creada_por_LuXML\",INDIRECT(ADDRESS(ROW()-I4481,6))))","v":""},"",{"$f":"IF(OR(MID(K4479,3,5)=\"page>\",MID(K4480,3,5)=\"page>\"),L4480,IF(OR(K4480=\"<history>\",K4481=\"<history>\"),L4480+1,L4480))","v":0},{"$f":"IF(L4481>L4480,IF(L4481=1,CONCATENATE(\"<fpage>\",$S$10,\"</fpage>\"),CONCATENATE(\"<lpage>\",$S$10+1,\"</lpage>\")),IF(ISERROR(INDIRECT(ADDRESS(ROW()-L4481,11),1)),\"\",INDIRECT(ADDRESS(ROW()-L4481,11),1)))","v":""},{"$f":"IF(N4480=-1,-1,IF(M4481=\"</counts>\",-1,IF(OR(LEFT(M4481,7)=\"<fpage>\",LEFT(M4481,7)=\"<lpage>\"),VALUE(MID(M4481,8,LEN(M4481)-15)),0)))","v":0},"",{"$f":"IF(ROW()<$S$4+2,IF('XML a procesar'!A4480=\"\",P4480,IF(MID('XML a procesar'!A4480,1,1)=\"<\",P4480,P4480+1)),P4480)","v":1}]
[{"$f":"IF('XML a procesar'!A4481>0,'XML a procesar'!A4481,\"\")","v":""},0,0,0,0,"",0,0,0,"","",0,"",0,{"$f":"IF(N4482>-1,INDIRECT(ADDRESS(ROW(),13)),IF(N4482<N4481,CONCATENATE(\"<page-count count=\",CHAR(34),1+LARGE(N:N,1)-LARGE(N:N,2),CHAR(34),\"/>\"),INDIRECT(ADDRESS(ROW()-1,13))))","v":""},{"$f":"IF(ROW()<$S$4+2,IF('XML a procesar'!A4481=\"\",P4481,IF(MID('XML a procesar'!A4481,1,1)=\"<\",P4481,P4481+1)),P4481)","v":1}]
[{"$f":"IF('XML a procesar'!A4482>0,'XML a procesar'!A4482,\"\")","v":""},0,0,0,0,"",0,{"$f":"IF(AND(G4482>0,G4483>G4482,NOT(ISERROR(MATCH(G4482,D:D,0)))),H4482+1,H4482)","v":0},0,"",{"$f":"IF(J4483=\"Linea_para_MAIL_creada_por_LuXML\",IF(ISERROR(MATCH(INDIRECT(ADDRESS(ROW()-G4483,7)),D:D,0)),J4483,INDIRECT(ADDRESS(MATCH(INDIRECT(ADDRESS(ROW()-G4483,7)),D:D,0),1))),J4483)","v":""},0,"",0,"",{"$f":"IF(ROW()<$S$4+2,IF('XML a procesar'!A4482=\"\",P4482,IF(MID('XML a procesar'!A4482,1,1)=\"<\",P4482,P4482+1)),P4482)","v":1}]
[{"$f":"IF('XML a procesar'!A4483>0,'XML a procesar'!A4483,\"\")","v":""},0,0,0,0,"",0,0,0,"","",0,"",0,"",{"$f":"IF(ROW()<$S$4+2,IF('XML a procesar'!A4483=\"\",P4483,IF(MID('XML a procesar'!A4483,1,1)=\"<\",P4483,P4483+1)),P4483)","v":1}]
[{"$f":"IF('XML a procesar'!A4484>0,'XML a procesar'!A4484,\"\")","v":""},0,0,0,0,"",0,0,0,"","",0,"",0,"",{"$f":"IF(ROW()<$S$4+2,IF('XML a procesar'!A4484=\"\",P4484,IF(MID('XML a procesar'!A4484,1,1)=\"<\",P4484,P4484+1)),P4484)","v":1}]
[{"$f":"IF('XML a procesar'!A4485>0,'XML a procesar'!A4485,\"\")","v":""},0,0,0,0,"",0,0,0,"","",0,"",0,"",{"$f":"IF(ROW()<$S$4+2,IF('XML a procesar'!A4485=\"\",P4485,IF(MID('XML a procesar'!A4485,1,1)=\"<\",P4485,P4485+1)),P4485)","v":1}]
[{"$f":"IF('XML a procesar'!A4486>0,'XML a procesar'!A4486,\"\")","v":""},0,0,0,0,"",0,0,0,"","",0,"",0,"",{"$f":"IF(ROW()<$S$4+2,IF('XML a procesar'!A4486=\"\",P4486,IF(MID('XML a procesar'!A4486,1,1)=\"<\",P4486,P4486+1)),P4486)","v":1}]
[{"$f":"IF('XML a procesar'!A4487>0,'XML a procesar'!A4487,\"\")","v":""},0,0,0,0,"",0,0,0,"","",0,"",0,"",{"$f":"IF(ROW()<$S$4+2,IF('XML a procesar'!A4487=\"\",P4487,IF(MID('XML a procesar'!A4487,1,1)=\"<\",P4487,P4487+1)),P4487)","v":1}]
[{"$f":"IF('XML a procesar'!A4488>0,'XML a procesar'!A4488,\"\")","v":""},0,0,0,0,"",0,0,0,"","",0,"",0,"",{"$f":"IF(ROW()<$S$4+2,IF('XML a procesar'!A4488=\"\",P4488,IF(MID('XML a procesar'!A4488,1,1)=\"<\",P4488,P4488+1)),P4488)","v":1}]
[{"$f":"IF('XML a procesar'!A4489>0,'XML a procesar'!A4489,\"\")","v":""},0,0,0,0,"",0,0,0,"","",0,"",0,"",{"$f":"IF(ROW()<$S$4+2,IF('XML a procesar'!A4489=\"\",P4489,IF(MID('XML a procesar'!A4489,1,1)=\"<\",P4489,P4489+1)),P4489)","v":1}]
[{"$f":"IF('XML a procesar'!A4490>0,'XML a procesar'!A4490,\"\")","v":""},0,0,0,0,"",0,0,0,"","",0,"",0,"",{"$f":"IF(ROW()<$S$4+2,IF('XML a procesar'!A4490=\"\",P4490,IF(MID('XML a procesar'!A4490,1,1)=\"<\",P4490,P4490+1)),P4490)","v":1}]
[{"$f":"IF('XML a procesar'!A4491>0,'XML a procesar'!A4491,\"\")","v":""},0,0,0,0,"",0,0,0,"","",0,"",0,"",{"$f":"IF(ROW()<$S$4+2,IF('XML a procesar'!A4491=\"\",P4491,IF(MID('XML a procesar'!A4491,1,1)=\"<\",P4491,P4491+1)),P4491)","v":1}]
[{"$f":"IF('XML a procesar'!A4492>0,'XML a procesar'!A4492,\"\")","v":""},0,0,0,0,"",0,0,0,"","",0,"",0,"",{"$f":"IF(ROW()<$S$4+2,IF('XML a procesar'!A4492=\"\",P4492,IF(MID('XML a procesar'!A4492,1,1)=\"<\",P4492,P4492+1)),P4492)","v":1}]
[{"$f":"IF('XML a procesar'!A4493>0,'XML a procesar'!A4493,\"\")","v":""},0,0,0,0,"",0,0,0,"","",0,"",0,"",{"$f":"IF(ROW()<$S$4+2,IF('XML a procesar'!A4493=\"\",P4493,IF(MID('XML a procesar'!A4493,1,1)=\"<\",P4493,P4493+1)),P4493)","v":1}]
[{"$f":"IF('XML a procesar'!A4494>0,'XML a procesar'!A4494,\"\")","v":""},0,0,0,0,"",0,0,0,"","",0,"",0,"",{"$f":"IF(ROW()<$S$4+2,IF('XML a procesar'!A4494=\"\",P4494,IF(MID('XML a procesar'!A4494,1,1)=\"<\",P4494,P4494+1)),P4494)","v":1}]
[{"$f":"IF('XML a procesar'!A4495>0,'XML a procesar'!A4495,\"\")","v":""},0,0,0,0,"",0,0,0,"","",0,"",0,"",{"$f":"IF(ROW()<$S$4+2,IF('XML a procesar'!A4495=\"\",P4495,IF(MID('XML a procesar'!A4495,1,1)=\"<\",P4495,P4495+1)),P4495)","v":1}]
[{"$f":"IF('XML a procesar'!A4496>0,'XML a procesar'!A4496,\"\")","v":""},0,0,0,0,"",0,0,0,"","",0,"",0,"",{"$f":"IF(ROW()<$S$4+2,IF('XML a procesar'!A4496=\"\",P4496,IF(MID('XML a procesar'!A4496,1,1)=\"<\",P4496,P4496+1)),P4496)","v":1}]
[{"$f":"IF('XML a procesar'!A4497>0,'XML a procesar'!A4497,\"\")","v":""},0,0,0,0,"",0,0,0,"","",0,"",0,"",{"$f":"IF(ROW()<$S$4+2,IF('XML a procesar'!A4497=\"\",P4497,IF(MID('XML a procesar'!A4497,1,1)=\"<\",P4497,P4497+1)),P4497)","v":1}]
[{"$f":"IF('XML a procesar'!A4498>0,'XML a procesar'!A4498,\"\")","v":""},0,0,0,0,"",0,0,0,"","",0,"",0,"",{"$f":"IF(ROW()<$S$4+2,IF('XML a procesar'!A4498=\"\",P4498,IF(MID('XML a procesar'!A4498,1,1)=\"<\",P4498,P4498+1)),P4498)","v":1}]
[{"$f":"IF('XML a procesar'!A4499>0,'XML a procesar'!A4499,\"\")","v":""},0,0,0,0,"",0,0,0,"","",0,"",0,"",{"$f":"IF(ROW()<$S$4+2,IF('XML a procesar'!A4499=\"\",P4499,IF(MID('XML a procesar'!A4499,1,1)=\"<\",P4499,P4499+1)),P4499)","v":1}]
[{"$f":"IF('XML a procesar'!A4500>0,'XML a procesar'!A4500,\"\")","v":""},0,0,0,0,"",0,0,0,"","",0,"",0,"",{"$f":"IF(ROW()<$S$4+2,IF('XML a procesar'!A4500=\"\",P4500,IF(MID('XML a procesar'!A4500,1,1)=\"<\",P4500,P4500+1)),P4500)","v":1}]
[{"$f":"IF('XML a procesar'!A4501>0,'XML a procesar'!A4501,\"\")","v":""},0,0,0,0,"",0,0,0,"","",0,"",0,"",{"$f":"IF(ROW()<$S$4+2,IF('XML a procesar'!A4501=\"\",P4501,IF(MID('XML a procesar'!A4501,1,1)=\"<\",P4501,P4501+1)),P4501)","v":1}]
[{"$f":"IF('XML a procesar'!A4502>0,'XML a procesar'!A4502,\"\")","v":""},0,0,0,0,"",0,0,0,"","",0,"",0,"",{"$f":"IF(ROW()<$S$4+2,IF('XML a procesar'!A4502=\"\",P4502,IF(MID('XML a procesar'!A4502,1,1)=\"<\",P4502,P4502+1)),P4502)","v":1}]
[{"$f":"IF('XML a procesar'!A4503>0,'XML a procesar'!A4503,\"\")","v":""},0,0,0,0,"",0,0,0,"","",0,"",0,"",{"$f":"IF(ROW()<$S$4+2,IF('XML a procesar'!A4503=\"\",P4503,IF(MID('XML a procesar'!A4503,1,1)=\"<\",P4503,P4503+1)),P4503)","v":1}]
[{"$f":"IF('XML a procesar'!A4504>0,'XML a procesar'!A4504,\"\")","v":""},0,0,0,0,"",0,0,0,"","",0,"",0,"",{"$f":"IF(ROW()<$S$4+2,IF('XML a procesar'!A4504=\"\",P4504,IF(MID('XML a procesar'!A4504,1,1)=\"<\",P4504,P4504+1)),P4504)","v":1}]
[{"$f":"IF('XML a procesar'!A4505>0,'XML a procesar'!A4505,\"\")","v":""},0,0,0,0,"",0,0,0,"","",0,"",0,"",{"$f":"IF(ROW()<$S$4+2,IF('XML a procesar'!A4505=\"\",P4505,IF(MID('XML a procesar'!A4505,1,1)=\"<\",P4505,P4505+1)),P4505)","v":1}]
[{"$f":"IF('XML a procesar'!A4506>0,'XML a procesar'!A4506,\"\")","v":""},0,0,0,0,"",0,0,0,"","",0,"",0,"",{"$f":"IF(ROW()<$S$4+2,IF('XML a procesar'!A4506=\"\",P4506,IF(MID('XML a procesar'!A4506,1,1)=\"<\",P4506,P4506+1)),P4506)","v":1}]
[{"$f":"IF('XML a procesar'!A4507>0,'XML a procesar'!A4507,\"\")","v":""},0,0,0,0,"",0,0,0,"","",0,"",0,"",{"$f":"IF(ROW()<$S$4+2,IF('XML a procesar'!A4507=\"\",P4507,IF(MID('XML a procesar'!A4507,1,1)=\"<\",P4507,P4507+1)),P4507)","v":1}]
[{"$f":"IF('XML a procesar'!A4508>0,'XML a procesar'!A4508,\"\")","v":""},0,0,0,0,"",0,0,0,"","",0,"",0,"",{"$f":"IF(ROW()<$S$4+2,IF('XML a procesar'!A4508=\"\",P4508,IF(MID('XML a procesar'!A4508,1,1)=\"<\",P4508,P4508+1)),P4508)","v":1}]
[{"$f":"IF('XML a procesar'!A4509>0,'XML a procesar'!A4509,\"\")","v":""},0,0,0,0,"",0,0,0,"","",0,"",0,"",{"$f":"IF(ROW()<$S$4+2,IF('XML a procesar'!A4509=\"\",P4509,IF(MID('XML a procesar'!A4509,1,1)=\"<\",P4509,P4509+1)),P4509)","v":1}]
[{"$f":"IF('XML a procesar'!A4510>0,'XML a procesar'!A4510,\"\")","v":""},0,0,0,0,"",0,0,0,"","",0,"",0,"",{"$f":"IF(ROW()<$S$4+2,IF('XML a procesar'!A4510=\"\",P4510,IF(MID('XML a procesar'!A4510,1,1)=\"<\",P4510,P4510+1)),P4510)","v":1}]
[{"$f":"IF('XML a procesar'!A4511>0,'XML a procesar'!A4511,\"\")","v":""},0,0,0,0,"",0,0,0,"","",0,"",0,"",{"$f":"IF(ROW()<$S$4+2,IF('XML a procesar'!A4511=\"\",P4511,IF(MID('XML a procesar'!A4511,1,1)=\"<\",P4511,P4511+1)),P4511)","v":1}]
[{"$f":"IF('XML a procesar'!A4512>0,'XML a procesar'!A4512,\"\")","v":""},0,0,0,0,"",0,0,0,"","",0,"",0,"",{"$f":"IF(ROW()<$S$4+2,IF('XML a procesar'!A4512=\"\",P4512,IF(MID('XML a procesar'!A4512,1,1)=\"<\",P4512,P4512+1)),P4512)","v":1}]
[{"$f":"IF('XML a procesar'!A4513>0,'XML a procesar'!A4513,\"\")","v":""},0,0,0,0,"",0,0,0,"","",0,"",0,"",{"$f":"IF(ROW()<$S$4+2,IF('XML a procesar'!A4513=\"\",P4513,IF(MID('XML a procesar'!A4513,1,1)=\"<\",P4513,P4513+1)),P4513)","v":1}]
[{"$f":"IF('XML a procesar'!A4514>0,'XML a procesar'!A4514,\"\")","v":""},0,0,0,0,"",0,0,0,"","",0,"",0,"",{"$f":"IF(ROW()<$S$4+2,IF('XML a procesar'!A4514=\"\",P4514,IF(MID('XML a procesar'!A4514,1,1)=\"<\",P4514,P4514+1)),P4514)","v":1}]
[{"$f":"IF('XML a procesar'!A4515>0,'XML a procesar'!A4515,\"\")","v":""},0,0,0,0,"",0,0,0,"","",0,"",0,"",{"$f":"IF(ROW()<$S$4+2,IF('XML a procesar'!A4515=\"\",P4515,IF(MID('XML a procesar'!A4515,1,1)=\"<\",P4515,P4515+1)),P4515)","v":1}]
[{"$f":"IF('XML a procesar'!A4516>0,'XML a procesar'!A4516,\"\")","v":""},0,0,0,0,"",0,0,0,"","",0,"",0,"",{"$f":"IF(ROW()<$S$4+2,IF('XML a procesar'!A4516=\"\",P4516,IF(MID('XML a procesar'!A4516,1,1)=\"<\",P4516,P4516+1)),P4516)","v":1}]
[{"$f":"IF('XML a procesar'!A4517>0,'XML a procesar'!A4517,\"\")","v":""},0,0,0,0,"",0,0,0,"","",0,"",0,"",{"$f":"IF(ROW()<$S$4+2,IF('XML a procesar'!A4517=\"\",P4517,IF(MID('XML a procesar'!A4517,1,1)=\"<\",P4517,P4517+1)),P4517)","v":1}]
[{"$f":"IF('XML a procesar'!A4518>0,'XML a procesar'!A4518,\"\")","v":""},0,0,0,0,"",0,0,0,"","",0,"",0,"",{"$f":"IF(ROW()<$S$4+2,IF('XML a procesar'!A4518=\"\",P4518,IF(MID('XML a procesar'!A4518,1,1)=\"<\",P4518,P4518+1)),P4518)","v":1}]
[{"$f":"IF('XML a procesar'!A4519>0,'XML a procesar'!A4519,\"\")","v":""},0,0,0,0,"",0,0,0,"","",0,"",0,"",{"$f":"IF(ROW()<$S$4+2,IF('XML a procesar'!A4519=\"\",P4519,IF(MID('XML a procesar'!A4519,1,1)=\"<\",P4519,P4519+1)),P4519)","v":1}]
[{"$f":"IF('XML a procesar'!A4520>0,'XML a procesar'!A4520,\"\")","v":""},0,0,0,0,"",0,0,0,"","",0,"",0,"",{"$f":"IF(ROW()<$S$4+2,IF('XML a procesar'!A4520=\"\",P4520,IF(MID('XML a procesar'!A4520,1,1)=\"<\",P4520,P4520+1)),P4520)","v":1}]
[{"$f":"IF('XML a procesar'!A4521>0,'XML a procesar'!A4521,\"\")","v":""},0,0,0,0,"",0,0,0,"","",0,"",0,"",{"$f":"IF(ROW()<$S$4+2,IF('XML a procesar'!A4521=\"\",P4521,IF(MID('XML a procesar'!A4521,1,1)=\"<\",P4521,P4521+1)),P4521)","v":1}]
[{"$f":"IF('XML a procesar'!A4522>0,'XML a procesar'!A4522,\"\")","v":""},0,0,0,0,"",0,0,0,"","",0,"",0,"",{"$f":"IF(ROW()<$S$4+2,IF('XML a procesar'!A4522=\"\",P4522,IF(MID('XML a procesar'!A4522,1,1)=\"<\",P4522,P4522+1)),P4522)","v":1}]
[{"$f":"IF('XML a procesar'!A4523>0,'XML a procesar'!A4523,\"\")","v":""},0,0,0,0,"",0,0,0,"","",0,"",0,"",{"$f":"IF(ROW()<$S$4+2,IF('XML a procesar'!A4523=\"\",P4523,IF(MID('XML a procesar'!A4523,1,1)=\"<\",P4523,P4523+1)),P4523)","v":1}]
[{"$f":"IF('XML a procesar'!A4524>0,'XML a procesar'!A4524,\"\")","v":""},0,0,0,0,"",0,0,0,"","",0,"",0,"",{"$f":"IF(ROW()<$S$4+2,IF('XML a procesar'!A4524=\"\",P4524,IF(MID('XML a procesar'!A4524,1,1)=\"<\",P4524,P4524+1)),P4524)","v":1}]
[{"$f":"IF('XML a procesar'!A4525>0,'XML a procesar'!A4525,\"\")","v":""},0,0,0,0,"",0,0,0,"","",0,"",0,"",{"$f":"IF(ROW()<$S$4+2,IF('XML a procesar'!A4525=\"\",P4525,IF(MID('XML a procesar'!A4525,1,1)=\"<\",P4525,P4525+1)),P4525)","v":1}]
[{"$f":"IF('XML a procesar'!A4526>0,'XML a procesar'!A4526,\"\")","v":""},0,0,0,0,"",0,0,0,"","",0,"",0,"",{"$f":"IF(ROW()<$S$4+2,IF('XML a procesar'!A4526=\"\",P4526,IF(MID('XML a procesar'!A4526,1,1)=\"<\",P4526,P4526+1)),P4526)","v":1}]
[{"$f":"IF('XML a procesar'!A4527>0,'XML a procesar'!A4527,\"\")","v":""},0,0,0,0,"",0,0,0,"","",0,"",0,"",{"$f":"IF(ROW()<$S$4+2,IF('XML a procesar'!A4527=\"\",P4527,IF(MID('XML a procesar'!A4527,1,1)=\"<\",P4527,P4527+1)),P4527)","v":1}]
[{"$f":"IF('XML a procesar'!A4528>0,'XML a procesar'!A4528,\"\")","v":""},0,0,0,0,"",0,0,0,"","",0,"",0,"",{"$f":"IF(ROW()<$S$4+2,IF('XML a procesar'!A4528=\"\",P4528,IF(MID('XML a procesar'!A4528,1,1)=\"<\",P4528,P4528+1)),P4528)","v":1}]
[{"$f":"IF('XML a procesar'!A4529>0,'XML a procesar'!A4529,\"\")","v":""},0,0,0,0,"",0,0,0,"","",0,"",0,"",{"$f":"IF(ROW()<$S$4+2,IF('XML a procesar'!A4529=\"\",P4529,IF(MID('XML a procesar'!A4529,1,1)=\"<\",P4529,P4529+1)),P4529)","v":1}]
[{"$f":"IF('XML a procesar'!A4530>0,'XML a procesar'!A4530,\"\")","v":""},0,0,0,0,"",0,0,0,"","",0,"",0,"",{"$f":"IF(ROW()<$S$4+2,IF('XML a procesar'!A4530=\"\",P4530,IF(MID('XML a procesar'!A4530,1,1)=\"<\",P4530,P4530+1)),P4530)","v":1}]
[{"$f":"IF('XML a procesar'!A4531>0,'XML a procesar'!A4531,\"\")","v":""},0,0,0,0,"",0,0,0,"","",0,"",0,"",{"$f":"IF(ROW()<$S$4+2,IF('XML a procesar'!A4531=\"\",P4531,IF(MID('XML a procesar'!A4531,1,1)=\"<\",P4531,P4531+1)),P4531)","v":1}]
[{"$f":"IF('XML a procesar'!A4532>0,'XML a procesar'!A4532,\"\")","v":""},0,0,0,0,"",0,0,0,"","",0,"",0,"",{"$f":"IF(ROW()<$S$4+2,IF('XML a procesar'!A4532=\"\",P4532,IF(MID('XML a procesar'!A4532,1,1)=\"<\",P4532,P4532+1)),P4532)","v":1}]
[{"$f":"IF('XML a procesar'!A4533>0,'XML a procesar'!A4533,\"\")","v":""},0,0,0,0,"",0,0,0,"","",0,"",0,"",{"$f":"IF(ROW()<$S$4+2,IF('XML a procesar'!A4533=\"\",P4533,IF(MID('XML a procesar'!A4533,1,1)=\"<\",P4533,P4533+1)),P4533)","v":1}]
[{"$f":"IF('XML a procesar'!A4534>0,'XML a procesar'!A4534,\"\")","v":""},0,0,0,0,"",0,0,0,"","",0,"",0,"",{"$f":"IF(ROW()<$S$4+2,IF('XML a procesar'!A4534=\"\",P4534,IF(MID('XML a procesar'!A4534,1,1)=\"<\",P4534,P4534+1)),P4534)","v":1}]
[{"$f":"IF('XML a procesar'!A4535>0,'XML a procesar'!A4535,\"\")","v":""},0,0,0,0,"",0,0,0,"","",0,"",0,"",{"$f":"IF(ROW()<$S$4+2,IF('XML a procesar'!A4535=\"\",P4535,IF(MID('XML a procesar'!A4535,1,1)=\"<\",P4535,P4535+1)),P4535)","v":1}]
[{"$f":"IF('XML a procesar'!A4536>0,'XML a procesar'!A4536,\"\")","v":""},0,0,0,0,"",0,0,0,"","",0,"",0,"",{"$f":"IF(ROW()<$S$4+2,IF('XML a procesar'!A4536=\"\",P4536,IF(MID('XML a procesar'!A4536,1,1)=\"<\",P4536,P4536+1)),P4536)","v":1}]
[{"$f":"IF('XML a procesar'!A4537>0,'XML a procesar'!A4537,\"\")","v":""},0,0,0,0,"",0,0,0,"","",0,"",0,"",{"$f":"IF(ROW()<$S$4+2,IF('XML a procesar'!A4537=\"\",P4537,IF(MID('XML a procesar'!A4537,1,1)=\"<\",P4537,P4537+1)),P4537)","v":1}]
[{"$f":"IF('XML a procesar'!A4538>0,'XML a procesar'!A4538,\"\")","v":""},0,0,0,0,"",0,0,0,"","",0,"",0,"",{"$f":"IF(ROW()<$S$4+2,IF('XML a procesar'!A4538=\"\",P4538,IF(MID('XML a procesar'!A4538,1,1)=\"<\",P4538,P4538+1)),P4538)","v":1}]
[{"$f":"IF('XML a procesar'!A4539>0,'XML a procesar'!A4539,\"\")","v":""},0,0,0,0,"",0,0,0,"","",0,"",0,"",{"$f":"IF(ROW()<$S$4+2,IF('XML a procesar'!A4539=\"\",P4539,IF(MID('XML a procesar'!A4539,1,1)=\"<\",P4539,P4539+1)),P4539)","v":1}]
[{"$f":"IF('XML a procesar'!A4540>0,'XML a procesar'!A4540,\"\")","v":""},0,0,0,0,"",0,0,0,"","",0,"",0,"",{"$f":"IF(ROW()<$S$4+2,IF('XML a procesar'!A4540=\"\",P4540,IF(MID('XML a procesar'!A4540,1,1)=\"<\",P4540,P4540+1)),P4540)","v":1}]
[{"$f":"IF('XML a procesar'!A4541>0,'XML a procesar'!A4541,\"\")","v":""},0,0,0,0,"",0,0,0,"","",0,"",0,"",{"$f":"IF(ROW()<$S$4+2,IF('XML a procesar'!A4541=\"\",P4541,IF(MID('XML a procesar'!A4541,1,1)=\"<\",P4541,P4541+1)),P4541)","v":1}]
[{"$f":"IF('XML a procesar'!A4542>0,'XML a procesar'!A4542,\"\")","v":""},0,0,0,0,"",0,0,0,"","",0,"",0,"",{"$f":"IF(ROW()<$S$4+2,IF('XML a procesar'!A4542=\"\",P4542,IF(MID('XML a procesar'!A4542,1,1)=\"<\",P4542,P4542+1)),P4542)","v":1}]
[{"$f":"IF('XML a procesar'!A4543>0,'XML a procesar'!A4543,\"\")","v":""},0,0,0,0,"",0,0,0,"","",0,"",0,"",{"$f":"IF(ROW()<$S$4+2,IF('XML a procesar'!A4543=\"\",P4543,IF(MID('XML a procesar'!A4543,1,1)=\"<\",P4543,P4543+1)),P4543)","v":1}]
[{"$f":"IF('XML a procesar'!A4544>0,'XML a procesar'!A4544,\"\")","v":""},{"$f":"IF(ISERROR(FIND(\"/doi.org/\",A4545,1)),0,1)","v":0},{"$f":"IF(LEFT(A4544,16)=\"<contrib contrib\",C4544+1,IF(LEFT(A4544,16)=\"</contrib-group>\",0,IF(LEFT(A4544,10)=\"</contrib>\",C4544,C4544)))","v":0},{"$f":"IF(AND(C4545>0,LEFT(A4545,7)=\"<email>\",ISNUMBER(SEARCH(\"@\",A4545,1))),C4545,IF(LEFT(A4545,10)=\"<alt-text>\",-1,0))","v":0},{"$f":"IF(D4545=0,E4544,E4544+1)","v":0},{"$f":"INDIRECT(ADDRESS(ROW()+INDIRECT(ADDRESS(ROW()+E4545,5)),1))","v":""},{"$f":"IF(LEFT(F4545,7)=\"<aff id\",_xlfn.NUMBERVALUE(MID(F4545,13,LEN(F4545)-14)),IF(F4545=\"</aff>\",G4544+1,G4544))","v":0},0,{"$f":"INDIRECT(ADDRESS(ROW()-INDIRECT(ADDRESS(ROW()-H4545,8)),8))","v":0},{"$f":"IF(J4544=\"Linea_para_MAIL_creada_por_LuXML\",\"</aff>\",IF(I4545>INDIRECT(ADDRESS(ROW()-I4545-1,8)),\"Linea_para_MAIL_creada_por_LuXML\",INDIRECT(ADDRESS(ROW()-I4545,6))))","v":""},"",{"$f":"IF(OR(MID(K4543,3,5)=\"page>\",MID(K4544,3,5)=\"page>\"),L4544,IF(OR(K4544=\"<history>\",K4545=\"<history>\"),L4544+1,L4544))","v":0},{"$f":"IF(L4545>L4544,IF(L4545=1,CONCATENATE(\"<fpage>\",$S$10,\"</fpage>\"),CONCATENATE(\"<lpage>\",$S$10+1,\"</lpage>\")),IF(ISERROR(INDIRECT(ADDRESS(ROW()-L4545,11),1)),\"\",INDIRECT(ADDRESS(ROW()-L4545,11),1)))","v":""},{"$f":"IF(N4544=-1,-1,IF(M4545=\"</counts>\",-1,IF(OR(LEFT(M4545,7)=\"<fpage>\",LEFT(M4545,7)=\"<lpage>\"),VALUE(MID(M4545,8,LEN(M4545)-15)),0)))","v":0},"",{"$f":"IF(ROW()<$S$4+2,IF('XML a procesar'!A4544=\"\",P4544,IF(MID('XML a procesar'!A4544,1,1)=\"<\",P4544,P4544+1)),P4544)","v":1}]
[{"$f":"IF('XML a procesar'!A4545>0,'XML a procesar'!A4545,\"\")","v":""},0,0,0,0,"",0,0,0,"","",0,"",0,{"$f":"IF(N4546>-1,INDIRECT(ADDRESS(ROW(),13)),IF(N4546<N4545,CONCATENATE(\"<page-count count=\",CHAR(34),1+LARGE(N:N,1)-LARGE(N:N,2),CHAR(34),\"/>\"),INDIRECT(ADDRESS(ROW()-1,13))))","v":""},{"$f":"IF(ROW()<$S$4+2,IF('XML a procesar'!A4545=\"\",P4545,IF(MID('XML a procesar'!A4545,1,1)=\"<\",P4545,P4545+1)),P4545)","v":1}]
[{"$f":"IF('XML a procesar'!A4546>0,'XML a procesar'!A4546,\"\")","v":""},0,0,0,0,"",0,{"$f":"IF(AND(G4546>0,G4547>G4546,NOT(ISERROR(MATCH(G4546,D:D,0)))),H4546+1,H4546)","v":0},0,"",{"$f":"IF(J4547=\"Linea_para_MAIL_creada_por_LuXML\",IF(ISERROR(MATCH(INDIRECT(ADDRESS(ROW()-G4547,7)),D:D,0)),J4547,INDIRECT(ADDRESS(MATCH(INDIRECT(ADDRESS(ROW()-G4547,7)),D:D,0),1))),J4547)","v":""},0,"",0,"",{"$f":"IF(ROW()<$S$4+2,IF('XML a procesar'!A4546=\"\",P4546,IF(MID('XML a procesar'!A4546,1,1)=\"<\",P4546,P4546+1)),P4546)","v":1}]
[{"$f":"IF('XML a procesar'!A4547>0,'XML a procesar'!A4547,\"\")","v":""},0,0,0,0,"",0,0,0,"","",0,"",0,"",{"$f":"IF(ROW()<$S$4+2,IF('XML a procesar'!A4547=\"\",P4547,IF(MID('XML a procesar'!A4547,1,1)=\"<\",P4547,P4547+1)),P4547)","v":1}]
[{"$f":"IF('XML a procesar'!A4548>0,'XML a procesar'!A4548,\"\")","v":""},0,0,0,0,"",0,0,0,"","",0,"",0,"",{"$f":"IF(ROW()<$S$4+2,IF('XML a procesar'!A4548=\"\",P4548,IF(MID('XML a procesar'!A4548,1,1)=\"<\",P4548,P4548+1)),P4548)","v":1}]
[{"$f":"IF('XML a procesar'!A4549>0,'XML a procesar'!A4549,\"\")","v":""},0,0,0,0,"",0,0,0,"","",0,"",0,"",{"$f":"IF(ROW()<$S$4+2,IF('XML a procesar'!A4549=\"\",P4549,IF(MID('XML a procesar'!A4549,1,1)=\"<\",P4549,P4549+1)),P4549)","v":1}]
[{"$f":"IF('XML a procesar'!A4550>0,'XML a procesar'!A4550,\"\")","v":""},0,0,0,0,"",0,0,0,"","",0,"",0,"",{"$f":"IF(ROW()<$S$4+2,IF('XML a procesar'!A4550=\"\",P4550,IF(MID('XML a procesar'!A4550,1,1)=\"<\",P4550,P4550+1)),P4550)","v":1}]
[{"$f":"IF('XML a procesar'!A4551>0,'XML a procesar'!A4551,\"\")","v":""},0,0,0,0,"",0,0,0,"","",0,"",0,"",{"$f":"IF(ROW()<$S$4+2,IF('XML a procesar'!A4551=\"\",P4551,IF(MID('XML a procesar'!A4551,1,1)=\"<\",P4551,P4551+1)),P4551)","v":1}]
[{"$f":"IF('XML a procesar'!A4552>0,'XML a procesar'!A4552,\"\")","v":""},0,0,0,0,"",0,0,0,"","",0,"",0,"",{"$f":"IF(ROW()<$S$4+2,IF('XML a procesar'!A4552=\"\",P4552,IF(MID('XML a procesar'!A4552,1,1)=\"<\",P4552,P4552+1)),P4552)","v":1}]
[{"$f":"IF('XML a procesar'!A4553>0,'XML a procesar'!A4553,\"\")","v":""},0,0,0,0,"",0,0,0,"","",0,"",0,"",{"$f":"IF(ROW()<$S$4+2,IF('XML a procesar'!A4553=\"\",P4553,IF(MID('XML a procesar'!A4553,1,1)=\"<\",P4553,P4553+1)),P4553)","v":1}]
[{"$f":"IF('XML a procesar'!A4554>0,'XML a procesar'!A4554,\"\")","v":""},0,0,0,0,"",0,0,0,"","",0,"",0,"",{"$f":"IF(ROW()<$S$4+2,IF('XML a procesar'!A4554=\"\",P4554,IF(MID('XML a procesar'!A4554,1,1)=\"<\",P4554,P4554+1)),P4554)","v":1}]
[{"$f":"IF('XML a procesar'!A4555>0,'XML a procesar'!A4555,\"\")","v":""},0,0,0,0,"",0,0,0,"","",0,"",0,"",{"$f":"IF(ROW()<$S$4+2,IF('XML a procesar'!A4555=\"\",P4555,IF(MID('XML a procesar'!A4555,1,1)=\"<\",P4555,P4555+1)),P4555)","v":1}]
[{"$f":"IF('XML a procesar'!A4556>0,'XML a procesar'!A4556,\"\")","v":""},0,0,0,0,"",0,0,0,"","",0,"",0,"",{"$f":"IF(ROW()<$S$4+2,IF('XML a procesar'!A4556=\"\",P4556,IF(MID('XML a procesar'!A4556,1,1)=\"<\",P4556,P4556+1)),P4556)","v":1}]
[{"$f":"IF('XML a procesar'!A4557>0,'XML a procesar'!A4557,\"\")","v":""},0,0,0,0,"",0,0,0,"","",0,"",0,"",{"$f":"IF(ROW()<$S$4+2,IF('XML a procesar'!A4557=\"\",P4557,IF(MID('XML a procesar'!A4557,1,1)=\"<\",P4557,P4557+1)),P4557)","v":1}]
[{"$f":"IF('XML a procesar'!A4558>0,'XML a procesar'!A4558,\"\")","v":""},0,0,0,0,"",0,0,0,"","",0,"",0,"",{"$f":"IF(ROW()<$S$4+2,IF('XML a procesar'!A4558=\"\",P4558,IF(MID('XML a procesar'!A4558,1,1)=\"<\",P4558,P4558+1)),P4558)","v":1}]
[{"$f":"IF('XML a procesar'!A4559>0,'XML a procesar'!A4559,\"\")","v":""},0,0,0,0,"",0,0,0,"","",0,"",0,"",{"$f":"IF(ROW()<$S$4+2,IF('XML a procesar'!A4559=\"\",P4559,IF(MID('XML a procesar'!A4559,1,1)=\"<\",P4559,P4559+1)),P4559)","v":1}]
[{"$f":"IF('XML a procesar'!A4560>0,'XML a procesar'!A4560,\"\")","v":""},0,0,0,0,"",0,0,0,"","",0,"",0,"",{"$f":"IF(ROW()<$S$4+2,IF('XML a procesar'!A4560=\"\",P4560,IF(MID('XML a procesar'!A4560,1,1)=\"<\",P4560,P4560+1)),P4560)","v":1}]
[{"$f":"IF('XML a procesar'!A4561>0,'XML a procesar'!A4561,\"\")","v":""},0,0,0,0,"",0,0,0,"","",0,"",0,"",{"$f":"IF(ROW()<$S$4+2,IF('XML a procesar'!A4561=\"\",P4561,IF(MID('XML a procesar'!A4561,1,1)=\"<\",P4561,P4561+1)),P4561)","v":1}]
[{"$f":"IF('XML a procesar'!A4562>0,'XML a procesar'!A4562,\"\")","v":""},0,0,0,0,"",0,0,0,"","",0,"",0,"",{"$f":"IF(ROW()<$S$4+2,IF('XML a procesar'!A4562=\"\",P4562,IF(MID('XML a procesar'!A4562,1,1)=\"<\",P4562,P4562+1)),P4562)","v":1}]
[{"$f":"IF('XML a procesar'!A4563>0,'XML a procesar'!A4563,\"\")","v":""},0,0,0,0,"",0,0,0,"","",0,"",0,"",{"$f":"IF(ROW()<$S$4+2,IF('XML a procesar'!A4563=\"\",P4563,IF(MID('XML a procesar'!A4563,1,1)=\"<\",P4563,P4563+1)),P4563)","v":1}]
[{"$f":"IF('XML a procesar'!A4564>0,'XML a procesar'!A4564,\"\")","v":""},0,0,0,0,"",0,0,0,"","",0,"",0,"",{"$f":"IF(ROW()<$S$4+2,IF('XML a procesar'!A4564=\"\",P4564,IF(MID('XML a procesar'!A4564,1,1)=\"<\",P4564,P4564+1)),P4564)","v":1}]
[{"$f":"IF('XML a procesar'!A4565>0,'XML a procesar'!A4565,\"\")","v":""},0,0,0,0,"",0,0,0,"","",0,"",0,"",{"$f":"IF(ROW()<$S$4+2,IF('XML a procesar'!A4565=\"\",P4565,IF(MID('XML a procesar'!A4565,1,1)=\"<\",P4565,P4565+1)),P4565)","v":1}]
[{"$f":"IF('XML a procesar'!A4566>0,'XML a procesar'!A4566,\"\")","v":""},0,0,0,0,"",0,0,0,"","",0,"",0,"",{"$f":"IF(ROW()<$S$4+2,IF('XML a procesar'!A4566=\"\",P4566,IF(MID('XML a procesar'!A4566,1,1)=\"<\",P4566,P4566+1)),P4566)","v":1}]
[{"$f":"IF('XML a procesar'!A4567>0,'XML a procesar'!A4567,\"\")","v":""},0,0,0,0,"",0,0,0,"","",0,"",0,"",{"$f":"IF(ROW()<$S$4+2,IF('XML a procesar'!A4567=\"\",P4567,IF(MID('XML a procesar'!A4567,1,1)=\"<\",P4567,P4567+1)),P4567)","v":1}]
[{"$f":"IF('XML a procesar'!A4568>0,'XML a procesar'!A4568,\"\")","v":""},0,0,0,0,"",0,0,0,"","",0,"",0,"",{"$f":"IF(ROW()<$S$4+2,IF('XML a procesar'!A4568=\"\",P4568,IF(MID('XML a procesar'!A4568,1,1)=\"<\",P4568,P4568+1)),P4568)","v":1}]
[{"$f":"IF('XML a procesar'!A4569>0,'XML a procesar'!A4569,\"\")","v":""},0,0,0,0,"",0,0,0,"","",0,"",0,"",{"$f":"IF(ROW()<$S$4+2,IF('XML a procesar'!A4569=\"\",P4569,IF(MID('XML a procesar'!A4569,1,1)=\"<\",P4569,P4569+1)),P4569)","v":1}]
[{"$f":"IF('XML a procesar'!A4570>0,'XML a procesar'!A4570,\"\")","v":""},0,0,0,0,"",0,0,0,"","",0,"",0,"",{"$f":"IF(ROW()<$S$4+2,IF('XML a procesar'!A4570=\"\",P4570,IF(MID('XML a procesar'!A4570,1,1)=\"<\",P4570,P4570+1)),P4570)","v":1}]
[{"$f":"IF('XML a procesar'!A4571>0,'XML a procesar'!A4571,\"\")","v":""},0,0,0,0,"",0,0,0,"","",0,"",0,"",{"$f":"IF(ROW()<$S$4+2,IF('XML a procesar'!A4571=\"\",P4571,IF(MID('XML a procesar'!A4571,1,1)=\"<\",P4571,P4571+1)),P4571)","v":1}]
[{"$f":"IF('XML a procesar'!A4572>0,'XML a procesar'!A4572,\"\")","v":""},0,0,0,0,"",0,0,0,"","",0,"",0,"",{"$f":"IF(ROW()<$S$4+2,IF('XML a procesar'!A4572=\"\",P4572,IF(MID('XML a procesar'!A4572,1,1)=\"<\",P4572,P4572+1)),P4572)","v":1}]
[{"$f":"IF('XML a procesar'!A4573>0,'XML a procesar'!A4573,\"\")","v":""},0,0,0,0,"",0,0,0,"","",0,"",0,"",{"$f":"IF(ROW()<$S$4+2,IF('XML a procesar'!A4573=\"\",P4573,IF(MID('XML a procesar'!A4573,1,1)=\"<\",P4573,P4573+1)),P4573)","v":1}]
[{"$f":"IF('XML a procesar'!A4574>0,'XML a procesar'!A4574,\"\")","v":""},0,0,0,0,"",0,0,0,"","",0,"",0,"",{"$f":"IF(ROW()<$S$4+2,IF('XML a procesar'!A4574=\"\",P4574,IF(MID('XML a procesar'!A4574,1,1)=\"<\",P4574,P4574+1)),P4574)","v":1}]
[{"$f":"IF('XML a procesar'!A4575>0,'XML a procesar'!A4575,\"\")","v":""},0,0,0,0,"",0,0,0,"","",0,"",0,"",{"$f":"IF(ROW()<$S$4+2,IF('XML a procesar'!A4575=\"\",P4575,IF(MID('XML a procesar'!A4575,1,1)=\"<\",P4575,P4575+1)),P4575)","v":1}]
[{"$f":"IF('XML a procesar'!A4576>0,'XML a procesar'!A4576,\"\")","v":""},0,0,0,0,"",0,0,0,"","",0,"",0,"",{"$f":"IF(ROW()<$S$4+2,IF('XML a procesar'!A4576=\"\",P4576,IF(MID('XML a procesar'!A4576,1,1)=\"<\",P4576,P4576+1)),P4576)","v":1}]
[{"$f":"IF('XML a procesar'!A4577>0,'XML a procesar'!A4577,\"\")","v":""},0,0,0,0,"",0,0,0,"","",0,"",0,"",{"$f":"IF(ROW()<$S$4+2,IF('XML a procesar'!A4577=\"\",P4577,IF(MID('XML a procesar'!A4577,1,1)=\"<\",P4577,P4577+1)),P4577)","v":1}]
[{"$f":"IF('XML a procesar'!A4578>0,'XML a procesar'!A4578,\"\")","v":""},0,0,0,0,"",0,0,0,"","",0,"",0,"",{"$f":"IF(ROW()<$S$4+2,IF('XML a procesar'!A4578=\"\",P4578,IF(MID('XML a procesar'!A4578,1,1)=\"<\",P4578,P4578+1)),P4578)","v":1}]
[{"$f":"IF('XML a procesar'!A4579>0,'XML a procesar'!A4579,\"\")","v":""},0,0,0,0,"",0,0,0,"","",0,"",0,"",{"$f":"IF(ROW()<$S$4+2,IF('XML a procesar'!A4579=\"\",P4579,IF(MID('XML a procesar'!A4579,1,1)=\"<\",P4579,P4579+1)),P4579)","v":1}]
[{"$f":"IF('XML a procesar'!A4580>0,'XML a procesar'!A4580,\"\")","v":""},0,0,0,0,"",0,0,0,"","",0,"",0,"",{"$f":"IF(ROW()<$S$4+2,IF('XML a procesar'!A4580=\"\",P4580,IF(MID('XML a procesar'!A4580,1,1)=\"<\",P4580,P4580+1)),P4580)","v":1}]
[{"$f":"IF('XML a procesar'!A4581>0,'XML a procesar'!A4581,\"\")","v":""},0,0,0,0,"",0,0,0,"","",0,"",0,"",{"$f":"IF(ROW()<$S$4+2,IF('XML a procesar'!A4581=\"\",P4581,IF(MID('XML a procesar'!A4581,1,1)=\"<\",P4581,P4581+1)),P4581)","v":1}]
[{"$f":"IF('XML a procesar'!A4582>0,'XML a procesar'!A4582,\"\")","v":""},0,0,0,0,"",0,0,0,"","",0,"",0,"",{"$f":"IF(ROW()<$S$4+2,IF('XML a procesar'!A4582=\"\",P4582,IF(MID('XML a procesar'!A4582,1,1)=\"<\",P4582,P4582+1)),P4582)","v":1}]
[{"$f":"IF('XML a procesar'!A4583>0,'XML a procesar'!A4583,\"\")","v":""},0,0,0,0,"",0,0,0,"","",0,"",0,"",{"$f":"IF(ROW()<$S$4+2,IF('XML a procesar'!A4583=\"\",P4583,IF(MID('XML a procesar'!A4583,1,1)=\"<\",P4583,P4583+1)),P4583)","v":1}]
[{"$f":"IF('XML a procesar'!A4584>0,'XML a procesar'!A4584,\"\")","v":""},0,0,0,0,"",0,0,0,"","",0,"",0,"",{"$f":"IF(ROW()<$S$4+2,IF('XML a procesar'!A4584=\"\",P4584,IF(MID('XML a procesar'!A4584,1,1)=\"<\",P4584,P4584+1)),P4584)","v":1}]
[{"$f":"IF('XML a procesar'!A4585>0,'XML a procesar'!A4585,\"\")","v":""},0,0,0,0,"",0,0,0,"","",0,"",0,"",{"$f":"IF(ROW()<$S$4+2,IF('XML a procesar'!A4585=\"\",P4585,IF(MID('XML a procesar'!A4585,1,1)=\"<\",P4585,P4585+1)),P4585)","v":1}]
[{"$f":"IF('XML a procesar'!A4586>0,'XML a procesar'!A4586,\"\")","v":""},0,0,0,0,"",0,0,0,"","",0,"",0,"",{"$f":"IF(ROW()<$S$4+2,IF('XML a procesar'!A4586=\"\",P4586,IF(MID('XML a procesar'!A4586,1,1)=\"<\",P4586,P4586+1)),P4586)","v":1}]
[{"$f":"IF('XML a procesar'!A4587>0,'XML a procesar'!A4587,\"\")","v":""},0,0,0,0,"",0,0,0,"","",0,"",0,"",{"$f":"IF(ROW()<$S$4+2,IF('XML a procesar'!A4587=\"\",P4587,IF(MID('XML a procesar'!A4587,1,1)=\"<\",P4587,P4587+1)),P4587)","v":1}]
[{"$f":"IF('XML a procesar'!A4588>0,'XML a procesar'!A4588,\"\")","v":""},0,0,0,0,"",0,0,0,"","",0,"",0,"",{"$f":"IF(ROW()<$S$4+2,IF('XML a procesar'!A4588=\"\",P4588,IF(MID('XML a procesar'!A4588,1,1)=\"<\",P4588,P4588+1)),P4588)","v":1}]
[{"$f":"IF('XML a procesar'!A4589>0,'XML a procesar'!A4589,\"\")","v":""},0,0,0,0,"",0,0,0,"","",0,"",0,"",{"$f":"IF(ROW()<$S$4+2,IF('XML a procesar'!A4589=\"\",P4589,IF(MID('XML a procesar'!A4589,1,1)=\"<\",P4589,P4589+1)),P4589)","v":1}]
[{"$f":"IF('XML a procesar'!A4590>0,'XML a procesar'!A4590,\"\")","v":""},0,0,0,0,"",0,0,0,"","",0,"",0,"",{"$f":"IF(ROW()<$S$4+2,IF('XML a procesar'!A4590=\"\",P4590,IF(MID('XML a procesar'!A4590,1,1)=\"<\",P4590,P4590+1)),P4590)","v":1}]
[{"$f":"IF('XML a procesar'!A4591>0,'XML a procesar'!A4591,\"\")","v":""},0,0,0,0,"",0,0,0,"","",0,"",0,"",{"$f":"IF(ROW()<$S$4+2,IF('XML a procesar'!A4591=\"\",P4591,IF(MID('XML a procesar'!A4591,1,1)=\"<\",P4591,P4591+1)),P4591)","v":1}]
[{"$f":"IF('XML a procesar'!A4592>0,'XML a procesar'!A4592,\"\")","v":""},0,0,0,0,"",0,0,0,"","",0,"",0,"",{"$f":"IF(ROW()<$S$4+2,IF('XML a procesar'!A4592=\"\",P4592,IF(MID('XML a procesar'!A4592,1,1)=\"<\",P4592,P4592+1)),P4592)","v":1}]
[{"$f":"IF('XML a procesar'!A4593>0,'XML a procesar'!A4593,\"\")","v":""},0,0,0,0,"",0,0,0,"","",0,"",0,"",{"$f":"IF(ROW()<$S$4+2,IF('XML a procesar'!A4593=\"\",P4593,IF(MID('XML a procesar'!A4593,1,1)=\"<\",P4593,P4593+1)),P4593)","v":1}]
[{"$f":"IF('XML a procesar'!A4594>0,'XML a procesar'!A4594,\"\")","v":""},0,0,0,0,"",0,0,0,"","",0,"",0,"",{"$f":"IF(ROW()<$S$4+2,IF('XML a procesar'!A4594=\"\",P4594,IF(MID('XML a procesar'!A4594,1,1)=\"<\",P4594,P4594+1)),P4594)","v":1}]
[{"$f":"IF('XML a procesar'!A4595>0,'XML a procesar'!A4595,\"\")","v":""},0,0,0,0,"",0,0,0,"","",0,"",0,"",{"$f":"IF(ROW()<$S$4+2,IF('XML a procesar'!A4595=\"\",P4595,IF(MID('XML a procesar'!A4595,1,1)=\"<\",P4595,P4595+1)),P4595)","v":1}]
[{"$f":"IF('XML a procesar'!A4596>0,'XML a procesar'!A4596,\"\")","v":""},0,0,0,0,"",0,0,0,"","",0,"",0,"",{"$f":"IF(ROW()<$S$4+2,IF('XML a procesar'!A4596=\"\",P4596,IF(MID('XML a procesar'!A4596,1,1)=\"<\",P4596,P4596+1)),P4596)","v":1}]
[{"$f":"IF('XML a procesar'!A4597>0,'XML a procesar'!A4597,\"\")","v":""},0,0,0,0,"",0,0,0,"","",0,"",0,"",{"$f":"IF(ROW()<$S$4+2,IF('XML a procesar'!A4597=\"\",P4597,IF(MID('XML a procesar'!A4597,1,1)=\"<\",P4597,P4597+1)),P4597)","v":1}]
[{"$f":"IF('XML a procesar'!A4598>0,'XML a procesar'!A4598,\"\")","v":""},0,0,0,0,"",0,0,0,"","",0,"",0,"",{"$f":"IF(ROW()<$S$4+2,IF('XML a procesar'!A4598=\"\",P4598,IF(MID('XML a procesar'!A4598,1,1)=\"<\",P4598,P4598+1)),P4598)","v":1}]
[{"$f":"IF('XML a procesar'!A4599>0,'XML a procesar'!A4599,\"\")","v":""},0,0,0,0,"",0,0,0,"","",0,"",0,"",{"$f":"IF(ROW()<$S$4+2,IF('XML a procesar'!A4599=\"\",P4599,IF(MID('XML a procesar'!A4599,1,1)=\"<\",P4599,P4599+1)),P4599)","v":1}]
[{"$f":"IF('XML a procesar'!A4600>0,'XML a procesar'!A4600,\"\")","v":""},0,0,0,0,"",0,0,0,"","",0,"",0,"",{"$f":"IF(ROW()<$S$4+2,IF('XML a procesar'!A4600=\"\",P4600,IF(MID('XML a procesar'!A4600,1,1)=\"<\",P4600,P4600+1)),P4600)","v":1}]
[{"$f":"IF('XML a procesar'!A4601>0,'XML a procesar'!A4601,\"\")","v":""},0,0,0,0,"",0,0,0,"","",0,"",0,"",{"$f":"IF(ROW()<$S$4+2,IF('XML a procesar'!A4601=\"\",P4601,IF(MID('XML a procesar'!A4601,1,1)=\"<\",P4601,P4601+1)),P4601)","v":1}]
[{"$f":"IF('XML a procesar'!A4602>0,'XML a procesar'!A4602,\"\")","v":""},0,0,0,0,"",0,0,0,"","",0,"",0,"",{"$f":"IF(ROW()<$S$4+2,IF('XML a procesar'!A4602=\"\",P4602,IF(MID('XML a procesar'!A4602,1,1)=\"<\",P4602,P4602+1)),P4602)","v":1}]
[{"$f":"IF('XML a procesar'!A4603>0,'XML a procesar'!A4603,\"\")","v":""},0,0,0,0,"",0,0,0,"","",0,"",0,"",{"$f":"IF(ROW()<$S$4+2,IF('XML a procesar'!A4603=\"\",P4603,IF(MID('XML a procesar'!A4603,1,1)=\"<\",P4603,P4603+1)),P4603)","v":1}]
[{"$f":"IF('XML a procesar'!A4604>0,'XML a procesar'!A4604,\"\")","v":""},0,0,0,0,"",0,0,0,"","",0,"",0,"",{"$f":"IF(ROW()<$S$4+2,IF('XML a procesar'!A4604=\"\",P4604,IF(MID('XML a procesar'!A4604,1,1)=\"<\",P4604,P4604+1)),P4604)","v":1}]
[{"$f":"IF('XML a procesar'!A4605>0,'XML a procesar'!A4605,\"\")","v":""},0,0,0,0,"",0,0,0,"","",0,"",0,"",{"$f":"IF(ROW()<$S$4+2,IF('XML a procesar'!A4605=\"\",P4605,IF(MID('XML a procesar'!A4605,1,1)=\"<\",P4605,P4605+1)),P4605)","v":1}]
[{"$f":"IF('XML a procesar'!A4606>0,'XML a procesar'!A4606,\"\")","v":""},0,0,0,0,"",0,0,0,"","",0,"",0,"",{"$f":"IF(ROW()<$S$4+2,IF('XML a procesar'!A4606=\"\",P4606,IF(MID('XML a procesar'!A4606,1,1)=\"<\",P4606,P4606+1)),P4606)","v":1}]
[{"$f":"IF('XML a procesar'!A4607>0,'XML a procesar'!A4607,\"\")","v":""},0,0,0,0,"",0,0,0,"","",0,"",0,"",{"$f":"IF(ROW()<$S$4+2,IF('XML a procesar'!A4607=\"\",P4607,IF(MID('XML a procesar'!A4607,1,1)=\"<\",P4607,P4607+1)),P4607)","v":1}]
[{"$f":"IF('XML a procesar'!A4608>0,'XML a procesar'!A4608,\"\")","v":""},{"$f":"IF(ISERROR(FIND(\"/doi.org/\",A4609,1)),0,1)","v":0},{"$f":"IF(LEFT(A4608,16)=\"<contrib contrib\",C4608+1,IF(LEFT(A4608,16)=\"</contrib-group>\",0,IF(LEFT(A4608,10)=\"</contrib>\",C4608,C4608)))","v":0},{"$f":"IF(AND(C4609>0,LEFT(A4609,7)=\"<email>\",ISNUMBER(SEARCH(\"@\",A4609,1))),C4609,IF(LEFT(A4609,10)=\"<alt-text>\",-1,0))","v":0},{"$f":"IF(D4609=0,E4608,E4608+1)","v":0},{"$f":"INDIRECT(ADDRESS(ROW()+INDIRECT(ADDRESS(ROW()+E4609,5)),1))","v":""},{"$f":"IF(LEFT(F4609,7)=\"<aff id\",_xlfn.NUMBERVALUE(MID(F4609,13,LEN(F4609)-14)),IF(F4609=\"</aff>\",G4608+1,G4608))","v":0},0,{"$f":"INDIRECT(ADDRESS(ROW()-INDIRECT(ADDRESS(ROW()-H4609,8)),8))","v":0},{"$f":"IF(J4608=\"Linea_para_MAIL_creada_por_LuXML\",\"</aff>\",IF(I4609>INDIRECT(ADDRESS(ROW()-I4609-1,8)),\"Linea_para_MAIL_creada_por_LuXML\",INDIRECT(ADDRESS(ROW()-I4609,6))))","v":""},"",{"$f":"IF(OR(MID(K4607,3,5)=\"page>\",MID(K4608,3,5)=\"page>\"),L4608,IF(OR(K4608=\"<history>\",K4609=\"<history>\"),L4608+1,L4608))","v":0},{"$f":"IF(L4609>L4608,IF(L4609=1,CONCATENATE(\"<fpage>\",$S$10,\"</fpage>\"),CONCATENATE(\"<lpage>\",$S$10+1,\"</lpage>\")),IF(ISERROR(INDIRECT(ADDRESS(ROW()-L4609,11),1)),\"\",INDIRECT(ADDRESS(ROW()-L4609,11),1)))","v":""},{"$f":"IF(N4608=-1,-1,IF(M4609=\"</counts>\",-1,IF(OR(LEFT(M4609,7)=\"<fpage>\",LEFT(M4609,7)=\"<lpage>\"),VALUE(MID(M4609,8,LEN(M4609)-15)),0)))","v":0},"",{"$f":"IF(ROW()<$S$4+2,IF('XML a procesar'!A4608=\"\",P4608,IF(MID('XML a procesar'!A4608,1,1)=\"<\",P4608,P4608+1)),P4608)","v":1}]
[{"$f":"IF('XML a procesar'!A4609>0,'XML a procesar'!A4609,\"\")","v":""},0,0,0,0,"",0,0,0,"","",0,"",0,{"$f":"IF(N4610>-1,INDIRECT(ADDRESS(ROW(),13)),IF(N4610<N4609,CONCATENATE(\"<page-count count=\",CHAR(34),1+LARGE(N:N,1)-LARGE(N:N,2),CHAR(34),\"/>\"),INDIRECT(ADDRESS(ROW()-1,13))))","v":""},{"$f":"IF(ROW()<$S$4+2,IF('XML a procesar'!A4609=\"\",P4609,IF(MID('XML a procesar'!A4609,1,1)=\"<\",P4609,P4609+1)),P4609)","v":1}]
[{"$f":"IF('XML a procesar'!A4610>0,'XML a procesar'!A4610,\"\")","v":""},0,0,0,0,"",0,{"$f":"IF(AND(G4610>0,G4611>G4610,NOT(ISERROR(MATCH(G4610,D:D,0)))),H4610+1,H4610)","v":0},0,"",{"$f":"IF(J4611=\"Linea_para_MAIL_creada_por_LuXML\",IF(ISERROR(MATCH(INDIRECT(ADDRESS(ROW()-G4611,7)),D:D,0)),J4611,INDIRECT(ADDRESS(MATCH(INDIRECT(ADDRESS(ROW()-G4611,7)),D:D,0),1))),J4611)","v":""},0,"",0,"",{"$f":"IF(ROW()<$S$4+2,IF('XML a procesar'!A4610=\"\",P4610,IF(MID('XML a procesar'!A4610,1,1)=\"<\",P4610,P4610+1)),P4610)","v":1}]
[{"$f":"IF('XML a procesar'!A4611>0,'XML a procesar'!A4611,\"\")","v":""},0,0,0,0,"",0,0,0,"","",0,"",0,"",{"$f":"IF(ROW()<$S$4+2,IF('XML a procesar'!A4611=\"\",P4611,IF(MID('XML a procesar'!A4611,1,1)=\"<\",P4611,P4611+1)),P4611)","v":1}]
[{"$f":"IF('XML a procesar'!A4612>0,'XML a procesar'!A4612,\"\")","v":""},0,0,0,0,"",0,0,0,"","",0,"",0,"",{"$f":"IF(ROW()<$S$4+2,IF('XML a procesar'!A4612=\"\",P4612,IF(MID('XML a procesar'!A4612,1,1)=\"<\",P4612,P4612+1)),P4612)","v":1}]
[{"$f":"IF('XML a procesar'!A4613>0,'XML a procesar'!A4613,\"\")","v":""},0,0,0,0,"",0,0,0,"","",0,"",0,"",{"$f":"IF(ROW()<$S$4+2,IF('XML a procesar'!A4613=\"\",P4613,IF(MID('XML a procesar'!A4613,1,1)=\"<\",P4613,P4613+1)),P4613)","v":1}]
[{"$f":"IF('XML a procesar'!A4614>0,'XML a procesar'!A4614,\"\")","v":""},0,0,0,0,"",0,0,0,"","",0,"",0,"",{"$f":"IF(ROW()<$S$4+2,IF('XML a procesar'!A4614=\"\",P4614,IF(MID('XML a procesar'!A4614,1,1)=\"<\",P4614,P4614+1)),P4614)","v":1}]
[{"$f":"IF('XML a procesar'!A4615>0,'XML a procesar'!A4615,\"\")","v":""},0,0,0,0,"",0,0,0,"","",0,"",0,"",{"$f":"IF(ROW()<$S$4+2,IF('XML a procesar'!A4615=\"\",P4615,IF(MID('XML a procesar'!A4615,1,1)=\"<\",P4615,P4615+1)),P4615)","v":1}]
[{"$f":"IF('XML a procesar'!A4616>0,'XML a procesar'!A4616,\"\")","v":""},0,0,0,0,"",0,0,0,"","",0,"",0,"",{"$f":"IF(ROW()<$S$4+2,IF('XML a procesar'!A4616=\"\",P4616,IF(MID('XML a procesar'!A4616,1,1)=\"<\",P4616,P4616+1)),P4616)","v":1}]
[{"$f":"IF('XML a procesar'!A4617>0,'XML a procesar'!A4617,\"\")","v":""},0,0,0,0,"",0,0,0,"","",0,"",0,"",{"$f":"IF(ROW()<$S$4+2,IF('XML a procesar'!A4617=\"\",P4617,IF(MID('XML a procesar'!A4617,1,1)=\"<\",P4617,P4617+1)),P4617)","v":1}]
[{"$f":"IF('XML a procesar'!A4618>0,'XML a procesar'!A4618,\"\")","v":""},0,0,0,0,"",0,0,0,"","",0,"",0,"",{"$f":"IF(ROW()<$S$4+2,IF('XML a procesar'!A4618=\"\",P4618,IF(MID('XML a procesar'!A4618,1,1)=\"<\",P4618,P4618+1)),P4618)","v":1}]
[{"$f":"IF('XML a procesar'!A4619>0,'XML a procesar'!A4619,\"\")","v":""},0,0,0,0,"",0,0,0,"","",0,"",0,"",{"$f":"IF(ROW()<$S$4+2,IF('XML a procesar'!A4619=\"\",P4619,IF(MID('XML a procesar'!A4619,1,1)=\"<\",P4619,P4619+1)),P4619)","v":1}]
[{"$f":"IF('XML a procesar'!A4620>0,'XML a procesar'!A4620,\"\")","v":""},0,0,0,0,"",0,0,0,"","",0,"",0,"",{"$f":"IF(ROW()<$S$4+2,IF('XML a procesar'!A4620=\"\",P4620,IF(MID('XML a procesar'!A4620,1,1)=\"<\",P4620,P4620+1)),P4620)","v":1}]
[{"$f":"IF('XML a procesar'!A4621>0,'XML a procesar'!A4621,\"\")","v":""},0,0,0,0,"",0,0,0,"","",0,"",0,"",{"$f":"IF(ROW()<$S$4+2,IF('XML a procesar'!A4621=\"\",P4621,IF(MID('XML a procesar'!A4621,1,1)=\"<\",P4621,P4621+1)),P4621)","v":1}]
[{"$f":"IF('XML a procesar'!A4622>0,'XML a procesar'!A4622,\"\")","v":""},0,0,0,0,"",0,0,0,"","",0,"",0,"",{"$f":"IF(ROW()<$S$4+2,IF('XML a procesar'!A4622=\"\",P4622,IF(MID('XML a procesar'!A4622,1,1)=\"<\",P4622,P4622+1)),P4622)","v":1}]
[{"$f":"IF('XML a procesar'!A4623>0,'XML a procesar'!A4623,\"\")","v":""},0,0,0,0,"",0,0,0,"","",0,"",0,"",{"$f":"IF(ROW()<$S$4+2,IF('XML a procesar'!A4623=\"\",P4623,IF(MID('XML a procesar'!A4623,1,1)=\"<\",P4623,P4623+1)),P4623)","v":1}]
[{"$f":"IF('XML a procesar'!A4624>0,'XML a procesar'!A4624,\"\")","v":""},0,0,0,0,"",0,0,0,"","",0,"",0,"",{"$f":"IF(ROW()<$S$4+2,IF('XML a procesar'!A4624=\"\",P4624,IF(MID('XML a procesar'!A4624,1,1)=\"<\",P4624,P4624+1)),P4624)","v":1}]
[{"$f":"IF('XML a procesar'!A4625>0,'XML a procesar'!A4625,\"\")","v":""},0,0,0,0,"",0,0,0,"","",0,"",0,"",{"$f":"IF(ROW()<$S$4+2,IF('XML a procesar'!A4625=\"\",P4625,IF(MID('XML a procesar'!A4625,1,1)=\"<\",P4625,P4625+1)),P4625)","v":1}]
[{"$f":"IF('XML a procesar'!A4626>0,'XML a procesar'!A4626,\"\")","v":""},0,0,0,0,"",0,0,0,"","",0,"",0,"",{"$f":"IF(ROW()<$S$4+2,IF('XML a procesar'!A4626=\"\",P4626,IF(MID('XML a procesar'!A4626,1,1)=\"<\",P4626,P4626+1)),P4626)","v":1}]
[{"$f":"IF('XML a procesar'!A4627>0,'XML a procesar'!A4627,\"\")","v":""},0,0,0,0,"",0,0,0,"","",0,"",0,"",{"$f":"IF(ROW()<$S$4+2,IF('XML a procesar'!A4627=\"\",P4627,IF(MID('XML a procesar'!A4627,1,1)=\"<\",P4627,P4627+1)),P4627)","v":1}]
[{"$f":"IF('XML a procesar'!A4628>0,'XML a procesar'!A4628,\"\")","v":""},0,0,0,0,"",0,0,0,"","",0,"",0,"",{"$f":"IF(ROW()<$S$4+2,IF('XML a procesar'!A4628=\"\",P4628,IF(MID('XML a procesar'!A4628,1,1)=\"<\",P4628,P4628+1)),P4628)","v":1}]
[{"$f":"IF('XML a procesar'!A4629>0,'XML a procesar'!A4629,\"\")","v":""},0,0,0,0,"",0,0,0,"","",0,"",0,"",{"$f":"IF(ROW()<$S$4+2,IF('XML a procesar'!A4629=\"\",P4629,IF(MID('XML a procesar'!A4629,1,1)=\"<\",P4629,P4629+1)),P4629)","v":1}]
[{"$f":"IF('XML a procesar'!A4630>0,'XML a procesar'!A4630,\"\")","v":""},0,0,0,0,"",0,0,0,"","",0,"",0,"",{"$f":"IF(ROW()<$S$4+2,IF('XML a procesar'!A4630=\"\",P4630,IF(MID('XML a procesar'!A4630,1,1)=\"<\",P4630,P4630+1)),P4630)","v":1}]
[{"$f":"IF('XML a procesar'!A4631>0,'XML a procesar'!A4631,\"\")","v":""},0,0,0,0,"",0,0,0,"","",0,"",0,"",{"$f":"IF(ROW()<$S$4+2,IF('XML a procesar'!A4631=\"\",P4631,IF(MID('XML a procesar'!A4631,1,1)=\"<\",P4631,P4631+1)),P4631)","v":1}]
[{"$f":"IF('XML a procesar'!A4632>0,'XML a procesar'!A4632,\"\")","v":""},0,0,0,0,"",0,0,0,"","",0,"",0,"",{"$f":"IF(ROW()<$S$4+2,IF('XML a procesar'!A4632=\"\",P4632,IF(MID('XML a procesar'!A4632,1,1)=\"<\",P4632,P4632+1)),P4632)","v":1}]
[{"$f":"IF('XML a procesar'!A4633>0,'XML a procesar'!A4633,\"\")","v":""},0,0,0,0,"",0,0,0,"","",0,"",0,"",{"$f":"IF(ROW()<$S$4+2,IF('XML a procesar'!A4633=\"\",P4633,IF(MID('XML a procesar'!A4633,1,1)=\"<\",P4633,P4633+1)),P4633)","v":1}]
[{"$f":"IF('XML a procesar'!A4634>0,'XML a procesar'!A4634,\"\")","v":""},0,0,0,0,"",0,0,0,"","",0,"",0,"",{"$f":"IF(ROW()<$S$4+2,IF('XML a procesar'!A4634=\"\",P4634,IF(MID('XML a procesar'!A4634,1,1)=\"<\",P4634,P4634+1)),P4634)","v":1}]
[{"$f":"IF('XML a procesar'!A4635>0,'XML a procesar'!A4635,\"\")","v":""},0,0,0,0,"",0,0,0,"","",0,"",0,"",{"$f":"IF(ROW()<$S$4+2,IF('XML a procesar'!A4635=\"\",P4635,IF(MID('XML a procesar'!A4635,1,1)=\"<\",P4635,P4635+1)),P4635)","v":1}]
[{"$f":"IF('XML a procesar'!A4636>0,'XML a procesar'!A4636,\"\")","v":""},0,0,0,0,"",0,0,0,"","",0,"",0,"",{"$f":"IF(ROW()<$S$4+2,IF('XML a procesar'!A4636=\"\",P4636,IF(MID('XML a procesar'!A4636,1,1)=\"<\",P4636,P4636+1)),P4636)","v":1}]
[{"$f":"IF('XML a procesar'!A4637>0,'XML a procesar'!A4637,\"\")","v":""},0,0,0,0,"",0,0,0,"","",0,"",0,"",{"$f":"IF(ROW()<$S$4+2,IF('XML a procesar'!A4637=\"\",P4637,IF(MID('XML a procesar'!A4637,1,1)=\"<\",P4637,P4637+1)),P4637)","v":1}]
[{"$f":"IF('XML a procesar'!A4638>0,'XML a procesar'!A4638,\"\")","v":""},0,0,0,0,"",0,0,0,"","",0,"",0,"",{"$f":"IF(ROW()<$S$4+2,IF('XML a procesar'!A4638=\"\",P4638,IF(MID('XML a procesar'!A4638,1,1)=\"<\",P4638,P4638+1)),P4638)","v":1}]
[{"$f":"IF('XML a procesar'!A4639>0,'XML a procesar'!A4639,\"\")","v":""},0,0,0,0,"",0,0,0,"","",0,"",0,"",{"$f":"IF(ROW()<$S$4+2,IF('XML a procesar'!A4639=\"\",P4639,IF(MID('XML a procesar'!A4639,1,1)=\"<\",P4639,P4639+1)),P4639)","v":1}]
[{"$f":"IF('XML a procesar'!A4640>0,'XML a procesar'!A4640,\"\")","v":""},0,0,0,0,"",0,0,0,"","",0,"",0,"",{"$f":"IF(ROW()<$S$4+2,IF('XML a procesar'!A4640=\"\",P4640,IF(MID('XML a procesar'!A4640,1,1)=\"<\",P4640,P4640+1)),P4640)","v":1}]
[{"$f":"IF('XML a procesar'!A4641>0,'XML a procesar'!A4641,\"\")","v":""},0,0,0,0,"",0,0,0,"","",0,"",0,"",{"$f":"IF(ROW()<$S$4+2,IF('XML a procesar'!A4641=\"\",P4641,IF(MID('XML a procesar'!A4641,1,1)=\"<\",P4641,P4641+1)),P4641)","v":1}]
[{"$f":"IF('XML a procesar'!A4642>0,'XML a procesar'!A4642,\"\")","v":""},0,0,0,0,"",0,0,0,"","",0,"",0,"",{"$f":"IF(ROW()<$S$4+2,IF('XML a procesar'!A4642=\"\",P4642,IF(MID('XML a procesar'!A4642,1,1)=\"<\",P4642,P4642+1)),P4642)","v":1}]
[{"$f":"IF('XML a procesar'!A4643>0,'XML a procesar'!A4643,\"\")","v":""},0,0,0,0,"",0,0,0,"","",0,"",0,"",{"$f":"IF(ROW()<$S$4+2,IF('XML a procesar'!A4643=\"\",P4643,IF(MID('XML a procesar'!A4643,1,1)=\"<\",P4643,P4643+1)),P4643)","v":1}]
[{"$f":"IF('XML a procesar'!A4644>0,'XML a procesar'!A4644,\"\")","v":""},0,0,0,0,"",0,0,0,"","",0,"",0,"",{"$f":"IF(ROW()<$S$4+2,IF('XML a procesar'!A4644=\"\",P4644,IF(MID('XML a procesar'!A4644,1,1)=\"<\",P4644,P4644+1)),P4644)","v":1}]
[{"$f":"IF('XML a procesar'!A4645>0,'XML a procesar'!A4645,\"\")","v":""},0,0,0,0,"",0,0,0,"","",0,"",0,"",{"$f":"IF(ROW()<$S$4+2,IF('XML a procesar'!A4645=\"\",P4645,IF(MID('XML a procesar'!A4645,1,1)=\"<\",P4645,P4645+1)),P4645)","v":1}]
[{"$f":"IF('XML a procesar'!A4646>0,'XML a procesar'!A4646,\"\")","v":""},0,0,0,0,"",0,0,0,"","",0,"",0,"",{"$f":"IF(ROW()<$S$4+2,IF('XML a procesar'!A4646=\"\",P4646,IF(MID('XML a procesar'!A4646,1,1)=\"<\",P4646,P4646+1)),P4646)","v":1}]
[{"$f":"IF('XML a procesar'!A4647>0,'XML a procesar'!A4647,\"\")","v":""},0,0,0,0,"",0,0,0,"","",0,"",0,"",{"$f":"IF(ROW()<$S$4+2,IF('XML a procesar'!A4647=\"\",P4647,IF(MID('XML a procesar'!A4647,1,1)=\"<\",P4647,P4647+1)),P4647)","v":1}]
[{"$f":"IF('XML a procesar'!A4648>0,'XML a procesar'!A4648,\"\")","v":""},0,0,0,0,"",0,0,0,"","",0,"",0,"",{"$f":"IF(ROW()<$S$4+2,IF('XML a procesar'!A4648=\"\",P4648,IF(MID('XML a procesar'!A4648,1,1)=\"<\",P4648,P4648+1)),P4648)","v":1}]
[{"$f":"IF('XML a procesar'!A4649>0,'XML a procesar'!A4649,\"\")","v":""},0,0,0,0,"",0,0,0,"","",0,"",0,"",{"$f":"IF(ROW()<$S$4+2,IF('XML a procesar'!A4649=\"\",P4649,IF(MID('XML a procesar'!A4649,1,1)=\"<\",P4649,P4649+1)),P4649)","v":1}]
[{"$f":"IF('XML a procesar'!A4650>0,'XML a procesar'!A4650,\"\")","v":""},0,0,0,0,"",0,0,0,"","",0,"",0,"",{"$f":"IF(ROW()<$S$4+2,IF('XML a procesar'!A4650=\"\",P4650,IF(MID('XML a procesar'!A4650,1,1)=\"<\",P4650,P4650+1)),P4650)","v":1}]
[{"$f":"IF('XML a procesar'!A4651>0,'XML a procesar'!A4651,\"\")","v":""},0,0,0,0,"",0,0,0,"","",0,"",0,"",{"$f":"IF(ROW()<$S$4+2,IF('XML a procesar'!A4651=\"\",P4651,IF(MID('XML a procesar'!A4651,1,1)=\"<\",P4651,P4651+1)),P4651)","v":1}]
[{"$f":"IF('XML a procesar'!A4652>0,'XML a procesar'!A4652,\"\")","v":""},0,0,0,0,"",0,0,0,"","",0,"",0,"",{"$f":"IF(ROW()<$S$4+2,IF('XML a procesar'!A4652=\"\",P4652,IF(MID('XML a procesar'!A4652,1,1)=\"<\",P4652,P4652+1)),P4652)","v":1}]
[{"$f":"IF('XML a procesar'!A4653>0,'XML a procesar'!A4653,\"\")","v":""},0,0,0,0,"",0,0,0,"","",0,"",0,"",{"$f":"IF(ROW()<$S$4+2,IF('XML a procesar'!A4653=\"\",P4653,IF(MID('XML a procesar'!A4653,1,1)=\"<\",P4653,P4653+1)),P4653)","v":1}]
[{"$f":"IF('XML a procesar'!A4654>0,'XML a procesar'!A4654,\"\")","v":""},0,0,0,0,"",0,0,0,"","",0,"",0,"",{"$f":"IF(ROW()<$S$4+2,IF('XML a procesar'!A4654=\"\",P4654,IF(MID('XML a procesar'!A4654,1,1)=\"<\",P4654,P4654+1)),P4654)","v":1}]
[{"$f":"IF('XML a procesar'!A4655>0,'XML a procesar'!A4655,\"\")","v":""},0,0,0,0,"",0,0,0,"","",0,"",0,"",{"$f":"IF(ROW()<$S$4+2,IF('XML a procesar'!A4655=\"\",P4655,IF(MID('XML a procesar'!A4655,1,1)=\"<\",P4655,P4655+1)),P4655)","v":1}]
[{"$f":"IF('XML a procesar'!A4656>0,'XML a procesar'!A4656,\"\")","v":""},0,0,0,0,"",0,0,0,"","",0,"",0,"",{"$f":"IF(ROW()<$S$4+2,IF('XML a procesar'!A4656=\"\",P4656,IF(MID('XML a procesar'!A4656,1,1)=\"<\",P4656,P4656+1)),P4656)","v":1}]
[{"$f":"IF('XML a procesar'!A4657>0,'XML a procesar'!A4657,\"\")","v":""},0,0,0,0,"",0,0,0,"","",0,"",0,"",{"$f":"IF(ROW()<$S$4+2,IF('XML a procesar'!A4657=\"\",P4657,IF(MID('XML a procesar'!A4657,1,1)=\"<\",P4657,P4657+1)),P4657)","v":1}]
[{"$f":"IF('XML a procesar'!A4658>0,'XML a procesar'!A4658,\"\")","v":""},0,0,0,0,"",0,0,0,"","",0,"",0,"",{"$f":"IF(ROW()<$S$4+2,IF('XML a procesar'!A4658=\"\",P4658,IF(MID('XML a procesar'!A4658,1,1)=\"<\",P4658,P4658+1)),P4658)","v":1}]
[{"$f":"IF('XML a procesar'!A4659>0,'XML a procesar'!A4659,\"\")","v":""},0,0,0,0,"",0,0,0,"","",0,"",0,"",{"$f":"IF(ROW()<$S$4+2,IF('XML a procesar'!A4659=\"\",P4659,IF(MID('XML a procesar'!A4659,1,1)=\"<\",P4659,P4659+1)),P4659)","v":1}]
[{"$f":"IF('XML a procesar'!A4660>0,'XML a procesar'!A4660,\"\")","v":""},0,0,0,0,"",0,0,0,"","",0,"",0,"",{"$f":"IF(ROW()<$S$4+2,IF('XML a procesar'!A4660=\"\",P4660,IF(MID('XML a procesar'!A4660,1,1)=\"<\",P4660,P4660+1)),P4660)","v":1}]
[{"$f":"IF('XML a procesar'!A4661>0,'XML a procesar'!A4661,\"\")","v":""},0,0,0,0,"",0,0,0,"","",0,"",0,"",{"$f":"IF(ROW()<$S$4+2,IF('XML a procesar'!A4661=\"\",P4661,IF(MID('XML a procesar'!A4661,1,1)=\"<\",P4661,P4661+1)),P4661)","v":1}]
[{"$f":"IF('XML a procesar'!A4662>0,'XML a procesar'!A4662,\"\")","v":""},0,0,0,0,"",0,0,0,"","",0,"",0,"",{"$f":"IF(ROW()<$S$4+2,IF('XML a procesar'!A4662=\"\",P4662,IF(MID('XML a procesar'!A4662,1,1)=\"<\",P4662,P4662+1)),P4662)","v":1}]
[{"$f":"IF('XML a procesar'!A4663>0,'XML a procesar'!A4663,\"\")","v":""},0,0,0,0,"",0,0,0,"","",0,"",0,"",{"$f":"IF(ROW()<$S$4+2,IF('XML a procesar'!A4663=\"\",P4663,IF(MID('XML a procesar'!A4663,1,1)=\"<\",P4663,P4663+1)),P4663)","v":1}]
[{"$f":"IF('XML a procesar'!A4664>0,'XML a procesar'!A4664,\"\")","v":""},0,0,0,0,"",0,0,0,"","",0,"",0,"",{"$f":"IF(ROW()<$S$4+2,IF('XML a procesar'!A4664=\"\",P4664,IF(MID('XML a procesar'!A4664,1,1)=\"<\",P4664,P4664+1)),P4664)","v":1}]
[{"$f":"IF('XML a procesar'!A4665>0,'XML a procesar'!A4665,\"\")","v":""},0,0,0,0,"",0,0,0,"","",0,"",0,"",{"$f":"IF(ROW()<$S$4+2,IF('XML a procesar'!A4665=\"\",P4665,IF(MID('XML a procesar'!A4665,1,1)=\"<\",P4665,P4665+1)),P4665)","v":1}]
[{"$f":"IF('XML a procesar'!A4666>0,'XML a procesar'!A4666,\"\")","v":""},0,0,0,0,"",0,0,0,"","",0,"",0,"",{"$f":"IF(ROW()<$S$4+2,IF('XML a procesar'!A4666=\"\",P4666,IF(MID('XML a procesar'!A4666,1,1)=\"<\",P4666,P4666+1)),P4666)","v":1}]
[{"$f":"IF('XML a procesar'!A4667>0,'XML a procesar'!A4667,\"\")","v":""},0,0,0,0,"",0,0,0,"","",0,"",0,"",{"$f":"IF(ROW()<$S$4+2,IF('XML a procesar'!A4667=\"\",P4667,IF(MID('XML a procesar'!A4667,1,1)=\"<\",P4667,P4667+1)),P4667)","v":1}]
[{"$f":"IF('XML a procesar'!A4668>0,'XML a procesar'!A4668,\"\")","v":""},0,0,0,0,"",0,0,0,"","",0,"",0,"",{"$f":"IF(ROW()<$S$4+2,IF('XML a procesar'!A4668=\"\",P4668,IF(MID('XML a procesar'!A4668,1,1)=\"<\",P4668,P4668+1)),P4668)","v":1}]
[{"$f":"IF('XML a procesar'!A4669>0,'XML a procesar'!A4669,\"\")","v":""},0,0,0,0,"",0,0,0,"","",0,"",0,"",{"$f":"IF(ROW()<$S$4+2,IF('XML a procesar'!A4669=\"\",P4669,IF(MID('XML a procesar'!A4669,1,1)=\"<\",P4669,P4669+1)),P4669)","v":1}]
[{"$f":"IF('XML a procesar'!A4670>0,'XML a procesar'!A4670,\"\")","v":""},0,0,0,0,"",0,0,0,"","",0,"",0,"",{"$f":"IF(ROW()<$S$4+2,IF('XML a procesar'!A4670=\"\",P4670,IF(MID('XML a procesar'!A4670,1,1)=\"<\",P4670,P4670+1)),P4670)","v":1}]
[{"$f":"IF('XML a procesar'!A4671>0,'XML a procesar'!A4671,\"\")","v":""},0,0,0,0,"",0,0,0,"","",0,"",0,"",{"$f":"IF(ROW()<$S$4+2,IF('XML a procesar'!A4671=\"\",P4671,IF(MID('XML a procesar'!A4671,1,1)=\"<\",P4671,P4671+1)),P4671)","v":1}]
[{"$f":"IF('XML a procesar'!A4672>0,'XML a procesar'!A4672,\"\")","v":""},{"$f":"IF(ISERROR(FIND(\"/doi.org/\",A4673,1)),0,1)","v":0},{"$f":"IF(LEFT(A4672,16)=\"<contrib contrib\",C4672+1,IF(LEFT(A4672,16)=\"</contrib-group>\",0,IF(LEFT(A4672,10)=\"</contrib>\",C4672,C4672)))","v":0},{"$f":"IF(AND(C4673>0,LEFT(A4673,7)=\"<email>\",ISNUMBER(SEARCH(\"@\",A4673,1))),C4673,IF(LEFT(A4673,10)=\"<alt-text>\",-1,0))","v":0},{"$f":"IF(D4673=0,E4672,E4672+1)","v":0},{"$f":"INDIRECT(ADDRESS(ROW()+INDIRECT(ADDRESS(ROW()+E4673,5)),1))","v":""},{"$f":"IF(LEFT(F4673,7)=\"<aff id\",_xlfn.NUMBERVALUE(MID(F4673,13,LEN(F4673)-14)),IF(F4673=\"</aff>\",G4672+1,G4672))","v":0},0,{"$f":"INDIRECT(ADDRESS(ROW()-INDIRECT(ADDRESS(ROW()-H4673,8)),8))","v":0},{"$f":"IF(J4672=\"Linea_para_MAIL_creada_por_LuXML\",\"</aff>\",IF(I4673>INDIRECT(ADDRESS(ROW()-I4673-1,8)),\"Linea_para_MAIL_creada_por_LuXML\",INDIRECT(ADDRESS(ROW()-I4673,6))))","v":""},"",{"$f":"IF(OR(MID(K4671,3,5)=\"page>\",MID(K4672,3,5)=\"page>\"),L4672,IF(OR(K4672=\"<history>\",K4673=\"<history>\"),L4672+1,L4672))","v":0},{"$f":"IF(L4673>L4672,IF(L4673=1,CONCATENATE(\"<fpage>\",$S$10,\"</fpage>\"),CONCATENATE(\"<lpage>\",$S$10+1,\"</lpage>\")),IF(ISERROR(INDIRECT(ADDRESS(ROW()-L4673,11),1)),\"\",INDIRECT(ADDRESS(ROW()-L4673,11),1)))","v":""},{"$f":"IF(N4672=-1,-1,IF(M4673=\"</counts>\",-1,IF(OR(LEFT(M4673,7)=\"<fpage>\",LEFT(M4673,7)=\"<lpage>\"),VALUE(MID(M4673,8,LEN(M4673)-15)),0)))","v":0},"",{"$f":"IF(ROW()<$S$4+2,IF('XML a procesar'!A4672=\"\",P4672,IF(MID('XML a procesar'!A4672,1,1)=\"<\",P4672,P4672+1)),P4672)","v":1}]
[{"$f":"IF('XML a procesar'!A4673>0,'XML a procesar'!A4673,\"\")","v":""},0,0,0,0,"",0,0,0,"","",0,"",0,{"$f":"IF(N4674>-1,INDIRECT(ADDRESS(ROW(),13)),IF(N4674<N4673,CONCATENATE(\"<page-count count=\",CHAR(34),1+LARGE(N:N,1)-LARGE(N:N,2),CHAR(34),\"/>\"),INDIRECT(ADDRESS(ROW()-1,13))))","v":""},{"$f":"IF(ROW()<$S$4+2,IF('XML a procesar'!A4673=\"\",P4673,IF(MID('XML a procesar'!A4673,1,1)=\"<\",P4673,P4673+1)),P4673)","v":1}]
[{"$f":"IF('XML a procesar'!A4674>0,'XML a procesar'!A4674,\"\")","v":""},0,0,0,0,"",0,{"$f":"IF(AND(G4674>0,G4675>G4674,NOT(ISERROR(MATCH(G4674,D:D,0)))),H4674+1,H4674)","v":0},0,"",{"$f":"IF(J4675=\"Linea_para_MAIL_creada_por_LuXML\",IF(ISERROR(MATCH(INDIRECT(ADDRESS(ROW()-G4675,7)),D:D,0)),J4675,INDIRECT(ADDRESS(MATCH(INDIRECT(ADDRESS(ROW()-G4675,7)),D:D,0),1))),J4675)","v":""},0,"",0,"",{"$f":"IF(ROW()<$S$4+2,IF('XML a procesar'!A4674=\"\",P4674,IF(MID('XML a procesar'!A4674,1,1)=\"<\",P4674,P4674+1)),P4674)","v":1}]
[{"$f":"IF('XML a procesar'!A4675>0,'XML a procesar'!A4675,\"\")","v":""},0,0,0,0,"",0,0,0,"","",0,"",0,"",{"$f":"IF(ROW()<$S$4+2,IF('XML a procesar'!A4675=\"\",P4675,IF(MID('XML a procesar'!A4675,1,1)=\"<\",P4675,P4675+1)),P4675)","v":1}]
[{"$f":"IF('XML a procesar'!A4676>0,'XML a procesar'!A4676,\"\")","v":""},0,0,0,0,"",0,0,0,"","",0,"",0,"",{"$f":"IF(ROW()<$S$4+2,IF('XML a procesar'!A4676=\"\",P4676,IF(MID('XML a procesar'!A4676,1,1)=\"<\",P4676,P4676+1)),P4676)","v":1}]
[{"$f":"IF('XML a procesar'!A4677>0,'XML a procesar'!A4677,\"\")","v":""},0,0,0,0,"",0,0,0,"","",0,"",0,"",{"$f":"IF(ROW()<$S$4+2,IF('XML a procesar'!A4677=\"\",P4677,IF(MID('XML a procesar'!A4677,1,1)=\"<\",P4677,P4677+1)),P4677)","v":1}]
[{"$f":"IF('XML a procesar'!A4678>0,'XML a procesar'!A4678,\"\")","v":""},0,0,0,0,"",0,0,0,"","",0,"",0,"",{"$f":"IF(ROW()<$S$4+2,IF('XML a procesar'!A4678=\"\",P4678,IF(MID('XML a procesar'!A4678,1,1)=\"<\",P4678,P4678+1)),P4678)","v":1}]
[{"$f":"IF('XML a procesar'!A4679>0,'XML a procesar'!A4679,\"\")","v":""},0,0,0,0,"",0,0,0,"","",0,"",0,"",{"$f":"IF(ROW()<$S$4+2,IF('XML a procesar'!A4679=\"\",P4679,IF(MID('XML a procesar'!A4679,1,1)=\"<\",P4679,P4679+1)),P4679)","v":1}]
[{"$f":"IF('XML a procesar'!A4680>0,'XML a procesar'!A4680,\"\")","v":""},0,0,0,0,"",0,0,0,"","",0,"",0,"",{"$f":"IF(ROW()<$S$4+2,IF('XML a procesar'!A4680=\"\",P4680,IF(MID('XML a procesar'!A4680,1,1)=\"<\",P4680,P4680+1)),P4680)","v":1}]
[{"$f":"IF('XML a procesar'!A4681>0,'XML a procesar'!A4681,\"\")","v":""},0,0,0,0,"",0,0,0,"","",0,"",0,"",{"$f":"IF(ROW()<$S$4+2,IF('XML a procesar'!A4681=\"\",P4681,IF(MID('XML a procesar'!A4681,1,1)=\"<\",P4681,P4681+1)),P4681)","v":1}]
[{"$f":"IF('XML a procesar'!A4682>0,'XML a procesar'!A4682,\"\")","v":""},0,0,0,0,"",0,0,0,"","",0,"",0,"",{"$f":"IF(ROW()<$S$4+2,IF('XML a procesar'!A4682=\"\",P4682,IF(MID('XML a procesar'!A4682,1,1)=\"<\",P4682,P4682+1)),P4682)","v":1}]
[{"$f":"IF('XML a procesar'!A4683>0,'XML a procesar'!A4683,\"\")","v":""},0,0,0,0,"",0,0,0,"","",0,"",0,"",{"$f":"IF(ROW()<$S$4+2,IF('XML a procesar'!A4683=\"\",P4683,IF(MID('XML a procesar'!A4683,1,1)=\"<\",P4683,P4683+1)),P4683)","v":1}]
[{"$f":"IF('XML a procesar'!A4684>0,'XML a procesar'!A4684,\"\")","v":""},0,0,0,0,"",0,0,0,"","",0,"",0,"",{"$f":"IF(ROW()<$S$4+2,IF('XML a procesar'!A4684=\"\",P4684,IF(MID('XML a procesar'!A4684,1,1)=\"<\",P4684,P4684+1)),P4684)","v":1}]
[{"$f":"IF('XML a procesar'!A4685>0,'XML a procesar'!A4685,\"\")","v":""},0,0,0,0,"",0,0,0,"","",0,"",0,"",{"$f":"IF(ROW()<$S$4+2,IF('XML a procesar'!A4685=\"\",P4685,IF(MID('XML a procesar'!A4685,1,1)=\"<\",P4685,P4685+1)),P4685)","v":1}]
[{"$f":"IF('XML a procesar'!A4686>0,'XML a procesar'!A4686,\"\")","v":""},0,0,0,0,"",0,0,0,"","",0,"",0,"",{"$f":"IF(ROW()<$S$4+2,IF('XML a procesar'!A4686=\"\",P4686,IF(MID('XML a procesar'!A4686,1,1)=\"<\",P4686,P4686+1)),P4686)","v":1}]
[{"$f":"IF('XML a procesar'!A4687>0,'XML a procesar'!A4687,\"\")","v":""},0,0,0,0,"",0,0,0,"","",0,"",0,"",{"$f":"IF(ROW()<$S$4+2,IF('XML a procesar'!A4687=\"\",P4687,IF(MID('XML a procesar'!A4687,1,1)=\"<\",P4687,P4687+1)),P4687)","v":1}]
[{"$f":"IF('XML a procesar'!A4688>0,'XML a procesar'!A4688,\"\")","v":""},0,0,0,0,"",0,0,0,"","",0,"",0,"",{"$f":"IF(ROW()<$S$4+2,IF('XML a procesar'!A4688=\"\",P4688,IF(MID('XML a procesar'!A4688,1,1)=\"<\",P4688,P4688+1)),P4688)","v":1}]
[{"$f":"IF('XML a procesar'!A4689>0,'XML a procesar'!A4689,\"\")","v":""},0,0,0,0,"",0,0,0,"","",0,"",0,"",{"$f":"IF(ROW()<$S$4+2,IF('XML a procesar'!A4689=\"\",P4689,IF(MID('XML a procesar'!A4689,1,1)=\"<\",P4689,P4689+1)),P4689)","v":1}]
[{"$f":"IF('XML a procesar'!A4690>0,'XML a procesar'!A4690,\"\")","v":""},0,0,0,0,"",0,0,0,"","",0,"",0,"",{"$f":"IF(ROW()<$S$4+2,IF('XML a procesar'!A4690=\"\",P4690,IF(MID('XML a procesar'!A4690,1,1)=\"<\",P4690,P4690+1)),P4690)","v":1}]
[{"$f":"IF('XML a procesar'!A4691>0,'XML a procesar'!A4691,\"\")","v":""},0,0,0,0,"",0,0,0,"","",0,"",0,"",{"$f":"IF(ROW()<$S$4+2,IF('XML a procesar'!A4691=\"\",P4691,IF(MID('XML a procesar'!A4691,1,1)=\"<\",P4691,P4691+1)),P4691)","v":1}]
[{"$f":"IF('XML a procesar'!A4692>0,'XML a procesar'!A4692,\"\")","v":""},0,0,0,0,"",0,0,0,"","",0,"",0,"",{"$f":"IF(ROW()<$S$4+2,IF('XML a procesar'!A4692=\"\",P4692,IF(MID('XML a procesar'!A4692,1,1)=\"<\",P4692,P4692+1)),P4692)","v":1}]
[{"$f":"IF('XML a procesar'!A4693>0,'XML a procesar'!A4693,\"\")","v":""},0,0,0,0,"",0,0,0,"","",0,"",0,"",{"$f":"IF(ROW()<$S$4+2,IF('XML a procesar'!A4693=\"\",P4693,IF(MID('XML a procesar'!A4693,1,1)=\"<\",P4693,P4693+1)),P4693)","v":1}]
[{"$f":"IF('XML a procesar'!A4694>0,'XML a procesar'!A4694,\"\")","v":""},0,0,0,0,"",0,0,0,"","",0,"",0,"",{"$f":"IF(ROW()<$S$4+2,IF('XML a procesar'!A4694=\"\",P4694,IF(MID('XML a procesar'!A4694,1,1)=\"<\",P4694,P4694+1)),P4694)","v":1}]
[{"$f":"IF('XML a procesar'!A4695>0,'XML a procesar'!A4695,\"\")","v":""},0,0,0,0,"",0,0,0,"","",0,"",0,"",{"$f":"IF(ROW()<$S$4+2,IF('XML a procesar'!A4695=\"\",P4695,IF(MID('XML a procesar'!A4695,1,1)=\"<\",P4695,P4695+1)),P4695)","v":1}]
[{"$f":"IF('XML a procesar'!A4696>0,'XML a procesar'!A4696,\"\")","v":""},0,0,0,0,"",0,0,0,"","",0,"",0,"",{"$f":"IF(ROW()<$S$4+2,IF('XML a procesar'!A4696=\"\",P4696,IF(MID('XML a procesar'!A4696,1,1)=\"<\",P4696,P4696+1)),P4696)","v":1}]
[{"$f":"IF('XML a procesar'!A4697>0,'XML a procesar'!A4697,\"\")","v":""},0,0,0,0,"",0,0,0,"","",0,"",0,"",{"$f":"IF(ROW()<$S$4+2,IF('XML a procesar'!A4697=\"\",P4697,IF(MID('XML a procesar'!A4697,1,1)=\"<\",P4697,P4697+1)),P4697)","v":1}]
[{"$f":"IF('XML a procesar'!A4698>0,'XML a procesar'!A4698,\"\")","v":""},0,0,0,0,"",0,0,0,"","",0,"",0,"",{"$f":"IF(ROW()<$S$4+2,IF('XML a procesar'!A4698=\"\",P4698,IF(MID('XML a procesar'!A4698,1,1)=\"<\",P4698,P4698+1)),P4698)","v":1}]
[{"$f":"IF('XML a procesar'!A4699>0,'XML a procesar'!A4699,\"\")","v":""},0,0,0,0,"",0,0,0,"","",0,"",0,"",{"$f":"IF(ROW()<$S$4+2,IF('XML a procesar'!A4699=\"\",P4699,IF(MID('XML a procesar'!A4699,1,1)=\"<\",P4699,P4699+1)),P4699)","v":1}]
[{"$f":"IF('XML a procesar'!A4700>0,'XML a procesar'!A4700,\"\")","v":""},0,0,0,0,"",0,0,0,"","",0,"",0,"",{"$f":"IF(ROW()<$S$4+2,IF('XML a procesar'!A4700=\"\",P4700,IF(MID('XML a procesar'!A4700,1,1)=\"<\",P4700,P4700+1)),P4700)","v":1}]
[{"$f":"IF('XML a procesar'!A4701>0,'XML a procesar'!A4701,\"\")","v":""},0,0,0,0,"",0,0,0,"","",0,"",0,"",{"$f":"IF(ROW()<$S$4+2,IF('XML a procesar'!A4701=\"\",P4701,IF(MID('XML a procesar'!A4701,1,1)=\"<\",P4701,P4701+1)),P4701)","v":1}]
[{"$f":"IF('XML a procesar'!A4702>0,'XML a procesar'!A4702,\"\")","v":""},0,0,0,0,"",0,0,0,"","",0,"",0,"",{"$f":"IF(ROW()<$S$4+2,IF('XML a procesar'!A4702=\"\",P4702,IF(MID('XML a procesar'!A4702,1,1)=\"<\",P4702,P4702+1)),P4702)","v":1}]
[{"$f":"IF('XML a procesar'!A4703>0,'XML a procesar'!A4703,\"\")","v":""},0,0,0,0,"",0,0,0,"","",0,"",0,"",{"$f":"IF(ROW()<$S$4+2,IF('XML a procesar'!A4703=\"\",P4703,IF(MID('XML a procesar'!A4703,1,1)=\"<\",P4703,P4703+1)),P4703)","v":1}]
[{"$f":"IF('XML a procesar'!A4704>0,'XML a procesar'!A4704,\"\")","v":""},0,0,0,0,"",0,0,0,"","",0,"",0,"",{"$f":"IF(ROW()<$S$4+2,IF('XML a procesar'!A4704=\"\",P4704,IF(MID('XML a procesar'!A4704,1,1)=\"<\",P4704,P4704+1)),P4704)","v":1}]
[{"$f":"IF('XML a procesar'!A4705>0,'XML a procesar'!A4705,\"\")","v":""},0,0,0,0,"",0,0,0,"","",0,"",0,"",{"$f":"IF(ROW()<$S$4+2,IF('XML a procesar'!A4705=\"\",P4705,IF(MID('XML a procesar'!A4705,1,1)=\"<\",P4705,P4705+1)),P4705)","v":1}]
[{"$f":"IF('XML a procesar'!A4706>0,'XML a procesar'!A4706,\"\")","v":""},0,0,0,0,"",0,0,0,"","",0,"",0,"",{"$f":"IF(ROW()<$S$4+2,IF('XML a procesar'!A4706=\"\",P4706,IF(MID('XML a procesar'!A4706,1,1)=\"<\",P4706,P4706+1)),P4706)","v":1}]
[{"$f":"IF('XML a procesar'!A4707>0,'XML a procesar'!A4707,\"\")","v":""},0,0,0,0,"",0,0,0,"","",0,"",0,"",{"$f":"IF(ROW()<$S$4+2,IF('XML a procesar'!A4707=\"\",P4707,IF(MID('XML a procesar'!A4707,1,1)=\"<\",P4707,P4707+1)),P4707)","v":1}]
[{"$f":"IF('XML a procesar'!A4708>0,'XML a procesar'!A4708,\"\")","v":""},0,0,0,0,"",0,0,0,"","",0,"",0,"",{"$f":"IF(ROW()<$S$4+2,IF('XML a procesar'!A4708=\"\",P4708,IF(MID('XML a procesar'!A4708,1,1)=\"<\",P4708,P4708+1)),P4708)","v":1}]
[{"$f":"IF('XML a procesar'!A4709>0,'XML a procesar'!A4709,\"\")","v":""},0,0,0,0,"",0,0,0,"","",0,"",0,"",{"$f":"IF(ROW()<$S$4+2,IF('XML a procesar'!A4709=\"\",P4709,IF(MID('XML a procesar'!A4709,1,1)=\"<\",P4709,P4709+1)),P4709)","v":1}]
[{"$f":"IF('XML a procesar'!A4710>0,'XML a procesar'!A4710,\"\")","v":""},0,0,0,0,"",0,0,0,"","",0,"",0,"",{"$f":"IF(ROW()<$S$4+2,IF('XML a procesar'!A4710=\"\",P4710,IF(MID('XML a procesar'!A4710,1,1)=\"<\",P4710,P4710+1)),P4710)","v":1}]
[{"$f":"IF('XML a procesar'!A4711>0,'XML a procesar'!A4711,\"\")","v":""},0,0,0,0,"",0,0,0,"","",0,"",0,"",{"$f":"IF(ROW()<$S$4+2,IF('XML a procesar'!A4711=\"\",P4711,IF(MID('XML a procesar'!A4711,1,1)=\"<\",P4711,P4711+1)),P4711)","v":1}]
[{"$f":"IF('XML a procesar'!A4712>0,'XML a procesar'!A4712,\"\")","v":""},0,0,0,0,"",0,0,0,"","",0,"",0,"",{"$f":"IF(ROW()<$S$4+2,IF('XML a procesar'!A4712=\"\",P4712,IF(MID('XML a procesar'!A4712,1,1)=\"<\",P4712,P4712+1)),P4712)","v":1}]
[{"$f":"IF('XML a procesar'!A4713>0,'XML a procesar'!A4713,\"\")","v":""},0,0,0,0,"",0,0,0,"","",0,"",0,"",{"$f":"IF(ROW()<$S$4+2,IF('XML a procesar'!A4713=\"\",P4713,IF(MID('XML a procesar'!A4713,1,1)=\"<\",P4713,P4713+1)),P4713)","v":1}]
[{"$f":"IF('XML a procesar'!A4714>0,'XML a procesar'!A4714,\"\")","v":""},0,0,0,0,"",0,0,0,"","",0,"",0,"",{"$f":"IF(ROW()<$S$4+2,IF('XML a procesar'!A4714=\"\",P4714,IF(MID('XML a procesar'!A4714,1,1)=\"<\",P4714,P4714+1)),P4714)","v":1}]
[{"$f":"IF('XML a procesar'!A4715>0,'XML a procesar'!A4715,\"\")","v":""},0,0,0,0,"",0,0,0,"","",0,"",0,"",{"$f":"IF(ROW()<$S$4+2,IF('XML a procesar'!A4715=\"\",P4715,IF(MID('XML a procesar'!A4715,1,1)=\"<\",P4715,P4715+1)),P4715)","v":1}]
[{"$f":"IF('XML a procesar'!A4716>0,'XML a procesar'!A4716,\"\")","v":""},0,0,0,0,"",0,0,0,"","",0,"",0,"",{"$f":"IF(ROW()<$S$4+2,IF('XML a procesar'!A4716=\"\",P4716,IF(MID('XML a procesar'!A4716,1,1)=\"<\",P4716,P4716+1)),P4716)","v":1}]
[{"$f":"IF('XML a procesar'!A4717>0,'XML a procesar'!A4717,\"\")","v":""},0,0,0,0,"",0,0,0,"","",0,"",0,"",{"$f":"IF(ROW()<$S$4+2,IF('XML a procesar'!A4717=\"\",P4717,IF(MID('XML a procesar'!A4717,1,1)=\"<\",P4717,P4717+1)),P4717)","v":1}]
[{"$f":"IF('XML a procesar'!A4718>0,'XML a procesar'!A4718,\"\")","v":""},0,0,0,0,"",0,0,0,"","",0,"",0,"",{"$f":"IF(ROW()<$S$4+2,IF('XML a procesar'!A4718=\"\",P4718,IF(MID('XML a procesar'!A4718,1,1)=\"<\",P4718,P4718+1)),P4718)","v":1}]
[{"$f":"IF('XML a procesar'!A4719>0,'XML a procesar'!A4719,\"\")","v":""},0,0,0,0,"",0,0,0,"","",0,"",0,"",{"$f":"IF(ROW()<$S$4+2,IF('XML a procesar'!A4719=\"\",P4719,IF(MID('XML a procesar'!A4719,1,1)=\"<\",P4719,P4719+1)),P4719)","v":1}]
[{"$f":"IF('XML a procesar'!A4720>0,'XML a procesar'!A4720,\"\")","v":""},0,0,0,0,"",0,0,0,"","",0,"",0,"",{"$f":"IF(ROW()<$S$4+2,IF('XML a procesar'!A4720=\"\",P4720,IF(MID('XML a procesar'!A4720,1,1)=\"<\",P4720,P4720+1)),P4720)","v":1}]
[{"$f":"IF('XML a procesar'!A4721>0,'XML a procesar'!A4721,\"\")","v":""},0,0,0,0,"",0,0,0,"","",0,"",0,"",{"$f":"IF(ROW()<$S$4+2,IF('XML a procesar'!A4721=\"\",P4721,IF(MID('XML a procesar'!A4721,1,1)=\"<\",P4721,P4721+1)),P4721)","v":1}]
[{"$f":"IF('XML a procesar'!A4722>0,'XML a procesar'!A4722,\"\")","v":""},0,0,0,0,"",0,0,0,"","",0,"",0,"",{"$f":"IF(ROW()<$S$4+2,IF('XML a procesar'!A4722=\"\",P4722,IF(MID('XML a procesar'!A4722,1,1)=\"<\",P4722,P4722+1)),P4722)","v":1}]
[{"$f":"IF('XML a procesar'!A4723>0,'XML a procesar'!A4723,\"\")","v":""},0,0,0,0,"",0,0,0,"","",0,"",0,"",{"$f":"IF(ROW()<$S$4+2,IF('XML a procesar'!A4723=\"\",P4723,IF(MID('XML a procesar'!A4723,1,1)=\"<\",P4723,P4723+1)),P4723)","v":1}]
[{"$f":"IF('XML a procesar'!A4724>0,'XML a procesar'!A4724,\"\")","v":""},0,0,0,0,"",0,0,0,"","",0,"",0,"",{"$f":"IF(ROW()<$S$4+2,IF('XML a procesar'!A4724=\"\",P4724,IF(MID('XML a procesar'!A4724,1,1)=\"<\",P4724,P4724+1)),P4724)","v":1}]
[{"$f":"IF('XML a procesar'!A4725>0,'XML a procesar'!A4725,\"\")","v":""},0,0,0,0,"",0,0,0,"","",0,"",0,"",{"$f":"IF(ROW()<$S$4+2,IF('XML a procesar'!A4725=\"\",P4725,IF(MID('XML a procesar'!A4725,1,1)=\"<\",P4725,P4725+1)),P4725)","v":1}]
[{"$f":"IF('XML a procesar'!A4726>0,'XML a procesar'!A4726,\"\")","v":""},0,0,0,0,"",0,0,0,"","",0,"",0,"",{"$f":"IF(ROW()<$S$4+2,IF('XML a procesar'!A4726=\"\",P4726,IF(MID('XML a procesar'!A4726,1,1)=\"<\",P4726,P4726+1)),P4726)","v":1}]
[{"$f":"IF('XML a procesar'!A4727>0,'XML a procesar'!A4727,\"\")","v":""},0,0,0,0,"",0,0,0,"","",0,"",0,"",{"$f":"IF(ROW()<$S$4+2,IF('XML a procesar'!A4727=\"\",P4727,IF(MID('XML a procesar'!A4727,1,1)=\"<\",P4727,P4727+1)),P4727)","v":1}]
[{"$f":"IF('XML a procesar'!A4728>0,'XML a procesar'!A4728,\"\")","v":""},0,0,0,0,"",0,0,0,"","",0,"",0,"",{"$f":"IF(ROW()<$S$4+2,IF('XML a procesar'!A4728=\"\",P4728,IF(MID('XML a procesar'!A4728,1,1)=\"<\",P4728,P4728+1)),P4728)","v":1}]
[{"$f":"IF('XML a procesar'!A4729>0,'XML a procesar'!A4729,\"\")","v":""},0,0,0,0,"",0,0,0,"","",0,"",0,"",{"$f":"IF(ROW()<$S$4+2,IF('XML a procesar'!A4729=\"\",P4729,IF(MID('XML a procesar'!A4729,1,1)=\"<\",P4729,P4729+1)),P4729)","v":1}]
[{"$f":"IF('XML a procesar'!A4730>0,'XML a procesar'!A4730,\"\")","v":""},0,0,0,0,"",0,0,0,"","",0,"",0,"",{"$f":"IF(ROW()<$S$4+2,IF('XML a procesar'!A4730=\"\",P4730,IF(MID('XML a procesar'!A4730,1,1)=\"<\",P4730,P4730+1)),P4730)","v":1}]
[{"$f":"IF('XML a procesar'!A4731>0,'XML a procesar'!A4731,\"\")","v":""},0,0,0,0,"",0,0,0,"","",0,"",0,"",{"$f":"IF(ROW()<$S$4+2,IF('XML a procesar'!A4731=\"\",P4731,IF(MID('XML a procesar'!A4731,1,1)=\"<\",P4731,P4731+1)),P4731)","v":1}]
[{"$f":"IF('XML a procesar'!A4732>0,'XML a procesar'!A4732,\"\")","v":""},0,0,0,0,"",0,0,0,"","",0,"",0,"",{"$f":"IF(ROW()<$S$4+2,IF('XML a procesar'!A4732=\"\",P4732,IF(MID('XML a procesar'!A4732,1,1)=\"<\",P4732,P4732+1)),P4732)","v":1}]
[{"$f":"IF('XML a procesar'!A4733>0,'XML a procesar'!A4733,\"\")","v":""},0,0,0,0,"",0,0,0,"","",0,"",0,"",{"$f":"IF(ROW()<$S$4+2,IF('XML a procesar'!A4733=\"\",P4733,IF(MID('XML a procesar'!A4733,1,1)=\"<\",P4733,P4733+1)),P4733)","v":1}]
[{"$f":"IF('XML a procesar'!A4734>0,'XML a procesar'!A4734,\"\")","v":""},0,0,0,0,"",0,0,0,"","",0,"",0,"",{"$f":"IF(ROW()<$S$4+2,IF('XML a procesar'!A4734=\"\",P4734,IF(MID('XML a procesar'!A4734,1,1)=\"<\",P4734,P4734+1)),P4734)","v":1}]
[{"$f":"IF('XML a procesar'!A4735>0,'XML a procesar'!A4735,\"\")","v":""},0,0,0,0,"",0,0,0,"","",0,"",0,"",{"$f":"IF(ROW()<$S$4+2,IF('XML a procesar'!A4735=\"\",P4735,IF(MID('XML a procesar'!A4735,1,1)=\"<\",P4735,P4735+1)),P4735)","v":1}]
[{"$f":"IF('XML a procesar'!A4736>0,'XML a procesar'!A4736,\"\")","v":""},{"$f":"IF(ISERROR(FIND(\"/doi.org/\",A4737,1)),0,1)","v":0},{"$f":"IF(LEFT(A4736,16)=\"<contrib contrib\",C4736+1,IF(LEFT(A4736,16)=\"</contrib-group>\",0,IF(LEFT(A4736,10)=\"</contrib>\",C4736,C4736)))","v":0},{"$f":"IF(AND(C4737>0,LEFT(A4737,7)=\"<email>\",ISNUMBER(SEARCH(\"@\",A4737,1))),C4737,IF(LEFT(A4737,10)=\"<alt-text>\",-1,0))","v":0},{"$f":"IF(D4737=0,E4736,E4736+1)","v":0},{"$f":"INDIRECT(ADDRESS(ROW()+INDIRECT(ADDRESS(ROW()+E4737,5)),1))","v":""},{"$f":"IF(LEFT(F4737,7)=\"<aff id\",_xlfn.NUMBERVALUE(MID(F4737,13,LEN(F4737)-14)),IF(F4737=\"</aff>\",G4736+1,G4736))","v":0},0,{"$f":"INDIRECT(ADDRESS(ROW()-INDIRECT(ADDRESS(ROW()-H4737,8)),8))","v":0},{"$f":"IF(J4736=\"Linea_para_MAIL_creada_por_LuXML\",\"</aff>\",IF(I4737>INDIRECT(ADDRESS(ROW()-I4737-1,8)),\"Linea_para_MAIL_creada_por_LuXML\",INDIRECT(ADDRESS(ROW()-I4737,6))))","v":""},"",{"$f":"IF(OR(MID(K4735,3,5)=\"page>\",MID(K4736,3,5)=\"page>\"),L4736,IF(OR(K4736=\"<history>\",K4737=\"<history>\"),L4736+1,L4736))","v":0},{"$f":"IF(L4737>L4736,IF(L4737=1,CONCATENATE(\"<fpage>\",$S$10,\"</fpage>\"),CONCATENATE(\"<lpage>\",$S$10+1,\"</lpage>\")),IF(ISERROR(INDIRECT(ADDRESS(ROW()-L4737,11),1)),\"\",INDIRECT(ADDRESS(ROW()-L4737,11),1)))","v":""},{"$f":"IF(N4736=-1,-1,IF(M4737=\"</counts>\",-1,IF(OR(LEFT(M4737,7)=\"<fpage>\",LEFT(M4737,7)=\"<lpage>\"),VALUE(MID(M4737,8,LEN(M4737)-15)),0)))","v":0},"",{"$f":"IF(ROW()<$S$4+2,IF('XML a procesar'!A4736=\"\",P4736,IF(MID('XML a procesar'!A4736,1,1)=\"<\",P4736,P4736+1)),P4736)","v":1}]
[{"$f":"IF('XML a procesar'!A4737>0,'XML a procesar'!A4737,\"\")","v":""},0,0,0,0,"",0,0,0,"","",0,"",0,{"$f":"IF(N4738>-1,INDIRECT(ADDRESS(ROW(),13)),IF(N4738<N4737,CONCATENATE(\"<page-count count=\",CHAR(34),1+LARGE(N:N,1)-LARGE(N:N,2),CHAR(34),\"/>\"),INDIRECT(ADDRESS(ROW()-1,13))))","v":""},{"$f":"IF(ROW()<$S$4+2,IF('XML a procesar'!A4737=\"\",P4737,IF(MID('XML a procesar'!A4737,1,1)=\"<\",P4737,P4737+1)),P4737)","v":1}]
[{"$f":"IF('XML a procesar'!A4738>0,'XML a procesar'!A4738,\"\")","v":""},0,0,0,0,"",0,{"$f":"IF(AND(G4738>0,G4739>G4738,NOT(ISERROR(MATCH(G4738,D:D,0)))),H4738+1,H4738)","v":0},0,"",{"$f":"IF(J4739=\"Linea_para_MAIL_creada_por_LuXML\",IF(ISERROR(MATCH(INDIRECT(ADDRESS(ROW()-G4739,7)),D:D,0)),J4739,INDIRECT(ADDRESS(MATCH(INDIRECT(ADDRESS(ROW()-G4739,7)),D:D,0),1))),J4739)","v":""},0,"",0,"",{"$f":"IF(ROW()<$S$4+2,IF('XML a procesar'!A4738=\"\",P4738,IF(MID('XML a procesar'!A4738,1,1)=\"<\",P4738,P4738+1)),P4738)","v":1}]
[{"$f":"IF('XML a procesar'!A4739>0,'XML a procesar'!A4739,\"\")","v":""},0,0,0,0,"",0,0,0,"","",0,"",0,"",{"$f":"IF(ROW()<$S$4+2,IF('XML a procesar'!A4739=\"\",P4739,IF(MID('XML a procesar'!A4739,1,1)=\"<\",P4739,P4739+1)),P4739)","v":1}]
[{"$f":"IF('XML a procesar'!A4740>0,'XML a procesar'!A4740,\"\")","v":""},0,0,0,0,"",0,0,0,"","",0,"",0,"",{"$f":"IF(ROW()<$S$4+2,IF('XML a procesar'!A4740=\"\",P4740,IF(MID('XML a procesar'!A4740,1,1)=\"<\",P4740,P4740+1)),P4740)","v":1}]
[{"$f":"IF('XML a procesar'!A4741>0,'XML a procesar'!A4741,\"\")","v":""},0,0,0,0,"",0,0,0,"","",0,"",0,"",{"$f":"IF(ROW()<$S$4+2,IF('XML a procesar'!A4741=\"\",P4741,IF(MID('XML a procesar'!A4741,1,1)=\"<\",P4741,P4741+1)),P4741)","v":1}]
[{"$f":"IF('XML a procesar'!A4742>0,'XML a procesar'!A4742,\"\")","v":""},0,0,0,0,"",0,0,0,"","",0,"",0,"",{"$f":"IF(ROW()<$S$4+2,IF('XML a procesar'!A4742=\"\",P4742,IF(MID('XML a procesar'!A4742,1,1)=\"<\",P4742,P4742+1)),P4742)","v":1}]
[{"$f":"IF('XML a procesar'!A4743>0,'XML a procesar'!A4743,\"\")","v":""},0,0,0,0,"",0,0,0,"","",0,"",0,"",{"$f":"IF(ROW()<$S$4+2,IF('XML a procesar'!A4743=\"\",P4743,IF(MID('XML a procesar'!A4743,1,1)=\"<\",P4743,P4743+1)),P4743)","v":1}]
[{"$f":"IF('XML a procesar'!A4744>0,'XML a procesar'!A4744,\"\")","v":""},0,0,0,0,"",0,0,0,"","",0,"",0,"",{"$f":"IF(ROW()<$S$4+2,IF('XML a procesar'!A4744=\"\",P4744,IF(MID('XML a procesar'!A4744,1,1)=\"<\",P4744,P4744+1)),P4744)","v":1}]
[{"$f":"IF('XML a procesar'!A4745>0,'XML a procesar'!A4745,\"\")","v":""},0,0,0,0,"",0,0,0,"","",0,"",0,"",{"$f":"IF(ROW()<$S$4+2,IF('XML a procesar'!A4745=\"\",P4745,IF(MID('XML a procesar'!A4745,1,1)=\"<\",P4745,P4745+1)),P4745)","v":1}]
[{"$f":"IF('XML a procesar'!A4746>0,'XML a procesar'!A4746,\"\")","v":""},0,0,0,0,"",0,0,0,"","",0,"",0,"",{"$f":"IF(ROW()<$S$4+2,IF('XML a procesar'!A4746=\"\",P4746,IF(MID('XML a procesar'!A4746,1,1)=\"<\",P4746,P4746+1)),P4746)","v":1}]
[{"$f":"IF('XML a procesar'!A4747>0,'XML a procesar'!A4747,\"\")","v":""},0,0,0,0,"",0,0,0,"","",0,"",0,"",{"$f":"IF(ROW()<$S$4+2,IF('XML a procesar'!A4747=\"\",P4747,IF(MID('XML a procesar'!A4747,1,1)=\"<\",P4747,P4747+1)),P4747)","v":1}]
[{"$f":"IF('XML a procesar'!A4748>0,'XML a procesar'!A4748,\"\")","v":""},0,0,0,0,"",0,0,0,"","",0,"",0,"",{"$f":"IF(ROW()<$S$4+2,IF('XML a procesar'!A4748=\"\",P4748,IF(MID('XML a procesar'!A4748,1,1)=\"<\",P4748,P4748+1)),P4748)","v":1}]
[{"$f":"IF('XML a procesar'!A4749>0,'XML a procesar'!A4749,\"\")","v":""},0,0,0,0,"",0,0,0,"","",0,"",0,"",{"$f":"IF(ROW()<$S$4+2,IF('XML a procesar'!A4749=\"\",P4749,IF(MID('XML a procesar'!A4749,1,1)=\"<\",P4749,P4749+1)),P4749)","v":1}]
[{"$f":"IF('XML a procesar'!A4750>0,'XML a procesar'!A4750,\"\")","v":""},0,0,0,0,"",0,0,0,"","",0,"",0,"",{"$f":"IF(ROW()<$S$4+2,IF('XML a procesar'!A4750=\"\",P4750,IF(MID('XML a procesar'!A4750,1,1)=\"<\",P4750,P4750+1)),P4750)","v":1}]
[{"$f":"IF('XML a procesar'!A4751>0,'XML a procesar'!A4751,\"\")","v":""},0,0,0,0,"",0,0,0,"","",0,"",0,"",{"$f":"IF(ROW()<$S$4+2,IF('XML a procesar'!A4751=\"\",P4751,IF(MID('XML a procesar'!A4751,1,1)=\"<\",P4751,P4751+1)),P4751)","v":1}]
[{"$f":"IF('XML a procesar'!A4752>0,'XML a procesar'!A4752,\"\")","v":""},0,0,0,0,"",0,0,0,"","",0,"",0,"",{"$f":"IF(ROW()<$S$4+2,IF('XML a procesar'!A4752=\"\",P4752,IF(MID('XML a procesar'!A4752,1,1)=\"<\",P4752,P4752+1)),P4752)","v":1}]
[{"$f":"IF('XML a procesar'!A4753>0,'XML a procesar'!A4753,\"\")","v":""},0,0,0,0,"",0,0,0,"","",0,"",0,"",{"$f":"IF(ROW()<$S$4+2,IF('XML a procesar'!A4753=\"\",P4753,IF(MID('XML a procesar'!A4753,1,1)=\"<\",P4753,P4753+1)),P4753)","v":1}]
[{"$f":"IF('XML a procesar'!A4754>0,'XML a procesar'!A4754,\"\")","v":""},0,0,0,0,"",0,0,0,"","",0,"",0,"",{"$f":"IF(ROW()<$S$4+2,IF('XML a procesar'!A4754=\"\",P4754,IF(MID('XML a procesar'!A4754,1,1)=\"<\",P4754,P4754+1)),P4754)","v":1}]
[{"$f":"IF('XML a procesar'!A4755>0,'XML a procesar'!A4755,\"\")","v":""},0,0,0,0,"",0,0,0,"","",0,"",0,"",{"$f":"IF(ROW()<$S$4+2,IF('XML a procesar'!A4755=\"\",P4755,IF(MID('XML a procesar'!A4755,1,1)=\"<\",P4755,P4755+1)),P4755)","v":1}]
[{"$f":"IF('XML a procesar'!A4756>0,'XML a procesar'!A4756,\"\")","v":""},0,0,0,0,"",0,0,0,"","",0,"",0,"",{"$f":"IF(ROW()<$S$4+2,IF('XML a procesar'!A4756=\"\",P4756,IF(MID('XML a procesar'!A4756,1,1)=\"<\",P4756,P4756+1)),P4756)","v":1}]
[{"$f":"IF('XML a procesar'!A4757>0,'XML a procesar'!A4757,\"\")","v":""},0,0,0,0,"",0,0,0,"","",0,"",0,"",{"$f":"IF(ROW()<$S$4+2,IF('XML a procesar'!A4757=\"\",P4757,IF(MID('XML a procesar'!A4757,1,1)=\"<\",P4757,P4757+1)),P4757)","v":1}]
[{"$f":"IF('XML a procesar'!A4758>0,'XML a procesar'!A4758,\"\")","v":""},0,0,0,0,"",0,0,0,"","",0,"",0,"",{"$f":"IF(ROW()<$S$4+2,IF('XML a procesar'!A4758=\"\",P4758,IF(MID('XML a procesar'!A4758,1,1)=\"<\",P4758,P4758+1)),P4758)","v":1}]
[{"$f":"IF('XML a procesar'!A4759>0,'XML a procesar'!A4759,\"\")","v":""},0,0,0,0,"",0,0,0,"","",0,"",0,"",{"$f":"IF(ROW()<$S$4+2,IF('XML a procesar'!A4759=\"\",P4759,IF(MID('XML a procesar'!A4759,1,1)=\"<\",P4759,P4759+1)),P4759)","v":1}]
[{"$f":"IF('XML a procesar'!A4760>0,'XML a procesar'!A4760,\"\")","v":""},0,0,0,0,"",0,0,0,"","",0,"",0,"",{"$f":"IF(ROW()<$S$4+2,IF('XML a procesar'!A4760=\"\",P4760,IF(MID('XML a procesar'!A4760,1,1)=\"<\",P4760,P4760+1)),P4760)","v":1}]
[{"$f":"IF('XML a procesar'!A4761>0,'XML a procesar'!A4761,\"\")","v":""},0,0,0,0,"",0,0,0,"","",0,"",0,"",{"$f":"IF(ROW()<$S$4+2,IF('XML a procesar'!A4761=\"\",P4761,IF(MID('XML a procesar'!A4761,1,1)=\"<\",P4761,P4761+1)),P4761)","v":1}]
[{"$f":"IF('XML a procesar'!A4762>0,'XML a procesar'!A4762,\"\")","v":""},0,0,0,0,"",0,0,0,"","",0,"",0,"",{"$f":"IF(ROW()<$S$4+2,IF('XML a procesar'!A4762=\"\",P4762,IF(MID('XML a procesar'!A4762,1,1)=\"<\",P4762,P4762+1)),P4762)","v":1}]
[{"$f":"IF('XML a procesar'!A4763>0,'XML a procesar'!A4763,\"\")","v":""},0,0,0,0,"",0,0,0,"","",0,"",0,"",{"$f":"IF(ROW()<$S$4+2,IF('XML a procesar'!A4763=\"\",P4763,IF(MID('XML a procesar'!A4763,1,1)=\"<\",P4763,P4763+1)),P4763)","v":1}]
[{"$f":"IF('XML a procesar'!A4764>0,'XML a procesar'!A4764,\"\")","v":""},0,0,0,0,"",0,0,0,"","",0,"",0,"",{"$f":"IF(ROW()<$S$4+2,IF('XML a procesar'!A4764=\"\",P4764,IF(MID('XML a procesar'!A4764,1,1)=\"<\",P4764,P4764+1)),P4764)","v":1}]
[{"$f":"IF('XML a procesar'!A4765>0,'XML a procesar'!A4765,\"\")","v":""},0,0,0,0,"",0,0,0,"","",0,"",0,"",{"$f":"IF(ROW()<$S$4+2,IF('XML a procesar'!A4765=\"\",P4765,IF(MID('XML a procesar'!A4765,1,1)=\"<\",P4765,P4765+1)),P4765)","v":1}]
[{"$f":"IF('XML a procesar'!A4766>0,'XML a procesar'!A4766,\"\")","v":""},0,0,0,0,"",0,0,0,"","",0,"",0,"",{"$f":"IF(ROW()<$S$4+2,IF('XML a procesar'!A4766=\"\",P4766,IF(MID('XML a procesar'!A4766,1,1)=\"<\",P4766,P4766+1)),P4766)","v":1}]
[{"$f":"IF('XML a procesar'!A4767>0,'XML a procesar'!A4767,\"\")","v":""},0,0,0,0,"",0,0,0,"","",0,"",0,"",{"$f":"IF(ROW()<$S$4+2,IF('XML a procesar'!A4767=\"\",P4767,IF(MID('XML a procesar'!A4767,1,1)=\"<\",P4767,P4767+1)),P4767)","v":1}]
[{"$f":"IF('XML a procesar'!A4768>0,'XML a procesar'!A4768,\"\")","v":""},0,0,0,0,"",0,0,0,"","",0,"",0,"",{"$f":"IF(ROW()<$S$4+2,IF('XML a procesar'!A4768=\"\",P4768,IF(MID('XML a procesar'!A4768,1,1)=\"<\",P4768,P4768+1)),P4768)","v":1}]
[{"$f":"IF('XML a procesar'!A4769>0,'XML a procesar'!A4769,\"\")","v":""},0,0,0,0,"",0,0,0,"","",0,"",0,"",{"$f":"IF(ROW()<$S$4+2,IF('XML a procesar'!A4769=\"\",P4769,IF(MID('XML a procesar'!A4769,1,1)=\"<\",P4769,P4769+1)),P4769)","v":1}]
[{"$f":"IF('XML a procesar'!A4770>0,'XML a procesar'!A4770,\"\")","v":""},0,0,0,0,"",0,0,0,"","",0,"",0,"",{"$f":"IF(ROW()<$S$4+2,IF('XML a procesar'!A4770=\"\",P4770,IF(MID('XML a procesar'!A4770,1,1)=\"<\",P4770,P4770+1)),P4770)","v":1}]
[{"$f":"IF('XML a procesar'!A4771>0,'XML a procesar'!A4771,\"\")","v":""},0,0,0,0,"",0,0,0,"","",0,"",0,"",{"$f":"IF(ROW()<$S$4+2,IF('XML a procesar'!A4771=\"\",P4771,IF(MID('XML a procesar'!A4771,1,1)=\"<\",P4771,P4771+1)),P4771)","v":1}]
[{"$f":"IF('XML a procesar'!A4772>0,'XML a procesar'!A4772,\"\")","v":""},0,0,0,0,"",0,0,0,"","",0,"",0,"",{"$f":"IF(ROW()<$S$4+2,IF('XML a procesar'!A4772=\"\",P4772,IF(MID('XML a procesar'!A4772,1,1)=\"<\",P4772,P4772+1)),P4772)","v":1}]
[{"$f":"IF('XML a procesar'!A4773>0,'XML a procesar'!A4773,\"\")","v":""},0,0,0,0,"",0,0,0,"","",0,"",0,"",{"$f":"IF(ROW()<$S$4+2,IF('XML a procesar'!A4773=\"\",P4773,IF(MID('XML a procesar'!A4773,1,1)=\"<\",P4773,P4773+1)),P4773)","v":1}]
[{"$f":"IF('XML a procesar'!A4774>0,'XML a procesar'!A4774,\"\")","v":""},0,0,0,0,"",0,0,0,"","",0,"",0,"",{"$f":"IF(ROW()<$S$4+2,IF('XML a procesar'!A4774=\"\",P4774,IF(MID('XML a procesar'!A4774,1,1)=\"<\",P4774,P4774+1)),P4774)","v":1}]
[{"$f":"IF('XML a procesar'!A4775>0,'XML a procesar'!A4775,\"\")","v":""},0,0,0,0,"",0,0,0,"","",0,"",0,"",{"$f":"IF(ROW()<$S$4+2,IF('XML a procesar'!A4775=\"\",P4775,IF(MID('XML a procesar'!A4775,1,1)=\"<\",P4775,P4775+1)),P4775)","v":1}]
[{"$f":"IF('XML a procesar'!A4776>0,'XML a procesar'!A4776,\"\")","v":""},0,0,0,0,"",0,0,0,"","",0,"",0,"",{"$f":"IF(ROW()<$S$4+2,IF('XML a procesar'!A4776=\"\",P4776,IF(MID('XML a procesar'!A4776,1,1)=\"<\",P4776,P4776+1)),P4776)","v":1}]
[{"$f":"IF('XML a procesar'!A4777>0,'XML a procesar'!A4777,\"\")","v":""},0,0,0,0,"",0,0,0,"","",0,"",0,"",{"$f":"IF(ROW()<$S$4+2,IF('XML a procesar'!A4777=\"\",P4777,IF(MID('XML a procesar'!A4777,1,1)=\"<\",P4777,P4777+1)),P4777)","v":1}]
[{"$f":"IF('XML a procesar'!A4778>0,'XML a procesar'!A4778,\"\")","v":""},0,0,0,0,"",0,0,0,"","",0,"",0,"",{"$f":"IF(ROW()<$S$4+2,IF('XML a procesar'!A4778=\"\",P4778,IF(MID('XML a procesar'!A4778,1,1)=\"<\",P4778,P4778+1)),P4778)","v":1}]
[{"$f":"IF('XML a procesar'!A4779>0,'XML a procesar'!A4779,\"\")","v":""},0,0,0,0,"",0,0,0,"","",0,"",0,"",{"$f":"IF(ROW()<$S$4+2,IF('XML a procesar'!A4779=\"\",P4779,IF(MID('XML a procesar'!A4779,1,1)=\"<\",P4779,P4779+1)),P4779)","v":1}]
[{"$f":"IF('XML a procesar'!A4780>0,'XML a procesar'!A4780,\"\")","v":""},0,0,0,0,"",0,0,0,"","",0,"",0,"",{"$f":"IF(ROW()<$S$4+2,IF('XML a procesar'!A4780=\"\",P4780,IF(MID('XML a procesar'!A4780,1,1)=\"<\",P4780,P4780+1)),P4780)","v":1}]
[{"$f":"IF('XML a procesar'!A4781>0,'XML a procesar'!A4781,\"\")","v":""},0,0,0,0,"",0,0,0,"","",0,"",0,"",{"$f":"IF(ROW()<$S$4+2,IF('XML a procesar'!A4781=\"\",P4781,IF(MID('XML a procesar'!A4781,1,1)=\"<\",P4781,P4781+1)),P4781)","v":1}]
[{"$f":"IF('XML a procesar'!A4782>0,'XML a procesar'!A4782,\"\")","v":""},0,0,0,0,"",0,0,0,"","",0,"",0,"",{"$f":"IF(ROW()<$S$4+2,IF('XML a procesar'!A4782=\"\",P4782,IF(MID('XML a procesar'!A4782,1,1)=\"<\",P4782,P4782+1)),P4782)","v":1}]
[{"$f":"IF('XML a procesar'!A4783>0,'XML a procesar'!A4783,\"\")","v":""},0,0,0,0,"",0,0,0,"","",0,"",0,"",{"$f":"IF(ROW()<$S$4+2,IF('XML a procesar'!A4783=\"\",P4783,IF(MID('XML a procesar'!A4783,1,1)=\"<\",P4783,P4783+1)),P4783)","v":1}]
[{"$f":"IF('XML a procesar'!A4784>0,'XML a procesar'!A4784,\"\")","v":""},0,0,0,0,"",0,0,0,"","",0,"",0,"",{"$f":"IF(ROW()<$S$4+2,IF('XML a procesar'!A4784=\"\",P4784,IF(MID('XML a procesar'!A4784,1,1)=\"<\",P4784,P4784+1)),P4784)","v":1}]
[{"$f":"IF('XML a procesar'!A4785>0,'XML a procesar'!A4785,\"\")","v":""},0,0,0,0,"",0,0,0,"","",0,"",0,"",{"$f":"IF(ROW()<$S$4+2,IF('XML a procesar'!A4785=\"\",P4785,IF(MID('XML a procesar'!A4785,1,1)=\"<\",P4785,P4785+1)),P4785)","v":1}]
[{"$f":"IF('XML a procesar'!A4786>0,'XML a procesar'!A4786,\"\")","v":""},0,0,0,0,"",0,0,0,"","",0,"",0,"",{"$f":"IF(ROW()<$S$4+2,IF('XML a procesar'!A4786=\"\",P4786,IF(MID('XML a procesar'!A4786,1,1)=\"<\",P4786,P4786+1)),P4786)","v":1}]
[{"$f":"IF('XML a procesar'!A4787>0,'XML a procesar'!A4787,\"\")","v":""},0,0,0,0,"",0,0,0,"","",0,"",0,"",{"$f":"IF(ROW()<$S$4+2,IF('XML a procesar'!A4787=\"\",P4787,IF(MID('XML a procesar'!A4787,1,1)=\"<\",P4787,P4787+1)),P4787)","v":1}]
[{"$f":"IF('XML a procesar'!A4788>0,'XML a procesar'!A4788,\"\")","v":""},0,0,0,0,"",0,0,0,"","",0,"",0,"",{"$f":"IF(ROW()<$S$4+2,IF('XML a procesar'!A4788=\"\",P4788,IF(MID('XML a procesar'!A4788,1,1)=\"<\",P4788,P4788+1)),P4788)","v":1}]
[{"$f":"IF('XML a procesar'!A4789>0,'XML a procesar'!A4789,\"\")","v":""},0,0,0,0,"",0,0,0,"","",0,"",0,"",{"$f":"IF(ROW()<$S$4+2,IF('XML a procesar'!A4789=\"\",P4789,IF(MID('XML a procesar'!A4789,1,1)=\"<\",P4789,P4789+1)),P4789)","v":1}]
[{"$f":"IF('XML a procesar'!A4790>0,'XML a procesar'!A4790,\"\")","v":""},0,0,0,0,"",0,0,0,"","",0,"",0,"",{"$f":"IF(ROW()<$S$4+2,IF('XML a procesar'!A4790=\"\",P4790,IF(MID('XML a procesar'!A4790,1,1)=\"<\",P4790,P4790+1)),P4790)","v":1}]
[{"$f":"IF('XML a procesar'!A4791>0,'XML a procesar'!A4791,\"\")","v":""},0,0,0,0,"",0,0,0,"","",0,"",0,"",{"$f":"IF(ROW()<$S$4+2,IF('XML a procesar'!A4791=\"\",P4791,IF(MID('XML a procesar'!A4791,1,1)=\"<\",P4791,P4791+1)),P4791)","v":1}]
[{"$f":"IF('XML a procesar'!A4792>0,'XML a procesar'!A4792,\"\")","v":""},0,0,0,0,"",0,0,0,"","",0,"",0,"",{"$f":"IF(ROW()<$S$4+2,IF('XML a procesar'!A4792=\"\",P4792,IF(MID('XML a procesar'!A4792,1,1)=\"<\",P4792,P4792+1)),P4792)","v":1}]
[{"$f":"IF('XML a procesar'!A4793>0,'XML a procesar'!A4793,\"\")","v":""},0,0,0,0,"",0,0,0,"","",0,"",0,"",{"$f":"IF(ROW()<$S$4+2,IF('XML a procesar'!A4793=\"\",P4793,IF(MID('XML a procesar'!A4793,1,1)=\"<\",P4793,P4793+1)),P4793)","v":1}]
[{"$f":"IF('XML a procesar'!A4794>0,'XML a procesar'!A4794,\"\")","v":""},0,0,0,0,"",0,0,0,"","",0,"",0,"",{"$f":"IF(ROW()<$S$4+2,IF('XML a procesar'!A4794=\"\",P4794,IF(MID('XML a procesar'!A4794,1,1)=\"<\",P4794,P4794+1)),P4794)","v":1}]
[{"$f":"IF('XML a procesar'!A4795>0,'XML a procesar'!A4795,\"\")","v":""},0,0,0,0,"",0,0,0,"","",0,"",0,"",{"$f":"IF(ROW()<$S$4+2,IF('XML a procesar'!A4795=\"\",P4795,IF(MID('XML a procesar'!A4795,1,1)=\"<\",P4795,P4795+1)),P4795)","v":1}]
[{"$f":"IF('XML a procesar'!A4796>0,'XML a procesar'!A4796,\"\")","v":""},0,0,0,0,"",0,0,0,"","",0,"",0,"",{"$f":"IF(ROW()<$S$4+2,IF('XML a procesar'!A4796=\"\",P4796,IF(MID('XML a procesar'!A4796,1,1)=\"<\",P4796,P4796+1)),P4796)","v":1}]
[{"$f":"IF('XML a procesar'!A4797>0,'XML a procesar'!A4797,\"\")","v":""},0,0,0,0,"",0,0,0,"","",0,"",0,"",{"$f":"IF(ROW()<$S$4+2,IF('XML a procesar'!A4797=\"\",P4797,IF(MID('XML a procesar'!A4797,1,1)=\"<\",P4797,P4797+1)),P4797)","v":1}]
[{"$f":"IF('XML a procesar'!A4798>0,'XML a procesar'!A4798,\"\")","v":""},0,0,0,0,"",0,0,0,"","",0,"",0,"",{"$f":"IF(ROW()<$S$4+2,IF('XML a procesar'!A4798=\"\",P4798,IF(MID('XML a procesar'!A4798,1,1)=\"<\",P4798,P4798+1)),P4798)","v":1}]
[{"$f":"IF('XML a procesar'!A4799>0,'XML a procesar'!A4799,\"\")","v":""},0,0,0,0,"",0,0,0,"","",0,"",0,"",{"$f":"IF(ROW()<$S$4+2,IF('XML a procesar'!A4799=\"\",P4799,IF(MID('XML a procesar'!A4799,1,1)=\"<\",P4799,P4799+1)),P4799)","v":1}]
[{"$f":"IF('XML a procesar'!A4800>0,'XML a procesar'!A4800,\"\")","v":""},{"$f":"IF(ISERROR(FIND(\"/doi.org/\",A4801,1)),0,1)","v":0},{"$f":"IF(LEFT(A4800,16)=\"<contrib contrib\",C4800+1,IF(LEFT(A4800,16)=\"</contrib-group>\",0,IF(LEFT(A4800,10)=\"</contrib>\",C4800,C4800)))","v":0},{"$f":"IF(AND(C4801>0,LEFT(A4801,7)=\"<email>\",ISNUMBER(SEARCH(\"@\",A4801,1))),C4801,IF(LEFT(A4801,10)=\"<alt-text>\",-1,0))","v":0},{"$f":"IF(D4801=0,E4800,E4800+1)","v":0},{"$f":"INDIRECT(ADDRESS(ROW()+INDIRECT(ADDRESS(ROW()+E4801,5)),1))","v":""},{"$f":"IF(LEFT(F4801,7)=\"<aff id\",_xlfn.NUMBERVALUE(MID(F4801,13,LEN(F4801)-14)),IF(F4801=\"</aff>\",G4800+1,G4800))","v":0},0,{"$f":"INDIRECT(ADDRESS(ROW()-INDIRECT(ADDRESS(ROW()-H4801,8)),8))","v":0},{"$f":"IF(J4800=\"Linea_para_MAIL_creada_por_LuXML\",\"</aff>\",IF(I4801>INDIRECT(ADDRESS(ROW()-I4801-1,8)),\"Linea_para_MAIL_creada_por_LuXML\",INDIRECT(ADDRESS(ROW()-I4801,6))))","v":""},"",{"$f":"IF(OR(MID(K4799,3,5)=\"page>\",MID(K4800,3,5)=\"page>\"),L4800,IF(OR(K4800=\"<history>\",K4801=\"<history>\"),L4800+1,L4800))","v":0},{"$f":"IF(L4801>L4800,IF(L4801=1,CONCATENATE(\"<fpage>\",$S$10,\"</fpage>\"),CONCATENATE(\"<lpage>\",$S$10+1,\"</lpage>\")),IF(ISERROR(INDIRECT(ADDRESS(ROW()-L4801,11),1)),\"\",INDIRECT(ADDRESS(ROW()-L4801,11),1)))","v":""},{"$f":"IF(N4800=-1,-1,IF(M4801=\"</counts>\",-1,IF(OR(LEFT(M4801,7)=\"<fpage>\",LEFT(M4801,7)=\"<lpage>\"),VALUE(MID(M4801,8,LEN(M4801)-15)),0)))","v":0},"",{"$f":"IF(ROW()<$S$4+2,IF('XML a procesar'!A4800=\"\",P4800,IF(MID('XML a procesar'!A4800,1,1)=\"<\",P4800,P4800+1)),P4800)","v":1}]
[{"$f":"IF('XML a procesar'!A4801>0,'XML a procesar'!A4801,\"\")","v":""},0,0,0,0,"",0,0,0,"","",0,"",0,{"$f":"IF(N4802>-1,INDIRECT(ADDRESS(ROW(),13)),IF(N4802<N4801,CONCATENATE(\"<page-count count=\",CHAR(34),1+LARGE(N:N,1)-LARGE(N:N,2),CHAR(34),\"/>\"),INDIRECT(ADDRESS(ROW()-1,13))))","v":""},{"$f":"IF(ROW()<$S$4+2,IF('XML a procesar'!A4801=\"\",P4801,IF(MID('XML a procesar'!A4801,1,1)=\"<\",P4801,P4801+1)),P4801)","v":1}]
[{"$f":"IF('XML a procesar'!A4802>0,'XML a procesar'!A4802,\"\")","v":""},0,0,0,0,"",0,{"$f":"IF(AND(G4802>0,G4803>G4802,NOT(ISERROR(MATCH(G4802,D:D,0)))),H4802+1,H4802)","v":0},0,"",{"$f":"IF(J4803=\"Linea_para_MAIL_creada_por_LuXML\",IF(ISERROR(MATCH(INDIRECT(ADDRESS(ROW()-G4803,7)),D:D,0)),J4803,INDIRECT(ADDRESS(MATCH(INDIRECT(ADDRESS(ROW()-G4803,7)),D:D,0),1))),J4803)","v":""},0,"",0,"",{"$f":"IF(ROW()<$S$4+2,IF('XML a procesar'!A4802=\"\",P4802,IF(MID('XML a procesar'!A4802,1,1)=\"<\",P4802,P4802+1)),P4802)","v":1}]
[{"$f":"IF('XML a procesar'!A4803>0,'XML a procesar'!A4803,\"\")","v":""},0,0,0,0,"",0,0,0,"","",0,"",0,"",{"$f":"IF(ROW()<$S$4+2,IF('XML a procesar'!A4803=\"\",P4803,IF(MID('XML a procesar'!A4803,1,1)=\"<\",P4803,P4803+1)),P4803)","v":1}]
[{"$f":"IF('XML a procesar'!A4804>0,'XML a procesar'!A4804,\"\")","v":""},0,0,0,0,"",0,0,0,"","",0,"",0,"",{"$f":"IF(ROW()<$S$4+2,IF('XML a procesar'!A4804=\"\",P4804,IF(MID('XML a procesar'!A4804,1,1)=\"<\",P4804,P4804+1)),P4804)","v":1}]
[{"$f":"IF('XML a procesar'!A4805>0,'XML a procesar'!A4805,\"\")","v":""},0,0,0,0,"",0,0,0,"","",0,"",0,"",{"$f":"IF(ROW()<$S$4+2,IF('XML a procesar'!A4805=\"\",P4805,IF(MID('XML a procesar'!A4805,1,1)=\"<\",P4805,P4805+1)),P4805)","v":1}]
[{"$f":"IF('XML a procesar'!A4806>0,'XML a procesar'!A4806,\"\")","v":""},0,0,0,0,"",0,0,0,"","",0,"",0,"",{"$f":"IF(ROW()<$S$4+2,IF('XML a procesar'!A4806=\"\",P4806,IF(MID('XML a procesar'!A4806,1,1)=\"<\",P4806,P4806+1)),P4806)","v":1}]
[{"$f":"IF('XML a procesar'!A4807>0,'XML a procesar'!A4807,\"\")","v":""},0,0,0,0,"",0,0,0,"","",0,"",0,"",{"$f":"IF(ROW()<$S$4+2,IF('XML a procesar'!A4807=\"\",P4807,IF(MID('XML a procesar'!A4807,1,1)=\"<\",P4807,P4807+1)),P4807)","v":1}]
[{"$f":"IF('XML a procesar'!A4808>0,'XML a procesar'!A4808,\"\")","v":""},0,0,0,0,"",0,0,0,"","",0,"",0,"",{"$f":"IF(ROW()<$S$4+2,IF('XML a procesar'!A4808=\"\",P4808,IF(MID('XML a procesar'!A4808,1,1)=\"<\",P4808,P4808+1)),P4808)","v":1}]
[{"$f":"IF('XML a procesar'!A4809>0,'XML a procesar'!A4809,\"\")","v":""},0,0,0,0,"",0,0,0,"","",0,"",0,"",{"$f":"IF(ROW()<$S$4+2,IF('XML a procesar'!A4809=\"\",P4809,IF(MID('XML a procesar'!A4809,1,1)=\"<\",P4809,P4809+1)),P4809)","v":1}]
[{"$f":"IF('XML a procesar'!A4810>0,'XML a procesar'!A4810,\"\")","v":""},0,0,0,0,"",0,0,0,"","",0,"",0,"",{"$f":"IF(ROW()<$S$4+2,IF('XML a procesar'!A4810=\"\",P4810,IF(MID('XML a procesar'!A4810,1,1)=\"<\",P4810,P4810+1)),P4810)","v":1}]
[{"$f":"IF('XML a procesar'!A4811>0,'XML a procesar'!A4811,\"\")","v":""},0,0,0,0,"",0,0,0,"","",0,"",0,"",{"$f":"IF(ROW()<$S$4+2,IF('XML a procesar'!A4811=\"\",P4811,IF(MID('XML a procesar'!A4811,1,1)=\"<\",P4811,P4811+1)),P4811)","v":1}]
[{"$f":"IF('XML a procesar'!A4812>0,'XML a procesar'!A4812,\"\")","v":""},0,0,0,0,"",0,0,0,"","",0,"",0,"",{"$f":"IF(ROW()<$S$4+2,IF('XML a procesar'!A4812=\"\",P4812,IF(MID('XML a procesar'!A4812,1,1)=\"<\",P4812,P4812+1)),P4812)","v":1}]
[{"$f":"IF('XML a procesar'!A4813>0,'XML a procesar'!A4813,\"\")","v":""},0,0,0,0,"",0,0,0,"","",0,"",0,"",{"$f":"IF(ROW()<$S$4+2,IF('XML a procesar'!A4813=\"\",P4813,IF(MID('XML a procesar'!A4813,1,1)=\"<\",P4813,P4813+1)),P4813)","v":1}]
[{"$f":"IF('XML a procesar'!A4814>0,'XML a procesar'!A4814,\"\")","v":""},0,0,0,0,"",0,0,0,"","",0,"",0,"",{"$f":"IF(ROW()<$S$4+2,IF('XML a procesar'!A4814=\"\",P4814,IF(MID('XML a procesar'!A4814,1,1)=\"<\",P4814,P4814+1)),P4814)","v":1}]
[{"$f":"IF('XML a procesar'!A4815>0,'XML a procesar'!A4815,\"\")","v":""},0,0,0,0,"",0,0,0,"","",0,"",0,"",{"$f":"IF(ROW()<$S$4+2,IF('XML a procesar'!A4815=\"\",P4815,IF(MID('XML a procesar'!A4815,1,1)=\"<\",P4815,P4815+1)),P4815)","v":1}]
[{"$f":"IF('XML a procesar'!A4816>0,'XML a procesar'!A4816,\"\")","v":""},0,0,0,0,"",0,0,0,"","",0,"",0,"",{"$f":"IF(ROW()<$S$4+2,IF('XML a procesar'!A4816=\"\",P4816,IF(MID('XML a procesar'!A4816,1,1)=\"<\",P4816,P4816+1)),P4816)","v":1}]
[{"$f":"IF('XML a procesar'!A4817>0,'XML a procesar'!A4817,\"\")","v":""},0,0,0,0,"",0,0,0,"","",0,"",0,"",{"$f":"IF(ROW()<$S$4+2,IF('XML a procesar'!A4817=\"\",P4817,IF(MID('XML a procesar'!A4817,1,1)=\"<\",P4817,P4817+1)),P4817)","v":1}]
[{"$f":"IF('XML a procesar'!A4818>0,'XML a procesar'!A4818,\"\")","v":""},0,0,0,0,"",0,0,0,"","",0,"",0,"",{"$f":"IF(ROW()<$S$4+2,IF('XML a procesar'!A4818=\"\",P4818,IF(MID('XML a procesar'!A4818,1,1)=\"<\",P4818,P4818+1)),P4818)","v":1}]
[{"$f":"IF('XML a procesar'!A4819>0,'XML a procesar'!A4819,\"\")","v":""},0,0,0,0,"",0,0,0,"","",0,"",0,"",{"$f":"IF(ROW()<$S$4+2,IF('XML a procesar'!A4819=\"\",P4819,IF(MID('XML a procesar'!A4819,1,1)=\"<\",P4819,P4819+1)),P4819)","v":1}]
[{"$f":"IF('XML a procesar'!A4820>0,'XML a procesar'!A4820,\"\")","v":""},0,0,0,0,"",0,0,0,"","",0,"",0,"",{"$f":"IF(ROW()<$S$4+2,IF('XML a procesar'!A4820=\"\",P4820,IF(MID('XML a procesar'!A4820,1,1)=\"<\",P4820,P4820+1)),P4820)","v":1}]
[{"$f":"IF('XML a procesar'!A4821>0,'XML a procesar'!A4821,\"\")","v":""},0,0,0,0,"",0,0,0,"","",0,"",0,"",{"$f":"IF(ROW()<$S$4+2,IF('XML a procesar'!A4821=\"\",P4821,IF(MID('XML a procesar'!A4821,1,1)=\"<\",P4821,P4821+1)),P4821)","v":1}]
[{"$f":"IF('XML a procesar'!A4822>0,'XML a procesar'!A4822,\"\")","v":""},0,0,0,0,"",0,0,0,"","",0,"",0,"",{"$f":"IF(ROW()<$S$4+2,IF('XML a procesar'!A4822=\"\",P4822,IF(MID('XML a procesar'!A4822,1,1)=\"<\",P4822,P4822+1)),P4822)","v":1}]
[{"$f":"IF('XML a procesar'!A4823>0,'XML a procesar'!A4823,\"\")","v":""},0,0,0,0,"",0,0,0,"","",0,"",0,"",{"$f":"IF(ROW()<$S$4+2,IF('XML a procesar'!A4823=\"\",P4823,IF(MID('XML a procesar'!A4823,1,1)=\"<\",P4823,P4823+1)),P4823)","v":1}]
[{"$f":"IF('XML a procesar'!A4824>0,'XML a procesar'!A4824,\"\")","v":""},0,0,0,0,"",0,0,0,"","",0,"",0,"",{"$f":"IF(ROW()<$S$4+2,IF('XML a procesar'!A4824=\"\",P4824,IF(MID('XML a procesar'!A4824,1,1)=\"<\",P4824,P4824+1)),P4824)","v":1}]
[{"$f":"IF('XML a procesar'!A4825>0,'XML a procesar'!A4825,\"\")","v":""},0,0,0,0,"",0,0,0,"","",0,"",0,"",{"$f":"IF(ROW()<$S$4+2,IF('XML a procesar'!A4825=\"\",P4825,IF(MID('XML a procesar'!A4825,1,1)=\"<\",P4825,P4825+1)),P4825)","v":1}]
[{"$f":"IF('XML a procesar'!A4826>0,'XML a procesar'!A4826,\"\")","v":""},0,0,0,0,"",0,0,0,"","",0,"",0,"",{"$f":"IF(ROW()<$S$4+2,IF('XML a procesar'!A4826=\"\",P4826,IF(MID('XML a procesar'!A4826,1,1)=\"<\",P4826,P4826+1)),P4826)","v":1}]
[{"$f":"IF('XML a procesar'!A4827>0,'XML a procesar'!A4827,\"\")","v":""},0,0,0,0,"",0,0,0,"","",0,"",0,"",{"$f":"IF(ROW()<$S$4+2,IF('XML a procesar'!A4827=\"\",P4827,IF(MID('XML a procesar'!A4827,1,1)=\"<\",P4827,P4827+1)),P4827)","v":1}]
[{"$f":"IF('XML a procesar'!A4828>0,'XML a procesar'!A4828,\"\")","v":""},0,0,0,0,"",0,0,0,"","",0,"",0,"",{"$f":"IF(ROW()<$S$4+2,IF('XML a procesar'!A4828=\"\",P4828,IF(MID('XML a procesar'!A4828,1,1)=\"<\",P4828,P4828+1)),P4828)","v":1}]
[{"$f":"IF('XML a procesar'!A4829>0,'XML a procesar'!A4829,\"\")","v":""},0,0,0,0,"",0,0,0,"","",0,"",0,"",{"$f":"IF(ROW()<$S$4+2,IF('XML a procesar'!A4829=\"\",P4829,IF(MID('XML a procesar'!A4829,1,1)=\"<\",P4829,P4829+1)),P4829)","v":1}]
[{"$f":"IF('XML a procesar'!A4830>0,'XML a procesar'!A4830,\"\")","v":""},0,0,0,0,"",0,0,0,"","",0,"",0,"",{"$f":"IF(ROW()<$S$4+2,IF('XML a procesar'!A4830=\"\",P4830,IF(MID('XML a procesar'!A4830,1,1)=\"<\",P4830,P4830+1)),P4830)","v":1}]
[{"$f":"IF('XML a procesar'!A4831>0,'XML a procesar'!A4831,\"\")","v":""},0,0,0,0,"",0,0,0,"","",0,"",0,"",{"$f":"IF(ROW()<$S$4+2,IF('XML a procesar'!A4831=\"\",P4831,IF(MID('XML a procesar'!A4831,1,1)=\"<\",P4831,P4831+1)),P4831)","v":1}]
[{"$f":"IF('XML a procesar'!A4832>0,'XML a procesar'!A4832,\"\")","v":""},0,0,0,0,"",0,0,0,"","",0,"",0,"",{"$f":"IF(ROW()<$S$4+2,IF('XML a procesar'!A4832=\"\",P4832,IF(MID('XML a procesar'!A4832,1,1)=\"<\",P4832,P4832+1)),P4832)","v":1}]
[{"$f":"IF('XML a procesar'!A4833>0,'XML a procesar'!A4833,\"\")","v":""},0,0,0,0,"",0,0,0,"","",0,"",0,"",{"$f":"IF(ROW()<$S$4+2,IF('XML a procesar'!A4833=\"\",P4833,IF(MID('XML a procesar'!A4833,1,1)=\"<\",P4833,P4833+1)),P4833)","v":1}]
[{"$f":"IF('XML a procesar'!A4834>0,'XML a procesar'!A4834,\"\")","v":""},0,0,0,0,"",0,0,0,"","",0,"",0,"",{"$f":"IF(ROW()<$S$4+2,IF('XML a procesar'!A4834=\"\",P4834,IF(MID('XML a procesar'!A4834,1,1)=\"<\",P4834,P4834+1)),P4834)","v":1}]
[{"$f":"IF('XML a procesar'!A4835>0,'XML a procesar'!A4835,\"\")","v":""},0,0,0,0,"",0,0,0,"","",0,"",0,"",{"$f":"IF(ROW()<$S$4+2,IF('XML a procesar'!A4835=\"\",P4835,IF(MID('XML a procesar'!A4835,1,1)=\"<\",P4835,P4835+1)),P4835)","v":1}]
[{"$f":"IF('XML a procesar'!A4836>0,'XML a procesar'!A4836,\"\")","v":""},0,0,0,0,"",0,0,0,"","",0,"",0,"",{"$f":"IF(ROW()<$S$4+2,IF('XML a procesar'!A4836=\"\",P4836,IF(MID('XML a procesar'!A4836,1,1)=\"<\",P4836,P4836+1)),P4836)","v":1}]
[{"$f":"IF('XML a procesar'!A4837>0,'XML a procesar'!A4837,\"\")","v":""},0,0,0,0,"",0,0,0,"","",0,"",0,"",{"$f":"IF(ROW()<$S$4+2,IF('XML a procesar'!A4837=\"\",P4837,IF(MID('XML a procesar'!A4837,1,1)=\"<\",P4837,P4837+1)),P4837)","v":1}]
[{"$f":"IF('XML a procesar'!A4838>0,'XML a procesar'!A4838,\"\")","v":""},0,0,0,0,"",0,0,0,"","",0,"",0,"",{"$f":"IF(ROW()<$S$4+2,IF('XML a procesar'!A4838=\"\",P4838,IF(MID('XML a procesar'!A4838,1,1)=\"<\",P4838,P4838+1)),P4838)","v":1}]
[{"$f":"IF('XML a procesar'!A4839>0,'XML a procesar'!A4839,\"\")","v":""},0,0,0,0,"",0,0,0,"","",0,"",0,"",{"$f":"IF(ROW()<$S$4+2,IF('XML a procesar'!A4839=\"\",P4839,IF(MID('XML a procesar'!A4839,1,1)=\"<\",P4839,P4839+1)),P4839)","v":1}]
[{"$f":"IF('XML a procesar'!A4840>0,'XML a procesar'!A4840,\"\")","v":""},0,0,0,0,"",0,0,0,"","",0,"",0,"",{"$f":"IF(ROW()<$S$4+2,IF('XML a procesar'!A4840=\"\",P4840,IF(MID('XML a procesar'!A4840,1,1)=\"<\",P4840,P4840+1)),P4840)","v":1}]
[{"$f":"IF('XML a procesar'!A4841>0,'XML a procesar'!A4841,\"\")","v":""},0,0,0,0,"",0,0,0,"","",0,"",0,"",{"$f":"IF(ROW()<$S$4+2,IF('XML a procesar'!A4841=\"\",P4841,IF(MID('XML a procesar'!A4841,1,1)=\"<\",P4841,P4841+1)),P4841)","v":1}]
[{"$f":"IF('XML a procesar'!A4842>0,'XML a procesar'!A4842,\"\")","v":""},0,0,0,0,"",0,0,0,"","",0,"",0,"",{"$f":"IF(ROW()<$S$4+2,IF('XML a procesar'!A4842=\"\",P4842,IF(MID('XML a procesar'!A4842,1,1)=\"<\",P4842,P4842+1)),P4842)","v":1}]
[{"$f":"IF('XML a procesar'!A4843>0,'XML a procesar'!A4843,\"\")","v":""},0,0,0,0,"",0,0,0,"","",0,"",0,"",{"$f":"IF(ROW()<$S$4+2,IF('XML a procesar'!A4843=\"\",P4843,IF(MID('XML a procesar'!A4843,1,1)=\"<\",P4843,P4843+1)),P4843)","v":1}]
[{"$f":"IF('XML a procesar'!A4844>0,'XML a procesar'!A4844,\"\")","v":""},0,0,0,0,"",0,0,0,"","",0,"",0,"",{"$f":"IF(ROW()<$S$4+2,IF('XML a procesar'!A4844=\"\",P4844,IF(MID('XML a procesar'!A4844,1,1)=\"<\",P4844,P4844+1)),P4844)","v":1}]
[{"$f":"IF('XML a procesar'!A4845>0,'XML a procesar'!A4845,\"\")","v":""},0,0,0,0,"",0,0,0,"","",0,"",0,"",{"$f":"IF(ROW()<$S$4+2,IF('XML a procesar'!A4845=\"\",P4845,IF(MID('XML a procesar'!A4845,1,1)=\"<\",P4845,P4845+1)),P4845)","v":1}]
[{"$f":"IF('XML a procesar'!A4846>0,'XML a procesar'!A4846,\"\")","v":""},0,0,0,0,"",0,0,0,"","",0,"",0,"",{"$f":"IF(ROW()<$S$4+2,IF('XML a procesar'!A4846=\"\",P4846,IF(MID('XML a procesar'!A4846,1,1)=\"<\",P4846,P4846+1)),P4846)","v":1}]
[{"$f":"IF('XML a procesar'!A4847>0,'XML a procesar'!A4847,\"\")","v":""},0,0,0,0,"",0,0,0,"","",0,"",0,"",{"$f":"IF(ROW()<$S$4+2,IF('XML a procesar'!A4847=\"\",P4847,IF(MID('XML a procesar'!A4847,1,1)=\"<\",P4847,P4847+1)),P4847)","v":1}]
[{"$f":"IF('XML a procesar'!A4848>0,'XML a procesar'!A4848,\"\")","v":""},0,0,0,0,"",0,0,0,"","",0,"",0,"",{"$f":"IF(ROW()<$S$4+2,IF('XML a procesar'!A4848=\"\",P4848,IF(MID('XML a procesar'!A4848,1,1)=\"<\",P4848,P4848+1)),P4848)","v":1}]
[{"$f":"IF('XML a procesar'!A4849>0,'XML a procesar'!A4849,\"\")","v":""},0,0,0,0,"",0,0,0,"","",0,"",0,"",{"$f":"IF(ROW()<$S$4+2,IF('XML a procesar'!A4849=\"\",P4849,IF(MID('XML a procesar'!A4849,1,1)=\"<\",P4849,P4849+1)),P4849)","v":1}]
[{"$f":"IF('XML a procesar'!A4850>0,'XML a procesar'!A4850,\"\")","v":""},0,0,0,0,"",0,0,0,"","",0,"",0,"",{"$f":"IF(ROW()<$S$4+2,IF('XML a procesar'!A4850=\"\",P4850,IF(MID('XML a procesar'!A4850,1,1)=\"<\",P4850,P4850+1)),P4850)","v":1}]
[{"$f":"IF('XML a procesar'!A4851>0,'XML a procesar'!A4851,\"\")","v":""},0,0,0,0,"",0,0,0,"","",0,"",0,"",{"$f":"IF(ROW()<$S$4+2,IF('XML a procesar'!A4851=\"\",P4851,IF(MID('XML a procesar'!A4851,1,1)=\"<\",P4851,P4851+1)),P4851)","v":1}]
[{"$f":"IF('XML a procesar'!A4852>0,'XML a procesar'!A4852,\"\")","v":""},0,0,0,0,"",0,0,0,"","",0,"",0,"",{"$f":"IF(ROW()<$S$4+2,IF('XML a procesar'!A4852=\"\",P4852,IF(MID('XML a procesar'!A4852,1,1)=\"<\",P4852,P4852+1)),P4852)","v":1}]
[{"$f":"IF('XML a procesar'!A4853>0,'XML a procesar'!A4853,\"\")","v":""},0,0,0,0,"",0,0,0,"","",0,"",0,"",{"$f":"IF(ROW()<$S$4+2,IF('XML a procesar'!A4853=\"\",P4853,IF(MID('XML a procesar'!A4853,1,1)=\"<\",P4853,P4853+1)),P4853)","v":1}]
[{"$f":"IF('XML a procesar'!A4854>0,'XML a procesar'!A4854,\"\")","v":""},0,0,0,0,"",0,0,0,"","",0,"",0,"",{"$f":"IF(ROW()<$S$4+2,IF('XML a procesar'!A4854=\"\",P4854,IF(MID('XML a procesar'!A4854,1,1)=\"<\",P4854,P4854+1)),P4854)","v":1}]
[{"$f":"IF('XML a procesar'!A4855>0,'XML a procesar'!A4855,\"\")","v":""},0,0,0,0,"",0,0,0,"","",0,"",0,"",{"$f":"IF(ROW()<$S$4+2,IF('XML a procesar'!A4855=\"\",P4855,IF(MID('XML a procesar'!A4855,1,1)=\"<\",P4855,P4855+1)),P4855)","v":1}]
[{"$f":"IF('XML a procesar'!A4856>0,'XML a procesar'!A4856,\"\")","v":""},0,0,0,0,"",0,0,0,"","",0,"",0,"",{"$f":"IF(ROW()<$S$4+2,IF('XML a procesar'!A4856=\"\",P4856,IF(MID('XML a procesar'!A4856,1,1)=\"<\",P4856,P4856+1)),P4856)","v":1}]
[{"$f":"IF('XML a procesar'!A4857>0,'XML a procesar'!A4857,\"\")","v":""},0,0,0,0,"",0,0,0,"","",0,"",0,"",{"$f":"IF(ROW()<$S$4+2,IF('XML a procesar'!A4857=\"\",P4857,IF(MID('XML a procesar'!A4857,1,1)=\"<\",P4857,P4857+1)),P4857)","v":1}]
[{"$f":"IF('XML a procesar'!A4858>0,'XML a procesar'!A4858,\"\")","v":""},0,0,0,0,"",0,0,0,"","",0,"",0,"",{"$f":"IF(ROW()<$S$4+2,IF('XML a procesar'!A4858=\"\",P4858,IF(MID('XML a procesar'!A4858,1,1)=\"<\",P4858,P4858+1)),P4858)","v":1}]
[{"$f":"IF('XML a procesar'!A4859>0,'XML a procesar'!A4859,\"\")","v":""},0,0,0,0,"",0,0,0,"","",0,"",0,"",{"$f":"IF(ROW()<$S$4+2,IF('XML a procesar'!A4859=\"\",P4859,IF(MID('XML a procesar'!A4859,1,1)=\"<\",P4859,P4859+1)),P4859)","v":1}]
[{"$f":"IF('XML a procesar'!A4860>0,'XML a procesar'!A4860,\"\")","v":""},0,0,0,0,"",0,0,0,"","",0,"",0,"",{"$f":"IF(ROW()<$S$4+2,IF('XML a procesar'!A4860=\"\",P4860,IF(MID('XML a procesar'!A4860,1,1)=\"<\",P4860,P4860+1)),P4860)","v":1}]
[{"$f":"IF('XML a procesar'!A4861>0,'XML a procesar'!A4861,\"\")","v":""},0,0,0,0,"",0,0,0,"","",0,"",0,"",{"$f":"IF(ROW()<$S$4+2,IF('XML a procesar'!A4861=\"\",P4861,IF(MID('XML a procesar'!A4861,1,1)=\"<\",P4861,P4861+1)),P4861)","v":1}]
[{"$f":"IF('XML a procesar'!A4862>0,'XML a procesar'!A4862,\"\")","v":""},0,0,0,0,"",0,0,0,"","",0,"",0,"",{"$f":"IF(ROW()<$S$4+2,IF('XML a procesar'!A4862=\"\",P4862,IF(MID('XML a procesar'!A4862,1,1)=\"<\",P4862,P4862+1)),P4862)","v":1}]
[{"$f":"IF('XML a procesar'!A4863>0,'XML a procesar'!A4863,\"\")","v":""},0,0,0,0,"",0,0,0,"","",0,"",0,"",{"$f":"IF(ROW()<$S$4+2,IF('XML a procesar'!A4863=\"\",P4863,IF(MID('XML a procesar'!A4863,1,1)=\"<\",P4863,P4863+1)),P4863)","v":1}]
[{"$f":"IF('XML a procesar'!A4864>0,'XML a procesar'!A4864,\"\")","v":""},{"$f":"IF(ISERROR(FIND(\"/doi.org/\",A4865,1)),0,1)","v":0},{"$f":"IF(LEFT(A4864,16)=\"<contrib contrib\",C4864+1,IF(LEFT(A4864,16)=\"</contrib-group>\",0,IF(LEFT(A4864,10)=\"</contrib>\",C4864,C4864)))","v":0},{"$f":"IF(AND(C4865>0,LEFT(A4865,7)=\"<email>\",ISNUMBER(SEARCH(\"@\",A4865,1))),C4865,IF(LEFT(A4865,10)=\"<alt-text>\",-1,0))","v":0},{"$f":"IF(D4865=0,E4864,E4864+1)","v":0},{"$f":"INDIRECT(ADDRESS(ROW()+INDIRECT(ADDRESS(ROW()+E4865,5)),1))","v":""},{"$f":"IF(LEFT(F4865,7)=\"<aff id\",_xlfn.NUMBERVALUE(MID(F4865,13,LEN(F4865)-14)),IF(F4865=\"</aff>\",G4864+1,G4864))","v":0},0,{"$f":"INDIRECT(ADDRESS(ROW()-INDIRECT(ADDRESS(ROW()-H4865,8)),8))","v":0},{"$f":"IF(J4864=\"Linea_para_MAIL_creada_por_LuXML\",\"</aff>\",IF(I4865>INDIRECT(ADDRESS(ROW()-I4865-1,8)),\"Linea_para_MAIL_creada_por_LuXML\",INDIRECT(ADDRESS(ROW()-I4865,6))))","v":""},"",{"$f":"IF(OR(MID(K4863,3,5)=\"page>\",MID(K4864,3,5)=\"page>\"),L4864,IF(OR(K4864=\"<history>\",K4865=\"<history>\"),L4864+1,L4864))","v":0},{"$f":"IF(L4865>L4864,IF(L4865=1,CONCATENATE(\"<fpage>\",$S$10,\"</fpage>\"),CONCATENATE(\"<lpage>\",$S$10+1,\"</lpage>\")),IF(ISERROR(INDIRECT(ADDRESS(ROW()-L4865,11),1)),\"\",INDIRECT(ADDRESS(ROW()-L4865,11),1)))","v":""},{"$f":"IF(N4864=-1,-1,IF(M4865=\"</counts>\",-1,IF(OR(LEFT(M4865,7)=\"<fpage>\",LEFT(M4865,7)=\"<lpage>\"),VALUE(MID(M4865,8,LEN(M4865)-15)),0)))","v":0},"",{"$f":"IF(ROW()<$S$4+2,IF('XML a procesar'!A4864=\"\",P4864,IF(MID('XML a procesar'!A4864,1,1)=\"<\",P4864,P4864+1)),P4864)","v":1}]
[{"$f":"IF('XML a procesar'!A4865>0,'XML a procesar'!A4865,\"\")","v":""},0,0,0,0,"",0,0,0,"","",0,"",0,{"$f":"IF(N4866>-1,INDIRECT(ADDRESS(ROW(),13)),IF(N4866<N4865,CONCATENATE(\"<page-count count=\",CHAR(34),1+LARGE(N:N,1)-LARGE(N:N,2),CHAR(34),\"/>\"),INDIRECT(ADDRESS(ROW()-1,13))))","v":""},{"$f":"IF(ROW()<$S$4+2,IF('XML a procesar'!A4865=\"\",P4865,IF(MID('XML a procesar'!A4865,1,1)=\"<\",P4865,P4865+1)),P4865)","v":1}]
[{"$f":"IF('XML a procesar'!A4866>0,'XML a procesar'!A4866,\"\")","v":""},0,0,0,0,"",0,{"$f":"IF(AND(G4866>0,G4867>G4866,NOT(ISERROR(MATCH(G4866,D:D,0)))),H4866+1,H4866)","v":0},0,"",{"$f":"IF(J4867=\"Linea_para_MAIL_creada_por_LuXML\",IF(ISERROR(MATCH(INDIRECT(ADDRESS(ROW()-G4867,7)),D:D,0)),J4867,INDIRECT(ADDRESS(MATCH(INDIRECT(ADDRESS(ROW()-G4867,7)),D:D,0),1))),J4867)","v":""},0,"",0,"",{"$f":"IF(ROW()<$S$4+2,IF('XML a procesar'!A4866=\"\",P4866,IF(MID('XML a procesar'!A4866,1,1)=\"<\",P4866,P4866+1)),P4866)","v":1}]
[{"$f":"IF('XML a procesar'!A4867>0,'XML a procesar'!A4867,\"\")","v":""},0,0,0,0,"",0,0,0,"","",0,"",0,"",{"$f":"IF(ROW()<$S$4+2,IF('XML a procesar'!A4867=\"\",P4867,IF(MID('XML a procesar'!A4867,1,1)=\"<\",P4867,P4867+1)),P4867)","v":1}]
[{"$f":"IF('XML a procesar'!A4868>0,'XML a procesar'!A4868,\"\")","v":""},0,0,0,0,"",0,0,0,"","",0,"",0,"",{"$f":"IF(ROW()<$S$4+2,IF('XML a procesar'!A4868=\"\",P4868,IF(MID('XML a procesar'!A4868,1,1)=\"<\",P4868,P4868+1)),P4868)","v":1}]
[{"$f":"IF('XML a procesar'!A4869>0,'XML a procesar'!A4869,\"\")","v":""},0,0,0,0,"",0,0,0,"","",0,"",0,"",{"$f":"IF(ROW()<$S$4+2,IF('XML a procesar'!A4869=\"\",P4869,IF(MID('XML a procesar'!A4869,1,1)=\"<\",P4869,P4869+1)),P4869)","v":1}]
[{"$f":"IF('XML a procesar'!A4870>0,'XML a procesar'!A4870,\"\")","v":""},0,0,0,0,"",0,0,0,"","",0,"",0,"",{"$f":"IF(ROW()<$S$4+2,IF('XML a procesar'!A4870=\"\",P4870,IF(MID('XML a procesar'!A4870,1,1)=\"<\",P4870,P4870+1)),P4870)","v":1}]
[{"$f":"IF('XML a procesar'!A4871>0,'XML a procesar'!A4871,\"\")","v":""},0,0,0,0,"",0,0,0,"","",0,"",0,"",{"$f":"IF(ROW()<$S$4+2,IF('XML a procesar'!A4871=\"\",P4871,IF(MID('XML a procesar'!A4871,1,1)=\"<\",P4871,P4871+1)),P4871)","v":1}]
[{"$f":"IF('XML a procesar'!A4872>0,'XML a procesar'!A4872,\"\")","v":""},0,0,0,0,"",0,0,0,"","",0,"",0,"",{"$f":"IF(ROW()<$S$4+2,IF('XML a procesar'!A4872=\"\",P4872,IF(MID('XML a procesar'!A4872,1,1)=\"<\",P4872,P4872+1)),P4872)","v":1}]
[{"$f":"IF('XML a procesar'!A4873>0,'XML a procesar'!A4873,\"\")","v":""},0,0,0,0,"",0,0,0,"","",0,"",0,"",{"$f":"IF(ROW()<$S$4+2,IF('XML a procesar'!A4873=\"\",P4873,IF(MID('XML a procesar'!A4873,1,1)=\"<\",P4873,P4873+1)),P4873)","v":1}]
[{"$f":"IF('XML a procesar'!A4874>0,'XML a procesar'!A4874,\"\")","v":""},0,0,0,0,"",0,0,0,"","",0,"",0,"",{"$f":"IF(ROW()<$S$4+2,IF('XML a procesar'!A4874=\"\",P4874,IF(MID('XML a procesar'!A4874,1,1)=\"<\",P4874,P4874+1)),P4874)","v":1}]
[{"$f":"IF('XML a procesar'!A4875>0,'XML a procesar'!A4875,\"\")","v":""},0,0,0,0,"",0,0,0,"","",0,"",0,"",{"$f":"IF(ROW()<$S$4+2,IF('XML a procesar'!A4875=\"\",P4875,IF(MID('XML a procesar'!A4875,1,1)=\"<\",P4875,P4875+1)),P4875)","v":1}]
[{"$f":"IF('XML a procesar'!A4876>0,'XML a procesar'!A4876,\"\")","v":""},0,0,0,0,"",0,0,0,"","",0,"",0,"",{"$f":"IF(ROW()<$S$4+2,IF('XML a procesar'!A4876=\"\",P4876,IF(MID('XML a procesar'!A4876,1,1)=\"<\",P4876,P4876+1)),P4876)","v":1}]
[{"$f":"IF('XML a procesar'!A4877>0,'XML a procesar'!A4877,\"\")","v":""},0,0,0,0,"",0,0,0,"","",0,"",0,"",{"$f":"IF(ROW()<$S$4+2,IF('XML a procesar'!A4877=\"\",P4877,IF(MID('XML a procesar'!A4877,1,1)=\"<\",P4877,P4877+1)),P4877)","v":1}]
[{"$f":"IF('XML a procesar'!A4878>0,'XML a procesar'!A4878,\"\")","v":""},0,0,0,0,"",0,0,0,"","",0,"",0,"",{"$f":"IF(ROW()<$S$4+2,IF('XML a procesar'!A4878=\"\",P4878,IF(MID('XML a procesar'!A4878,1,1)=\"<\",P4878,P4878+1)),P4878)","v":1}]
[{"$f":"IF('XML a procesar'!A4879>0,'XML a procesar'!A4879,\"\")","v":""},0,0,0,0,"",0,0,0,"","",0,"",0,"",{"$f":"IF(ROW()<$S$4+2,IF('XML a procesar'!A4879=\"\",P4879,IF(MID('XML a procesar'!A4879,1,1)=\"<\",P4879,P4879+1)),P4879)","v":1}]
[{"$f":"IF('XML a procesar'!A4880>0,'XML a procesar'!A4880,\"\")","v":""},0,0,0,0,"",0,0,0,"","",0,"",0,"",{"$f":"IF(ROW()<$S$4+2,IF('XML a procesar'!A4880=\"\",P4880,IF(MID('XML a procesar'!A4880,1,1)=\"<\",P4880,P4880+1)),P4880)","v":1}]
[{"$f":"IF('XML a procesar'!A4881>0,'XML a procesar'!A4881,\"\")","v":""},0,0,0,0,"",0,0,0,"","",0,"",0,"",{"$f":"IF(ROW()<$S$4+2,IF('XML a procesar'!A4881=\"\",P4881,IF(MID('XML a procesar'!A4881,1,1)=\"<\",P4881,P4881+1)),P4881)","v":1}]
[{"$f":"IF('XML a procesar'!A4882>0,'XML a procesar'!A4882,\"\")","v":""},0,0,0,0,"",0,0,0,"","",0,"",0,"",{"$f":"IF(ROW()<$S$4+2,IF('XML a procesar'!A4882=\"\",P4882,IF(MID('XML a procesar'!A4882,1,1)=\"<\",P4882,P4882+1)),P4882)","v":1}]
[{"$f":"IF('XML a procesar'!A4883>0,'XML a procesar'!A4883,\"\")","v":""},0,0,0,0,"",0,0,0,"","",0,"",0,"",{"$f":"IF(ROW()<$S$4+2,IF('XML a procesar'!A4883=\"\",P4883,IF(MID('XML a procesar'!A4883,1,1)=\"<\",P4883,P4883+1)),P4883)","v":1}]
[{"$f":"IF('XML a procesar'!A4884>0,'XML a procesar'!A4884,\"\")","v":""},0,0,0,0,"",0,0,0,"","",0,"",0,"",{"$f":"IF(ROW()<$S$4+2,IF('XML a procesar'!A4884=\"\",P4884,IF(MID('XML a procesar'!A4884,1,1)=\"<\",P4884,P4884+1)),P4884)","v":1}]
[{"$f":"IF('XML a procesar'!A4885>0,'XML a procesar'!A4885,\"\")","v":""},0,0,0,0,"",0,0,0,"","",0,"",0,"",{"$f":"IF(ROW()<$S$4+2,IF('XML a procesar'!A4885=\"\",P4885,IF(MID('XML a procesar'!A4885,1,1)=\"<\",P4885,P4885+1)),P4885)","v":1}]
[{"$f":"IF('XML a procesar'!A4886>0,'XML a procesar'!A4886,\"\")","v":""},0,0,0,0,"",0,0,0,"","",0,"",0,"",{"$f":"IF(ROW()<$S$4+2,IF('XML a procesar'!A4886=\"\",P4886,IF(MID('XML a procesar'!A4886,1,1)=\"<\",P4886,P4886+1)),P4886)","v":1}]
[{"$f":"IF('XML a procesar'!A4887>0,'XML a procesar'!A4887,\"\")","v":""},0,0,0,0,"",0,0,0,"","",0,"",0,"",{"$f":"IF(ROW()<$S$4+2,IF('XML a procesar'!A4887=\"\",P4887,IF(MID('XML a procesar'!A4887,1,1)=\"<\",P4887,P4887+1)),P4887)","v":1}]
[{"$f":"IF('XML a procesar'!A4888>0,'XML a procesar'!A4888,\"\")","v":""},0,0,0,0,"",0,0,0,"","",0,"",0,"",{"$f":"IF(ROW()<$S$4+2,IF('XML a procesar'!A4888=\"\",P4888,IF(MID('XML a procesar'!A4888,1,1)=\"<\",P4888,P4888+1)),P4888)","v":1}]
[{"$f":"IF('XML a procesar'!A4889>0,'XML a procesar'!A4889,\"\")","v":""},0,0,0,0,"",0,0,0,"","",0,"",0,"",{"$f":"IF(ROW()<$S$4+2,IF('XML a procesar'!A4889=\"\",P4889,IF(MID('XML a procesar'!A4889,1,1)=\"<\",P4889,P4889+1)),P4889)","v":1}]
[{"$f":"IF('XML a procesar'!A4890>0,'XML a procesar'!A4890,\"\")","v":""},0,0,0,0,"",0,0,0,"","",0,"",0,"",{"$f":"IF(ROW()<$S$4+2,IF('XML a procesar'!A4890=\"\",P4890,IF(MID('XML a procesar'!A4890,1,1)=\"<\",P4890,P4890+1)),P4890)","v":1}]
[{"$f":"IF('XML a procesar'!A4891>0,'XML a procesar'!A4891,\"\")","v":""},0,0,0,0,"",0,0,0,"","",0,"",0,"",{"$f":"IF(ROW()<$S$4+2,IF('XML a procesar'!A4891=\"\",P4891,IF(MID('XML a procesar'!A4891,1,1)=\"<\",P4891,P4891+1)),P4891)","v":1}]
[{"$f":"IF('XML a procesar'!A4892>0,'XML a procesar'!A4892,\"\")","v":""},0,0,0,0,"",0,0,0,"","",0,"",0,"",{"$f":"IF(ROW()<$S$4+2,IF('XML a procesar'!A4892=\"\",P4892,IF(MID('XML a procesar'!A4892,1,1)=\"<\",P4892,P4892+1)),P4892)","v":1}]
[{"$f":"IF('XML a procesar'!A4893>0,'XML a procesar'!A4893,\"\")","v":""},0,0,0,0,"",0,0,0,"","",0,"",0,"",{"$f":"IF(ROW()<$S$4+2,IF('XML a procesar'!A4893=\"\",P4893,IF(MID('XML a procesar'!A4893,1,1)=\"<\",P4893,P4893+1)),P4893)","v":1}]
[{"$f":"IF('XML a procesar'!A4894>0,'XML a procesar'!A4894,\"\")","v":""},0,0,0,0,"",0,0,0,"","",0,"",0,"",{"$f":"IF(ROW()<$S$4+2,IF('XML a procesar'!A4894=\"\",P4894,IF(MID('XML a procesar'!A4894,1,1)=\"<\",P4894,P4894+1)),P4894)","v":1}]
[{"$f":"IF('XML a procesar'!A4895>0,'XML a procesar'!A4895,\"\")","v":""},0,0,0,0,"",0,0,0,"","",0,"",0,"",{"$f":"IF(ROW()<$S$4+2,IF('XML a procesar'!A4895=\"\",P4895,IF(MID('XML a procesar'!A4895,1,1)=\"<\",P4895,P4895+1)),P4895)","v":1}]
[{"$f":"IF('XML a procesar'!A4896>0,'XML a procesar'!A4896,\"\")","v":""},0,0,0,0,"",0,0,0,"","",0,"",0,"",{"$f":"IF(ROW()<$S$4+2,IF('XML a procesar'!A4896=\"\",P4896,IF(MID('XML a procesar'!A4896,1,1)=\"<\",P4896,P4896+1)),P4896)","v":1}]
[{"$f":"IF('XML a procesar'!A4897>0,'XML a procesar'!A4897,\"\")","v":""},0,0,0,0,"",0,0,0,"","",0,"",0,"",{"$f":"IF(ROW()<$S$4+2,IF('XML a procesar'!A4897=\"\",P4897,IF(MID('XML a procesar'!A4897,1,1)=\"<\",P4897,P4897+1)),P4897)","v":1}]
[{"$f":"IF('XML a procesar'!A4898>0,'XML a procesar'!A4898,\"\")","v":""},0,0,0,0,"",0,0,0,"","",0,"",0,"",{"$f":"IF(ROW()<$S$4+2,IF('XML a procesar'!A4898=\"\",P4898,IF(MID('XML a procesar'!A4898,1,1)=\"<\",P4898,P4898+1)),P4898)","v":1}]
[{"$f":"IF('XML a procesar'!A4899>0,'XML a procesar'!A4899,\"\")","v":""},0,0,0,0,"",0,0,0,"","",0,"",0,"",{"$f":"IF(ROW()<$S$4+2,IF('XML a procesar'!A4899=\"\",P4899,IF(MID('XML a procesar'!A4899,1,1)=\"<\",P4899,P4899+1)),P4899)","v":1}]
[{"$f":"IF('XML a procesar'!A4900>0,'XML a procesar'!A4900,\"\")","v":""},0,0,0,0,"",0,0,0,"","",0,"",0,"",{"$f":"IF(ROW()<$S$4+2,IF('XML a procesar'!A4900=\"\",P4900,IF(MID('XML a procesar'!A4900,1,1)=\"<\",P4900,P4900+1)),P4900)","v":1}]
[{"$f":"IF('XML a procesar'!A4901>0,'XML a procesar'!A4901,\"\")","v":""},0,0,0,0,"",0,0,0,"","",0,"",0,"",{"$f":"IF(ROW()<$S$4+2,IF('XML a procesar'!A4901=\"\",P4901,IF(MID('XML a procesar'!A4901,1,1)=\"<\",P4901,P4901+1)),P4901)","v":1}]
[{"$f":"IF('XML a procesar'!A4902>0,'XML a procesar'!A4902,\"\")","v":""},0,0,0,0,"",0,0,0,"","",0,"",0,"",{"$f":"IF(ROW()<$S$4+2,IF('XML a procesar'!A4902=\"\",P4902,IF(MID('XML a procesar'!A4902,1,1)=\"<\",P4902,P4902+1)),P4902)","v":1}]
[{"$f":"IF('XML a procesar'!A4903>0,'XML a procesar'!A4903,\"\")","v":""},0,0,0,0,"",0,0,0,"","",0,"",0,"",{"$f":"IF(ROW()<$S$4+2,IF('XML a procesar'!A4903=\"\",P4903,IF(MID('XML a procesar'!A4903,1,1)=\"<\",P4903,P4903+1)),P4903)","v":1}]
[{"$f":"IF('XML a procesar'!A4904>0,'XML a procesar'!A4904,\"\")","v":""},0,0,0,0,"",0,0,0,"","",0,"",0,"",{"$f":"IF(ROW()<$S$4+2,IF('XML a procesar'!A4904=\"\",P4904,IF(MID('XML a procesar'!A4904,1,1)=\"<\",P4904,P4904+1)),P4904)","v":1}]
[{"$f":"IF('XML a procesar'!A4905>0,'XML a procesar'!A4905,\"\")","v":""},0,0,0,0,"",0,0,0,"","",0,"",0,"",{"$f":"IF(ROW()<$S$4+2,IF('XML a procesar'!A4905=\"\",P4905,IF(MID('XML a procesar'!A4905,1,1)=\"<\",P4905,P4905+1)),P4905)","v":1}]
[{"$f":"IF('XML a procesar'!A4906>0,'XML a procesar'!A4906,\"\")","v":""},0,0,0,0,"",0,0,0,"","",0,"",0,"",{"$f":"IF(ROW()<$S$4+2,IF('XML a procesar'!A4906=\"\",P4906,IF(MID('XML a procesar'!A4906,1,1)=\"<\",P4906,P4906+1)),P4906)","v":1}]
[{"$f":"IF('XML a procesar'!A4907>0,'XML a procesar'!A4907,\"\")","v":""},0,0,0,0,"",0,0,0,"","",0,"",0,"",{"$f":"IF(ROW()<$S$4+2,IF('XML a procesar'!A4907=\"\",P4907,IF(MID('XML a procesar'!A4907,1,1)=\"<\",P4907,P4907+1)),P4907)","v":1}]
[{"$f":"IF('XML a procesar'!A4908>0,'XML a procesar'!A4908,\"\")","v":""},0,0,0,0,"",0,0,0,"","",0,"",0,"",{"$f":"IF(ROW()<$S$4+2,IF('XML a procesar'!A4908=\"\",P4908,IF(MID('XML a procesar'!A4908,1,1)=\"<\",P4908,P4908+1)),P4908)","v":1}]
[{"$f":"IF('XML a procesar'!A4909>0,'XML a procesar'!A4909,\"\")","v":""},0,0,0,0,"",0,0,0,"","",0,"",0,"",{"$f":"IF(ROW()<$S$4+2,IF('XML a procesar'!A4909=\"\",P4909,IF(MID('XML a procesar'!A4909,1,1)=\"<\",P4909,P4909+1)),P4909)","v":1}]
[{"$f":"IF('XML a procesar'!A4910>0,'XML a procesar'!A4910,\"\")","v":""},0,0,0,0,"",0,0,0,"","",0,"",0,"",{"$f":"IF(ROW()<$S$4+2,IF('XML a procesar'!A4910=\"\",P4910,IF(MID('XML a procesar'!A4910,1,1)=\"<\",P4910,P4910+1)),P4910)","v":1}]
[{"$f":"IF('XML a procesar'!A4911>0,'XML a procesar'!A4911,\"\")","v":""},0,0,0,0,"",0,0,0,"","",0,"",0,"",{"$f":"IF(ROW()<$S$4+2,IF('XML a procesar'!A4911=\"\",P4911,IF(MID('XML a procesar'!A4911,1,1)=\"<\",P4911,P4911+1)),P4911)","v":1}]
[{"$f":"IF('XML a procesar'!A4912>0,'XML a procesar'!A4912,\"\")","v":""},0,0,0,0,"",0,0,0,"","",0,"",0,"",{"$f":"IF(ROW()<$S$4+2,IF('XML a procesar'!A4912=\"\",P4912,IF(MID('XML a procesar'!A4912,1,1)=\"<\",P4912,P4912+1)),P4912)","v":1}]
[{"$f":"IF('XML a procesar'!A4913>0,'XML a procesar'!A4913,\"\")","v":""},0,0,0,0,"",0,0,0,"","",0,"",0,"",{"$f":"IF(ROW()<$S$4+2,IF('XML a procesar'!A4913=\"\",P4913,IF(MID('XML a procesar'!A4913,1,1)=\"<\",P4913,P4913+1)),P4913)","v":1}]
[{"$f":"IF('XML a procesar'!A4914>0,'XML a procesar'!A4914,\"\")","v":""},0,0,0,0,"",0,0,0,"","",0,"",0,"",{"$f":"IF(ROW()<$S$4+2,IF('XML a procesar'!A4914=\"\",P4914,IF(MID('XML a procesar'!A4914,1,1)=\"<\",P4914,P4914+1)),P4914)","v":1}]
[{"$f":"IF('XML a procesar'!A4915>0,'XML a procesar'!A4915,\"\")","v":""},0,0,0,0,"",0,0,0,"","",0,"",0,"",{"$f":"IF(ROW()<$S$4+2,IF('XML a procesar'!A4915=\"\",P4915,IF(MID('XML a procesar'!A4915,1,1)=\"<\",P4915,P4915+1)),P4915)","v":1}]
[{"$f":"IF('XML a procesar'!A4916>0,'XML a procesar'!A4916,\"\")","v":""},0,0,0,0,"",0,0,0,"","",0,"",0,"",{"$f":"IF(ROW()<$S$4+2,IF('XML a procesar'!A4916=\"\",P4916,IF(MID('XML a procesar'!A4916,1,1)=\"<\",P4916,P4916+1)),P4916)","v":1}]
[{"$f":"IF('XML a procesar'!A4917>0,'XML a procesar'!A4917,\"\")","v":""},0,0,0,0,"",0,0,0,"","",0,"",0,"",{"$f":"IF(ROW()<$S$4+2,IF('XML a procesar'!A4917=\"\",P4917,IF(MID('XML a procesar'!A4917,1,1)=\"<\",P4917,P4917+1)),P4917)","v":1}]
[{"$f":"IF('XML a procesar'!A4918>0,'XML a procesar'!A4918,\"\")","v":""},0,0,0,0,"",0,0,0,"","",0,"",0,"",{"$f":"IF(ROW()<$S$4+2,IF('XML a procesar'!A4918=\"\",P4918,IF(MID('XML a procesar'!A4918,1,1)=\"<\",P4918,P4918+1)),P4918)","v":1}]
[{"$f":"IF('XML a procesar'!A4919>0,'XML a procesar'!A4919,\"\")","v":""},0,0,0,0,"",0,0,0,"","",0,"",0,"",{"$f":"IF(ROW()<$S$4+2,IF('XML a procesar'!A4919=\"\",P4919,IF(MID('XML a procesar'!A4919,1,1)=\"<\",P4919,P4919+1)),P4919)","v":1}]
[{"$f":"IF('XML a procesar'!A4920>0,'XML a procesar'!A4920,\"\")","v":""},0,0,0,0,"",0,0,0,"","",0,"",0,"",{"$f":"IF(ROW()<$S$4+2,IF('XML a procesar'!A4920=\"\",P4920,IF(MID('XML a procesar'!A4920,1,1)=\"<\",P4920,P4920+1)),P4920)","v":1}]
[{"$f":"IF('XML a procesar'!A4921>0,'XML a procesar'!A4921,\"\")","v":""},0,0,0,0,"",0,0,0,"","",0,"",0,"",{"$f":"IF(ROW()<$S$4+2,IF('XML a procesar'!A4921=\"\",P4921,IF(MID('XML a procesar'!A4921,1,1)=\"<\",P4921,P4921+1)),P4921)","v":1}]
[{"$f":"IF('XML a procesar'!A4922>0,'XML a procesar'!A4922,\"\")","v":""},0,0,0,0,"",0,0,0,"","",0,"",0,"",{"$f":"IF(ROW()<$S$4+2,IF('XML a procesar'!A4922=\"\",P4922,IF(MID('XML a procesar'!A4922,1,1)=\"<\",P4922,P4922+1)),P4922)","v":1}]
[{"$f":"IF('XML a procesar'!A4923>0,'XML a procesar'!A4923,\"\")","v":""},0,0,0,0,"",0,0,0,"","",0,"",0,"",{"$f":"IF(ROW()<$S$4+2,IF('XML a procesar'!A4923=\"\",P4923,IF(MID('XML a procesar'!A4923,1,1)=\"<\",P4923,P4923+1)),P4923)","v":1}]
[{"$f":"IF('XML a procesar'!A4924>0,'XML a procesar'!A4924,\"\")","v":""},0,0,0,0,"",0,0,0,"","",0,"",0,"",{"$f":"IF(ROW()<$S$4+2,IF('XML a procesar'!A4924=\"\",P4924,IF(MID('XML a procesar'!A4924,1,1)=\"<\",P4924,P4924+1)),P4924)","v":1}]
[{"$f":"IF('XML a procesar'!A4925>0,'XML a procesar'!A4925,\"\")","v":""},0,0,0,0,"",0,0,0,"","",0,"",0,"",{"$f":"IF(ROW()<$S$4+2,IF('XML a procesar'!A4925=\"\",P4925,IF(MID('XML a procesar'!A4925,1,1)=\"<\",P4925,P4925+1)),P4925)","v":1}]
[{"$f":"IF('XML a procesar'!A4926>0,'XML a procesar'!A4926,\"\")","v":""},0,0,0,0,"",0,0,0,"","",0,"",0,"",{"$f":"IF(ROW()<$S$4+2,IF('XML a procesar'!A4926=\"\",P4926,IF(MID('XML a procesar'!A4926,1,1)=\"<\",P4926,P4926+1)),P4926)","v":1}]
[{"$f":"IF('XML a procesar'!A4927>0,'XML a procesar'!A4927,\"\")","v":""},0,0,0,0,"",0,0,0,"","",0,"",0,"",{"$f":"IF(ROW()<$S$4+2,IF('XML a procesar'!A4927=\"\",P4927,IF(MID('XML a procesar'!A4927,1,1)=\"<\",P4927,P4927+1)),P4927)","v":1}]
[{"$f":"IF('XML a procesar'!A4928>0,'XML a procesar'!A4928,\"\")","v":""},{"$f":"IF(ISERROR(FIND(\"/doi.org/\",A4929,1)),0,1)","v":0},{"$f":"IF(LEFT(A4928,16)=\"<contrib contrib\",C4928+1,IF(LEFT(A4928,16)=\"</contrib-group>\",0,IF(LEFT(A4928,10)=\"</contrib>\",C4928,C4928)))","v":0},{"$f":"IF(AND(C4929>0,LEFT(A4929,7)=\"<email>\",ISNUMBER(SEARCH(\"@\",A4929,1))),C4929,IF(LEFT(A4929,10)=\"<alt-text>\",-1,0))","v":0},{"$f":"IF(D4929=0,E4928,E4928+1)","v":0},{"$f":"INDIRECT(ADDRESS(ROW()+INDIRECT(ADDRESS(ROW()+E4929,5)),1))","v":""},{"$f":"IF(LEFT(F4929,7)=\"<aff id\",_xlfn.NUMBERVALUE(MID(F4929,13,LEN(F4929)-14)),IF(F4929=\"</aff>\",G4928+1,G4928))","v":0},0,{"$f":"INDIRECT(ADDRESS(ROW()-INDIRECT(ADDRESS(ROW()-H4929,8)),8))","v":0},{"$f":"IF(J4928=\"Linea_para_MAIL_creada_por_LuXML\",\"</aff>\",IF(I4929>INDIRECT(ADDRESS(ROW()-I4929-1,8)),\"Linea_para_MAIL_creada_por_LuXML\",INDIRECT(ADDRESS(ROW()-I4929,6))))","v":""},"",{"$f":"IF(OR(MID(K4927,3,5)=\"page>\",MID(K4928,3,5)=\"page>\"),L4928,IF(OR(K4928=\"<history>\",K4929=\"<history>\"),L4928+1,L4928))","v":0},{"$f":"IF(L4929>L4928,IF(L4929=1,CONCATENATE(\"<fpage>\",$S$10,\"</fpage>\"),CONCATENATE(\"<lpage>\",$S$10+1,\"</lpage>\")),IF(ISERROR(INDIRECT(ADDRESS(ROW()-L4929,11),1)),\"\",INDIRECT(ADDRESS(ROW()-L4929,11),1)))","v":""},{"$f":"IF(N4928=-1,-1,IF(M4929=\"</counts>\",-1,IF(OR(LEFT(M4929,7)=\"<fpage>\",LEFT(M4929,7)=\"<lpage>\"),VALUE(MID(M4929,8,LEN(M4929)-15)),0)))","v":0},"",{"$f":"IF(ROW()<$S$4+2,IF('XML a procesar'!A4928=\"\",P4928,IF(MID('XML a procesar'!A4928,1,1)=\"<\",P4928,P4928+1)),P4928)","v":1}]
[{"$f":"IF('XML a procesar'!A4929>0,'XML a procesar'!A4929,\"\")","v":""},0,0,0,0,"",0,0,0,"","",0,"",0,{"$f":"IF(N4930>-1,INDIRECT(ADDRESS(ROW(),13)),IF(N4930<N4929,CONCATENATE(\"<page-count count=\",CHAR(34),1+LARGE(N:N,1)-LARGE(N:N,2),CHAR(34),\"/>\"),INDIRECT(ADDRESS(ROW()-1,13))))","v":""},{"$f":"IF(ROW()<$S$4+2,IF('XML a procesar'!A4929=\"\",P4929,IF(MID('XML a procesar'!A4929,1,1)=\"<\",P4929,P4929+1)),P4929)","v":1}]
[{"$f":"IF('XML a procesar'!A4930>0,'XML a procesar'!A4930,\"\")","v":""},0,0,0,0,"",0,{"$f":"IF(AND(G4930>0,G4931>G4930,NOT(ISERROR(MATCH(G4930,D:D,0)))),H4930+1,H4930)","v":0},0,"",{"$f":"IF(J4931=\"Linea_para_MAIL_creada_por_LuXML\",IF(ISERROR(MATCH(INDIRECT(ADDRESS(ROW()-G4931,7)),D:D,0)),J4931,INDIRECT(ADDRESS(MATCH(INDIRECT(ADDRESS(ROW()-G4931,7)),D:D,0),1))),J4931)","v":""},0,"",0,"",{"$f":"IF(ROW()<$S$4+2,IF('XML a procesar'!A4930=\"\",P4930,IF(MID('XML a procesar'!A4930,1,1)=\"<\",P4930,P4930+1)),P4930)","v":1}]
[{"$f":"IF('XML a procesar'!A4931>0,'XML a procesar'!A4931,\"\")","v":""},0,0,0,0,"",0,0,0,"","",0,"",0,"",{"$f":"IF(ROW()<$S$4+2,IF('XML a procesar'!A4931=\"\",P4931,IF(MID('XML a procesar'!A4931,1,1)=\"<\",P4931,P4931+1)),P4931)","v":1}]
[{"$f":"IF('XML a procesar'!A4932>0,'XML a procesar'!A4932,\"\")","v":""},0,0,0,0,"",0,0,0,"","",0,"",0,"",{"$f":"IF(ROW()<$S$4+2,IF('XML a procesar'!A4932=\"\",P4932,IF(MID('XML a procesar'!A4932,1,1)=\"<\",P4932,P4932+1)),P4932)","v":1}]
[{"$f":"IF('XML a procesar'!A4933>0,'XML a procesar'!A4933,\"\")","v":""},0,0,0,0,"",0,0,0,"","",0,"",0,"",{"$f":"IF(ROW()<$S$4+2,IF('XML a procesar'!A4933=\"\",P4933,IF(MID('XML a procesar'!A4933,1,1)=\"<\",P4933,P4933+1)),P4933)","v":1}]
[{"$f":"IF('XML a procesar'!A4934>0,'XML a procesar'!A4934,\"\")","v":""},0,0,0,0,"",0,0,0,"","",0,"",0,"",{"$f":"IF(ROW()<$S$4+2,IF('XML a procesar'!A4934=\"\",P4934,IF(MID('XML a procesar'!A4934,1,1)=\"<\",P4934,P4934+1)),P4934)","v":1}]
[{"$f":"IF('XML a procesar'!A4935>0,'XML a procesar'!A4935,\"\")","v":""},0,0,0,0,"",0,0,0,"","",0,"",0,"",{"$f":"IF(ROW()<$S$4+2,IF('XML a procesar'!A4935=\"\",P4935,IF(MID('XML a procesar'!A4935,1,1)=\"<\",P4935,P4935+1)),P4935)","v":1}]
[{"$f":"IF('XML a procesar'!A4936>0,'XML a procesar'!A4936,\"\")","v":""},0,0,0,0,"",0,0,0,"","",0,"",0,"",{"$f":"IF(ROW()<$S$4+2,IF('XML a procesar'!A4936=\"\",P4936,IF(MID('XML a procesar'!A4936,1,1)=\"<\",P4936,P4936+1)),P4936)","v":1}]
[{"$f":"IF('XML a procesar'!A4937>0,'XML a procesar'!A4937,\"\")","v":""},0,0,0,0,"",0,0,0,"","",0,"",0,"",{"$f":"IF(ROW()<$S$4+2,IF('XML a procesar'!A4937=\"\",P4937,IF(MID('XML a procesar'!A4937,1,1)=\"<\",P4937,P4937+1)),P4937)","v":1}]
[{"$f":"IF('XML a procesar'!A4938>0,'XML a procesar'!A4938,\"\")","v":""},0,0,0,0,"",0,0,0,"","",0,"",0,"",{"$f":"IF(ROW()<$S$4+2,IF('XML a procesar'!A4938=\"\",P4938,IF(MID('XML a procesar'!A4938,1,1)=\"<\",P4938,P4938+1)),P4938)","v":1}]
[{"$f":"IF('XML a procesar'!A4939>0,'XML a procesar'!A4939,\"\")","v":""},0,0,0,0,"",0,0,0,"","",0,"",0,"",{"$f":"IF(ROW()<$S$4+2,IF('XML a procesar'!A4939=\"\",P4939,IF(MID('XML a procesar'!A4939,1,1)=\"<\",P4939,P4939+1)),P4939)","v":1}]
[{"$f":"IF('XML a procesar'!A4940>0,'XML a procesar'!A4940,\"\")","v":""},0,0,0,0,"",0,0,0,"","",0,"",0,"",{"$f":"IF(ROW()<$S$4+2,IF('XML a procesar'!A4940=\"\",P4940,IF(MID('XML a procesar'!A4940,1,1)=\"<\",P4940,P4940+1)),P4940)","v":1}]
[{"$f":"IF('XML a procesar'!A4941>0,'XML a procesar'!A4941,\"\")","v":""},0,0,0,0,"",0,0,0,"","",0,"",0,"",{"$f":"IF(ROW()<$S$4+2,IF('XML a procesar'!A4941=\"\",P4941,IF(MID('XML a procesar'!A4941,1,1)=\"<\",P4941,P4941+1)),P4941)","v":1}]
[{"$f":"IF('XML a procesar'!A4942>0,'XML a procesar'!A4942,\"\")","v":""},0,0,0,0,"",0,0,0,"","",0,"",0,"",{"$f":"IF(ROW()<$S$4+2,IF('XML a procesar'!A4942=\"\",P4942,IF(MID('XML a procesar'!A4942,1,1)=\"<\",P4942,P4942+1)),P4942)","v":1}]
[{"$f":"IF('XML a procesar'!A4943>0,'XML a procesar'!A4943,\"\")","v":""},0,0,0,0,"",0,0,0,"","",0,"",0,"",{"$f":"IF(ROW()<$S$4+2,IF('XML a procesar'!A4943=\"\",P4943,IF(MID('XML a procesar'!A4943,1,1)=\"<\",P4943,P4943+1)),P4943)","v":1}]
[{"$f":"IF('XML a procesar'!A4944>0,'XML a procesar'!A4944,\"\")","v":""},0,0,0,0,"",0,0,0,"","",0,"",0,"",{"$f":"IF(ROW()<$S$4+2,IF('XML a procesar'!A4944=\"\",P4944,IF(MID('XML a procesar'!A4944,1,1)=\"<\",P4944,P4944+1)),P4944)","v":1}]
[{"$f":"IF('XML a procesar'!A4945>0,'XML a procesar'!A4945,\"\")","v":""},0,0,0,0,"",0,0,0,"","",0,"",0,"",{"$f":"IF(ROW()<$S$4+2,IF('XML a procesar'!A4945=\"\",P4945,IF(MID('XML a procesar'!A4945,1,1)=\"<\",P4945,P4945+1)),P4945)","v":1}]
[{"$f":"IF('XML a procesar'!A4946>0,'XML a procesar'!A4946,\"\")","v":""},0,0,0,0,"",0,0,0,"","",0,"",0,"",{"$f":"IF(ROW()<$S$4+2,IF('XML a procesar'!A4946=\"\",P4946,IF(MID('XML a procesar'!A4946,1,1)=\"<\",P4946,P4946+1)),P4946)","v":1}]
[{"$f":"IF('XML a procesar'!A4947>0,'XML a procesar'!A4947,\"\")","v":""},0,0,0,0,"",0,0,0,"","",0,"",0,"",{"$f":"IF(ROW()<$S$4+2,IF('XML a procesar'!A4947=\"\",P4947,IF(MID('XML a procesar'!A4947,1,1)=\"<\",P4947,P4947+1)),P4947)","v":1}]
[{"$f":"IF('XML a procesar'!A4948>0,'XML a procesar'!A4948,\"\")","v":""},0,0,0,0,"",0,0,0,"","",0,"",0,"",{"$f":"IF(ROW()<$S$4+2,IF('XML a procesar'!A4948=\"\",P4948,IF(MID('XML a procesar'!A4948,1,1)=\"<\",P4948,P4948+1)),P4948)","v":1}]
[{"$f":"IF('XML a procesar'!A4949>0,'XML a procesar'!A4949,\"\")","v":""},0,0,0,0,"",0,0,0,"","",0,"",0,"",{"$f":"IF(ROW()<$S$4+2,IF('XML a procesar'!A4949=\"\",P4949,IF(MID('XML a procesar'!A4949,1,1)=\"<\",P4949,P4949+1)),P4949)","v":1}]
[{"$f":"IF('XML a procesar'!A4950>0,'XML a procesar'!A4950,\"\")","v":""},0,0,0,0,"",0,0,0,"","",0,"",0,"",{"$f":"IF(ROW()<$S$4+2,IF('XML a procesar'!A4950=\"\",P4950,IF(MID('XML a procesar'!A4950,1,1)=\"<\",P4950,P4950+1)),P4950)","v":1}]
[{"$f":"IF('XML a procesar'!A4951>0,'XML a procesar'!A4951,\"\")","v":""},0,0,0,0,"",0,0,0,"","",0,"",0,"",{"$f":"IF(ROW()<$S$4+2,IF('XML a procesar'!A4951=\"\",P4951,IF(MID('XML a procesar'!A4951,1,1)=\"<\",P4951,P4951+1)),P4951)","v":1}]
[{"$f":"IF('XML a procesar'!A4952>0,'XML a procesar'!A4952,\"\")","v":""},0,0,0,0,"",0,0,0,"","",0,"",0,"",{"$f":"IF(ROW()<$S$4+2,IF('XML a procesar'!A4952=\"\",P4952,IF(MID('XML a procesar'!A4952,1,1)=\"<\",P4952,P4952+1)),P4952)","v":1}]
[{"$f":"IF('XML a procesar'!A4953>0,'XML a procesar'!A4953,\"\")","v":""},0,0,0,0,"",0,0,0,"","",0,"",0,"",{"$f":"IF(ROW()<$S$4+2,IF('XML a procesar'!A4953=\"\",P4953,IF(MID('XML a procesar'!A4953,1,1)=\"<\",P4953,P4953+1)),P4953)","v":1}]
[{"$f":"IF('XML a procesar'!A4954>0,'XML a procesar'!A4954,\"\")","v":""},0,0,0,0,"",0,0,0,"","",0,"",0,"",{"$f":"IF(ROW()<$S$4+2,IF('XML a procesar'!A4954=\"\",P4954,IF(MID('XML a procesar'!A4954,1,1)=\"<\",P4954,P4954+1)),P4954)","v":1}]
[{"$f":"IF('XML a procesar'!A4955>0,'XML a procesar'!A4955,\"\")","v":""},0,0,0,0,"",0,0,0,"","",0,"",0,"",{"$f":"IF(ROW()<$S$4+2,IF('XML a procesar'!A4955=\"\",P4955,IF(MID('XML a procesar'!A4955,1,1)=\"<\",P4955,P4955+1)),P4955)","v":1}]
[{"$f":"IF('XML a procesar'!A4956>0,'XML a procesar'!A4956,\"\")","v":""},0,0,0,0,"",0,0,0,"","",0,"",0,"",{"$f":"IF(ROW()<$S$4+2,IF('XML a procesar'!A4956=\"\",P4956,IF(MID('XML a procesar'!A4956,1,1)=\"<\",P4956,P4956+1)),P4956)","v":1}]
[{"$f":"IF('XML a procesar'!A4957>0,'XML a procesar'!A4957,\"\")","v":""},0,0,0,0,"",0,0,0,"","",0,"",0,"",{"$f":"IF(ROW()<$S$4+2,IF('XML a procesar'!A4957=\"\",P4957,IF(MID('XML a procesar'!A4957,1,1)=\"<\",P4957,P4957+1)),P4957)","v":1}]
[{"$f":"IF('XML a procesar'!A4958>0,'XML a procesar'!A4958,\"\")","v":""},0,0,0,0,"",0,0,0,"","",0,"",0,"",{"$f":"IF(ROW()<$S$4+2,IF('XML a procesar'!A4958=\"\",P4958,IF(MID('XML a procesar'!A4958,1,1)=\"<\",P4958,P4958+1)),P4958)","v":1}]
[{"$f":"IF('XML a procesar'!A4959>0,'XML a procesar'!A4959,\"\")","v":""},0,0,0,0,"",0,0,0,"","",0,"",0,"",{"$f":"IF(ROW()<$S$4+2,IF('XML a procesar'!A4959=\"\",P4959,IF(MID('XML a procesar'!A4959,1,1)=\"<\",P4959,P4959+1)),P4959)","v":1}]
[{"$f":"IF('XML a procesar'!A4960>0,'XML a procesar'!A4960,\"\")","v":""},0,0,0,0,"",0,0,0,"","",0,"",0,"",{"$f":"IF(ROW()<$S$4+2,IF('XML a procesar'!A4960=\"\",P4960,IF(MID('XML a procesar'!A4960,1,1)=\"<\",P4960,P4960+1)),P4960)","v":1}]
[{"$f":"IF('XML a procesar'!A4961>0,'XML a procesar'!A4961,\"\")","v":""},0,0,0,0,"",0,0,0,"","",0,"",0,"",{"$f":"IF(ROW()<$S$4+2,IF('XML a procesar'!A4961=\"\",P4961,IF(MID('XML a procesar'!A4961,1,1)=\"<\",P4961,P4961+1)),P4961)","v":1}]
[{"$f":"IF('XML a procesar'!A4962>0,'XML a procesar'!A4962,\"\")","v":""},0,0,0,0,"",0,0,0,"","",0,"",0,"",{"$f":"IF(ROW()<$S$4+2,IF('XML a procesar'!A4962=\"\",P4962,IF(MID('XML a procesar'!A4962,1,1)=\"<\",P4962,P4962+1)),P4962)","v":1}]
[{"$f":"IF('XML a procesar'!A4963>0,'XML a procesar'!A4963,\"\")","v":""},0,0,0,0,"",0,0,0,"","",0,"",0,"",{"$f":"IF(ROW()<$S$4+2,IF('XML a procesar'!A4963=\"\",P4963,IF(MID('XML a procesar'!A4963,1,1)=\"<\",P4963,P4963+1)),P4963)","v":1}]
[{"$f":"IF('XML a procesar'!A4964>0,'XML a procesar'!A4964,\"\")","v":""},0,0,0,0,"",0,0,0,"","",0,"",0,"",{"$f":"IF(ROW()<$S$4+2,IF('XML a procesar'!A4964=\"\",P4964,IF(MID('XML a procesar'!A4964,1,1)=\"<\",P4964,P4964+1)),P4964)","v":1}]
[{"$f":"IF('XML a procesar'!A4965>0,'XML a procesar'!A4965,\"\")","v":""},0,0,0,0,"",0,0,0,"","",0,"",0,"",{"$f":"IF(ROW()<$S$4+2,IF('XML a procesar'!A4965=\"\",P4965,IF(MID('XML a procesar'!A4965,1,1)=\"<\",P4965,P4965+1)),P4965)","v":1}]
[{"$f":"IF('XML a procesar'!A4966>0,'XML a procesar'!A4966,\"\")","v":""},0,0,0,0,"",0,0,0,"","",0,"",0,"",{"$f":"IF(ROW()<$S$4+2,IF('XML a procesar'!A4966=\"\",P4966,IF(MID('XML a procesar'!A4966,1,1)=\"<\",P4966,P4966+1)),P4966)","v":1}]
[{"$f":"IF('XML a procesar'!A4967>0,'XML a procesar'!A4967,\"\")","v":""},0,0,0,0,"",0,0,0,"","",0,"",0,"",{"$f":"IF(ROW()<$S$4+2,IF('XML a procesar'!A4967=\"\",P4967,IF(MID('XML a procesar'!A4967,1,1)=\"<\",P4967,P4967+1)),P4967)","v":1}]
[{"$f":"IF('XML a procesar'!A4968>0,'XML a procesar'!A4968,\"\")","v":""},0,0,0,0,"",0,0,0,"","",0,"",0,"",{"$f":"IF(ROW()<$S$4+2,IF('XML a procesar'!A4968=\"\",P4968,IF(MID('XML a procesar'!A4968,1,1)=\"<\",P4968,P4968+1)),P4968)","v":1}]
[{"$f":"IF('XML a procesar'!A4969>0,'XML a procesar'!A4969,\"\")","v":""},0,0,0,0,"",0,0,0,"","",0,"",0,"",{"$f":"IF(ROW()<$S$4+2,IF('XML a procesar'!A4969=\"\",P4969,IF(MID('XML a procesar'!A4969,1,1)=\"<\",P4969,P4969+1)),P4969)","v":1}]
[{"$f":"IF('XML a procesar'!A4970>0,'XML a procesar'!A4970,\"\")","v":""},0,0,0,0,"",0,0,0,"","",0,"",0,"",{"$f":"IF(ROW()<$S$4+2,IF('XML a procesar'!A4970=\"\",P4970,IF(MID('XML a procesar'!A4970,1,1)=\"<\",P4970,P4970+1)),P4970)","v":1}]
[{"$f":"IF('XML a procesar'!A4971>0,'XML a procesar'!A4971,\"\")","v":""},0,0,0,0,"",0,0,0,"","",0,"",0,"",{"$f":"IF(ROW()<$S$4+2,IF('XML a procesar'!A4971=\"\",P4971,IF(MID('XML a procesar'!A4971,1,1)=\"<\",P4971,P4971+1)),P4971)","v":1}]
[{"$f":"IF('XML a procesar'!A4972>0,'XML a procesar'!A4972,\"\")","v":""},0,0,0,0,"",0,0,0,"","",0,"",0,"",{"$f":"IF(ROW()<$S$4+2,IF('XML a procesar'!A4972=\"\",P4972,IF(MID('XML a procesar'!A4972,1,1)=\"<\",P4972,P4972+1)),P4972)","v":1}]
[{"$f":"IF('XML a procesar'!A4973>0,'XML a procesar'!A4973,\"\")","v":""},0,0,0,0,"",0,0,0,"","",0,"",0,"",{"$f":"IF(ROW()<$S$4+2,IF('XML a procesar'!A4973=\"\",P4973,IF(MID('XML a procesar'!A4973,1,1)=\"<\",P4973,P4973+1)),P4973)","v":1}]
[{"$f":"IF('XML a procesar'!A4974>0,'XML a procesar'!A4974,\"\")","v":""},0,0,0,0,"",0,0,0,"","",0,"",0,"",{"$f":"IF(ROW()<$S$4+2,IF('XML a procesar'!A4974=\"\",P4974,IF(MID('XML a procesar'!A4974,1,1)=\"<\",P4974,P4974+1)),P4974)","v":1}]
[{"$f":"IF('XML a procesar'!A4975>0,'XML a procesar'!A4975,\"\")","v":""},0,0,0,0,"",0,0,0,"","",0,"",0,"",{"$f":"IF(ROW()<$S$4+2,IF('XML a procesar'!A4975=\"\",P4975,IF(MID('XML a procesar'!A4975,1,1)=\"<\",P4975,P4975+1)),P4975)","v":1}]
[{"$f":"IF('XML a procesar'!A4976>0,'XML a procesar'!A4976,\"\")","v":""},0,0,0,0,"",0,0,0,"","",0,"",0,"",{"$f":"IF(ROW()<$S$4+2,IF('XML a procesar'!A4976=\"\",P4976,IF(MID('XML a procesar'!A4976,1,1)=\"<\",P4976,P4976+1)),P4976)","v":1}]
[{"$f":"IF('XML a procesar'!A4977>0,'XML a procesar'!A4977,\"\")","v":""},0,0,0,0,"",0,0,0,"","",0,"",0,"",{"$f":"IF(ROW()<$S$4+2,IF('XML a procesar'!A4977=\"\",P4977,IF(MID('XML a procesar'!A4977,1,1)=\"<\",P4977,P4977+1)),P4977)","v":1}]
[{"$f":"IF('XML a procesar'!A4978>0,'XML a procesar'!A4978,\"\")","v":""},0,0,0,0,"",0,0,0,"","",0,"",0,"",{"$f":"IF(ROW()<$S$4+2,IF('XML a procesar'!A4978=\"\",P4978,IF(MID('XML a procesar'!A4978,1,1)=\"<\",P4978,P4978+1)),P4978)","v":1}]
[{"$f":"IF('XML a procesar'!A4979>0,'XML a procesar'!A4979,\"\")","v":""},0,0,0,0,"",0,0,0,"","",0,"",0,"",{"$f":"IF(ROW()<$S$4+2,IF('XML a procesar'!A4979=\"\",P4979,IF(MID('XML a procesar'!A4979,1,1)=\"<\",P4979,P4979+1)),P4979)","v":1}]
[{"$f":"IF('XML a procesar'!A4980>0,'XML a procesar'!A4980,\"\")","v":""},0,0,0,0,"",0,0,0,"","",0,"",0,"",{"$f":"IF(ROW()<$S$4+2,IF('XML a procesar'!A4980=\"\",P4980,IF(MID('XML a procesar'!A4980,1,1)=\"<\",P4980,P4980+1)),P4980)","v":1}]
[{"$f":"IF('XML a procesar'!A4981>0,'XML a procesar'!A4981,\"\")","v":""},0,0,0,0,"",0,0,0,"","",0,"",0,"",{"$f":"IF(ROW()<$S$4+2,IF('XML a procesar'!A4981=\"\",P4981,IF(MID('XML a procesar'!A4981,1,1)=\"<\",P4981,P4981+1)),P4981)","v":1}]
[{"$f":"IF('XML a procesar'!A4982>0,'XML a procesar'!A4982,\"\")","v":""},0,0,0,0,"",0,0,0,"","",0,"",0,"",{"$f":"IF(ROW()<$S$4+2,IF('XML a procesar'!A4982=\"\",P4982,IF(MID('XML a procesar'!A4982,1,1)=\"<\",P4982,P4982+1)),P4982)","v":1}]
[{"$f":"IF('XML a procesar'!A4983>0,'XML a procesar'!A4983,\"\")","v":""},0,0,0,0,"",0,0,0,"","",0,"",0,"",{"$f":"IF(ROW()<$S$4+2,IF('XML a procesar'!A4983=\"\",P4983,IF(MID('XML a procesar'!A4983,1,1)=\"<\",P4983,P4983+1)),P4983)","v":1}]
[{"$f":"IF('XML a procesar'!A4984>0,'XML a procesar'!A4984,\"\")","v":""},0,0,0,0,"",0,0,0,"","",0,"",0,"",{"$f":"IF(ROW()<$S$4+2,IF('XML a procesar'!A4984=\"\",P4984,IF(MID('XML a procesar'!A4984,1,1)=\"<\",P4984,P4984+1)),P4984)","v":1}]
[{"$f":"IF('XML a procesar'!A4985>0,'XML a procesar'!A4985,\"\")","v":""},0,0,0,0,"",0,0,0,"","",0,"",0,"",{"$f":"IF(ROW()<$S$4+2,IF('XML a procesar'!A4985=\"\",P4985,IF(MID('XML a procesar'!A4985,1,1)=\"<\",P4985,P4985+1)),P4985)","v":1}]
[{"$f":"IF('XML a procesar'!A4986>0,'XML a procesar'!A4986,\"\")","v":""},0,0,0,0,"",0,0,0,"","",0,"",0,"",{"$f":"IF(ROW()<$S$4+2,IF('XML a procesar'!A4986=\"\",P4986,IF(MID('XML a procesar'!A4986,1,1)=\"<\",P4986,P4986+1)),P4986)","v":1}]
[{"$f":"IF('XML a procesar'!A4987>0,'XML a procesar'!A4987,\"\")","v":""},0,0,0,0,"",0,0,0,"","",0,"",0,"",{"$f":"IF(ROW()<$S$4+2,IF('XML a procesar'!A4987=\"\",P4987,IF(MID('XML a procesar'!A4987,1,1)=\"<\",P4987,P4987+1)),P4987)","v":1}]
[{"$f":"IF('XML a procesar'!A4988>0,'XML a procesar'!A4988,\"\")","v":""},0,0,0,0,"",0,0,0,"","",0,"",0,"",{"$f":"IF(ROW()<$S$4+2,IF('XML a procesar'!A4988=\"\",P4988,IF(MID('XML a procesar'!A4988,1,1)=\"<\",P4988,P4988+1)),P4988)","v":1}]
[{"$f":"IF('XML a procesar'!A4989>0,'XML a procesar'!A4989,\"\")","v":""},0,0,0,0,"",0,0,0,"","",0,"",0,"",{"$f":"IF(ROW()<$S$4+2,IF('XML a procesar'!A4989=\"\",P4989,IF(MID('XML a procesar'!A4989,1,1)=\"<\",P4989,P4989+1)),P4989)","v":1}]
[{"$f":"IF('XML a procesar'!A4990>0,'XML a procesar'!A4990,\"\")","v":""},0,0,0,0,"",0,0,0,"","",0,"",0,"",{"$f":"IF(ROW()<$S$4+2,IF('XML a procesar'!A4990=\"\",P4990,IF(MID('XML a procesar'!A4990,1,1)=\"<\",P4990,P4990+1)),P4990)","v":1}]
[{"$f":"IF('XML a procesar'!A4991>0,'XML a procesar'!A4991,\"\")","v":""},0,0,0,0,"",0,0,0,"","",0,"",0,"",{"$f":"IF(ROW()<$S$4+2,IF('XML a procesar'!A4991=\"\",P4991,IF(MID('XML a procesar'!A4991,1,1)=\"<\",P4991,P4991+1)),P4991)","v":1}]
[{"$f":"IF('XML a procesar'!A4992>0,'XML a procesar'!A4992,\"\")","v":""},{"$f":"IF(ISERROR(FIND(\"/doi.org/\",A4993,1)),0,1)","v":0},{"$f":"IF(LEFT(A4992,16)=\"<contrib contrib\",C4992+1,IF(LEFT(A4992,16)=\"</contrib-group>\",0,IF(LEFT(A4992,10)=\"</contrib>\",C4992,C4992)))","v":0},{"$f":"IF(AND(C4993>0,LEFT(A4993,7)=\"<email>\",ISNUMBER(SEARCH(\"@\",A4993,1))),C4993,IF(LEFT(A4993,10)=\"<alt-text>\",-1,0))","v":0},{"$f":"IF(D4993=0,E4992,E4992+1)","v":0},{"$f":"INDIRECT(ADDRESS(ROW()+INDIRECT(ADDRESS(ROW()+E4993,5)),1))","v":""},{"$f":"IF(LEFT(F4993,7)=\"<aff id\",_xlfn.NUMBERVALUE(MID(F4993,13,LEN(F4993)-14)),IF(F4993=\"</aff>\",G4992+1,G4992))","v":0},0,{"$f":"INDIRECT(ADDRESS(ROW()-INDIRECT(ADDRESS(ROW()-H4993,8)),8))","v":0},{"$f":"IF(J4992=\"Linea_para_MAIL_creada_por_LuXML\",\"</aff>\",IF(I4993>INDIRECT(ADDRESS(ROW()-I4993-1,8)),\"Linea_para_MAIL_creada_por_LuXML\",INDIRECT(ADDRESS(ROW()-I4993,6))))","v":""},"",{"$f":"IF(OR(MID(K4991,3,5)=\"page>\",MID(K4992,3,5)=\"page>\"),L4992,IF(OR(K4992=\"<history>\",K4993=\"<history>\"),L4992+1,L4992))","v":0},{"$f":"IF(L4993>L4992,IF(L4993=1,CONCATENATE(\"<fpage>\",$S$10,\"</fpage>\"),CONCATENATE(\"<lpage>\",$S$10+1,\"</lpage>\")),IF(ISERROR(INDIRECT(ADDRESS(ROW()-L4993,11),1)),\"\",INDIRECT(ADDRESS(ROW()-L4993,11),1)))","v":""},{"$f":"IF(N4992=-1,-1,IF(M4993=\"</counts>\",-1,IF(OR(LEFT(M4993,7)=\"<fpage>\",LEFT(M4993,7)=\"<lpage>\"),VALUE(MID(M4993,8,LEN(M4993)-15)),0)))","v":0},"",{"$f":"IF(ROW()<$S$4+2,IF('XML a procesar'!A4992=\"\",P4992,IF(MID('XML a procesar'!A4992,1,1)=\"<\",P4992,P4992+1)),P4992)","v":1}]
[{"$f":"IF('XML a procesar'!A4993>0,'XML a procesar'!A4993,\"\")","v":""},0,0,0,0,"",0,0,0,"","",0,"",0,{"$f":"IF(N4994>-1,INDIRECT(ADDRESS(ROW(),13)),IF(N4994<N4993,CONCATENATE(\"<page-count count=\",CHAR(34),1+LARGE(N:N,1)-LARGE(N:N,2),CHAR(34),\"/>\"),INDIRECT(ADDRESS(ROW()-1,13))))","v":""},{"$f":"IF(ROW()<$S$4+2,IF('XML a procesar'!A4993=\"\",P4993,IF(MID('XML a procesar'!A4993,1,1)=\"<\",P4993,P4993+1)),P4993)","v":1}]
[{"$f":"IF('XML a procesar'!A4994>0,'XML a procesar'!A4994,\"\")","v":""},0,0,0,0,"",0,{"$f":"IF(AND(G4994>0,G4995>G4994,NOT(ISERROR(MATCH(G4994,D:D,0)))),H4994+1,H4994)","v":0},0,"",{"$f":"IF(J4995=\"Linea_para_MAIL_creada_por_LuXML\",IF(ISERROR(MATCH(INDIRECT(ADDRESS(ROW()-G4995,7)),D:D,0)),J4995,INDIRECT(ADDRESS(MATCH(INDIRECT(ADDRESS(ROW()-G4995,7)),D:D,0),1))),J4995)","v":""},0,"",0,"",{"$f":"IF(ROW()<$S$4+2,IF('XML a procesar'!A4994=\"\",P4994,IF(MID('XML a procesar'!A4994,1,1)=\"<\",P4994,P4994+1)),P4994)","v":1}]
[{"$f":"IF('XML a procesar'!A4995>0,'XML a procesar'!A4995,\"\")","v":""},0,0,0,0,"",0,0,0,"","",0,"",0,"",{"$f":"IF(ROW()<$S$4+2,IF('XML a procesar'!A4995=\"\",P4995,IF(MID('XML a procesar'!A4995,1,1)=\"<\",P4995,P4995+1)),P4995)","v":1}]
[{"$f":"IF('XML a procesar'!A4996>0,'XML a procesar'!A4996,\"\")","v":""},0,0,0,0,"",0,0,0,"","",0,"",0,"",{"$f":"IF(ROW()<$S$4+2,IF('XML a procesar'!A4996=\"\",P4996,IF(MID('XML a procesar'!A4996,1,1)=\"<\",P4996,P4996+1)),P4996)","v":1}]
[{"$f":"IF('XML a procesar'!A4997>0,'XML a procesar'!A4997,\"\")","v":""},0,0,0,0,"",0,0,0,"","",0,"",0,"",{"$f":"IF(ROW()<$S$4+2,IF('XML a procesar'!A4997=\"\",P4997,IF(MID('XML a procesar'!A4997,1,1)=\"<\",P4997,P4997+1)),P4997)","v":1}]
[{"$f":"IF('XML a procesar'!A4998>0,'XML a procesar'!A4998,\"\")","v":""},0,0,0,0,"",0,0,0,"","",0,"",0,"",{"$f":"IF(ROW()<$S$4+2,IF('XML a procesar'!A4998=\"\",P4998,IF(MID('XML a procesar'!A4998,1,1)=\"<\",P4998,P4998+1)),P4998)","v":1}]
[{"$f":"IF('XML a procesar'!A4999>0,'XML a procesar'!A4999,\"\")","v":""},0,0,0,0,"",0,0,0,"","",0,"",0,"",{"$f":"IF(ROW()<$S$4+2,IF('XML a procesar'!A4999=\"\",P4999,IF(MID('XML a procesar'!A4999,1,1)=\"<\",P4999,P4999+1)),P4999)","v":1}]
[{"$f":"IF('XML a procesar'!A5000>0,'XML a procesar'!A5000,\"\")","v":""},0,0,0,0,"",0,0,0,"","",0,"",0,"",{"$f":"IF(ROW()<$S$4+2,IF('XML a procesar'!A5000=\"\",P5000,IF(MID('XML a procesar'!A5000,1,1)=\"<\",P5000,P5000+1)),P5000)","v":1}]

{"sheet":"Resultado","index":2,"n_rows":5000,"n_cols":1,"rows_kept":5000,"cut":false,"hidden":false,"merged":[]}
[{"$f":"IF(PROCESADOR!O2>0,PROCESADOR!O2,\"\")","v":""}]
[{"$f":"IF(PROCESADOR!O3>0,PROCESADOR!O3,\"\")","v":"<!DOCTYPE article PUBLIC \"-//NLM//DTD JATS (Z39.96) Journal Publishing DTD v1.0 20120330//EN\" \"http://jats.nlm.nih.gov/publishing/1.0/JATS-journalpublishing1.dtd\">"}]
[{"$f":"IF(PROCESADOR!O4>0,PROCESADOR!O4,\"\")","v":"<article xmlns:ali=\"http://www.niso.org/schemas/ali/1.0\" xmlns:xsi=\"http://www.w3.org/2001/XMLSchema-instance\" xmlns:xlink=\"http://www.w3.org/1999/xlink\" xmlns:mml=\"http://www.w3.org/1998/Math/MathML\" dtd-version=\"1.0\" specific-use=\"sps-1.8\" article-type=\"research-article\" xml:lang=\"es\">"}]
[{"$f":"IF(PROCESADOR!O5>0,PROCESADOR!O5,\"\")","v":""}]
[{"$f":"IF(PROCESADOR!O6>0,PROCESADOR!O6,\"\")","v":""}]
[{"$f":"IF(PROCESADOR!O7>0,PROCESADOR!O7,\"\")","v":""}]
[{"$f":"IF(PROCESADOR!O8>0,PROCESADOR!O8,\"\")","v":""}]
[{"$f":"IF(PROCESADOR!O9>0,PROCESADOR!O9,\"\")","v":""}]
[{"$f":"IF(PROCESADOR!O10>0,PROCESADOR!O10,\"\")","v":""}]
[{"$f":"IF(PROCESADOR!O11>0,PROCESADOR!O11,\"\")","v":""}]
[{"$f":"IF(PROCESADOR!O12>0,PROCESADOR!O12,\"\")","v":""}]
[{"$f":"IF(PROCESADOR!O13>0,PROCESADOR!O13,\"\")","v":""}]
[{"$f":"IF(PROCESADOR!O14>0,PROCESADOR!O14,\"\")","v":""}]
[{"$f":"IF(PROCESADOR!O15>0,PROCESADOR!O15,\"\")","v":""}]
[{"$f":"IF(PROCESADOR!O16>0,PROCESADOR!O16,\"\")","v":""}]
[{"$f":"IF(PROCESADOR!O17>0,PROCESADOR!O17,\"\")","v":""}]
[{"$f":"IF(PROCESADOR!O18>0,PROCESADOR!O18,\"\")","v":""}]
[{"$f":"IF(PROCESADOR!O19>0,PROCESADOR!O19,\"\")","v":""}]
[{"$f":"IF(PROCESADOR!O20>0,PROCESADOR!O20,\"\")","v":""}]
[{"$f":"IF(PROCESADOR!O21>0,PROCESADOR!O21,\"\")","v":""}]
[{"$f":"IF(PROCESADOR!O22>0,PROCESADOR!O22,\"\")","v":""}]
[{"$f":"IF(PROCESADOR!O23>0,PROCESADOR!O23,\"\")","v":""}]
[{"$f":"IF(PROCESADOR!O24>0,PROCESADOR!O24,\"\")","v":""}]
[{"$f":"IF(PROCESADOR!O25>0,PROCESADOR!O25,\"\")","v":""}]
[{"$f":"IF(PROCESADOR!O26>0,PROCESADOR!O26,\"\")","v":""}]
[{"$f":"IF(PROCESADOR!O27>0,PROCESADOR!O27,\"\")","v":""}]
[{"$f":"IF(PROCESADOR!O28>0,PROCESADOR!O28,\"\")","v":""}]
[{"$f":"IF(PROCESADOR!O29>0,PROCESADOR!O29,\"\")","v":""}]
[{"$f":"IF(PROCESADOR!O30>0,PROCESADOR!O30,\"\")","v":""}]
[{"$f":"IF(PROCESADOR!O31>0,PROCESADOR!O31,\"\")","v":""}]
[{"$f":"IF(PROCESADOR!O32>0,PROCESADOR!O32,\"\")","v":""}]
[{"$f":"IF(PROCESADOR!O33>0,PROCESADOR!O33,\"\")","v":""}]
[{"$f":"IF(PROCESADOR!O34>0,PROCESADOR!O34,\"\")","v":""}]
[{"$f":"IF(PROCESADOR!O35>0,PROCESADOR!O35,\"\")","v":""}]
[{"$f":"IF(PROCESADOR!O36>0,PROCESADOR!O36,\"\")","v":""}]
[{"$f":"IF(PROCESADOR!O37>0,PROCESADOR!O37,\"\")","v":""}]
[{"$f":"IF(PROCESADOR!O38>0,PROCESADOR!O38,\"\")","v":""}]
[{"$f":"IF(PROCESADOR!O39>0,PROCESADOR!O39,\"\")","v":""}]
[{"$f":"IF(PROCESADOR!O40>0,PROCESADOR!O40,\"\")","v":""}]
[{"$f":"IF(PROCESADOR!O41>0,PROCESADOR!O41,\"\")","v":""}]
[{"$f":"IF(PROCESADOR!O42>0,PROCESADOR!O42,\"\")","v":""}]
[{"$f":"IF(PROCESADOR!O43>0,PROCESADOR!O43,\"\")","v":""}]
[{"$f":"IF(PROCESADOR!O44>0,PROCESADOR!O44,\"\")","v":""}]
[{"$f":"IF(PROCESADOR!O45>0,PROCESADOR!O45,\"\")","v":""}]
[{"$f":"IF(PROCESADOR!O46>0,PROCESADOR!O46,\"\")","v":""}]
[{"$f":"IF(PROCESADOR!O47>0,PROCESADOR!O47,\"\")","v":""}]
[{"$f":"IF(PROCESADOR!O48>0,PROCESADOR!O48,\"\")","v":""}]
[{"$f":"IF(PROCESADOR!O49>0,PROCESADOR!O49,\"\")","v":""}]
[{"$f":"IF(PROCESADOR!O50>0,PROCESADOR!O50,\"\")","v":""}]
[{"$f":"IF(PROCESADOR!O51>0,PROCESADOR!O51,\"\")","v":""}]
[{"$f":"IF(PROCESADOR!O52>0,PROCESADOR!O52,\"\")","v":""}]
[{"$f":"IF(PROCESADOR!O53>0,PROCESADOR!O53,\"\")","v":""}]
[{"$f":"IF(PROCESADOR!O54>0,PROCESADOR!O54,\"\")","v":""}]
[{"$f":"IF(PROCESADOR!O55>0,PROCESADOR!O55,\"\")","v":""}]
[{"$f":"IF(PROCESADOR!O56>0,PROCESADOR!O56,\"\")","v":""}]
[{"$f":"IF(PROCESADOR!O57>0,PROCESADOR!O57,\"\")","v":""}]
[{"$f":"IF(PROCESADOR!O58>0,PROCESADOR!O58,\"\")","v":""}]
[{"$f":"IF(PROCESADOR!O59>0,PROCESADOR!O59,\"\")","v":""}]
[{"$f":"IF(PROCESADOR!O60>0,PROCESADOR!O60,\"\")","v":""}]
[{"$f":"IF(PROCESADOR!O61>0,PROCESADOR!O61,\"\")","v":""}]
[{"$f":"IF(PROCESADOR!O62>0,PROCESADOR!O62,\"\")","v":""}]
[{"$f":"IF(PROCESADOR!O63>0,PROCESADOR!O63,\"\")","v":""}]
[{"$f":"IF(PROCESADOR!O64>0,PROCESADOR!O64,\"\")","v":""}]
[{"$f":"IF(PROCESADOR!O65>0,PROCESADOR!O65,\"\")","v":""}]
[{"$f":"IF(PROCESADOR!O66>0,PROCESADOR!O66,\"\")","v":""}]
[{"$f":"IF(PROCESADOR!O67>0,PROCESADOR!O67,\"\")","v":""}]
[{"$f":"IF(PROCESADOR!O68>0,PROCESADOR!O68,\"\")","v":""}]
[{"$f":"IF(PROCESADOR!O69>0,PROCESADOR!O69,\"\")","v":""}]
[{"$f":"IF(PROCESADOR!O70>0,PROCESADOR!O70,\"\")","v":""}]
[{"$f":"IF(PROCESADOR!O71>0,PROCESADOR!O71,\"\")","v":""}]
[{"$f":"IF(PROCESADOR!O72>0,PROCESADOR!O72,\"\")","v":""}]
[{"$f":"IF(PROCESADOR!O73>0,PROCESADOR!O73,\"\")","v":""}]
[{"$f":"IF(PROCESADOR!O74>0,PROCESADOR!O74,\"\")","v":""}]
[{"$f":"IF(PROCESADOR!O75>0,PROCESADOR!O75,\"\")","v":""}]
[{"$f":"IF(PROCESADOR!O76>0,PROCESADOR!O76,\"\")","v":""}]
[{"$f":"IF(PROCESADOR!O77>0,PROCESADOR!O77,\"\")","v":""}]
[{"$f":"IF(PROCESADOR!O78>0,PROCESADOR!O78,\"\")","v":""}]
[{"$f":"IF(PROCESADOR!O79>0,PROCESADOR!O79,\"\")","v":""}]
[{"$f":"IF(PROCESADOR!O80>0,PROCESADOR!O80,\"\")","v":""}]
[{"$f":"IF(PROCESADOR!O81>0,PROCESADOR!O81,\"\")","v":""}]
[{"$f":"IF(PROCESADOR!O82>0,PROCESADOR!O82,\"\")","v":""}]
[{"$f":"IF(PROCESADOR!O83>0,PROCESADOR!O83,\"\")","v":""}]
[{"$f":"IF(PROCESADOR!O84>0,PROCESADOR!O84,\"\")","v":""}]
[{"$f":"IF(PROCESADOR!O85>0,PROCESADOR!O85,\"\")","v":""}]
[{"$f":"IF(PROCESADOR!O86>0,PROCESADOR!O86,\"\")","v":""}]
[{"$f":"IF(PROCESADOR!O87>0,PROCESADOR!O87,\"\")","v":""}]
[{"$f":"IF(PROCESADOR!O88>0,PROCESADOR!O88,\"\")","v":""}]
[{"$f":"IF(PROCESADOR!O89>0,PROCESADOR!O89,\"\")","v":""}]
[{"$f":"IF(PROCESADOR!O90>0,PROCESADOR!O90,\"\")","v":""}]
[{"$f":"IF(PROCESADOR!O91>0,PROCESADOR!O91,\"\")","v":""}]
[{"$f":"IF(PROCESADOR!O92>0,PROCESADOR!O92,\"\")","v":""}]
[{"$f":"IF(PROCESADOR!O93>0,PROCESADOR!O93,\"\")","v":""}]
[{"$f":"IF(PROCESADOR!O94>0,PROCESADOR!O94,\"\")","v":""}]
[{"$f":"IF(PROCESADOR!O95>0,PROCESADOR!O95,\"\")","v":""}]
[{"$f":"IF(PROCESADOR!O96>0,PROCESADOR!O96,\"\")","v":""}]
[{"$f":"IF(PROCESADOR!O97>0,PROCESADOR!O97,\"\")","v":""}]
[{"$f":"IF(PROCESADOR!O98>0,PROCESADOR!O98,\"\")","v":""}]
[{"$f":"IF(PROCESADOR!O99>0,PROCESADOR!O99,\"\")","v":""}]
[{"$f":"IF(PROCESADOR!O100>0,PROCESADOR!O100,\"\")","v":""}]
[{"$f":"IF(PROCESADOR!O101>0,PROCESADOR!O101,\"\")","v":""}]
[{"$f":"IF(PROCESADOR!O102>0,PROCESADOR!O102,\"\")","v":""}]
[{"$f":"IF(PROCESADOR!O103>0,PROCESADOR!O103,\"\")","v":""}]
[{"$f":"IF(PROCESADOR!O104>0,PROCESADOR!O104,\"\")","v":""}]
[{"$f":"IF(PROCESADOR!O105>0,PROCESADOR!O105,\"\")","v":""}]
[{"$f":"IF(PROCESADOR!O106>0,PROCESADOR!O106,\"\")","v":""}]
[{"$f":"IF(PROCESADOR!O107>0,PROCESADOR!O107,\"\")","v":""}]
[{"$f":"IF(PROCESADOR!O108>0,PROCESADOR!O108,\"\")","v":""}]
[{"$f":"IF(PROCESADOR!O109>0,PROCESADOR!O109,\"\")","v":""}]
[{"$f":"IF(PROCESADOR!O110>0,PROCESADOR!O110,\"\")","v":""}]
[{"$f":"IF(PROCESADOR!O111>0,PROCESADOR!O111,\"\")","v":""}]
[{"$f":"IF(PROCESADOR!O112>0,PROCESADOR!O112,\"\")","v":""}]
[{"$f":"IF(PROCESADOR!O113>0,PROCESADOR!O113,\"\")","v":""}]
[{"$f":"IF(PROCESADOR!O114>0,PROCESADOR!O114,\"\")","v":""}]
[{"$f":"IF(PROCESADOR!O115>0,PROCESADOR!O115,\"\")","v":""}]
[{"$f":"IF(PROCESADOR!O116>0,PROCESADOR!O116,\"\")","v":""}]
[{"$f":"IF(PROCESADOR!O117>0,PROCESADOR!O117,\"\")","v":""}]
[{"$f":"IF(PROCESADOR!O118>0,PROCESADOR!O118,\"\")","v":""}]
[{"$f":"IF(PROCESADOR!O119>0,PROCESADOR!O119,\"\")","v":""}]
[{"$f":"IF(PROCESADOR!O120>0,PROCESADOR!O120,\"\")","v":""}]
[{"$f":"IF(PROCESADOR!O121>0,PROCESADOR!O121,\"\")","v":""}]
[{"$f":"IF(PROCESADOR!O122>0,PROCESADOR!O122,\"\")","v":""}]
[{"$f":"IF(PROCESADOR!O123>0,PROCESADOR!O123,\"\")","v":""}]
[{"$f":"IF(PROCESADOR!O124>0,PROCESADOR!O124,\"\")","v":""}]
[{"$f":"IF(PROCESADOR!O125>0,PROCESADOR!O125,\"\")","v":""}]
[{"$f":"IF(PROCESADOR!O126>0,PROCESADOR!O126,\"\")","v":""}]
[{"$f":"IF(PROCESADOR!O127>0,PROCESADOR!O127,\"\")","v":""}]
[{"$f":"IF(PROCESADOR!O128>0,PROCESADOR!O128,\"\")","v":""}]
[{"$f":"IF(PROCESADOR!O129>0,PROCESADOR!O129,\"\")","v":""}]
[{"$f":"IF(PROCESADOR!O130>0,PROCESADOR!O130,\"\")","v":""}]
[{"$f":"IF(PROCESADOR!O131>0,PROCESADOR!O131,\"\")","v":""}]
[{"$f":"IF(PROCESADOR!O132>0,PROCESADOR!O132,\"\")","v":""}]
[{"$f":"IF(PROCESADOR!O133>0,PROCESADOR!O133,\"\")","v":""}]
[{"$f":"IF(PROCESADOR!O134>0,PROCESADOR!O134,\"\")","v":""}]
[{"$f":"IF(PROCESADOR!O135>0,PROCESADOR!O135,\"\")","v":""}]
[{"$f":"IF(PROCESADOR!O136>0,PROCESADOR!O136,\"\")","v":""}]
[{"$f":"IF(PROCESADOR!O137>0,PROCESADOR!O137,\"\")","v":""}]
[{"$f":"IF(PROCESADOR!O138>0,PROCESADOR!O138,\"\")","v":""}]
[{"$f":"IF(PROCESADOR!O139>0,PROCESADOR!O139,\"\")","v":""}]
[{"$f":"IF(PROCESADOR!O140>0,PROCESADOR!O140,\"\")","v":""}]
[{"$f":"IF(PROCESADOR!O141>0,PROCESADOR!O141,\"\")","v":""}]
[{"$f":"IF(PROCESADOR!O142>0,PROCESADOR!O142,\"\")","v":""}]
[{"$f":"IF(PROCESADOR!O143>0,PROCESADOR!O143,\"\")","v":""}]
[{"$f":"IF(PROCESADOR!O144>0,PROCESADOR!O144,\"\")","v":""}]
[{"$f":"IF(PROCESADOR!O145>0,PROCESADOR!O145,\"\")","v":""}]
[{"$f":"IF(PROCESADOR!O146>0,PROCESADOR!O146,\"\")","v":""}]
[{"$f":"IF(PROCESADOR!O147>0,PROCESADOR!O147,\"\")","v":""}]
[{"$f":"IF(PROCESADOR!O148>0,PROCESADOR!O148,\"\")","v":""}]
[{"$f":"IF(PROCESADOR!O149>0,PROCESADOR!O149,\"\")","v":""}]
[{"$f":"IF(PROCESADOR!O150>0,PROCESADOR!O150,\"\")","v":""}]
[{"$f":"IF(PROCESADOR!O151>0,PROCESADOR!O151,\"\")","v":""}]
[{"$f":"IF(PROCESADOR!O152>0,PROCESADOR!O152,\"\")","v":""}]
[{"$f":"IF(PROCESADOR!O153>0,PROCESADOR!O153,\"\")","v":""}]
[{"$f":"IF(PROCESADOR!O154>0,PROCESADOR!O154,\"\")","v":""}]
[{"$f":"IF(PROCESADOR!O155>0,PROCESADOR!O155,\"\")","v":""}]
[{"$f":"IF(PROCESADOR!O156>0,PROCESADOR!O156,\"\")","v":""}]
[{"$f":"IF(PROCESADOR!O157>0,PROCESADOR!O157,\"\")","v":""}]
[{"$f":"IF(PROCESADOR!O158>0,PROCESADOR!O158,\"\")","v":""}]
[{"$f":"IF(PROCESADOR!O159>0,PROCESADOR!O159,\"\")","v":""}]
[{"$f":"IF(PROCESADOR!O160>0,PROCESADOR!O160,\"\")","v":""}]
[{"$f":"IF(PROCESADOR!O161>0,PROCESADOR!O161,\"\")","v":""}]
[{"$f":"IF(PROCESADOR!O162>0,PROCESADOR!O162,\"\")","v":""}]
[{"$f":"IF(PROCESADOR!O163>0,PROCESADOR!O163,\"\")","v":""}]
[{"$f":"IF(PROCESADOR!O164>0,PROCESADOR!O164,\"\")","v":""}]
[{"$f":"IF(PROCESADOR!O165>0,PROCESADOR!O165,\"\")","v":""}]
[{"$f":"IF(PROCESADOR!O166>0,PROCESADOR!O166,\"\")","v":""}]
[{"$f":"IF(PROCESADOR!O167>0,PROCESADOR!O167,\"\")","v":""}]
[{"$f":"IF(PROCESADOR!O168>0,PROCESADOR!O168,\"\")","v":""}]
[{"$f":"IF(PROCESADOR!O169>0,PROCESADOR!O169,\"\")","v":""}]
[{"$f":"IF(PROCESADOR!O170>0,PROCESADOR!O170,\"\")","v":""}]
[{"$f":"IF(PROCESADOR!O171>0,PROCESADOR!O171,\"\")","v":""}]
[{"$f":"IF(PROCESADOR!O172>0,PROCESADOR!O172,\"\")","v":""}]
[{"$f":"IF(PROCESADOR!O173>0,PROCESADOR!O173,\"\")","v":""}]
[{"$f":"IF(PROCESADOR!O174>0,PROCESADOR!O174,\"\")","v":""}]
[{"$f":"IF(PROCESADOR!O175>0,PROCESADOR!O175,\"\")","v":""}]
[{"$f":"IF(PROCESADOR!O176>0,PROCESADOR!O176,\"\")","v":""}]
[{"$f":"IF(PROCESADOR!O177>0,PROCESADOR!O177,\"\")","v":""}]
[{"$f":"IF(PROCESADOR!O178>0,PROCESADOR!O178,\"\")","v":""}]
[{"$f":"IF(PROCESADOR!O179>0,PROCESADOR!O179,\"\")","v":""}]
[{"$f":"IF(PROCESADOR!O180>0,PROCESADOR!O180,\"\")","v":""}]
[{"$f":"IF(PROCESADOR!O181>0,PROCESADOR!O181,\"\")","v":""}]
[{"$f":"IF(PROCESADOR!O182>0,PROCESADOR!O182,\"\")","v":""}]
[{"$f":"IF(PROCESADOR!O183>0,PROCESADOR!O183,\"\")","v":""}]
[{"$f":"IF(PROCESADOR!O184>0,PROCESADOR!O184,\"\")","v":""}]
[{"$f":"IF(PROCESADOR!O185>0,PROCESADOR!O185,\"\")","v":""}]
[{"$f":"IF(PROCESADOR!O186>0,PROCESADOR!O186,\"\")","v":""}]
[{"$f":"IF(PROCESADOR!O187>0,PROCESADOR!O187,\"\")","v":""}]
[{"$f":"IF(PROCESADOR!O188>0,PROCESADOR!O188,\"\")","v":""}]
[{"$f":"IF(PROCESADOR!O189>0,PROCESADOR!O189,\"\")","v":""}]
[{"$f":"IF(PROCESADOR!O190>0,PROCESADOR!O190,\"\")","v":""}]
[{"$f":"IF(PROCESADOR!O191>0,PROCESADOR!O191,\"\")","v":""}]
[{"$f":"IF(PROCESADOR!O192>0,PROCESADOR!O192,\"\")","v":""}]
[{"$f":"IF(PROCESADOR!O193>0,PROCESADOR!O193,\"\")","v":""}]
[{"$f":"IF(PROCESADOR!O194>0,PROCESADOR!O194,\"\")","v":""}]
[{"$f":"IF(PROCESADOR!O195>0,PROCESADOR!O195,\"\")","v":""}]
[{"$f":"IF(PROCESADOR!O196>0,PROCESADOR!O196,\"\")","v":""}]
[{"$f":"IF(PROCESADOR!O197>0,PROCESADOR!O197,\"\")","v":""}]
[{"$f":"IF(PROCESADOR!O198>0,PROCESADOR!O198,\"\")","v":""}]
[{"$f":"IF(PROCESADOR!O199>0,PROCESADOR!O199,\"\")","v":""}]
[{"$f":"IF(PROCESADOR!O200>0,PROCESADOR!O200,\"\")","v":""}]
[{"$f":"IF(PROCESADOR!O201>0,PROCESADOR!O201,\"\")","v":""}]
[{"$f":"IF(PROCESADOR!O202>0,PROCESADOR!O202,\"\")","v":""}]
[{"$f":"IF(PROCESADOR!O203>0,PROCESADOR!O203,\"\")","v":""}]
[{"$f":"IF(PROCESADOR!O204>0,PROCESADOR!O204,\"\")","v":""}]
[{"$f":"IF(PROCESADOR!O205>0,PROCESADOR!O205,\"\")","v":""}]
[{"$f":"IF(PROCESADOR!O206>0,PROCESADOR!O206,\"\")","v":""}]
[{"$f":"IF(PROCESADOR!O207>0,PROCESADOR!O207,\"\")","v":""}]
[{"$f":"IF(PROCESADOR!O208>0,PROCESADOR!O208,\"\")","v":""}]
[{"$f":"IF(PROCESADOR!O209>0,PROCESADOR!O209,\"\")","v":""}]
[{"$f":"IF(PROCESADOR!O210>0,PROCESADOR!O210,\"\")","v":""}]
[{"$f":"IF(PROCESADOR!O211>0,PROCESADOR!O211,\"\")","v":""}]
[{"$f":"IF(PROCESADOR!O212>0,PROCESADOR!O212,\"\")","v":""}]
[{"$f":"IF(PROCESADOR!O213>0,PROCESADOR!O213,\"\")","v":""}]
[{"$f":"IF(PROCESADOR!O214>0,PROCESADOR!O214,\"\")","v":""}]
[{"$f":"IF(PROCESADOR!O215>0,PROCESADOR!O215,\"\")","v":""}]
[{"$f":"IF(PROCESADOR!O216>0,PROCESADOR!O216,\"\")","v":""}]
[{"$f":"IF(PROCESADOR!O217>0,PROCESADOR!O217,\"\")","v":""}]
[{"$f":"IF(PROCESADOR!O218>0,PROCESADOR!O218,\"\")","v":""}]
[{"$f":"IF(PROCESADOR!O219>0,PROCESADOR!O219,\"\")","v":""}]
[{"$f":"IF(PROCESADOR!O220>0,PROCESADOR!O220,\"\")","v":""}]
[{"$f":"IF(PROCESADOR!O221>0,PROCESADOR!O221,\"\")","v":""}]
[{"$f":"IF(PROCESADOR!O222>0,PROCESADOR!O222,\"\")","v":""}]
[{"$f":"IF(PROCESADOR!O223>0,PROCESADOR!O223,\"\")","v":""}]
[{"$f":"IF(PROCESADOR!O224>0,PROCESADOR!O224,\"\")","v":""}]
[{"$f":"IF(PROCESADOR!O225>0,PROCESADOR!O225,\"\")","v":""}]
[{"$f":"IF(PROCESADOR!O226>0,PROCESADOR!O226,\"\")","v":""}]
[{"$f":"IF(PROCESADOR!O227>0,PROCESADOR!O227,\"\")","v":""}]
[{"$f":"IF(PROCESADOR!O228>0,PROCESADOR!O228,\"\")","v":""}]
[{"$f":"IF(PROCESADOR!O229>0,PROCESADOR!O229,\"\")","v":""}]
[{"$f":"IF(PROCESADOR!O230>0,PROCESADOR!O230,\"\")","v":""}]
[{"$f":"IF(PROCESADOR!O231>0,PROCESADOR!O231,\"\")","v":""}]
[{"$f":"IF(PROCESADOR!O232>0,PROCESADOR!O232,\"\")","v":""}]
[{"$f":"IF(PROCESADOR!O233>0,PROCESADOR!O233,\"\")","v":""}]
[{"$f":"IF(PROCESADOR!O234>0,PROCESADOR!O234,\"\")","v":""}]
[{"$f":"IF(PROCESADOR!O235>0,PROCESADOR!O235,\"\")","v":""}]
[{"$f":"IF(PROCESADOR!O236>0,PROCESADOR!O236,\"\")","v":""}]
[{"$f":"IF(PROCESADOR!O237>0,PROCESADOR!O237,\"\")","v":""}]
[{"$f":"IF(PROCESADOR!O238>0,PROCESADOR!O238,\"\")","v":""}]
[{"$f":"IF(PROCESADOR!O239>0,PROCESADOR!O239,\"\")","v":""}]
[{"$f":"IF(PROCESADOR!O240>0,PROCESADOR!O240,\"\")","v":""}]
[{"$f":"IF(PROCESADOR!O241>0,PROCESADOR!O241,\"\")","v":""}]
[{"$f":"IF(PROCESADOR!O242>0,PROCESADOR!O242,\"\")","v":""}]
[{"$f":"IF(PROCESADOR!O243>0,PROCESADOR!O243,\"\")","v":""}]
[{"$f":"IF(PROCESADOR!O244>0,PROCESADOR!O244,\"\")","v":""}]
[{"$f":"IF(PROCESADOR!O245>0,PROCESADOR!O245,\"\")","v":""}]
[{"$f":"IF(PROCESADOR!O246>0,PROCESADOR!O246,\"\")","v":""}]
[{"$f":"IF(PROCESADOR!O247>0,PROCESADOR!O247,\"\")","v":""}]
[{"$f":"IF(PROCESADOR!O248>0,PROCESADOR!O248,\"\")","v":""}]
[{"$f":"IF(PROCESADOR!O249>0,PROCESADOR!O249,\"\")","v":""}]
[{"$f":"IF(PROCESADOR!O250>0,PROCESADOR!O250,\"\")","v":""}]
[{"$f":"IF(PROCESADOR!O251>0,PROCESADOR!O251,\"\")","v":""}]
[{"$f":"IF(PROCESADOR!O252>0,PROCESADOR!O252,\"\")","v":""}]
[{"$f":"IF(PROCESADOR!O253>0,PROCESADOR!O253,\"\")","v":""}]
[{"$f":"IF(PROCESADOR!O254>0,PROCESADOR!O254,\"\")","v":""}]
[{"$f":"IF(PROCESADOR!O255>0,PROCESADOR!O255,\"\")","v":""}]
[{"$f":"IF(PROCESADOR!O256>0,PROCESADOR!O256,\"\")","v":""}]
[{"$f":"IF(PROCESADOR!O257>0,PROCESADOR!O257,\"\")","v":""}]
[{"$f":"IF(PROCESADOR!O258>0,PROCESADOR!O258,\"\")","v":""}]
[{"$f":"IF(PROCESADOR!O259>0,PROCESADOR!O259,\"\")","v":""}]
[{"$f":"IF(PROCESADOR!O260>0,PROCESADOR!O260,\"\")","v":""}]
[{"$f":"IF(PROCESADOR!O261>0,PROCESADOR!O261,\"\")","v":""}]
[{"$f":"IF(PROCESADOR!O262>0,PROCESADOR!O262,\"\")","v":""}]
[{"$f":"IF(PROCESADOR!O263>0,PROCESADOR!O263,\"\")","v":""}]
[{"$f":"IF(PROCESADOR!O264>0,PROCESADOR!O264,\"\")","v":""}]
[{"$f":"IF(PROCESADOR!O265>0,PROCESADOR!O265,\"\")","v":""}]
[{"$f":"IF(PROCESADOR!O266>0,PROCESADOR!O266,\"\")","v":""}]
[{"$f":"IF(PROCESADOR!O267>0,PROCESADOR!O267,\"\")","v":""}]
[{"$f":"IF(PROCESADOR!O268>0,PROCESADOR!O268,\"\")","v":""}]
[{"$f":"IF(PROCESADOR!O269>0,PROCESADOR!O269,\"\")","v":""}]
[{"$f":"IF(PROCESADOR!O270>0,PROCESADOR!O270,\"\")","v":""}]
[{"$f":"IF(PROCESADOR!O271>0,PROCESADOR!O271,\"\")","v":""}]
[{"$f":"IF(PROCESADOR!O272>0,PROCESADOR!O272,\"\")","v":""}]
[{"$f":"IF(PROCESADOR!O273>0,PROCESADOR!O273,\"\")","v":""}]
[{"$f":"IF(PROCESADOR!O274>0,PROCESADOR!O274,\"\")","v":""}]
[{"$f":"IF(PROCESADOR!O275>0,PROCESADOR!O275,\"\")","v":""}]
[{"$f":"IF(PROCESADOR!O276>0,PROCESADOR!O276,\"\")","v":""}]
[{"$f":"IF(PROCESADOR!O277>0,PROCESADOR!O277,\"\")","v":""}]
[{"$f":"IF(PROCESADOR!O278>0,PROCESADOR!O278,\"\")","v":""}]
[{"$f":"IF(PROCESADOR!O279>0,PROCESADOR!O279,\"\")","v":""}]
[{"$f":"IF(PROCESADOR!O280>0,PROCESADOR!O280,\"\")","v":""}]
[{"$f":"IF(PROCESADOR!O281>0,PROCESADOR!O281,\"\")","v":""}]
[{"$f":"IF(PROCESADOR!O282>0,PROCESADOR!O282,\"\")","v":""}]
[{"$f":"IF(PROCESADOR!O283>0,PROCESADOR!O283,\"\")","v":""}]
[{"$f":"IF(PROCESADOR!O284>0,PROCESADOR!O284,\"\")","v":""}]
[{"$f":"IF(PROCESADOR!O285>0,PROCESADOR!O285,\"\")","v":""}]
[{"$f":"IF(PROCESADOR!O286>0,PROCESADOR!O286,\"\")","v":""}]
[{"$f":"IF(PROCESADOR!O287>0,PROCESADOR!O287,\"\")","v":""}]
[{"$f":"IF(PROCESADOR!O288>0,PROCESADOR!O288,\"\")","v":""}]
[{"$f":"IF(PROCESADOR!O289>0,PROCESADOR!O289,\"\")","v":""}]
[{"$f":"IF(PROCESADOR!O290>0,PROCESADOR!O290,\"\")","v":""}]
[{"$f":"IF(PROCESADOR!O291>0,PROCESADOR!O291,\"\")","v":""}]
[{"$f":"IF(PROCESADOR!O292>0,PROCESADOR!O292,\"\")","v":""}]
[{"$f":"IF(PROCESADOR!O293>0,PROCESADOR!O293,\"\")","v":""}]
[{"$f":"IF(PROCESADOR!O294>0,PROCESADOR!O294,\"\")","v":""}]
[{"$f":"IF(PROCESADOR!O295>0,PROCESADOR!O295,\"\")","v":""}]
[{"$f":"IF(PROCESADOR!O296>0,PROCESADOR!O296,\"\")","v":""}]
[{"$f":"IF(PROCESADOR!O297>0,PROCESADOR!O297,\"\")","v":""}]
[{"$f":"IF(PROCESADOR!O298>0,PROCESADOR!O298,\"\")","v":""}]
[{"$f":"IF(PROCESADOR!O299>0,PROCESADOR!O299,\"\")","v":""}]
[{"$f":"IF(PROCESADOR!O300>0,PROCESADOR!O300,\"\")","v":""}]
[{"$f":"IF(PROCESADOR!O301>0,PROCESADOR!O301,\"\")","v":""}]
[{"$f":"IF(PROCESADOR!O302>0,PROCESADOR!O302,\"\")","v":""}]
[{"$f":"IF(PROCESADOR!O303>0,PROCESADOR!O303,\"\")","v":""}]
[{"$f":"IF(PROCESADOR!O304>0,PROCESADOR!O304,\"\")","v":""}]
[{"$f":"IF(PROCESADOR!O305>0,PROCESADOR!O305,\"\")","v":""}]
[{"$f":"IF(PROCESADOR!O306>0,PROCESADOR!O306,\"\")","v":""}]
[{"$f":"IF(PROCESADOR!O307>0,PROCESADOR!O307,\"\")","v":""}]
[{"$f":"IF(PROCESADOR!O308>0,PROCESADOR!O308,\"\")","v":""}]
[{"$f":"IF(PROCESADOR!O309>0,PROCESADOR!O309,\"\")","v":""}]
[{"$f":"IF(PROCESADOR!O310>0,PROCESADOR!O310,\"\")","v":""}]
[{"$f":"IF(PROCESADOR!O311>0,PROCESADOR!O311,\"\")","v":""}]
[{"$f":"IF(PROCESADOR!O312>0,PROCESADOR!O312,\"\")","v":""}]
[{"$f":"IF(PROCESADOR!O313>0,PROCESADOR!O313,\"\")","v":""}]
[{"$f":"IF(PROCESADOR!O314>0,PROCESADOR!O314,\"\")","v":""}]
[{"$f":"IF(PROCESADOR!O315>0,PROCESADOR!O315,\"\")","v":""}]
[{"$f":"IF(PROCESADOR!O316>0,PROCESADOR!O316,\"\")","v":""}]
[{"$f":"IF(PROCESADOR!O317>0,PROCESADOR!O317,\"\")","v":""}]
[{"$f":"IF(PROCESADOR!O318>0,PROCESADOR!O318,\"\")","v":""}]
[{"$f":"IF(PROCESADOR!O319>0,PROCESADOR!O319,\"\")","v":""}]
[{"$f":"IF(PROCESADOR!O320>0,PROCESADOR!O320,\"\")","v":""}]
[{"$f":"IF(PROCESADOR!O321>0,PROCESADOR!O321,\"\")","v":""}]
[{"$f":"IF(PROCESADOR!O322>0,PROCESADOR!O322,\"\")","v":""}]
[{"$f":"IF(PROCESADOR!O323>0,PROCESADOR!O323,\"\")","v":""}]
[{"$f":"IF(PROCESADOR!O324>0,PROCESADOR!O324,\"\")","v":""}]
[{"$f":"IF(PROCESADOR!O325>0,PROCESADOR!O325,\"\")","v":""}]
[{"$f":"IF(PROCESADOR!O326>0,PROCESADOR!O326,\"\")","v":""}]
[{"$f":"IF(PROCESADOR!O327>0,PROCESADOR!O327,\"\")","v":""}]
[{"$f":"IF(PROCESADOR!O328>0,PROCESADOR!O328,\"\")","v":""}]
[{"$f":"IF(PROCESADOR!O329>0,PROCESADOR!O329,\"\")","v":""}]
[{"$f":"IF(PROCESADOR!O330>0,PROCESADOR!O330,\"\")","v":""}]
[{"$f":"IF(PROCESADOR!O331>0,PROCESADOR!O331,\"\")","v":""}]
[{"$f":"IF(PROCESADOR!O332>0,PROCESADOR!O332,\"\")","v":""}]
[{"$f":"IF(PROCESADOR!O333>0,PROCESADOR!O333,\"\")","v":""}]
[{"$f":"IF(PROCESADOR!O334>0,PROCESADOR!O334,\"\")","v":""}]
[{"$f":"IF(PROCESADOR!O335>0,PROCESADOR!O335,\"\")","v":""}]
[{"$f":"IF(PROCESADOR!O336>0,PROCESADOR!O336,\"\")","v":""}]
[{"$f":"IF(PROCESADOR!O337>0,PROCESADOR!O337,\"\")","v":""}]
[{"$f":"IF(PROCESADOR!O338>0,PROCESADOR!O338,\"\")","v":""}]
[{"$f":"IF(PROCESADOR!O339>0,PROCESADOR!O339,\"\")","v":""}]
[{"$f":"IF(PROCESADOR!O340>0,PROCESADOR!O340,\"\")","v":""}]
[{"$f":"IF(PROCESADOR!O341>0,PROCESADOR!O341,\"\")","v":""}]
[{"$f":"IF(PROCESADOR!O342>0,PROCESADOR!O342,\"\")","v":""}]
[{"$f":"IF(PROCESADOR!O343>0,PROCESADOR!O343,\"\")","v":""}]
[{"$f":"IF(PROCESADOR!O344>0,PROCESADOR!O344,\"\")","v":""}]
[{"$f":"IF(PROCESADOR!O345>0,PROCESADOR!O345,\"\")","v":""}]
[{"$f":"IF(PROCESADOR!O346>0,PROCESADOR!O346,\"\")","v":""}]
[{"$f":"IF(PROCESADOR!O347>0,PROCESADOR!O347,\"\")","v":""}]
[{"$f":"IF(PROCESADOR!O348>0,PROCESADOR!O348,\"\")","v":""}]
[{"$f":"IF(PROCESADOR!O349>0,PROCESADOR!O349,\"\")","v":""}]
[{"$f":"IF(PROCESADOR!O350>0,PROCESADOR!O350,\"\")","v":""}]
[{"$f":"IF(PROCESADOR!O351>0,PROCESADOR!O351,\"\")","v":""}]
[{"$f":"IF(PROCESADOR!O352>0,PROCESADOR!O352,\"\")","v":""}]
[{"$f":"IF(PROCESADOR!O353>0,PROCESADOR!O353,\"\")","v":""}]
[{"$f":"IF(PROCESADOR!O354>0,PROCESADOR!O354,\"\")","v":""}]
[{"$f":"IF(PROCESADOR!O355>0,PROCESADOR!O355,\"\")","v":""}]
[{"$f":"IF(PROCESADOR!O356>0,PROCESADOR!O356,\"\")","v":""}]
[{"$f":"IF(PROCESADOR!O357>0,PROCESADOR!O357,\"\")","v":""}]
[{"$f":"IF(PROCESADOR!O358>0,PROCESADOR!O358,\"\")","v":""}]
[{"$f":"IF(PROCESADOR!O359>0,PROCESADOR!O359,\"\")","v":""}]
[{"$f":"IF(PROCESADOR!O360>0,PROCESADOR!O360,\"\")","v":""}]
[{"$f":"IF(PROCESADOR!O361>0,PROCESADOR!O361,\"\")","v":""}]
[{"$f":"IF(PROCESADOR!O362>0,PROCESADOR!O362,\"\")","v":""}]
[{"$f":"IF(PROCESADOR!O363>0,PROCESADOR!O363,\"\")","v":""}]
[{"$f":"IF(PROCESADOR!O364>0,PROCESADOR!O364,\"\")","v":""}]
[{"$f":"IF(PROCESADOR!O365>0,PROCESADOR!O365,\"\")","v":""}]
[{"$f":"IF(PROCESADOR!O366>0,PROCESADOR!O366,\"\")","v":""}]
[{"$f":"IF(PROCESADOR!O367>0,PROCESADOR!O367,\"\")","v":""}]
[{"$f":"IF(PROCESADOR!O368>0,PROCESADOR!O368,\"\")","v":""}]
[{"$f":"IF(PROCESADOR!O369>0,PROCESADOR!O369,\"\")","v":""}]
[{"$f":"IF(PROCESADOR!O370>0,PROCESADOR!O370,\"\")","v":""}]
[{"$f":"IF(PROCESADOR!O371>0,PROCESADOR!O371,\"\")","v":""}]
[{"$f":"IF(PROCESADOR!O372>0,PROCESADOR!O372,\"\")","v":""}]
[{"$f":"IF(PROCESADOR!O373>0,PROCESADOR!O373,\"\")","v":""}]
[{"$f":"IF(PROCESADOR!O374>0,PROCESADOR!O374,\"\")","v":""}]
[{"$f":"IF(PROCESADOR!O375>0,PROCESADOR!O375,\"\")","v":""}]
[{"$f":"IF(PROCESADOR!O376>0,PROCESADOR!O376,\"\")","v":""}]
[{"$f":"IF(PROCESADOR!O377>0,PROCESADOR!O377,\"\")","v":""}]
[{"$f":"IF(PROCESADOR!O378>0,PROCESADOR!O378,\"\")","v":""}]
[{"$f":"IF(PROCESADOR!O379>0,PROCESADOR!O379,\"\")","v":""}]
[{"$f":"IF(PROCESADOR!O380>0,PROCESADOR!O380,\"\")","v":""}]
[{"$f":"IF(PROCESADOR!O381>0,PROCESADOR!O381,\"\")","v":""}]
[{"$f":"IF(PROCESADOR!O382>0,PROCESADOR!O382,\"\")","v":""}]
[{"$f":"IF(PROCESADOR!O383>0,PROCESADOR!O383,\"\")","v":""}]
[{"$f":"IF(PROCESADOR!O384>0,PROCESADOR!O384,\"\")","v":""}]
[{"$f":"IF(PROCESADOR!O385>0,PROCESADOR!O385,\"\")","v":""}]
[{"$f":"IF(PROCESADOR!O386>0,PROCESADOR!O386,\"\")","v":""}]
[{"$f":"IF(PROCESADOR!O387>0,PROCESADOR!O387,\"\")","v":""}]
[{"$f":"IF(PROCESADOR!O388>0,PROCESADOR!O388,\"\")","v":""}]
[{"$f":"IF(PROCESADOR!O389>0,PROCESADOR!O389,\"\")","v":""}]
[{"$f":"IF(PROCESADOR!O390>0,PROCESADOR!O390,\"\")","v":""}]
[{"$f":"IF(PROCESADOR!O391>0,PROCESADOR!O391,\"\")","v":""}]
[{"$f":"IF(PROCESADOR!O392>0,PROCESADOR!O392,\"\")","v":""}]
[{"$f":"IF(PROCESADOR!O393>0,PROCESADOR!O393,\"\")","v":""}]
[{"$f":"IF(PROCESADOR!O394>0,PROCESADOR!O394,\"\")","v":""}]
[{"$f":"IF(PROCESADOR!O395>0,PROCESADOR!O395,\"\")","v":""}]
[{"$f":"IF(PROCESADOR!O396>0,PROCESADOR!O396,\"\")","v":""}]
[{"$f":"IF(PROCESADOR!O397>0,PROCESADOR!O397,\"\")","v":""}]
[{"$f":"IF(PROCESADOR!O398>0,PROCESADOR!O398,\"\")","v":""}]
[{"$f":"IF(PROCESADOR!O399>0,PROCESADOR!O399,\"\")","v":""}]
[{"$f":"IF(PROCESADOR!O400>0,PROCESADOR!O400,\"\")","v":""}]
[{"$f":"IF(PROCESADOR!O401>0,PROCESADOR!O401,\"\")","v":""}]
[{"$f":"IF(PROCESADOR!O402>0,PROCESADOR!O402,\"\")","v":""}]
[{"$f":"IF(PROCESADOR!O403>0,PROCESADOR!O403,\"\")","v":""}]
[{"$f":"IF(PROCESADOR!O404>0,PROCESADOR!O404,\"\")","v":""}]
[{"$f":"IF(PROCESADOR!O405>0,PROCESADOR!O405,\"\")","v":""}]
[{"$f":"IF(PROCESADOR!O406>0,PROCESADOR!O406,\"\")","v":""}]
[{"$f":"IF(PROCESADOR!O407>0,PROCESADOR!O407,\"\")","v":""}]
[{"$f":"IF(PROCESADOR!O408>0,PROCESADOR!O408,\"\")","v":""}]
[{"$f":"IF(PROCESADOR!O409>0,PROCESADOR!O409,\"\")","v":""}]
[{"$f":"IF(PROCESADOR!O410>0,PROCESADOR!O410,\"\")","v":""}]
[{"$f":"IF(PROCESADOR!O411>0,PROCESADOR!O411,\"\")","v":""}]
[{"$f":"IF(PROCESADOR!O412>0,PROCESADOR!O412,\"\")","v":""}]
[{"$f":"IF(PROCESADOR!O413>0,PROCESADOR!O413,\"\")","v":""}]
[{"$f":"IF(PROCESADOR!O414>0,PROCESADOR!O414,\"\")","v":""}]
[{"$f":"IF(PROCESADOR!O415>0,PROCESADOR!O415,\"\")","v":""}]
[{"$f":"IF(PROCESADOR!O416>0,PROCESADOR!O416,\"\")","v":""}]
[{"$f":"IF(PROCESADOR!O417>0,PROCESADOR!O417,\"\")","v":""}]
[{"$f":"IF(PROCESADOR!O418>0,PROCESADOR!O418,\"\")","v":""}]
[{"$f":"IF(PROCESADOR!O419>0,PROCESADOR!O419,\"\")","v":""}]
[{"$f":"IF(PROCESADOR!O420>0,PROCESADOR!O420,\"\")","v":""}]
[{"$f":"IF(PROCESADOR!O421>0,PROCESADOR!O421,\"\")","v":""}]
[{"$f":"IF(PROCESADOR!O422>0,PROCESADOR!O422,\"\")","v":""}]
[{"$f":"IF(PROCESADOR!O423>0,PROCESADOR!O423,\"\")","v":""}]
[{"$f":"IF(PROCESADOR!O424>0,PROCESADOR!O424,\"\")","v":""}]
[{"$f":"IF(PROCESADOR!O425>0,PROCESADOR!O425,\"\")","v":""}]
[{"$f":"IF(PROCESADOR!O426>0,PROCESADOR!O426,\"\")","v":""}]
[{"$f":"IF(PROCESADOR!O427>0,PROCESADOR!O427,\"\")","v":""}]
[{"$f":"IF(PROCESADOR!O428>0,PROCESADOR!O428,\"\")","v":""}]
[{"$f":"IF(PROCESADOR!O429>0,PROCESADOR!O429,\"\")","v":""}]
[{"$f":"IF(PROCESADOR!O430>0,PROCESADOR!O430,\"\")","v":""}]
[{"$f":"IF(PROCESADOR!O431>0,PROCESADOR!O431,\"\")","v":""}]
[{"$f":"IF(PROCESADOR!O432>0,PROCESADOR!O432,\"\")","v":""}]
[{"$f":"IF(PROCESADOR!O433>0,PROCESADOR!O433,\"\")","v":""}]
[{"$f":"IF(PROCESADOR!O434>0,PROCESADOR!O434,\"\")","v":""}]
[{"$f":"IF(PROCESADOR!O435>0,PROCESADOR!O435,\"\")","v":""}]
[{"$f":"IF(PROCESADOR!O436>0,PROCESADOR!O436,\"\")","v":""}]
[{"$f":"IF(PROCESADOR!O437>0,PROCESADOR!O437,\"\")","v":""}]
[{"$f":"IF(PROCESADOR!O438>0,PROCESADOR!O438,\"\")","v":""}]
[{"$f":"IF(PROCESADOR!O439>0,PROCESADOR!O439,\"\")","v":""}]
[{"$f":"IF(PROCESADOR!O440>0,PROCESADOR!O440,\"\")","v":""}]
[{"$f":"IF(PROCESADOR!O441>0,PROCESADOR!O441,\"\")","v":""}]
[{"$f":"IF(PROCESADOR!O442>0,PROCESADOR!O442,\"\")","v":""}]
[{"$f":"IF(PROCESADOR!O443>0,PROCESADOR!O443,\"\")","v":""}]
[{"$f":"IF(PROCESADOR!O444>0,PROCESADOR!O444,\"\")","v":""}]
[{"$f":"IF(PROCESADOR!O445>0,PROCESADOR!O445,\"\")","v":""}]
[{"$f":"IF(PROCESADOR!O446>0,PROCESADOR!O446,\"\")","v":""}]
[{"$f":"IF(PROCESADOR!O447>0,PROCESADOR!O447,\"\")","v":""}]
[{"$f":"IF(PROCESADOR!O448>0,PROCESADOR!O448,\"\")","v":""}]
[{"$f":"IF(PROCESADOR!O449>0,PROCESADOR!O449,\"\")","v":""}]
[{"$f":"IF(PROCESADOR!O450>0,PROCESADOR!O450,\"\")","v":""}]
[{"$f":"IF(PROCESADOR!O451>0,PROCESADOR!O451,\"\")","v":""}]
[{"$f":"IF(PROCESADOR!O452>0,PROCESADOR!O452,\"\")","v":""}]
[{"$f":"IF(PROCESADOR!O453>0,PROCESADOR!O453,\"\")","v":""}]
[{"$f":"IF(PROCESADOR!O454>0,PROCESADOR!O454,\"\")","v":""}]
[{"$f":"IF(PROCESADOR!O455>0,PROCESADOR!O455,\"\")","v":""}]
[{"$f":"IF(PROCESADOR!O456>0,PROCESADOR!O456,\"\")","v":""}]
[{"$f":"IF(PROCESADOR!O457>0,PROCESADOR!O457,\"\")","v":""}]
[{"$f":"IF(PROCESADOR!O458>0,PROCESADOR!O458,\"\")","v":""}]
[{"$f":"IF(PROCESADOR!O459>0,PROCESADOR!O459,\"\")","v":""}]
[{"$f":"IF(PROCESADOR!O460>0,PROCESADOR!O460,\"\")","v":""}]
[{"$f":"IF(PROCESADOR!O461>0,PROCESADOR!O461,\"\")","v":""}]
[{"$f":"IF(PROCESADOR!O462>0,PROCESADOR!O462,\"\")","v":""}]
[{"$f":"IF(PROCESADOR!O463>0,PROCESADOR!O463,\"\")","v":""}]
[{"$f":"IF(PROCESADOR!O464>0,PROCESADOR!O464,\"\")","v":""}]
[{"$f":"IF(PROCESADOR!O465>0,PROCESADOR!O465,\"\")","v":""}]
[{"$f":"IF(PROCESADOR!O466>0,PROCESADOR!O466,\"\")","v":""}]
[{"$f":"IF(PROCESADOR!O467>0,PROCESADOR!O467,\"\")","v":""}]
[{"$f":"IF(PROCESADOR!O468>0,PROCESADOR!O468,\"\")","v":""}]
[{"$f":"IF(PROCESADOR!O469>0,PROCESADOR!O469,\"\")","v":""}]
[{"$f":"IF(PROCESADOR!O470>0,PROCESADOR!O470,\"\")","v":""}]
[{"$f":"IF(PROCESADOR!O471>0,PROCESADOR!O471,\"\")","v":""}]
[{"$f":"IF(PROCESADOR!O472>0,PROCESADOR!O472,\"\")","v":""}]
[{"$f":"IF(PROCESADOR!O473>0,PROCESADOR!O473,\"\")","v":""}]
[{"$f":"IF(PROCESADOR!O474>0,PROCESADOR!O474,\"\")","v":""}]
[{"$f":"IF(PROCESADOR!O475>0,PROCESADOR!O475,\"\")","v":""}]
[{"$f":"IF(PROCESADOR!O476>0,PROCESADOR!O476,\"\")","v":""}]
[{"$f":"IF(PROCESADOR!O477>0,PROCESADOR!O477,\"\")","v":""}]
[{"$f":"IF(PROCESADOR!O478>0,PROCESADOR!O478,\"\")","v":""}]
[{"$f":"IF(PROCESADOR!O479>0,PROCESADOR!O479,\"\")","v":""}]
[{"$f":"IF(PROCESADOR!O480>0,PROCESADOR!O480,\"\")","v":""}]
[{"$f":"IF(PROCESADOR!O481>0,PROCESADOR!O481,\"\")","v":""}]
[{"$f":"IF(PROCESADOR!O482>0,PROCESADOR!O482,\"\")","v":""}]
[{"$f":"IF(PROCESADOR!O483>0,PROCESADOR!O483,\"\")","v":""}]
[{"$f":"IF(PROCESADOR!O484>0,PROCESADOR!O484,\"\")","v":""}]
[{"$f":"IF(PROCESADOR!O485>0,PROCESADOR!O485,\"\")","v":""}]
[{"$f":"IF(PROCESADOR!O486>0,PROCESADOR!O486,\"\")","v":""}]
[{"$f":"IF(PROCESADOR!O487>0,PROCESADOR!O487,\"\")","v":""}]
[{"$f":"IF(PROCESADOR!O488>0,PROCESADOR!O488,\"\")","v":""}]
[{"$f":"IF(PROCESADOR!O489>0,PROCESADOR!O489,\"\")","v":""}]
[{"$f":"IF(PROCESADOR!O490>0,PROCESADOR!O490,\"\")","v":""}]
[{"$f":"IF(PROCESADOR!O491>0,PROCESADOR!O491,\"\")","v":""}]
[{"$f":"IF(PROCESADOR!O492>0,PROCESADOR!O492,\"\")","v":""}]
[{"$f":"IF(PROCESADOR!O493>0,PROCESADOR!O493,\"\")","v":""}]
[{"$f":"IF(PROCESADOR!O494>0,PROCESADOR!O494,\"\")","v":""}]
[{"$f":"IF(PROCESADOR!O495>0,PROCESADOR!O495,\"\")","v":""}]
[{"$f":"IF(PROCESADOR!O496>0,PROCESADOR!O496,\"\")","v":""}]
[{"$f":"IF(PROCESADOR!O497>0,PROCESADOR!O497,\"\")","v":""}]
[{"$f":"IF(PROCESADOR!O498>0,PROCESADOR!O498,\"\")","v":""}]
[{"$f":"IF(PROCESADOR!O499>0,PROCESADOR!O499,\"\")","v":""}]
[{"$f":"IF(PROCESADOR!O500>0,PROCESADOR!O500,\"\")","v":""}]
[{"$f":"IF(PROCESADOR!O501>0,PROCESADOR!O501,\"\")","v":""}]
[{"$f":"IF(PROCESADOR!O502>0,PROCESADOR!O502,\"\")","v":""}]
[{"$f":"IF(PROCESADOR!O503>0,PROCESADOR!O503,\"\")","v":""}]
[{"$f":"IF(PROCESADOR!O504>0,PROCESADOR!O504,\"\")","v":""}]
[{"$f":"IF(PROCESADOR!O505>0,PROCESADOR!O505,\"\")","v":""}]
[{"$f":"IF(PROCESADOR!O506>0,PROCESADOR!O506,\"\")","v":""}]
[{"$f":"IF(PROCESADOR!O507>0,PROCESADOR!O507,\"\")","v":""}]
[{"$f":"IF(PROCESADOR!O508>0,PROCESADOR!O508,\"\")","v":""}]
[{"$f":"IF(PROCESADOR!O509>0,PROCESADOR!O509,\"\")","v":""}]
[{"$f":"IF(PROCESADOR!O510>0,PROCESADOR!O510,\"\")","v":""}]
[{"$f":"IF(PROCESADOR!O511>0,PROCESADOR!O511,\"\")","v":""}]
[{"$f":"IF(PROCESADOR!O512>0,PROCESADOR!O512,\"\")","v":""}]
[{"$f":"IF(PROCESADOR!O513>0,PROCESADOR!O513,\"\")","v":""}]
[{"$f":"IF(PROCESADOR!O514>0,PROCESADOR!O514,\"\")","v":""}]
[{"$f":"IF(PROCESADOR!O515>0,PROCESADOR!O515,\"\")","v":""}]
[{"$f":"IF(PROCESADOR!O516>0,PROCESADOR!O516,\"\")","v":""}]
[{"$f":"IF(PROCESADOR!O517>0,PROCESADOR!O517,\"\")","v":""}]
[{"$f":"IF(PROCESADOR!O518>0,PROCESADOR!O518,\"\")","v":""}]
[{"$f":"IF(PROCESADOR!O519>0,PROCESADOR!O519,\"\")","v":""}]
[{"$f":"IF(PROCESADOR!O520>0,PROCESADOR!O520,\"\")","v":""}]
[{"$f":"IF(PROCESADOR!O521>0,PROCESADOR!O521,\"\")","v":""}]
[{"$f":"IF(PROCESADOR!O522>0,PROCESADOR!O522,\"\")","v":""}]
[{"$f":"IF(PROCESADOR!O523>0,PROCESADOR!O523,\"\")","v":""}]
[{"$f":"IF(PROCESADOR!O524>0,PROCESADOR!O524,\"\")","v":""}]
[{"$f":"IF(PROCESADOR!O525>0,PROCESADOR!O525,\"\")","v":""}]
[{"$f":"IF(PROCESADOR!O526>0,PROCESADOR!O526,\"\")","v":""}]
[{"$f":"IF(PROCESADOR!O527>0,PROCESADOR!O527,\"\")","v":""}]
[{"$f":"IF(PROCESADOR!O528>0,PROCESADOR!O528,\"\")","v":""}]
[{"$f":"IF(PROCESADOR!O529>0,PROCESADOR!O529,\"\")","v":""}]
[{"$f":"IF(PROCESADOR!O530>0,PROCESADOR!O530,\"\")","v":""}]
[{"$f":"IF(PROCESADOR!O531>0,PROCESADOR!O531,\"\")","v":""}]
[{"$f":"IF(PROCESADOR!O532>0,PROCESADOR!O532,\"\")","v":""}]
[{"$f":"IF(PROCESADOR!O533>0,PROCESADOR!O533,\"\")","v":""}]
[{"$f":"IF(PROCESADOR!O534>0,PROCESADOR!O534,\"\")","v":""}]
[{"$f":"IF(PROCESADOR!O535>0,PROCESADOR!O535,\"\")","v":""}]
[{"$f":"IF(PROCESADOR!O536>0,PROCESADOR!O536,\"\")","v":""}]
[{"$f":"IF(PROCESADOR!O537>0,PROCESADOR!O537,\"\")","v":""}]
[{"$f":"IF(PROCESADOR!O538>0,PROCESADOR!O538,\"\")","v":""}]
[{"$f":"IF(PROCESADOR!O539>0,PROCESADOR!O539,\"\")","v":""}]
[{"$f":"IF(PROCESADOR!O540>0,PROCESADOR!O540,\"\")","v":""}]
[{"$f":"IF(PROCESADOR!O541>0,PROCESADOR!O541,\"\")","v":""}]
[{"$f":"IF(PROCESADOR!O542>0,PROCESADOR!O542,\"\")","v":""}]
[{"$f":"IF(PROCESADOR!O543>0,PROCESADOR!O543,\"\")","v":""}]
[{"$f":"IF(PROCESADOR!O544>0,PROCESADOR!O544,\"\")","v":""}]
[{"$f":"IF(PROCESADOR!O545>0,PROCESADOR!O545,\"\")","v":""}]
[{"$f":"IF(PROCESADOR!O546>0,PROCESADOR!O546,\"\")","v":""}]
[{"$f":"IF(PROCESADOR!O547>0,PROCESADOR!O547,\"\")","v":""}]
[{"$f":"IF(PROCESADOR!O548>0,PROCESADOR!O548,\"\")","v":""}]
[{"$f":"IF(PROCESADOR!O549>0,PROCESADOR!O549,\"\")","v":""}]
[{"$f":"IF(PROCESADOR!O550>0,PROCESADOR!O550,\"\")","v":""}]
[{"$f":"IF(PROCESADOR!O551>0,PROCESADOR!O551,\"\")","v":""}]
[{"$f":"IF(PROCESADOR!O552>0,PROCESADOR!O552,\"\")","v":""}]
[{"$f":"IF(PROCESADOR!O553>0,PROCESADOR!O553,\"\")","v":""}]
[{"$f":"IF(PROCESADOR!O554>0,PROCESADOR!O554,\"\")","v":""}]
[{"$f":"IF(PROCESADOR!O555>0,PROCESADOR!O555,\"\")","v":""}]
[{"$f":"IF(PROCESADOR!O556>0,PROCESADOR!O556,\"\")","v":""}]
[{"$f":"IF(PROCESADOR!O557>0,PROCESADOR!O557,\"\")","v":""}]
[{"$f":"IF(PROCESADOR!O558>0,PROCESADOR!O558,\"\")","v":""}]
[{"$f":"IF(PROCESADOR!O559>0,PROCESADOR!O559,\"\")","v":""}]
[{"$f":"IF(PROCESADOR!O560>0,PROCESADOR!O560,\"\")","v":""}]
[{"$f":"IF(PROCESADOR!O561>0,PROCESADOR!O561,\"\")","v":""}]
[{"$f":"IF(PROCESADOR!O562>0,PROCESADOR!O562,\"\")","v":""}]
[{"$f":"IF(PROCESADOR!O563>0,PROCESADOR!O563,\"\")","v":""}]
[{"$f":"IF(PROCESADOR!O564>0,PROCESADOR!O564,\"\")","v":""}]
[{"$f":"IF(PROCESADOR!O565>0,PROCESADOR!O565,\"\")","v":""}]
[{"$f":"IF(PROCESADOR!O566>0,PROCESADOR!O566,\"\")","v":""}]
[{"$f":"IF(PROCESADOR!O567>0,PROCESADOR!O567,\"\")","v":""}]
[{"$f":"IF(PROCESADOR!O568>0,PROCESADOR!O568,\"\")","v":""}]
[{"$f":"IF(PROCESADOR!O569>0,PROCESADOR!O569,\"\")","v":""}]
[{"$f":"IF(PROCESADOR!O570>0,PROCESADOR!O570,\"\")","v":""}]
[{"$f":"IF(PROCESADOR!O571>0,PROCESADOR!O571,\"\")","v":""}]
[{"$f":"IF(PROCESADOR!O572>0,PROCESADOR!O572,\"\")","v":""}]
[{"$f":"IF(PROCESADOR!O573>0,PROCESADOR!O573,\"\")","v":""}]
[{"$f":"IF(PROCESADOR!O574>0,PROCESADOR!O574,\"\")","v":""}]
[{"$f":"IF(PROCESADOR!O575>0,PROCESADOR!O575,\"\")","v":""}]
[{"$f":"IF(PROCESADOR!O576>0,PROCESADOR!O576,\"\")","v":""}]
[{"$f":"IF(PROCESADOR!O577>0,PROCESADOR!O577,\"\")","v":""}]
[{"$f":"IF(PROCESADOR!O578>0,PROCESADOR!O578,\"\")","v":""}]
[{"$f":"IF(PROCESADOR!O579>0,PROCESADOR!O579,\"\")","v":""}]
[{"$f":"IF(PROCESADOR!O580>0,PROCESADOR!O580,\"\")","v":""}]
[{"$f":"IF(PROCESADOR!O581>0,PROCESADOR!O581,\"\")","v":""}]
[{"$f":"IF(PROCESADOR!O582>0,PROCESADOR!O582,\"\")","v":""}]
[{"$f":"IF(PROCESADOR!O583>0,PROCESADOR!O583,\"\")","v":""}]
[{"$f":"IF(PROCESADOR!O584>0,PROCESADOR!O584,\"\")","v":""}]
[{"$f":"IF(PROCESADOR!O585>0,PROCESADOR!O585,\"\")","v":""}]
[{"$f":"IF(PROCESADOR!O586>0,PROCESADOR!O586,\"\")","v":""}]
[{"$f":"IF(PROCESADOR!O587>0,PROCESADOR!O587,\"\")","v":""}]
[{"$f":"IF(PROCESADOR!O588>0,PROCESADOR!O588,\"\")","v":""}]
[{"$f":"IF(PROCESADOR!O589>0,PROCESADOR!O589,\"\")","v":""}]
[{"$f":"IF(PROCESADOR!O590>0,PROCESADOR!O590,\"\")","v":""}]
[{"$f":"IF(PROCESADOR!O591>0,PROCESADOR!O591,\"\")","v":""}]
[{"$f":"IF(PROCESADOR!O592>0,PROCESADOR!O592,\"\")","v":""}]
[{"$f":"IF(PROCESADOR!O593>0,PROCESADOR!O593,\"\")","v":""}]
[{"$f":"IF(PROCESADOR!O594>0,PROCESADOR!O594,\"\")","v":""}]
[{"$f":"IF(PROCESADOR!O595>0,PROCESADOR!O595,\"\")","v":""}]
[{"$f":"IF(PROCESADOR!O596>0,PROCESADOR!O596,\"\")","v":""}]
[{"$f":"IF(PROCESADOR!O597>0,PROCESADOR!O597,\"\")","v":""}]
[{"$f":"IF(PROCESADOR!O598>0,PROCESADOR!O598,\"\")","v":""}]
[{"$f":"IF(PROCESADOR!O599>0,PROCESADOR!O599,\"\")","v":""}]
[{"$f":"IF(PROCESADOR!O600>0,PROCESADOR!O600,\"\")","v":""}]
[{"$f":"IF(PROCESADOR!O601>0,PROCESADOR!O601,\"\")","v":""}]
[{"$f":"IF(PROCESADOR!O602>0,PROCESADOR!O602,\"\")","v":""}]
[{"$f":"IF(PROCESADOR!O603>0,PROCESADOR!O603,\"\")","v":""}]
[{"$f":"IF(PROCESADOR!O604>0,PROCESADOR!O604,\"\")","v":""}]
[{"$f":"IF(PROCESADOR!O605>0,PROCESADOR!O605,\"\")","v":""}]
[{"$f":"IF(PROCESADOR!O606>0,PROCESADOR!O606,\"\")","v":""}]
[{"$f":"IF(PROCESADOR!O607>0,PROCESADOR!O607,\"\")","v":""}]
[{"$f":"IF(PROCESADOR!O608>0,PROCESADOR!O608,\"\")","v":""}]
[{"$f":"IF(PROCESADOR!O609>0,PROCESADOR!O609,\"\")","v":""}]
[{"$f":"IF(PROCESADOR!O610>0,PROCESADOR!O610,\"\")","v":""}]
[{"$f":"IF(PROCESADOR!O611>0,PROCESADOR!O611,\"\")","v":""}]
[{"$f":"IF(PROCESADOR!O612>0,PROCESADOR!O612,\"\")","v":""}]
[{"$f":"IF(PROCESADOR!O613>0,PROCESADOR!O613,\"\")","v":""}]
[{"$f":"IF(PROCESADOR!O614>0,PROCESADOR!O614,\"\")","v":""}]
[{"$f":"IF(PROCESADOR!O615>0,PROCESADOR!O615,\"\")","v":""}]
[{"$f":"IF(PROCESADOR!O616>0,PROCESADOR!O616,\"\")","v":""}]
[{"$f":"IF(PROCESADOR!O617>0,PROCESADOR!O617,\"\")","v":""}]
[{"$f":"IF(PROCESADOR!O618>0,PROCESADOR!O618,\"\")","v":""}]
[{"$f":"IF(PROCESADOR!O619>0,PROCESADOR!O619,\"\")","v":""}]
[{"$f":"IF(PROCESADOR!O620>0,PROCESADOR!O620,\"\")","v":""}]
[{"$f":"IF(PROCESADOR!O621>0,PROCESADOR!O621,\"\")","v":""}]
[{"$f":"IF(PROCESADOR!O622>0,PROCESADOR!O622,\"\")","v":""}]
[{"$f":"IF(PROCESADOR!O623>0,PROCESADOR!O623,\"\")","v":""}]
[{"$f":"IF(PROCESADOR!O624>0,PROCESADOR!O624,\"\")","v":""}]
[{"$f":"IF(PROCESADOR!O625>0,PROCESADOR!O625,\"\")","v":""}]
[{"$f":"IF(PROCESADOR!O626>0,PROCESADOR!O626,\"\")","v":""}]
[{"$f":"IF(PROCESADOR!O627>0,PROCESADOR!O627,\"\")","v":""}]
[{"$f":"IF(PROCESADOR!O628>0,PROCESADOR!O628,\"\")","v":""}]
[{"$f":"IF(PROCESADOR!O629>0,PROCESADOR!O629,\"\")","v":""}]
[{"$f":"IF(PROCESADOR!O630>0,PROCESADOR!O630,\"\")","v":""}]
[{"$f":"IF(PROCESADOR!O631>0,PROCESADOR!O631,\"\")","v":""}]
[{"$f":"IF(PROCESADOR!O632>0,PROCESADOR!O632,\"\")","v":""}]
[{"$f":"IF(PROCESADOR!O633>0,PROCESADOR!O633,\"\")","v":""}]
[{"$f":"IF(PROCESADOR!O634>0,PROCESADOR!O634,\"\")","v":""}]
[{"$f":"IF(PROCESADOR!O635>0,PROCESADOR!O635,\"\")","v":""}]
[{"$f":"IF(PROCESADOR!O636>0,PROCESADOR!O636,\"\")","v":""}]
[{"$f":"IF(PROCESADOR!O637>0,PROCESADOR!O637,\"\")","v":""}]
[{"$f":"IF(PROCESADOR!O638>0,PROCESADOR!O638,\"\")","v":""}]
[{"$f":"IF(PROCESADOR!O639>0,PROCESADOR!O639,\"\")","v":""}]
[{"$f":"IF(PROCESADOR!O640>0,PROCESADOR!O640,\"\")","v":""}]
[{"$f":"IF(PROCESADOR!O641>0,PROCESADOR!O641,\"\")","v":""}]
[{"$f":"IF(PROCESADOR!O642>0,PROCESADOR!O642,\"\")","v":""}]
[{"$f":"IF(PROCESADOR!O643>0,PROCESADOR!O643,\"\")","v":""}]
[{"$f":"IF(PROCESADOR!O644>0,PROCESADOR!O644,\"\")","v":""}]
[{"$f":"IF(PROCESADOR!O645>0,PROCESADOR!O645,\"\")","v":""}]
[{"$f":"IF(PROCESADOR!O646>0,PROCESADOR!O646,\"\")","v":""}]
[{"$f":"IF(PROCESADOR!O647>0,PROCESADOR!O647,\"\")","v":""}]
[{"$f":"IF(PROCESADOR!O648>0,PROCESADOR!O648,\"\")","v":""}]
[{"$f":"IF(PROCESADOR!O649>0,PROCESADOR!O649,\"\")","v":""}]
[{"$f":"IF(PROCESADOR!O650>0,PROCESADOR!O650,\"\")","v":""}]
[{"$f":"IF(PROCESADOR!O651>0,PROCESADOR!O651,\"\")","v":""}]
[{"$f":"IF(PROCESADOR!O652>0,PROCESADOR!O652,\"\")","v":""}]
[{"$f":"IF(PROCESADOR!O653>0,PROCESADOR!O653,\"\")","v":""}]
[{"$f":"IF(PROCESADOR!O654>0,PROCESADOR!O654,\"\")","v":""}]
[{"$f":"IF(PROCESADOR!O655>0,PROCESADOR!O655,\"\")","v":""}]
[{"$f":"IF(PROCESADOR!O656>0,PROCESADOR!O656,\"\")","v":""}]
[{"$f":"IF(PROCESADOR!O657>0,PROCESADOR!O657,\"\")","v":""}]
[{"$f":"IF(PROCESADOR!O658>0,PROCESADOR!O658,\"\")","v":""}]
[{"$f":"IF(PROCESADOR!O659>0,PROCESADOR!O659,\"\")","v":""}]
[{"$f":"IF(PROCESADOR!O660>0,PROCESADOR!O660,\"\")","v":""}]
[{"$f":"IF(PROCESADOR!O661>0,PROCESADOR!O661,\"\")","v":""}]
[{"$f":"IF(PROCESADOR!O662>0,PROCESADOR!O662,\"\")","v":""}]
[{"$f":"IF(PROCESADOR!O663>0,PROCESADOR!O663,\"\")","v":""}]
[{"$f":"IF(PROCESADOR!O664>0,PROCESADOR!O664,\"\")","v":""}]
[{"$f":"IF(PROCESADOR!O665>0,PROCESADOR!O665,\"\")","v":""}]
[{"$f":"IF(PROCESADOR!O666>0,PROCESADOR!O666,\"\")","v":""}]
[{"$f":"IF(PROCESADOR!O667>0,PROCESADOR!O667,\"\")","v":""}]
[{"$f":"IF(PROCESADOR!O668>0,PROCESADOR!O668,\"\")","v":""}]
[{"$f":"IF(PROCESADOR!O669>0,PROCESADOR!O669,\"\")","v":""}]
[{"$f":"IF(PROCESADOR!O670>0,PROCESADOR!O670,\"\")","v":""}]
[{"$f":"IF(PROCESADOR!O671>0,PROCESADOR!O671,\"\")","v":""}]
[{"$f":"IF(PROCESADOR!O672>0,PROCESADOR!O672,\"\")","v":""}]
[{"$f":"IF(PROCESADOR!O673>0,PROCESADOR!O673,\"\")","v":""}]
[{"$f":"IF(PROCESADOR!O674>0,PROCESADOR!O674,\"\")","v":""}]
[{"$f":"IF(PROCESADOR!O675>0,PROCESADOR!O675,\"\")","v":""}]
[{"$f":"IF(PROCESADOR!O676>0,PROCESADOR!O676,\"\")","v":""}]
[{"$f":"IF(PROCESADOR!O677>0,PROCESADOR!O677,\"\")","v":""}]
[{"$f":"IF(PROCESADOR!O678>0,PROCESADOR!O678,\"\")","v":""}]
[{"$f":"IF(PROCESADOR!O679>0,PROCESADOR!O679,\"\")","v":""}]
[{"$f":"IF(PROCESADOR!O680>0,PROCESADOR!O680,\"\")","v":""}]
[{"$f":"IF(PROCESADOR!O681>0,PROCESADOR!O681,\"\")","v":""}]
[{"$f":"IF(PROCESADOR!O682>0,PROCESADOR!O682,\"\")","v":""}]
[{"$f":"IF(PROCESADOR!O683>0,PROCESADOR!O683,\"\")","v":""}]
[{"$f":"IF(PROCESADOR!O684>0,PROCESADOR!O684,\"\")","v":""}]
[{"$f":"IF(PROCESADOR!O685>0,PROCESADOR!O685,\"\")","v":""}]
[{"$f":"IF(PROCESADOR!O686>0,PROCESADOR!O686,\"\")","v":""}]
[{"$f":"IF(PROCESADOR!O687>0,PROCESADOR!O687,\"\")","v":""}]
[{"$f":"IF(PROCESADOR!O688>0,PROCESADOR!O688,\"\")","v":""}]
[{"$f":"IF(PROCESADOR!O689>0,PROCESADOR!O689,\"\")","v":""}]
[{"$f":"IF(PROCESADOR!O690>0,PROCESADOR!O690,\"\")","v":""}]
[{"$f":"IF(PROCESADOR!O691>0,PROCESADOR!O691,\"\")","v":""}]
[{"$f":"IF(PROCESADOR!O692>0,PROCESADOR!O692,\"\")","v":""}]
[{"$f":"IF(PROCESADOR!O693>0,PROCESADOR!O693,\"\")","v":""}]
[{"$f":"IF(PROCESADOR!O694>0,PROCESADOR!O694,\"\")","v":""}]
[{"$f":"IF(PROCESADOR!O695>0,PROCESADOR!O695,\"\")","v":""}]
[{"$f":"IF(PROCESADOR!O696>0,PROCESADOR!O696,\"\")","v":""}]
[{"$f":"IF(PROCESADOR!O697>0,PROCESADOR!O697,\"\")","v":""}]
[{"$f":"IF(PROCESADOR!O698>0,PROCESADOR!O698,\"\")","v":""}]
[{"$f":"IF(PROCESADOR!O699>0,PROCESADOR!O699,\"\")","v":""}]
[{"$f":"IF(PROCESADOR!O700>0,PROCESADOR!O700,\"\")","v":""}]
[{"$f":"IF(PROCESADOR!O701>0,PROCESADOR!O701,\"\")","v":""}]
[{"$f":"IF(PROCESADOR!O702>0,PROCESADOR!O702,\"\")","v":""}]
[{"$f":"IF(PROCESADOR!O703>0,PROCESADOR!O703,\"\")","v":""}]
[{"$f":"IF(PROCESADOR!O704>0,PROCESADOR!O704,\"\")","v":""}]
[{"$f":"IF(PROCESADOR!O705>0,PROCESADOR!O705,\"\")","v":""}]
[{"$f":"IF(PROCESADOR!O706>0,PROCESADOR!O706,\"\")","v":""}]
[{"$f":"IF(PROCESADOR!O707>0,PROCESADOR!O707,\"\")","v":""}]
[{"$f":"IF(PROCESADOR!O708>0,PROCESADOR!O708,\"\")","v":""}]
[{"$f":"IF(PROCESADOR!O709>0,PROCESADOR!O709,\"\")","v":""}]
[{"$f":"IF(PROCESADOR!O710>0,PROCESADOR!O710,\"\")","v":""}]
[{"$f":"IF(PROCESADOR!O711>0,PROCESADOR!O711,\"\")","v":""}]
[{"$f":"IF(PROCESADOR!O712>0,PROCESADOR!O712,\"\")","v":""}]
[{"$f":"IF(PROCESADOR!O713>0,PROCESADOR!O713,\"\")","v":""}]
[{"$f":"IF(PROCESADOR!O714>0,PROCESADOR!O714,\"\")","v":""}]
[{"$f":"IF(PROCESADOR!O715>0,PROCESADOR!O715,\"\")","v":""}]
[{"$f":"IF(PROCESADOR!O716>0,PROCESADOR!O716,\"\")","v":""}]
[{"$f":"IF(PROCESADOR!O717>0,PROCESADOR!O717,\"\")","v":""}]
[{"$f":"IF(PROCESADOR!O718>0,PROCESADOR!O718,\"\")","v":""}]
[{"$f":"IF(PROCESADOR!O719>0,PROCESADOR!O719,\"\")","v":""}]
[{"$f":"IF(PROCESADOR!O720>0,PROCESADOR!O720,\"\")","v":""}]
[{"$f":"IF(PROCESADOR!O721>0,PROCESADOR!O721,\"\")","v":""}]
[{"$f":"IF(PROCESADOR!O722>0,PROCESADOR!O722,\"\")","v":""}]
[{"$f":"IF(PROCESADOR!O723>0,PROCESADOR!O723,\"\")","v":""}]
[{"$f":"IF(PROCESADOR!O724>0,PROCESADOR!O724,\"\")","v":""}]
[{"$f":"IF(PROCESADOR!O725>0,PROCESADOR!O725,\"\")","v":""}]
[{"$f":"IF(PROCESADOR!O726>0,PROCESADOR!O726,\"\")","v":""}]
[{"$f":"IF(PROCESADOR!O727>0,PROCESADOR!O727,\"\")","v":""}]
[{"$f":"IF(PROCESADOR!O728>0,PROCESADOR!O728,\"\")","v":""}]
[{"$f":"IF(PROCESADOR!O729>0,PROCESADOR!O729,\"\")","v":""}]
[{"$f":"IF(PROCESADOR!O730>0,PROCESADOR!O730,\"\")","v":""}]
[{"$f":"IF(PROCESADOR!O731>0,PROCESADOR!O731,\"\")","v":""}]
[{"$f":"IF(PROCESADOR!O732>0,PROCESADOR!O732,\"\")","v":""}]
[{"$f":"IF(PROCESADOR!O733>0,PROCESADOR!O733,\"\")","v":""}]
[{"$f":"IF(PROCESADOR!O734>0,PROCESADOR!O734,\"\")","v":""}]
[{"$f":"IF(PROCESADOR!O735>0,PROCESADOR!O735,\"\")","v":""}]
[{"$f":"IF(PROCESADOR!O736>0,PROCESADOR!O736,\"\")","v":""}]
[{"$f":"IF(PROCESADOR!O737>0,PROCESADOR!O737,\"\")","v":""}]
[{"$f":"IF(PROCESADOR!O738>0,PROCESADOR!O738,\"\")","v":""}]
[{"$f":"IF(PROCESADOR!O739>0,PROCESADOR!O739,\"\")","v":""}]
[{"$f":"IF(PROCESADOR!O740>0,PROCESADOR!O740,\"\")","v":""}]
[{"$f":"IF(PROCESADOR!O741>0,PROCESADOR!O741,\"\")","v":""}]
[{"$f":"IF(PROCESADOR!O742>0,PROCESADOR!O742,\"\")","v":""}]
[{"$f":"IF(PROCESADOR!O743>0,PROCESADOR!O743,\"\")","v":""}]
[{"$f":"IF(PROCESADOR!O744>0,PROCESADOR!O744,\"\")","v":""}]
[{"$f":"IF(PROCESADOR!O745>0,PROCESADOR!O745,\"\")","v":""}]
[{"$f":"IF(PROCESADOR!O746>0,PROCESADOR!O746,\"\")","v":""}]
[{"$f":"IF(PROCESADOR!O747>0,PROCESADOR!O747,\"\")","v":""}]
[{"$f":"IF(PROCESADOR!O748>0,PROCESADOR!O748,\"\")","v":""}]
[{"$f":"IF(PROCESADOR!O749>0,PROCESADOR!O749,\"\")","v":""}]
[{"$f":"IF(PROCESADOR!O750>0,PROCESADOR!O750,\"\")","v":""}]
[{"$f":"IF(PROCESADOR!O751>0,PROCESADOR!O751,\"\")","v":""}]
[{"$f":"IF(PROCESADOR!O752>0,PROCESADOR!O752,\"\")","v":""}]
[{"$f":"IF(PROCESADOR!O753>0,PROCESADOR!O753,\"\")","v":""}]
[{"$f":"IF(PROCESADOR!O754>0,PROCESADOR!O754,\"\")","v":""}]
[{"$f":"IF(PROCESADOR!O755>0,PROCESADOR!O755,\"\")","v":""}]
[{"$f":"IF(PROCESADOR!O756>0,PROCESADOR!O756,\"\")","v":""}]
[{"$f":"IF(PROCESADOR!O757>0,PROCESADOR!O757,\"\")","v":""}]
[{"$f":"IF(PROCESADOR!O758>0,PROCESADOR!O758,\"\")","v":""}]
[{"$f":"IF(PROCESADOR!O759>0,PROCESADOR!O759,\"\")","v":""}]
[{"$f":"IF(PROCESADOR!O760>0,PROCESADOR!O760,\"\")","v":""}]
[{"$f":"IF(PROCESADOR!O761>0,PROCESADOR!O761,\"\")","v":""}]
[{"$f":"IF(PROCESADOR!O762>0,PROCESADOR!O762,\"\")","v":""}]
[{"$f":"IF(PROCESADOR!O763>0,PROCESADOR!O763,\"\")","v":""}]
[{"$f":"IF(PROCESADOR!O764>0,PROCESADOR!O764,\"\")","v":""}]
[{"$f":"IF(PROCESADOR!O765>0,PROCESADOR!O765,\"\")","v":""}]
[{"$f":"IF(PROCESADOR!O766>0,PROCESADOR!O766,\"\")","v":""}]
[{"$f":"IF(PROCESADOR!O767>0,PROCESADOR!O767,\"\")","v":""}]
[{"$f":"IF(PROCESADOR!O768>0,PROCESADOR!O768,\"\")","v":""}]
[{"$f":"IF(PROCESADOR!O769>0,PROCESADOR!O769,\"\")","v":""}]
[{"$f":"IF(PROCESADOR!O770>0,PROCESADOR!O770,\"\")","v":""}]
[{"$f":"IF(PROCESADOR!O771>0,PROCESADOR!O771,\"\")","v":""}]
[{"$f":"IF(PROCESADOR!O772>0,PROCESADOR!O772,\"\")","v":""}]
[{"$f":"IF(PROCESADOR!O773>0,PROCESADOR!O773,\"\")","v":""}]
[{"$f":"IF(PROCESADOR!O774>0,PROCESADOR!O774,\"\")","v":""}]
[{"$f":"IF(PROCESADOR!O775>0,PROCESADOR!O775,\"\")","v":""}]
[{"$f":"IF(PROCESADOR!O776>0,PROCESADOR!O776,\"\")","v":""}]
[{"$f":"IF(PROCESADOR!O777>0,PROCESADOR!O777,\"\")","v":""}]
[{"$f":"IF(PROCESADOR!O778>0,PROCESADOR!O778,\"\")","v":""}]
[{"$f":"IF(PROCESADOR!O779>0,PROCESADOR!O779,\"\")","v":""}]
[{"$f":"IF(PROCESADOR!O780>0,PROCESADOR!O780,\"\")","v":""}]
[{"$f":"IF(PROCESADOR!O781>0,PROCESADOR!O781,\"\")","v":""}]
[{"$f":"IF(PROCESADOR!O782>0,PROCESADOR!O782,\"\")","v":""}]
[{"$f":"IF(PROCESADOR!O783>0,PROCESADOR!O783,\"\")","v":""}]
[{"$f":"IF(PROCESADOR!O784>0,PROCESADOR!O784,\"\")","v":""}]
[{"$f":"IF(PROCESADOR!O785>0,PROCESADOR!O785,\"\")","v":""}]
[{"$f":"IF(PROCESADOR!O786>0,PROCESADOR!O786,\"\")","v":""}]
[{"$f":"IF(PROCESADOR!O787>0,PROCESADOR!O787,\"\")","v":""}]
[{"$f":"IF(PROCESADOR!O788>0,PROCESADOR!O788,\"\")","v":""}]
[{"$f":"IF(PROCESADOR!O789>0,PROCESADOR!O789,\"\")","v":""}]
[{"$f":"IF(PROCESADOR!O790>0,PROCESADOR!O790,\"\")","v":""}]
[{"$f":"IF(PROCESADOR!O791>0,PROCESADOR!O791,\"\")","v":""}]
[{"$f":"IF(PROCESADOR!O792>0,PROCESADOR!O792,\"\")","v":""}]
[{"$f":"IF(PROCESADOR!O793>0,PROCESADOR!O793,\"\")","v":""}]
[{"$f":"IF(PROCESADOR!O794>0,PROCESADOR!O794,\"\")","v":""}]
[{"$f":"IF(PROCESADOR!O795>0,PROCESADOR!O795,\"\")","v":""}]
[{"$f":"IF(PROCESADOR!O796>0,PROCESADOR!O796,\"\")","v":""}]
[{"$f":"IF(PROCESADOR!O797>0,PROCESADOR!O797,\"\")","v":""}]
[{"$f":"IF(PROCESADOR!O798>0,PROCESADOR!O798,\"\")","v":""}]
[{"$f":"IF(PROCESADOR!O799>0,PROCESADOR!O799,\"\")","v":""}]
[{"$f":"IF(PROCESADOR!O800>0,PROCESADOR!O800,\"\")","v":""}]
[{"$f":"IF(PROCESADOR!O801>0,PROCESADOR!O801,\"\")","v":""}]
[{"$f":"IF(PROCESADOR!O802>0,PROCESADOR!O802,\"\")","v":""}]
[{"$f":"IF(PROCESADOR!O803>0,PROCESADOR!O803,\"\")","v":""}]
[{"$f":"IF(PROCESADOR!O804>0,PROCESADOR!O804,\"\")","v":""}]
[{"$f":"IF(PROCESADOR!O805>0,PROCESADOR!O805,\"\")","v":""}]
[{"$f":"IF(PROCESADOR!O806>0,PROCESADOR!O806,\"\")","v":""}]
[{"$f":"IF(PROCESADOR!O807>0,PROCESADOR!O807,\"\")","v":""}]
[{"$f":"IF(PROCESADOR!O808>0,PROCESADOR!O808,\"\")","v":""}]
[{"$f":"IF(PROCESADOR!O809>0,PROCESADOR!O809,\"\")","v":""}]
[{"$f":"IF(PROCESADOR!O810>0,PROCESADOR!O810,\"\")","v":""}]
[{"$f":"IF(PROCESADOR!O811>0,PROCESADOR!O811,\"\")","v":""}]
[{"$f":"IF(PROCESADOR!O812>0,PROCESADOR!O812,\"\")","v":""}]
[{"$f":"IF(PROCESADOR!O813>0,PROCESADOR!O813,\"\")","v":""}]
[{"$f":"IF(PROCESADOR!O814>0,PROCESADOR!O814,\"\")","v":""}]
[{"$f":"IF(PROCESADOR!O815>0,PROCESADOR!O815,\"\")","v":""}]
[{"$f":"IF(PROCESADOR!O816>0,PROCESADOR!O816,\"\")","v":""}]
[{"$f":"IF(PROCESADOR!O817>0,PROCESADOR!O817,\"\")","v":""}]
[{"$f":"IF(PROCESADOR!O818>0,PROCESADOR!O818,\"\")","v":""}]
[{"$f":"IF(PROCESADOR!O819>0,PROCESADOR!O819,\"\")","v":""}]
[{"$f":"IF(PROCESADOR!O820>0,PROCESADOR!O820,\"\")","v":""}]
[{"$f":"IF(PROCESADOR!O821>0,PROCESADOR!O821,\"\")","v":""}]
[{"$f":"IF(PROCESADOR!O822>0,PROCESADOR!O822,\"\")","v":""}]
[{"$f":"IF(PROCESADOR!O823>0,PROCESADOR!O823,\"\")","v":""}]
[{"$f":"IF(PROCESADOR!O824>0,PROCESADOR!O824,\"\")","v":""}]
[{"$f":"IF(PROCESADOR!O825>0,PROCESADOR!O825,\"\")","v":""}]
[{"$f":"IF(PROCESADOR!O826>0,PROCESADOR!O826,\"\")","v":""}]
[{"$f":"IF(PROCESADOR!O827>0,PROCESADOR!O827,\"\")","v":""}]
[{"$f":"IF(PROCESADOR!O828>0,PROCESADOR!O828,\"\")","v":""}]
[{"$f":"IF(PROCESADOR!O829>0,PROCESADOR!O829,\"\")","v":""}]
[{"$f":"IF(PROCESADOR!O830>0,PROCESADOR!O830,\"\")","v":""}]
[{"$f":"IF(PROCESADOR!O831>0,PROCESADOR!O831,\"\")","v":""}]
[{"$f":"IF(PROCESADOR!O832>0,PROCESADOR!O832,\"\")","v":""}]
[{"$f":"IF(PROCESADOR!O833>0,PROCESADOR!O833,\"\")","v":""}]
[{"$f":"IF(PROCESADOR!O834>0,PROCESADOR!O834,\"\")","v":""}]
[{"$f":"IF(PROCESADOR!O835>0,PROCESADOR!O835,\"\")","v":""}]
[{"$f":"IF(PROCESADOR!O836>0,PROCESADOR!O836,\"\")","v":""}]
[{"$f":"IF(PROCESADOR!O837>0,PROCESADOR!O837,\"\")","v":""}]
[{"$f":"IF(PROCESADOR!O838>0,PROCESADOR!O838,\"\")","v":""}]
[{"$f":"IF(PROCESADOR!O839>0,PROCESADOR!O839,\"\")","v":""}]
[{"$f":"IF(PROCESADOR!O840>0,PROCESADOR!O840,\"\")","v":""}]
[{"$f":"IF(PROCESADOR!O841>0,PROCESADOR!O841,\"\")","v":""}]
[{"$f":"IF(PROCESADOR!O842>0,PROCESADOR!O842,\"\")","v":""}]
[{"$f":"IF(PROCESADOR!O843>0,PROCESADOR!O843,\"\")","v":""}]
[{"$f":"IF(PROCESADOR!O844>0,PROCESADOR!O844,\"\")","v":""}]
[{"$f":"IF(PROCESADOR!O845>0,PROCESADOR!O845,\"\")","v":""}]
[{"$f":"IF(PROCESADOR!O846>0,PROCESADOR!O846,\"\")","v":""}]
[{"$f":"IF(PROCESADOR!O847>0,PROCESADOR!O847,\"\")","v":""}]
[{"$f":"IF(PROCESADOR!O848>0,PROCESADOR!O848,\"\")","v":""}]
[{"$f":"IF(PROCESADOR!O849>0,PROCESADOR!O849,\"\")","v":""}]
[{"$f":"IF(PROCESADOR!O850>0,PROCESADOR!O850,\"\")","v":""}]
[{"$f":"IF(PROCESADOR!O851>0,PROCESADOR!O851,\"\")","v":""}]
[{"$f":"IF(PROCESADOR!O852>0,PROCESADOR!O852,\"\")","v":""}]
[{"$f":"IF(PROCESADOR!O853>0,PROCESADOR!O853,\"\")","v":""}]
[{"$f":"IF(PROCESADOR!O854>0,PROCESADOR!O854,\"\")","v":""}]
[{"$f":"IF(PROCESADOR!O855>0,PROCESADOR!O855,\"\")","v":""}]
[{"$f":"IF(PROCESADOR!O856>0,PROCESADOR!O856,\"\")","v":""}]
[{"$f":"IF(PROCESADOR!O857>0,PROCESADOR!O857,\"\")","v":""}]
[{"$f":"IF(PROCESADOR!O858>0,PROCESADOR!O858,\"\")","v":""}]
[{"$f":"IF(PROCESADOR!O859>0,PROCESADOR!O859,\"\")","v":""}]
[{"$f":"IF(PROCESADOR!O860>0,PROCESADOR!O860,\"\")","v":""}]
[{"$f":"IF(PROCESADOR!O861>0,PROCESADOR!O861,\"\")","v":""}]
[{"$f":"IF(PROCESADOR!O862>0,PROCESADOR!O862,\"\")","v":""}]
[{"$f":"IF(PROCESADOR!O863>0,PROCESADOR!O863,\"\")","v":""}]
[{"$f":"IF(PROCESADOR!O864>0,PROCESADOR!O864,\"\")","v":""}]
[{"$f":"IF(PROCESADOR!O865>0,PROCESADOR!O865,\"\")","v":""}]
[{"$f":"IF(PROCESADOR!O866>0,PROCESADOR!O866,\"\")","v":""}]
[{"$f":"IF(PROCESADOR!O867>0,PROCESADOR!O867,\"\")","v":""}]
[{"$f":"IF(PROCESADOR!O868>0,PROCESADOR!O868,\"\")","v":""}]
[{"$f":"IF(PROCESADOR!O869>0,PROCESADOR!O869,\"\")","v":""}]
[{"$f":"IF(PROCESADOR!O870>0,PROCESADOR!O870,\"\")","v":""}]
[{"$f":"IF(PROCESADOR!O871>0,PROCESADOR!O871,\"\")","v":""}]
[{"$f":"IF(PROCESADOR!O872>0,PROCESADOR!O872,\"\")","v":""}]
[{"$f":"IF(PROCESADOR!O873>0,PROCESADOR!O873,\"\")","v":""}]
[{"$f":"IF(PROCESADOR!O874>0,PROCESADOR!O874,\"\")","v":""}]
[{"$f":"IF(PROCESADOR!O875>0,PROCESADOR!O875,\"\")","v":""}]
[{"$f":"IF(PROCESADOR!O876>0,PROCESADOR!O876,\"\")","v":""}]
[{"$f":"IF(PROCESADOR!O877>0,PROCESADOR!O877,\"\")","v":""}]
[{"$f":"IF(PROCESADOR!O878>0,PROCESADOR!O878,\"\")","v":""}]
[{"$f":"IF(PROCESADOR!O879>0,PROCESADOR!O879,\"\")","v":""}]
[{"$f":"IF(PROCESADOR!O880>0,PROCESADOR!O880,\"\")","v":""}]
[{"$f":"IF(PROCESADOR!O881>0,PROCESADOR!O881,\"\")","v":""}]
[{"$f":"IF(PROCESADOR!O882>0,PROCESADOR!O882,\"\")","v":""}]
[{"$f":"IF(PROCESADOR!O883>0,PROCESADOR!O883,\"\")","v":""}]
[{"$f":"IF(PROCESADOR!O884>0,PROCESADOR!O884,\"\")","v":""}]
[{"$f":"IF(PROCESADOR!O885>0,PROCESADOR!O885,\"\")","v":""}]
[{"$f":"IF(PROCESADOR!O886>0,PROCESADOR!O886,\"\")","v":""}]
[{"$f":"IF(PROCESADOR!O887>0,PROCESADOR!O887,\"\")","v":""}]
[{"$f":"IF(PROCESADOR!O888>0,PROCESADOR!O888,\"\")","v":""}]
[{"$f":"IF(PROCESADOR!O889>0,PROCESADOR!O889,\"\")","v":""}]
[{"$f":"IF(PROCESADOR!O890>0,PROCESADOR!O890,\"\")","v":""}]
[{"$f":"IF(PROCESADOR!O891>0,PROCESADOR!O891,\"\")","v":""}]
[{"$f":"IF(PROCESADOR!O892>0,PROCESADOR!O892,\"\")","v":""}]
[{"$f":"IF(PROCESADOR!O893>0,PROCESADOR!O893,\"\")","v":""}]
[{"$f":"IF(PROCESADOR!O894>0,PROCESADOR!O894,\"\")","v":""}]
[{"$f":"IF(PROCESADOR!O895>0,PROCESADOR!O895,\"\")","v":""}]
[{"$f":"IF(PROCESADOR!O896>0,PROCESADOR!O896,\"\")","v":""}]
[{"$f":"IF(PROCESADOR!O897>0,PROCESADOR!O897,\"\")","v":""}]
[{"$f":"IF(PROCESADOR!O898>0,PROCESADOR!O898,\"\")","v":""}]
[{"$f":"IF(PROCESADOR!O899>0,PROCESADOR!O899,\"\")","v":""}]
[{"$f":"IF(PROCESADOR!O900>0,PROCESADOR!O900,\"\")","v":""}]
[{"$f":"IF(PROCESADOR!O901>0,PROCESADOR!O901,\"\")","v":""}]
[{"$f":"IF(PROCESADOR!O902>0,PROCESADOR!O902,\"\")","v":""}]
[{"$f":"IF(PROCESADOR!O903>0,PROCESADOR!O903,\"\")","v":""}]
[{"$f":"IF(PROCESADOR!O904>0,PROCESADOR!O904,\"\")","v":""}]
[{"$f":"IF(PROCESADOR!O905>0,PROCESADOR!O905,\"\")","v":""}]
[{"$f":"IF(PROCESADOR!O906>0,PROCESADOR!O906,\"\")","v":""}]
[{"$f":"IF(PROCESADOR!O907>0,PROCESADOR!O907,\"\")","v":""}]
[{"$f":"IF(PROCESADOR!O908>0,PROCESADOR!O908,\"\")","v":""}]
[{"$f":"IF(PROCESADOR!O909>0,PROCESADOR!O909,\"\")","v":""}]
[{"$f":"IF(PROCESADOR!O910>0,PROCESADOR!O910,\"\")","v":""}]
[{"$f":"IF(PROCESADOR!O911>0,PROCESADOR!O911,\"\")","v":""}]
[{"$f":"IF(PROCESADOR!O912>0,PROCESADOR!O912,\"\")","v":""}]
[{"$f":"IF(PROCESADOR!O913>0,PROCESADOR!O913,\"\")","v":""}]
[{"$f":"IF(PROCESADOR!O914>0,PROCESADOR!O914,\"\")","v":""}]
[{"$f":"IF(PROCESADOR!O915>0,PROCESADOR!O915,\"\")","v":""}]
[{"$f":"IF(PROCESADOR!O916>0,PROCESADOR!O916,\"\")","v":""}]
[{"$f":"IF(PROCESADOR!O917>0,PROCESADOR!O917,\"\")","v":""}]
[{"$f":"IF(PROCESADOR!O918>0,PROCESADOR!O918,\"\")","v":""}]
[{"$f":"IF(PROCESADOR!O919>0,PROCESADOR!O919,\"\")","v":""}]
[{"$f":"IF(PROCESADOR!O920>0,PROCESADOR!O920,\"\")","v":""}]
[{"$f":"IF(PROCESADOR!O921>0,PROCESADOR!O921,\"\")","v":""}]
[{"$f":"IF(PROCESADOR!O922>0,PROCESADOR!O922,\"\")","v":""}]
[{"$f":"IF(PROCESADOR!O923>0,PROCESADOR!O923,\"\")","v":""}]
[{"$f":"IF(PROCESADOR!O924>0,PROCESADOR!O924,\"\")","v":""}]
[{"$f":"IF(PROCESADOR!O925>0,PROCESADOR!O925,\"\")","v":""}]
[{"$f":"IF(PROCESADOR!O926>0,PROCESADOR!O926,\"\")","v":""}]
[{"$f":"IF(PROCESADOR!O927>0,PROCESADOR!O927,\"\")","v":""}]
[{"$f":"IF(PROCESADOR!O928>0,PROCESADOR!O928,\"\")","v":""}]
[{"$f":"IF(PROCESADOR!O929>0,PROCESADOR!O929,\"\")","v":""}]
[{"$f":"IF(PROCESADOR!O930>0,PROCESADOR!O930,\"\")","v":""}]
[{"$f":"IF(PROCESADOR!O931>0,PROCESADOR!O931,\"\")","v":""}]
[{"$f":"IF(PROCESADOR!O932>0,PROCESADOR!O932,\"\")","v":""}]
[{"$f":"IF(PROCESADOR!O933>0,PROCESADOR!O933,\"\")","v":""}]
[{"$f":"IF(PROCESADOR!O934>0,PROCESADOR!O934,\"\")","v":""}]
[{"$f":"IF(PROCESADOR!O935>0,PROCESADOR!O935,\"\")","v":""}]
[{"$f":"IF(PROCESADOR!O936>0,PROCESADOR!O936,\"\")","v":""}]
[{"$f":"IF(PROCESADOR!O937>0,PROCESADOR!O937,\"\")","v":""}]
[{"$f":"IF(PROCESADOR!O938>0,PROCESADOR!O938,\"\")","v":""}]
[{"$f":"IF(PROCESADOR!O939>0,PROCESADOR!O939,\"\")","v":""}]
[{"$f":"IF(PROCESADOR!O940>0,PROCESADOR!O940,\"\")","v":""}]
[{"$f":"IF(PROCESADOR!O941>0,PROCESADOR!O941,\"\")","v":""}]
[{"$f":"IF(PROCESADOR!O942>0,PROCESADOR!O942,\"\")","v":""}]
[{"$f":"IF(PROCESADOR!O943>0,PROCESADOR!O943,\"\")","v":""}]
[{"$f":"IF(PROCESADOR!O944>0,PROCESADOR!O944,\"\")","v":""}]
[{"$f":"IF(PROCESADOR!O945>0,PROCESADOR!O945,\"\")","v":""}]
[{"$f":"IF(PROCESADOR!O946>0,PROCESADOR!O946,\"\")","v":""}]
[{"$f":"IF(PROCESADOR!O947>0,PROCESADOR!O947,\"\")","v":""}]
[{"$f":"IF(PROCESADOR!O948>0,PROCESADOR!O948,\"\")","v":""}]
[{"$f":"IF(PROCESADOR!O949>0,PROCESADOR!O949,\"\")","v":""}]
[{"$f":"IF(PROCESADOR!O950>0,PROCESADOR!O950,\"\")","v":""}]
[{"$f":"IF(PROCESADOR!O951>0,PROCESADOR!O951,\"\")","v":""}]
[{"$f":"IF(PROCESADOR!O952>0,PROCESADOR!O952,\"\")","v":""}]
[{"$f":"IF(PROCESADOR!O953>0,PROCESADOR!O953,\"\")","v":""}]
[{"$f":"IF(PROCESADOR!O954>0,PROCESADOR!O954,\"\")","v":""}]
[{"$f":"IF(PROCESADOR!O955>0,PROCESADOR!O955,\"\")","v":""}]
[{"$f":"IF(PROCESADOR!O956>0,PROCESADOR!O956,\"\")","v":""}]
[{"$f":"IF(PROCESADOR!O957>0,PROCESADOR!O957,\"\")","v":""}]
[{"$f":"IF(PROCESADOR!O958>0,PROCESADOR!O958,\"\")","v":""}]
[{"$f":"IF(PROCESADOR!O959>0,PROCESADOR!O959,\"\")","v":""}]
[{"$f":"IF(PROCESADOR!O960>0,PROCESADOR!O960,\"\")","v":""}]
[{"$f":"IF(PROCESADOR!O961>0,PROCESADOR!O961,\"\")","v":""}]
[{"$f":"IF(PROCESADOR!O962>0,PROCESADOR!O962,\"\")","v":""}]
[{"$f":"IF(PROCESADOR!O963>0,PROCESADOR!O963,\"\")","v":""}]
[{"$f":"IF(PROCESADOR!O964>0,PROCESADOR!O964,\"\")","v":""}]
[{"$f":"IF(PROCESADOR!O965>0,PROCESADOR!O965,\"\")","v":""}]
[{"$f":"IF(PROCESADOR!O966>0,PROCESADOR!O966,\"\")","v":""}]
[{"$f":"IF(PROCESADOR!O967>0,PROCESADOR!O967,\"\")","v":""}]
[{"$f":"IF(PROCESADOR!O968>0,PROCESADOR!O968,\"\")","v":""}]
[{"$f":"IF(PROCESADOR!O969>0,PROCESADOR!O969,\"\")","v":""}]
[{"$f":"IF(PROCESADOR!O970>0,PROCESADOR!O970,\"\")","v":""}]
[{"$f":"IF(PROCESADOR!O971>0,PROCESADOR!O971,\"\")","v":""}]
[{"$f":"IF(PROCESADOR!O972>0,PROCESADOR!O972,\"\")","v":""}]
[{"$f":"IF(PROCESADOR!O973>0,PROCESADOR!O973,\"\")","v":""}]
[{"$f":"IF(PROCESADOR!O974>0,PROCESADOR!O974,\"\")","v":""}]
[{"$f":"IF(PROCESADOR!O975>0,PROCESADOR!O975,\"\")","v":""}]
[{"$f":"IF(PROCESADOR!O976>0,PROCESADOR!O976,\"\")","v":""}]
[{"$f":"IF(PROCESADOR!O977>0,PROCESADOR!O977,\"\")","v":""}]
[{"$f":"IF(PROCESADOR!O978>0,PROCESADOR!O978,\"\")","v":""}]
[{"$f":"IF(PROCESADOR!O979>0,PROCESADOR!O979,\"\")","v":""}]
[{"$f":"IF(PROCESADOR!O980>0,PROCESADOR!O980,\"\")","v":""}]
[{"$f":"IF(PROCESADOR!O981>0,PROCESADOR!O981,\"\")","v":""}]
[{"$f":"IF(PROCESADOR!O982>0,PROCESADOR!O982,\"\")","v":""}]
[{"$f":"IF(PROCESADOR!O983>0,PROCESADOR!O983,\"\")","v":""}]
[{"$f":"IF(PROCESADOR!O984>0,PROCESADOR!O984,\"\")","v":""}]
[{"$f":"IF(PROCESADOR!O985>0,PROCESADOR!O985,\"\")","v":""}]
[{"$f":"IF(PROCESADOR!O986>0,PROCESADOR!O986,\"\")","v":""}]
[{"$f":"IF(PROCESADOR!O987>0,PROCESADOR!O987,\"\")","v":""}]
[{"$f":"IF(PROCESADOR!O988>0,PROCESADOR!O988,\"\")","v":""}]
[{"$f":"IF(PROCESADOR!O989>0,PROCESADOR!O989,\"\")","v":""}]
[{"$f":"IF(PROCESADOR!O990>0,PROCESADOR!O990,\"\")","v":""}]
[{"$f":"IF(PROCESADOR!O991>0,PROCESADOR!O991,\"\")","v":""}]
[{"$f":"IF(PROCESADOR!O992>0,PROCESADOR!O992,\"\")","v":""}]
[{"$f":"IF(PROCESADOR!O993>0,PROCESADOR!O993,\"\")","v":""}]
[{"$f":"IF(PROCESADOR!O994>0,PROCESADOR!O994,\"\")","v":""}]
[{"$f":"IF(PROCESADOR!O995>0,PROCESADOR!O995,\"\")","v":""}]
[{"$f":"IF(PROCESADOR!O996>0,PROCESADOR!O996,\"\")","v":""}]
[{"$f":"IF(PROCESADOR!O997>0,PROCESADOR!O997,\"\")","v":""}]
[{"$f":"IF(PROCESADOR!O998>0,PROCESADOR!O998,\"\")","v":""}]
[{"$f":"IF(PROCESADOR!O999>0,PROCESADOR!O999,\"\")","v":""}]
[{"$f":"IF(PROCESADOR!O1000>0,PROCESADOR!O1000,\"\")","v":""}]
[{"$f":"IF(PROCESADOR!O1001>0,PROCESADOR!O1001,\"\")","v":""}]
[{"$f":"IF(PROCESADOR!O1002>0,PROCESADOR!O1002,\"\")","v":""}]
[{"$f":"IF(PROCESADOR!O1003>0,PROCESADOR!O1003,\"\")","v":""}]
[{"$f":"IF(PROCESADOR!O1004>0,PROCESADOR!O1004,\"\")","v":""}]
[{"$f":"IF(PROCESADOR!O1005>0,PROCESADOR!O1005,\"\")","v":""}]
[{"$f":"IF(PROCESADOR!O1006>0,PROCESADOR!O1006,\"\")","v":""}]
[{"$f":"IF(PROCESADOR!O1007>0,PROCESADOR!O1007,\"\")","v":""}]
[{"$f":"IF(PROCESADOR!O1008>0,PROCESADOR!O1008,\"\")","v":""}]
[{"$f":"IF(PROCESADOR!O1009>0,PROCESADOR!O1009,\"\")","v":""}]
[{"$f":"IF(PROCESADOR!O1010>0,PROCESADOR!O1010,\"\")","v":""}]
[{"$f":"IF(PROCESADOR!O1011>0,PROCESADOR!O1011,\"\")","v":""}]
[{"$f":"IF(PROCESADOR!O1012>0,PROCESADOR!O1012,\"\")","v":""}]
[{"$f":"IF(PROCESADOR!O1013>0,PROCESADOR!O1013,\"\")","v":""}]
[{"$f":"IF(PROCESADOR!O1014>0,PROCESADOR!O1014,\"\")","v":""}]
[{"$f":"IF(PROCESADOR!O1015>0,PROCESADOR!O1015,\"\")","v":""}]
[{"$f":"IF(PROCESADOR!O1016>0,PROCESADOR!O1016,\"\")","v":""}]
[{"$f":"IF(PROCESADOR!O1017>0,PROCESADOR!O1017,\"\")","v":""}]
[{"$f":"IF(PROCESADOR!O1018>0,PROCESADOR!O1018,\"\")","v":""}]
[{"$f":"IF(PROCESADOR!O1019>0,PROCESADOR!O1019,\"\")","v":""}]
[{"$f":"IF(PROCESADOR!O1020>0,PROCESADOR!O1020,\"\")","v":""}]
[{"$f":"IF(PROCESADOR!O1021>0,PROCESADOR!O1021,\"\")","v":""}]
[{"$f":"IF(PROCESADOR!O1022>0,PROCESADOR!O1022,\"\")","v":""}]
[{"$f":"IF(PROCESADOR!O1023>0,PROCESADOR!O1023,\"\")","v":""}]
[{"$f":"IF(PROCESADOR!O1024>0,PROCESADOR!O1024,\"\")","v":""}]
[{"$f":"IF(PROCESADOR!O1025>0,PROCESADOR!O1025,\"\")","v":""}]
[{"$f":"IF(PROCESADOR!O1026>0,PROCESADOR!O1026,\"\")","v":""}]
[{"$f":"IF(PROCESADOR!O1027>0,PROCESADOR!O1027,\"\")","v":""}]
[{"$f":"IF(PROCESADOR!O1028>0,PROCESADOR!O1028,\"\")","v":""}]
[{"$f":"IF(PROCESADOR!O1029>0,PROCESADOR!O1029,\"\")","v":""}]
[{"$f":"IF(PROCESADOR!O1030>0,PROCESADOR!O1030,\"\")","v":""}]
[{"$f":"IF(PROCESADOR!O1031>0,PROCESADOR!O1031,\"\")","v":""}]
[{"$f":"IF(PROCESADOR!O1032>0,PROCESADOR!O1032,\"\")","v":""}]
[{"$f":"IF(PROCESADOR!O1033>0,PROCESADOR!O1033,\"\")","v":""}]
[{"$f":"IF(PROCESADOR!O1034>0,PROCESADOR!O1034,\"\")","v":""}]
[{"$f":"IF(PROCESADOR!O1035>0,PROCESADOR!O1035,\"\")","v":""}]
[{"$f":"IF(PROCESADOR!O1036>0,PROCESADOR!O1036,\"\")","v":""}]
[{"$f":"IF(PROCESADOR!O1037>0,PROCESADOR!O1037,\"\")","v":""}]
[{"$f":"IF(PROCESADOR!O1038>0,PROCESADOR!O1038,\"\")","v":""}]
[{"$f":"IF(PROCESADOR!O1039>0,PROCESADOR!O1039,\"\")","v":""}]
[{"$f":"IF(PROCESADOR!O1040>0,PROCESADOR!O1040,\"\")","v":""}]
[{"$f":"IF(PROCESADOR!O1041>0,PROCESADOR!O1041,\"\")","v":""}]
[{"$f":"IF(PROCESADOR!O1042>0,PROCESADOR!O1042,\"\")","v":""}]
[{"$f":"IF(PROCESADOR!O1043>0,PROCESADOR!O1043,\"\")","v":""}]
[{"$f":"IF(PROCESADOR!O1044>0,PROCESADOR!O1044,\"\")","v":""}]
[{"$f":"IF(PROCESADOR!O1045>0,PROCESADOR!O1045,\"\")","v":""}]
[{"$f":"IF(PROCESADOR!O1046>0,PROCESADOR!O1046,\"\")","v":""}]
[{"$f":"IF(PROCESADOR!O1047>0,PROCESADOR!O1047,\"\")","v":""}]
[{"$f":"IF(PROCESADOR!O1048>0,PROCESADOR!O1048,\"\")","v":""}]
[{"$f":"IF(PROCESADOR!O1049>0,PROCESADOR!O1049,\"\")","v":""}]
[{"$f":"IF(PROCESADOR!O1050>0,PROCESADOR!O1050,\"\")","v":""}]
[{"$f":"IF(PROCESADOR!O1051>0,PROCESADOR!O1051,\"\")","v":""}]
[{"$f":"IF(PROCESADOR!O1052>0,PROCESADOR!O1052,\"\")","v":""}]
[{"$f":"IF(PROCESADOR!O1053>0,PROCESADOR!O1053,\"\")","v":""}]
[{"$f":"IF(PROCESADOR!O1054>0,PROCESADOR!O1054,\"\")","v":""}]
[{"$f":"IF(PROCESADOR!O1055>0,PROCESADOR!O1055,\"\")","v":""}]
[{"$f":"IF(PROCESADOR!O1056>0,PROCESADOR!O1056,\"\")","v":""}]
[{"$f":"IF(PROCESADOR!O1057>0,PROCESADOR!O1057,\"\")","v":""}]
[{"$f":"IF(PROCESADOR!O1058>0,PROCESADOR!O1058,\"\")","v":""}]
[{"$f":"IF(PROCESADOR!O1059>0,PROCESADOR!O1059,\"\")","v":""}]
[{"$f":"IF(PROCESADOR!O1060>0,PROCESADOR!O1060,\"\")","v":""}]
[{"$f":"IF(PROCESADOR!O1061>0,PROCESADOR!O1061,\"\")","v":""}]
[{"$f":"IF(PROCESADOR!O1062>0,PROCESADOR!O1062,\"\")","v":""}]
[{"$f":"IF(PROCESADOR!O1063>0,PROCESADOR!O1063,\"\")","v":""}]
[{"$f":"IF(PROCESADOR!O1064>0,PROCESADOR!O1064,\"\")","v":""}]
[{"$f":"IF(PROCESADOR!O1065>0,PROCESADOR!O1065,\"\")","v":""}]
[{"$f":"IF(PROCESADOR!O1066>0,PROCESADOR!O1066,\"\")","v":""}]
[{"$f":"IF(PROCESADOR!O1067>0,PROCESADOR!O1067,\"\")","v":""}]
[{"$f":"IF(PROCESADOR!O1068>0,PROCESADOR!O1068,\"\")","v":""}]
[{"$f":"IF(PROCESADOR!O1069>0,PROCESADOR!O1069,\"\")","v":""}]
[{"$f":"IF(PROCESADOR!O1070>0,PROCESADOR!O1070,\"\")","v":""}]
[{"$f":"IF(PROCESADOR!O1071>0,PROCESADOR!O1071,\"\")","v":""}]
[{"$f":"IF(PROCESADOR!O1072>0,PROCESADOR!O1072,\"\")","v":""}]
[{"$f":"IF(PROCESADOR!O1073>0,PROCESADOR!O1073,\"\")","v":""}]
[{"$f":"IF(PROCESADOR!O1074>0,PROCESADOR!O1074,\"\")","v":""}]
[{"$f":"IF(PROCESADOR!O1075>0,PROCESADOR!O1075,\"\")","v":""}]
[{"$f":"IF(PROCESADOR!O1076>0,PROCESADOR!O1076,\"\")","v":""}]
[{"$f":"IF(PROCESADOR!O1077>0,PROCESADOR!O1077,\"\")","v":""}]
[{"$f":"IF(PROCESADOR!O1078>0,PROCESADOR!O1078,\"\")","v":""}]
[{"$f":"IF(PROCESADOR!O1079>0,PROCESADOR!O1079,\"\")","v":""}]
[{"$f":"IF(PROCESADOR!O1080>0,PROCESADOR!O1080,\"\")","v":""}]
[{"$f":"IF(PROCESADOR!O1081>0,PROCESADOR!O1081,\"\")","v":""}]
[{"$f":"IF(PROCESADOR!O1082>0,PROCESADOR!O1082,\"\")","v":""}]
[{"$f":"IF(PROCESADOR!O1083>0,PROCESADOR!O1083,\"\")","v":""}]
[{"$f":"IF(PROCESADOR!O1084>0,PROCESADOR!O1084,\"\")","v":""}]
[{"$f":"IF(PROCESADOR!O1085>0,PROCESADOR!O1085,\"\")","v":""}]
[{"$f":"IF(PROCESADOR!O1086>0,PROCESADOR!O1086,\"\")","v":""}]
[{"$f":"IF(PROCESADOR!O1087>0,PROCESADOR!O1087,\"\")","v":""}]
[{"$f":"IF(PROCESADOR!O1088>0,PROCESADOR!O1088,\"\")","v":""}]
[{"$f":"IF(PROCESADOR!O1089>0,PROCESADOR!O1089,\"\")","v":""}]
[{"$f":"IF(PROCESADOR!O1090>0,PROCESADOR!O1090,\"\")","v":""}]
[{"$f":"IF(PROCESADOR!O1091>0,PROCESADOR!O1091,\"\")","v":""}]
[{"$f":"IF(PROCESADOR!O1092>0,PROCESADOR!O1092,\"\")","v":""}]
[{"$f":"IF(PROCESADOR!O1093>0,PROCESADOR!O1093,\"\")","v":""}]
[{"$f":"IF(PROCESADOR!O1094>0,PROCESADOR!O1094,\"\")","v":""}]
[{"$f":"IF(PROCESADOR!O1095>0,PROCESADOR!O1095,\"\")","v":""}]
[{"$f":"IF(PROCESADOR!O1096>0,PROCESADOR!O1096,\"\")","v":""}]
[{"$f":"IF(PROCESADOR!O1097>0,PROCESADOR!O1097,\"\")","v":""}]
[{"$f":"IF(PROCESADOR!O1098>0,PROCESADOR!O1098,\"\")","v":""}]
[{"$f":"IF(PROCESADOR!O1099>0,PROCESADOR!O1099,\"\")","v":""}]
[{"$f":"IF(PROCESADOR!O1100>0,PROCESADOR!O1100,\"\")","v":""}]
[{"$f":"IF(PROCESADOR!O1101>0,PROCESADOR!O1101,\"\")","v":""}]
[{"$f":"IF(PROCESADOR!O1102>0,PROCESADOR!O1102,\"\")","v":""}]
[{"$f":"IF(PROCESADOR!O1103>0,PROCESADOR!O1103,\"\")","v":""}]
[{"$f":"IF(PROCESADOR!O1104>0,PROCESADOR!O1104,\"\")","v":""}]
[{"$f":"IF(PROCESADOR!O1105>0,PROCESADOR!O1105,\"\")","v":""}]
[{"$f":"IF(PROCESADOR!O1106>0,PROCESADOR!O1106,\"\")","v":""}]
[{"$f":"IF(PROCESADOR!O1107>0,PROCESADOR!O1107,\"\")","v":""}]
[{"$f":"IF(PROCESADOR!O1108>0,PROCESADOR!O1108,\"\")","v":""}]
[{"$f":"IF(PROCESADOR!O1109>0,PROCESADOR!O1109,\"\")","v":""}]
[{"$f":"IF(PROCESADOR!O1110>0,PROCESADOR!O1110,\"\")","v":""}]
[{"$f":"IF(PROCESADOR!O1111>0,PROCESADOR!O1111,\"\")","v":""}]
[{"$f":"IF(PROCESADOR!O1112>0,PROCESADOR!O1112,\"\")","v":""}]
[{"$f":"IF(PROCESADOR!O1113>0,PROCESADOR!O1113,\"\")","v":""}]
[{"$f":"IF(PROCESADOR!O1114>0,PROCESADOR!O1114,\"\")","v":""}]
[{"$f":"IF(PROCESADOR!O1115>0,PROCESADOR!O1115,\"\")","v":""}]
[{"$f":"IF(PROCESADOR!O1116>0,PROCESADOR!O1116,\"\")","v":""}]
[{"$f":"IF(PROCESADOR!O1117>0,PROCESADOR!O1117,\"\")","v":""}]
[{"$f":"IF(PROCESADOR!O1118>0,PROCESADOR!O1118,\"\")","v":""}]
[{"$f":"IF(PROCESADOR!O1119>0,PROCESADOR!O1119,\"\")","v":""}]
[{"$f":"IF(PROCESADOR!O1120>0,PROCESADOR!O1120,\"\")","v":""}]
[{"$f":"IF(PROCESADOR!O1121>0,PROCESADOR!O1121,\"\")","v":""}]
[{"$f":"IF(PROCESADOR!O1122>0,PROCESADOR!O1122,\"\")","v":""}]
[{"$f":"IF(PROCESADOR!O1123>0,PROCESADOR!O1123,\"\")","v":""}]
[{"$f":"IF(PROCESADOR!O1124>0,PROCESADOR!O1124,\"\")","v":""}]
[{"$f":"IF(PROCESADOR!O1125>0,PROCESADOR!O1125,\"\")","v":""}]
[{"$f":"IF(PROCESADOR!O1126>0,PROCESADOR!O1126,\"\")","v":""}]
[{"$f":"IF(PROCESADOR!O1127>0,PROCESADOR!O1127,\"\")","v":""}]
[{"$f":"IF(PROCESADOR!O1128>0,PROCESADOR!O1128,\"\")","v":""}]
[{"$f":"IF(PROCESADOR!O1129>0,PROCESADOR!O1129,\"\")","v":""}]
[{"$f":"IF(PROCESADOR!O1130>0,PROCESADOR!O1130,\"\")","v":""}]
[{"$f":"IF(PROCESADOR!O1131>0,PROCESADOR!O1131,\"\")","v":""}]
[{"$f":"IF(PROCESADOR!O1132>0,PROCESADOR!O1132,\"\")","v":""}]
[{"$f":"IF(PROCESADOR!O1133>0,PROCESADOR!O1133,\"\")","v":""}]
[{"$f":"IF(PROCESADOR!O1134>0,PROCESADOR!O1134,\"\")","v":""}]
[{"$f":"IF(PROCESADOR!O1135>0,PROCESADOR!O1135,\"\")","v":""}]
[{"$f":"IF(PROCESADOR!O1136>0,PROCESADOR!O1136,\"\")","v":""}]
[{"$f":"IF(PROCESADOR!O1137>0,PROCESADOR!O1137,\"\")","v":""}]
[{"$f":"IF(PROCESADOR!O1138>0,PROCESADOR!O1138,\"\")","v":""}]
[{"$f":"IF(PROCESADOR!O1139>0,PROCESADOR!O1139,\"\")","v":""}]
[{"$f":"IF(PROCESADOR!O1140>0,PROCESADOR!O1140,\"\")","v":""}]
[{"$f":"IF(PROCESADOR!O1141>0,PROCESADOR!O1141,\"\")","v":""}]
[{"$f":"IF(PROCESADOR!O1142>0,PROCESADOR!O1142,\"\")","v":""}]
[{"$f":"IF(PROCESADOR!O1143>0,PROCESADOR!O1143,\"\")","v":""}]
[{"$f":"IF(PROCESADOR!O1144>0,PROCESADOR!O1144,\"\")","v":""}]
[{"$f":"IF(PROCESADOR!O1145>0,PROCESADOR!O1145,\"\")","v":""}]
[{"$f":"IF(PROCESADOR!O1146>0,PROCESADOR!O1146,\"\")","v":""}]
[{"$f":"IF(PROCESADOR!O1147>0,PROCESADOR!O1147,\"\")","v":""}]
[{"$f":"IF(PROCESADOR!O1148>0,PROCESADOR!O1148,\"\")","v":""}]
[{"$f":"IF(PROCESADOR!O1149>0,PROCESADOR!O1149,\"\")","v":""}]
[{"$f":"IF(PROCESADOR!O1150>0,PROCESADOR!O1150,\"\")","v":""}]
[{"$f":"IF(PROCESADOR!O1151>0,PROCESADOR!O1151,\"\")","v":""}]
[{"$f":"IF(PROCESADOR!O1152>0,PROCESADOR!O1152,\"\")","v":""}]
[{"$f":"IF(PROCESADOR!O1153>0,PROCESADOR!O1153,\"\")","v":""}]
[{"$f":"IF(PROCESADOR!O1154>0,PROCESADOR!O1154,\"\")","v":""}]
[{"$f":"IF(PROCESADOR!O1155>0,PROCESADOR!O1155,\"\")","v":""}]
[{"$f":"IF(PROCESADOR!O1156>0,PROCESADOR!O1156,\"\")","v":""}]
[{"$f":"IF(PROCESADOR!O1157>0,PROCESADOR!O1157,\"\")","v":""}]
[{"$f":"IF(PROCESADOR!O1158>0,PROCESADOR!O1158,\"\")","v":""}]
[{"$f":"IF(PROCESADOR!O1159>0,PROCESADOR!O1159,\"\")","v":""}]
[{"$f":"IF(PROCESADOR!O1160>0,PROCESADOR!O1160,\"\")","v":""}]
[{"$f":"IF(PROCESADOR!O1161>0,PROCESADOR!O1161,\"\")","v":""}]
[{"$f":"IF(PROCESADOR!O1162>0,PROCESADOR!O1162,\"\")","v":""}]
[{"$f":"IF(PROCESADOR!O1163>0,PROCESADOR!O1163,\"\")","v":""}]
[{"$f":"IF(PROCESADOR!O1164>0,PROCESADOR!O1164,\"\")","v":""}]
[{"$f":"IF(PROCESADOR!O1165>0,PROCESADOR!O1165,\"\")","v":""}]
[{"$f":"IF(PROCESADOR!O1166>0,PROCESADOR!O1166,\"\")","v":""}]
[{"$f":"IF(PROCESADOR!O1167>0,PROCESADOR!O1167,\"\")","v":""}]
[{"$f":"IF(PROCESADOR!O1168>0,PROCESADOR!O1168,\"\")","v":""}]
[{"$f":"IF(PROCESADOR!O1169>0,PROCESADOR!O1169,\"\")","v":""}]
[{"$f":"IF(PROCESADOR!O1170>0,PROCESADOR!O1170,\"\")","v":""}]
[{"$f":"IF(PROCESADOR!O1171>0,PROCESADOR!O1171,\"\")","v":""}]
[{"$f":"IF(PROCESADOR!O1172>0,PROCESADOR!O1172,\"\")","v":""}]
[{"$f":"IF(PROCESADOR!O1173>0,PROCESADOR!O1173,\"\")","v":""}]
[{"$f":"IF(PROCESADOR!O1174>0,PROCESADOR!O1174,\"\")","v":""}]
[{"$f":"IF(PROCESADOR!O1175>0,PROCESADOR!O1175,\"\")","v":""}]
[{"$f":"IF(PROCESADOR!O1176>0,PROCESADOR!O1176,\"\")","v":""}]
[{"$f":"IF(PROCESADOR!O1177>0,PROCESADOR!O1177,\"\")","v":""}]
[{"$f":"IF(PROCESADOR!O1178>0,PROCESADOR!O1178,\"\")","v":""}]
[{"$f":"IF(PROCESADOR!O1179>0,PROCESADOR!O1179,\"\")","v":""}]
[{"$f":"IF(PROCESADOR!O1180>0,PROCESADOR!O1180,\"\")","v":""}]
[{"$f":"IF(PROCESADOR!O1181>0,PROCESADOR!O1181,\"\")","v":""}]
[{"$f":"IF(PROCESADOR!O1182>0,PROCESADOR!O1182,\"\")","v":""}]
[{"$f":"IF(PROCESADOR!O1183>0,PROCESADOR!O1183,\"\")","v":""}]
[{"$f":"IF(PROCESADOR!O1184>0,PROCESADOR!O1184,\"\")","v":""}]
[{"$f":"IF(PROCESADOR!O1185>0,PROCESADOR!O1185,\"\")","v":""}]
[{"$f":"IF(PROCESADOR!O1186>0,PROCESADOR!O1186,\"\")","v":""}]
[{"$f":"IF(PROCESADOR!O1187>0,PROCESADOR!O1187,\"\")","v":""}]
[{"$f":"IF(PROCESADOR!O1188>0,PROCESADOR!O1188,\"\")","v":""}]
[{"$f":"IF(PROCESADOR!O1189>0,PROCESADOR!O1189,\"\")","v":""}]
[{"$f":"IF(PROCESADOR!O1190>0,PROCESADOR!O1190,\"\")","v":""}]
[{"$f":"IF(PROCESADOR!O1191>0,PROCESADOR!O1191,\"\")","v":""}]
[{"$f":"IF(PROCESADOR!O1192>0,PROCESADOR!O1192,\"\")","v":""}]
[{"$f":"IF(PROCESADOR!O1193>0,PROCESADOR!O1193,\"\")","v":""}]
[{"$f":"IF(PROCESADOR!O1194>0,PROCESADOR!O1194,\"\")","v":""}]
[{"$f":"IF(PROCESADOR!O1195>0,PROCESADOR!O1195,\"\")","v":""}]
[{"$f":"IF(PROCESADOR!O1196>0,PROCESADOR!O1196,\"\")","v":""}]
[{"$f":"IF(PROCESADOR!O1197>0,PROCESADOR!O1197,\"\")","v":""}]
[{"$f":"IF(PROCESADOR!O1198>0,PROCESADOR!O1198,\"\")","v":""}]
[{"$f":"IF(PROCESADOR!O1199>0,PROCESADOR!O1199,\"\")","v":""}]
[{"$f":"IF(PROCESADOR!O1200>0,PROCESADOR!O1200,\"\")","v":""}]
[{"$f":"IF(PROCESADOR!O1201>0,PROCESADOR!O1201,\"\")","v":""}]
[{"$f":"IF(PROCESADOR!O1202>0,PROCESADOR!O1202,\"\")","v":""}]
[{"$f":"IF(PROCESADOR!O1203>0,PROCESADOR!O1203,\"\")","v":""}]
[{"$f":"IF(PROCESADOR!O1204>0,PROCESADOR!O1204,\"\")","v":""}]
[{"$f":"IF(PROCESADOR!O1205>0,PROCESADOR!O1205,\"\")","v":""}]
[{"$f":"IF(PROCESADOR!O1206>0,PROCESADOR!O1206,\"\")","v":""}]
[{"$f":"IF(PROCESADOR!O1207>0,PROCESADOR!O1207,\"\")","v":""}]
[{"$f":"IF(PROCESADOR!O1208>0,PROCESADOR!O1208,\"\")","v":""}]
[{"$f":"IF(PROCESADOR!O1209>0,PROCESADOR!O1209,\"\")","v":""}]
[{"$f":"IF(PROCESADOR!O1210>0,PROCESADOR!O1210,\"\")","v":""}]
[{"$f":"IF(PROCESADOR!O1211>0,PROCESADOR!O1211,\"\")","v":""}]
[{"$f":"IF(PROCESADOR!O1212>0,PROCESADOR!O1212,\"\")","v":""}]
[{"$f":"IF(PROCESADOR!O1213>0,PROCESADOR!O1213,\"\")","v":""}]
[{"$f":"IF(PROCESADOR!O1214>0,PROCESADOR!O1214,\"\")","v":""}]
[{"$f":"IF(PROCESADOR!O1215>0,PROCESADOR!O1215,\"\")","v":""}]
[{"$f":"IF(PROCESADOR!O1216>0,PROCESADOR!O1216,\"\")","v":""}]
[{"$f":"IF(PROCESADOR!O1217>0,PROCESADOR!O1217,\"\")","v":""}]
[{"$f":"IF(PROCESADOR!O1218>0,PROCESADOR!O1218,\"\")","v":""}]
[{"$f":"IF(PROCESADOR!O1219>0,PROCESADOR!O1219,\"\")","v":""}]
[{"$f":"IF(PROCESADOR!O1220>0,PROCESADOR!O1220,\"\")","v":""}]
[{"$f":"IF(PROCESADOR!O1221>0,PROCESADOR!O1221,\"\")","v":""}]
[{"$f":"IF(PROCESADOR!O1222>0,PROCESADOR!O1222,\"\")","v":""}]
[{"$f":"IF(PROCESADOR!O1223>0,PROCESADOR!O1223,\"\")","v":""}]
[{"$f":"IF(PROCESADOR!O1224>0,PROCESADOR!O1224,\"\")","v":""}]
[{"$f":"IF(PROCESADOR!O1225>0,PROCESADOR!O1225,\"\")","v":""}]
[{"$f":"IF(PROCESADOR!O1226>0,PROCESADOR!O1226,\"\")","v":""}]
[{"$f":"IF(PROCESADOR!O1227>0,PROCESADOR!O1227,\"\")","v":""}]
[{"$f":"IF(PROCESADOR!O1228>0,PROCESADOR!O1228,\"\")","v":""}]
[{"$f":"IF(PROCESADOR!O1229>0,PROCESADOR!O1229,\"\")","v":""}]
[{"$f":"IF(PROCESADOR!O1230>0,PROCESADOR!O1230,\"\")","v":""}]
[{"$f":"IF(PROCESADOR!O1231>0,PROCESADOR!O1231,\"\")","v":""}]
[{"$f":"IF(PROCESADOR!O1232>0,PROCESADOR!O1232,\"\")","v":""}]
[{"$f":"IF(PROCESADOR!O1233>0,PROCESADOR!O1233,\"\")","v":""}]
[{"$f":"IF(PROCESADOR!O1234>0,PROCESADOR!O1234,\"\")","v":""}]
[{"$f":"IF(PROCESADOR!O1235>0,PROCESADOR!O1235,\"\")","v":""}]
[{"$f":"IF(PROCESADOR!O1236>0,PROCESADOR!O1236,\"\")","v":""}]
[{"$f":"IF(PROCESADOR!O1237>0,PROCESADOR!O1237,\"\")","v":""}]
[{"$f":"IF(PROCESADOR!O1238>0,PROCESADOR!O1238,\"\")","v":""}]
[{"$f":"IF(PROCESADOR!O1239>0,PROCESADOR!O1239,\"\")","v":""}]
[{"$f":"IF(PROCESADOR!O1240>0,PROCESADOR!O1240,\"\")","v":""}]
[{"$f":"IF(PROCESADOR!O1241>0,PROCESADOR!O1241,\"\")","v":""}]
[{"$f":"IF(PROCESADOR!O1242>0,PROCESADOR!O1242,\"\")","v":""}]
[{"$f":"IF(PROCESADOR!O1243>0,PROCESADOR!O1243,\"\")","v":""}]
[{"$f":"IF(PROCESADOR!O1244>0,PROCESADOR!O1244,\"\")","v":""}]
[{"$f":"IF(PROCESADOR!O1245>0,PROCESADOR!O1245,\"\")","v":""}]
[{"$f":"IF(PROCESADOR!O1246>0,PROCESADOR!O1246,\"\")","v":""}]
[{"$f":"IF(PROCESADOR!O1247>0,PROCESADOR!O1247,\"\")","v":""}]
[{"$f":"IF(PROCESADOR!O1248>0,PROCESADOR!O1248,\"\")","v":""}]
[{"$f":"IF(PROCESADOR!O1249>0,PROCESADOR!O1249,\"\")","v":""}]
[{"$f":"IF(PROCESADOR!O1250>0,PROCESADOR!O1250,\"\")","v":""}]
[{"$f":"IF(PROCESADOR!O1251>0,PROCESADOR!O1251,\"\")","v":""}]
[{"$f":"IF(PROCESADOR!O1252>0,PROCESADOR!O1252,\"\")","v":""}]
[{"$f":"IF(PROCESADOR!O1253>0,PROCESADOR!O1253,\"\")","v":""}]
[{"$f":"IF(PROCESADOR!O1254>0,PROCESADOR!O1254,\"\")","v":""}]
[{"$f":"IF(PROCESADOR!O1255>0,PROCESADOR!O1255,\"\")","v":""}]
[{"$f":"IF(PROCESADOR!O1256>0,PROCESADOR!O1256,\"\")","v":""}]
[{"$f":"IF(PROCESADOR!O1257>0,PROCESADOR!O1257,\"\")","v":""}]
[{"$f":"IF(PROCESADOR!O1258>0,PROCESADOR!O1258,\"\")","v":""}]
[{"$f":"IF(PROCESADOR!O1259>0,PROCESADOR!O1259,\"\")","v":""}]
[{"$f":"IF(PROCESADOR!O1260>0,PROCESADOR!O1260,\"\")","v":""}]
[{"$f":"IF(PROCESADOR!O1261>0,PROCESADOR!O1261,\"\")","v":""}]
[{"$f":"IF(PROCESADOR!O1262>0,PROCESADOR!O1262,\"\")","v":""}]
[{"$f":"IF(PROCESADOR!O1263>0,PROCESADOR!O1263,\"\")","v":""}]
[{"$f":"IF(PROCESADOR!O1264>0,PROCESADOR!O1264,\"\")","v":""}]
[{"$f":"IF(PROCESADOR!O1265>0,PROCESADOR!O1265,\"\")","v":""}]
[{"$f":"IF(PROCESADOR!O1266>0,PROCESADOR!O1266,\"\")","v":""}]
[{"$f":"IF(PROCESADOR!O1267>0,PROCESADOR!O1267,\"\")","v":""}]
[{"$f":"IF(PROCESADOR!O1268>0,PROCESADOR!O1268,\"\")","v":""}]
[{"$f":"IF(PROCESADOR!O1269>0,PROCESADOR!O1269,\"\")","v":""}]
[{"$f":"IF(PROCESADOR!O1270>0,PROCESADOR!O1270,\"\")","v":""}]
[{"$f":"IF(PROCESADOR!O1271>0,PROCESADOR!O1271,\"\")","v":""}]
[{"$f":"IF(PROCESADOR!O1272>0,PROCESADOR!O1272,\"\")","v":""}]
[{"$f":"IF(PROCESADOR!O1273>0,PROCESADOR!O1273,\"\")","v":""}]
[{"$f":"IF(PROCESADOR!O1274>0,PROCESADOR!O1274,\"\")","v":""}]
[{"$f":"IF(PROCESADOR!O1275>0,PROCESADOR!O1275,\"\")","v":""}]
[{"$f":"IF(PROCESADOR!O1276>0,PROCESADOR!O1276,\"\")","v":""}]
[{"$f":"IF(PROCESADOR!O1277>0,PROCESADOR!O1277,\"\")","v":""}]
[{"$f":"IF(PROCESADOR!O1278>0,PROCESADOR!O1278,\"\")","v":""}]
[{"$f":"IF(PROCESADOR!O1279>0,PROCESADOR!O1279,\"\")","v":""}]
[{"$f":"IF(PROCESADOR!O1280>0,PROCESADOR!O1280,\"\")","v":""}]
[{"$f":"IF(PROCESADOR!O1281>0,PROCESADOR!O1281,\"\")","v":""}]
[{"$f":"IF(PROCESADOR!O1282>0,PROCESADOR!O1282,\"\")","v":""}]
[{"$f":"IF(PROCESADOR!O1283>0,PROCESADOR!O1283,\"\")","v":""}]
[{"$f":"IF(PROCESADOR!O1284>0,PROCESADOR!O1284,\"\")","v":""}]
[{"$f":"IF(PROCESADOR!O1285>0,PROCESADOR!O1285,\"\")","v":""}]
[{"$f":"IF(PROCESADOR!O1286>0,PROCESADOR!O1286,\"\")","v":""}]
[{"$f":"IF(PROCESADOR!O1287>0,PROCESADOR!O1287,\"\")","v":""}]
[{"$f":"IF(PROCESADOR!O1288>0,PROCESADOR!O1288,\"\")","v":""}]
[{"$f":"IF(PROCESADOR!O1289>0,PROCESADOR!O1289,\"\")","v":""}]
[{"$f":"IF(PROCESADOR!O1290>0,PROCESADOR!O1290,\"\")","v":""}]
[{"$f":"IF(PROCESADOR!O1291>0,PROCESADOR!O1291,\"\")","v":""}]
[{"$f":"IF(PROCESADOR!O1292>0,PROCESADOR!O1292,\"\")","v":""}]
[{"$f":"IF(PROCESADOR!O1293>0,PROCESADOR!O1293,\"\")","v":""}]
[{"$f":"IF(PROCESADOR!O1294>0,PROCESADOR!O1294,\"\")","v":""}]
[{"$f":"IF(PROCESADOR!O1295>0,PROCESADOR!O1295,\"\")","v":""}]
[{"$f":"IF(PROCESADOR!O1296>0,PROCESADOR!O1296,\"\")","v":""}]
[{"$f":"IF(PROCESADOR!O1297>0,PROCESADOR!O1297,\"\")","v":""}]
[{"$f":"IF(PROCESADOR!O1298>0,PROCESADOR!O1298,\"\")","v":""}]
[{"$f":"IF(PROCESADOR!O1299>0,PROCESADOR!O1299,\"\")","v":""}]
[{"$f":"IF(PROCESADOR!O1300>0,PROCESADOR!O1300,\"\")","v":""}]
[{"$f":"IF(PROCESADOR!O1301>0,PROCESADOR!O1301,\"\")","v":""}]
[{"$f":"IF(PROCESADOR!O1302>0,PROCESADOR!O1302,\"\")","v":""}]
[{"$f":"IF(PROCESADOR!O1303>0,PROCESADOR!O1303,\"\")","v":""}]
[{"$f":"IF(PROCESADOR!O1304>0,PROCESADOR!O1304,\"\")","v":""}]
[{"$f":"IF(PROCESADOR!O1305>0,PROCESADOR!O1305,\"\")","v":""}]
[{"$f":"IF(PROCESADOR!O1306>0,PROCESADOR!O1306,\"\")","v":""}]
[{"$f":"IF(PROCESADOR!O1307>0,PROCESADOR!O1307,\"\")","v":""}]
[{"$f":"IF(PROCESADOR!O1308>0,PROCESADOR!O1308,\"\")","v":""}]
[{"$f":"IF(PROCESADOR!O1309>0,PROCESADOR!O1309,\"\")","v":""}]
[{"$f":"IF(PROCESADOR!O1310>0,PROCESADOR!O1310,\"\")","v":""}]
[{"$f":"IF(PROCESADOR!O1311>0,PROCESADOR!O1311,\"\")","v":""}]
[{"$f":"IF(PROCESADOR!O1312>0,PROCESADOR!O1312,\"\")","v":""}]
[{"$f":"IF(PROCESADOR!O1313>0,PROCESADOR!O1313,\"\")","v":""}]
[{"$f":"IF(PROCESADOR!O1314>0,PROCESADOR!O1314,\"\")","v":""}]
[{"$f":"IF(PROCESADOR!O1315>0,PROCESADOR!O1315,\"\")","v":""}]
[{"$f":"IF(PROCESADOR!O1316>0,PROCESADOR!O1316,\"\")","v":""}]
[{"$f":"IF(PROCESADOR!O1317>0,PROCESADOR!O1317,\"\")","v":""}]
[{"$f":"IF(PROCESADOR!O1318>0,PROCESADOR!O1318,\"\")","v":""}]
[{"$f":"IF(PROCESADOR!O1319>0,PROCESADOR!O1319,\"\")","v":""}]
[{"$f":"IF(PROCESADOR!O1320>0,PROCESADOR!O1320,\"\")","v":""}]
[{"$f":"IF(PROCESADOR!O1321>0,PROCESADOR!O1321,\"\")","v":""}]
[{"$f":"IF(PROCESADOR!O1322>0,PROCESADOR!O1322,\"\")","v":""}]
[{"$f":"IF(PROCESADOR!O1323>0,PROCESADOR!O1323,\"\")","v":""}]
[{"$f":"IF(PROCESADOR!O1324>0,PROCESADOR!O1324,\"\")","v":""}]
[{"$f":"IF(PROCESADOR!O1325>0,PROCESADOR!O1325,\"\")","v":""}]
[{"$f":"IF(PROCESADOR!O1326>0,PROCESADOR!O1326,\"\")","v":""}]
[{"$f":"IF(PROCESADOR!O1327>0,PROCESADOR!O1327,\"\")","v":""}]
[{"$f":"IF(PROCESADOR!O1328>0,PROCESADOR!O1328,\"\")","v":""}]
[{"$f":"IF(PROCESADOR!O1329>0,PROCESADOR!O1329,\"\")","v":""}]
[{"$f":"IF(PROCESADOR!O1330>0,PROCESADOR!O1330,\"\")","v":""}]
[{"$f":"IF(PROCESADOR!O1331>0,PROCESADOR!O1331,\"\")","v":""}]
[{"$f":"IF(PROCESADOR!O1332>0,PROCESADOR!O1332,\"\")","v":""}]
[{"$f":"IF(PROCESADOR!O1333>0,PROCESADOR!O1333,\"\")","v":""}]
[{"$f":"IF(PROCESADOR!O1334>0,PROCESADOR!O1334,\"\")","v":""}]
[{"$f":"IF(PROCESADOR!O1335>0,PROCESADOR!O1335,\"\")","v":""}]
[{"$f":"IF(PROCESADOR!O1336>0,PROCESADOR!O1336,\"\")","v":""}]
[{"$f":"IF(PROCESADOR!O1337>0,PROCESADOR!O1337,\"\")","v":""}]
[{"$f":"IF(PROCESADOR!O1338>0,PROCESADOR!O1338,\"\")","v":""}]
[{"$f":"IF(PROCESADOR!O1339>0,PROCESADOR!O1339,\"\")","v":""}]
[{"$f":"IF(PROCESADOR!O1340>0,PROCESADOR!O1340,\"\")","v":""}]
[{"$f":"IF(PROCESADOR!O1341>0,PROCESADOR!O1341,\"\")","v":""}]
[{"$f":"IF(PROCESADOR!O1342>0,PROCESADOR!O1342,\"\")","v":""}]
[{"$f":"IF(PROCESADOR!O1343>0,PROCESADOR!O1343,\"\")","v":""}]
[{"$f":"IF(PROCESADOR!O1344>0,PROCESADOR!O1344,\"\")","v":""}]
[{"$f":"IF(PROCESADOR!O1345>0,PROCESADOR!O1345,\"\")","v":""}]
[{"$f":"IF(PROCESADOR!O1346>0,PROCESADOR!O1346,\"\")","v":""}]
[{"$f":"IF(PROCESADOR!O1347>0,PROCESADOR!O1347,\"\")","v":""}]
[{"$f":"IF(PROCESADOR!O1348>0,PROCESADOR!O1348,\"\")","v":""}]
[{"$f":"IF(PROCESADOR!O1349>0,PROCESADOR!O1349,\"\")","v":""}]
[{"$f":"IF(PROCESADOR!O1350>0,PROCESADOR!O1350,\"\")","v":""}]
[{"$f":"IF(PROCESADOR!O1351>0,PROCESADOR!O1351,\"\")","v":""}]
[{"$f":"IF(PROCESADOR!O1352>0,PROCESADOR!O1352,\"\")","v":""}]
[{"$f":"IF(PROCESADOR!O1353>0,PROCESADOR!O1353,\"\")","v":""}]
[{"$f":"IF(PROCESADOR!O1354>0,PROCESADOR!O1354,\"\")","v":""}]
[{"$f":"IF(PROCESADOR!O1355>0,PROCESADOR!O1355,\"\")","v":""}]
[{"$f":"IF(PROCESADOR!O1356>0,PROCESADOR!O1356,\"\")","v":""}]
[{"$f":"IF(PROCESADOR!O1357>0,PROCESADOR!O1357,\"\")","v":""}]
[{"$f":"IF(PROCESADOR!O1358>0,PROCESADOR!O1358,\"\")","v":""}]
[{"$f":"IF(PROCESADOR!O1359>0,PROCESADOR!O1359,\"\")","v":""}]
[{"$f":"IF(PROCESADOR!O1360>0,PROCESADOR!O1360,\"\")","v":""}]
[{"$f":"IF(PROCESADOR!O1361>0,PROCESADOR!O1361,\"\")","v":""}]
[{"$f":"IF(PROCESADOR!O1362>0,PROCESADOR!O1362,\"\")","v":""}]
[{"$f":"IF(PROCESADOR!O1363>0,PROCESADOR!O1363,\"\")","v":""}]
[{"$f":"IF(PROCESADOR!O1364>0,PROCESADOR!O1364,\"\")","v":""}]
[{"$f":"IF(PROCESADOR!O1365>0,PROCESADOR!O1365,\"\")","v":""}]
[{"$f":"IF(PROCESADOR!O1366>0,PROCESADOR!O1366,\"\")","v":""}]
[{"$f":"IF(PROCESADOR!O1367>0,PROCESADOR!O1367,\"\")","v":""}]
[{"$f":"IF(PROCESADOR!O1368>0,PROCESADOR!O1368,\"\")","v":""}]
[{"$f":"IF(PROCESADOR!O1369>0,PROCESADOR!O1369,\"\")","v":""}]
[{"$f":"IF(PROCESADOR!O1370>0,PROCESADOR!O1370,\"\")","v":""}]
[{"$f":"IF(PROCESADOR!O1371>0,PROCESADOR!O1371,\"\")","v":""}]
[{"$f":"IF(PROCESADOR!O1372>0,PROCESADOR!O1372,\"\")","v":""}]
[{"$f":"IF(PROCESADOR!O1373>0,PROCESADOR!O1373,\"\")","v":""}]
[{"$f":"IF(PROCESADOR!O1374>0,PROCESADOR!O1374,\"\")","v":""}]
[{"$f":"IF(PROCESADOR!O1375>0,PROCESADOR!O1375,\"\")","v":""}]
[{"$f":"IF(PROCESADOR!O1376>0,PROCESADOR!O1376,\"\")","v":""}]
[{"$f":"IF(PROCESADOR!O1377>0,PROCESADOR!O1377,\"\")","v":""}]
[{"$f":"IF(PROCESADOR!O1378>0,PROCESADOR!O1378,\"\")","v":""}]
[{"$f":"IF(PROCESADOR!O1379>0,PROCESADOR!O1379,\"\")","v":""}]
[{"$f":"IF(PROCESADOR!O1380>0,PROCESADOR!O1380,\"\")","v":""}]
[{"$f":"IF(PROCESADOR!O1381>0,PROCESADOR!O1381,\"\")","v":""}]
[{"$f":"IF(PROCESADOR!O1382>0,PROCESADOR!O1382,\"\")","v":""}]
[{"$f":"IF(PROCESADOR!O1383>0,PROCESADOR!O1383,\"\")","v":""}]
[{"$f":"IF(PROCESADOR!O1384>0,PROCESADOR!O1384,\"\")","v":""}]
[{"$f":"IF(PROCESADOR!O1385>0,PROCESADOR!O1385,\"\")","v":""}]
[{"$f":"IF(PROCESADOR!O1386>0,PROCESADOR!O1386,\"\")","v":""}]
[{"$f":"IF(PROCESADOR!O1387>0,PROCESADOR!O1387,\"\")","v":""}]
[{"$f":"IF(PROCESADOR!O1388>0,PROCESADOR!O1388,\"\")","v":""}]
[{"$f":"IF(PROCESADOR!O1389>0,PROCESADOR!O1389,\"\")","v":""}]
[{"$f":"IF(PROCESADOR!O1390>0,PROCESADOR!O1390,\"\")","v":""}]
[{"$f":"IF(PROCESADOR!O1391>0,PROCESADOR!O1391,\"\")","v":""}]
[{"$f":"IF(PROCESADOR!O1392>0,PROCESADOR!O1392,\"\")","v":""}]
[{"$f":"IF(PROCESADOR!O1393>0,PROCESADOR!O1393,\"\")","v":""}]
[{"$f":"IF(PROCESADOR!O1394>0,PROCESADOR!O1394,\"\")","v":""}]
[{"$f":"IF(PROCESADOR!O1395>0,PROCESADOR!O1395,\"\")","v":""}]
[{"$f":"IF(PROCESADOR!O1396>0,PROCESADOR!O1396,\"\")","v":""}]
[{"$f":"IF(PROCESADOR!O1397>0,PROCESADOR!O1397,\"\")","v":""}]
[{"$f":"IF(PROCESADOR!O1398>0,PROCESADOR!O1398,\"\")","v":""}]
[{"$f":"IF(PROCESADOR!O1399>0,PROCESADOR!O1399,\"\")","v":""}]
[{"$f":"IF(PROCESADOR!O1400>0,PROCESADOR!O1400,\"\")","v":""}]
[{"$f":"IF(PROCESADOR!O1401>0,PROCESADOR!O1401,\"\")","v":""}]
[{"$f":"IF(PROCESADOR!O1402>0,PROCESADOR!O1402,\"\")","v":""}]
[{"$f":"IF(PROCESADOR!O1403>0,PROCESADOR!O1403,\"\")","v":""}]
[{"$f":"IF(PROCESADOR!O1404>0,PROCESADOR!O1404,\"\")","v":""}]
[{"$f":"IF(PROCESADOR!O1405>0,PROCESADOR!O1405,\"\")","v":""}]
[{"$f":"IF(PROCESADOR!O1406>0,PROCESADOR!O1406,\"\")","v":""}]
[{"$f":"IF(PROCESADOR!O1407>0,PROCESADOR!O1407,\"\")","v":""}]
[{"$f":"IF(PROCESADOR!O1408>0,PROCESADOR!O1408,\"\")","v":""}]
[{"$f":"IF(PROCESADOR!O1409>0,PROCESADOR!O1409,\"\")","v":""}]
[{"$f":"IF(PROCESADOR!O1410>0,PROCESADOR!O1410,\"\")","v":""}]
[{"$f":"IF(PROCESADOR!O1411>0,PROCESADOR!O1411,\"\")","v":""}]
[{"$f":"IF(PROCESADOR!O1412>0,PROCESADOR!O1412,\"\")","v":""}]
[{"$f":"IF(PROCESADOR!O1413>0,PROCESADOR!O1413,\"\")","v":""}]
[{"$f":"IF(PROCESADOR!O1414>0,PROCESADOR!O1414,\"\")","v":""}]
[{"$f":"IF(PROCESADOR!O1415>0,PROCESADOR!O1415,\"\")","v":""}]
[{"$f":"IF(PROCESADOR!O1416>0,PROCESADOR!O1416,\"\")","v":""}]
[{"$f":"IF(PROCESADOR!O1417>0,PROCESADOR!O1417,\"\")","v":""}]
[{"$f":"IF(PROCESADOR!O1418>0,PROCESADOR!O1418,\"\")","v":""}]
[{"$f":"IF(PROCESADOR!O1419>0,PROCESADOR!O1419,\"\")","v":""}]
[{"$f":"IF(PROCESADOR!O1420>0,PROCESADOR!O1420,\"\")","v":""}]
[{"$f":"IF(PROCESADOR!O1421>0,PROCESADOR!O1421,\"\")","v":""}]
[{"$f":"IF(PROCESADOR!O1422>0,PROCESADOR!O1422,\"\")","v":""}]
[{"$f":"IF(PROCESADOR!O1423>0,PROCESADOR!O1423,\"\")","v":""}]
[{"$f":"IF(PROCESADOR!O1424>0,PROCESADOR!O1424,\"\")","v":""}]
[{"$f":"IF(PROCESADOR!O1425>0,PROCESADOR!O1425,\"\")","v":""}]
[{"$f":"IF(PROCESADOR!O1426>0,PROCESADOR!O1426,\"\")","v":""}]
[{"$f":"IF(PROCESADOR!O1427>0,PROCESADOR!O1427,\"\")","v":""}]
[{"$f":"IF(PROCESADOR!O1428>0,PROCESADOR!O1428,\"\")","v":""}]
[{"$f":"IF(PROCESADOR!O1429>0,PROCESADOR!O1429,\"\")","v":""}]
[{"$f":"IF(PROCESADOR!O1430>0,PROCESADOR!O1430,\"\")","v":""}]
[{"$f":"IF(PROCESADOR!O1431>0,PROCESADOR!O1431,\"\")","v":""}]
[{"$f":"IF(PROCESADOR!O1432>0,PROCESADOR!O1432,\"\")","v":""}]
[{"$f":"IF(PROCESADOR!O1433>0,PROCESADOR!O1433,\"\")","v":""}]
[{"$f":"IF(PROCESADOR!O1434>0,PROCESADOR!O1434,\"\")","v":""}]
[{"$f":"IF(PROCESADOR!O1435>0,PROCESADOR!O1435,\"\")","v":""}]
[{"$f":"IF(PROCESADOR!O1436>0,PROCESADOR!O1436,\"\")","v":""}]
[{"$f":"IF(PROCESADOR!O1437>0,PROCESADOR!O1437,\"\")","v":""}]
[{"$f":"IF(PROCESADOR!O1438>0,PROCESADOR!O1438,\"\")","v":""}]
[{"$f":"IF(PROCESADOR!O1439>0,PROCESADOR!O1439,\"\")","v":""}]
[{"$f":"IF(PROCESADOR!O1440>0,PROCESADOR!O1440,\"\")","v":""}]
[{"$f":"IF(PROCESADOR!O1441>0,PROCESADOR!O1441,\"\")","v":""}]
[{"$f":"IF(PROCESADOR!O1442>0,PROCESADOR!O1442,\"\")","v":""}]
[{"$f":"IF(PROCESADOR!O1443>0,PROCESADOR!O1443,\"\")","v":""}]
[{"$f":"IF(PROCESADOR!O1444>0,PROCESADOR!O1444,\"\")","v":""}]
[{"$f":"IF(PROCESADOR!O1445>0,PROCESADOR!O1445,\"\")","v":""}]
[{"$f":"IF(PROCESADOR!O1446>0,PROCESADOR!O1446,\"\")","v":""}]
[{"$f":"IF(PROCESADOR!O1447>0,PROCESADOR!O1447,\"\")","v":""}]
[{"$f":"IF(PROCESADOR!O1448>0,PROCESADOR!O1448,\"\")","v":""}]
[{"$f":"IF(PROCESADOR!O1449>0,PROCESADOR!O1449,\"\")","v":""}]
[{"$f":"IF(PROCESADOR!O1450>0,PROCESADOR!O1450,\"\")","v":""}]
[{"$f":"IF(PROCESADOR!O1451>0,PROCESADOR!O1451,\"\")","v":""}]
[{"$f":"IF(PROCESADOR!O1452>0,PROCESADOR!O1452,\"\")","v":""}]
[{"$f":"IF(PROCESADOR!O1453>0,PROCESADOR!O1453,\"\")","v":""}]
[{"$f":"IF(PROCESADOR!O1454>0,PROCESADOR!O1454,\"\")","v":""}]
[{"$f":"IF(PROCESADOR!O1455>0,PROCESADOR!O1455,\"\")","v":""}]
[{"$f":"IF(PROCESADOR!O1456>0,PROCESADOR!O1456,\"\")","v":""}]
[{"$f":"IF(PROCESADOR!O1457>0,PROCESADOR!O1457,\"\")","v":""}]
[{"$f":"IF(PROCESADOR!O1458>0,PROCESADOR!O1458,\"\")","v":""}]
[{"$f":"IF(PROCESADOR!O1459>0,PROCESADOR!O1459,\"\")","v":""}]
[{"$f":"IF(PROCESADOR!O1460>0,PROCESADOR!O1460,\"\")","v":""}]
[{"$f":"IF(PROCESADOR!O1461>0,PROCESADOR!O1461,\"\")","v":""}]
[{"$f":"IF(PROCESADOR!O1462>0,PROCESADOR!O1462,\"\")","v":""}]
[{"$f":"IF(PROCESADOR!O1463>0,PROCESADOR!O1463,\"\")","v":""}]
[{"$f":"IF(PROCESADOR!O1464>0,PROCESADOR!O1464,\"\")","v":""}]
[{"$f":"IF(PROCESADOR!O1465>0,PROCESADOR!O1465,\"\")","v":""}]
[{"$f":"IF(PROCESADOR!O1466>0,PROCESADOR!O1466,\"\")","v":""}]
[{"$f":"IF(PROCESADOR!O1467>0,PROCESADOR!O1467,\"\")","v":""}]
[{"$f":"IF(PROCESADOR!O1468>0,PROCESADOR!O1468,\"\")","v":""}]
[{"$f":"IF(PROCESADOR!O1469>0,PROCESADOR!O1469,\"\")","v":""}]
[{"$f":"IF(PROCESADOR!O1470>0,PROCESADOR!O1470,\"\")","v":""}]
[{"$f":"IF(PROCESADOR!O1471>0,PROCESADOR!O1471,\"\")","v":""}]
[{"$f":"IF(PROCESADOR!O1472>0,PROCESADOR!O1472,\"\")","v":""}]
[{"$f":"IF(PROCESADOR!O1473>0,PROCESADOR!O1473,\"\")","v":""}]
[{"$f":"IF(PROCESADOR!O1474>0,PROCESADOR!O1474,\"\")","v":""}]
[{"$f":"IF(PROCESADOR!O1475>0,PROCESADOR!O1475,\"\")","v":""}]
[{"$f":"IF(PROCESADOR!O1476>0,PROCESADOR!O1476,\"\")","v":""}]
[{"$f":"IF(PROCESADOR!O1477>0,PROCESADOR!O1477,\"\")","v":""}]
[{"$f":"IF(PROCESADOR!O1478>0,PROCESADOR!O1478,\"\")","v":""}]
[{"$f":"IF(PROCESADOR!O1479>0,PROCESADOR!O1479,\"\")","v":""}]
[{"$f":"IF(PROCESADOR!O1480>0,PROCESADOR!O1480,\"\")","v":""}]
[{"$f":"IF(PROCESADOR!O1481>0,PROCESADOR!O1481,\"\")","v":""}]
[{"$f":"IF(PROCESADOR!O1482>0,PROCESADOR!O1482,\"\")","v":""}]
[{"$f":"IF(PROCESADOR!O1483>0,PROCESADOR!O1483,\"\")","v":""}]
[{"$f":"IF(PROCESADOR!O1484>0,PROCESADOR!O1484,\"\")","v":""}]
[{"$f":"IF(PROCESADOR!O1485>0,PROCESADOR!O1485,\"\")","v":""}]
[{"$f":"IF(PROCESADOR!O1486>0,PROCESADOR!O1486,\"\")","v":""}]
[{"$f":"IF(PROCESADOR!O1487>0,PROCESADOR!O1487,\"\")","v":""}]
[{"$f":"IF(PROCESADOR!O1488>0,PROCESADOR!O1488,\"\")","v":""}]
[{"$f":"IF(PROCESADOR!O1489>0,PROCESADOR!O1489,\"\")","v":""}]
[{"$f":"IF(PROCESADOR!O1490>0,PROCESADOR!O1490,\"\")","v":""}]
[{"$f":"IF(PROCESADOR!O1491>0,PROCESADOR!O1491,\"\")","v":""}]
[{"$f":"IF(PROCESADOR!O1492>0,PROCESADOR!O1492,\"\")","v":""}]
[{"$f":"IF(PROCESADOR!O1493>0,PROCESADOR!O1493,\"\")","v":""}]
[{"$f":"IF(PROCESADOR!O1494>0,PROCESADOR!O1494,\"\")","v":""}]
[{"$f":"IF(PROCESADOR!O1495>0,PROCESADOR!O1495,\"\")","v":""}]
[{"$f":"IF(PROCESADOR!O1496>0,PROCESADOR!O1496,\"\")","v":""}]
[{"$f":"IF(PROCESADOR!O1497>0,PROCESADOR!O1497,\"\")","v":""}]
[{"$f":"IF(PROCESADOR!O1498>0,PROCESADOR!O1498,\"\")","v":""}]
[{"$f":"IF(PROCESADOR!O1499>0,PROCESADOR!O1499,\"\")","v":""}]
[{"$f":"IF(PROCESADOR!O1500>0,PROCESADOR!O1500,\"\")","v":""}]
[{"$f":"IF(PROCESADOR!O1501>0,PROCESADOR!O1501,\"\")","v":""}]
[{"$f":"IF(PROCESADOR!O1502>0,PROCESADOR!O1502,\"\")","v":""}]
[{"$f":"IF(PROCESADOR!O1503>0,PROCESADOR!O1503,\"\")","v":""}]
[{"$f":"IF(PROCESADOR!O1504>0,PROCESADOR!O1504,\"\")","v":""}]
[{"$f":"IF(PROCESADOR!O1505>0,PROCESADOR!O1505,\"\")","v":""}]
[{"$f":"IF(PROCESADOR!O1506>0,PROCESADOR!O1506,\"\")","v":""}]
[{"$f":"IF(PROCESADOR!O1507>0,PROCESADOR!O1507,\"\")","v":""}]
[{"$f":"IF(PROCESADOR!O1508>0,PROCESADOR!O1508,\"\")","v":""}]
[{"$f":"IF(PROCESADOR!O1509>0,PROCESADOR!O1509,\"\")","v":""}]
[{"$f":"IF(PROCESADOR!O1510>0,PROCESADOR!O1510,\"\")","v":""}]
[{"$f":"IF(PROCESADOR!O1511>0,PROCESADOR!O1511,\"\")","v":""}]
[{"$f":"IF(PROCESADOR!O1512>0,PROCESADOR!O1512,\"\")","v":""}]
[{"$f":"IF(PROCESADOR!O1513>0,PROCESADOR!O1513,\"\")","v":""}]
[{"$f":"IF(PROCESADOR!O1514>0,PROCESADOR!O1514,\"\")","v":""}]
[{"$f":"IF(PROCESADOR!O1515>0,PROCESADOR!O1515,\"\")","v":""}]
[{"$f":"IF(PROCESADOR!O1516>0,PROCESADOR!O1516,\"\")","v":""}]
[{"$f":"IF(PROCESADOR!O1517>0,PROCESADOR!O1517,\"\")","v":""}]
[{"$f":"IF(PROCESADOR!O1518>0,PROCESADOR!O1518,\"\")","v":""}]
[{"$f":"IF(PROCESADOR!O1519>0,PROCESADOR!O1519,\"\")","v":""}]
[{"$f":"IF(PROCESADOR!O1520>0,PROCESADOR!O1520,\"\")","v":""}]
[{"$f":"IF(PROCESADOR!O1521>0,PROCESADOR!O1521,\"\")","v":""}]
[{"$f":"IF(PROCESADOR!O1522>0,PROCESADOR!O1522,\"\")","v":""}]
[{"$f":"IF(PROCESADOR!O1523>0,PROCESADOR!O1523,\"\")","v":""}]
[{"$f":"IF(PROCESADOR!O1524>0,PROCESADOR!O1524,\"\")","v":""}]
[{"$f":"IF(PROCESADOR!O1525>0,PROCESADOR!O1525,\"\")","v":""}]
[{"$f":"IF(PROCESADOR!O1526>0,PROCESADOR!O1526,\"\")","v":""}]
[{"$f":"IF(PROCESADOR!O1527>0,PROCESADOR!O1527,\"\")","v":""}]
[{"$f":"IF(PROCESADOR!O1528>0,PROCESADOR!O1528,\"\")","v":""}]
[{"$f":"IF(PROCESADOR!O1529>0,PROCESADOR!O1529,\"\")","v":""}]
[{"$f":"IF(PROCESADOR!O1530>0,PROCESADOR!O1530,\"\")","v":""}]
[{"$f":"IF(PROCESADOR!O1531>0,PROCESADOR!O1531,\"\")","v":""}]
[{"$f":"IF(PROCESADOR!O1532>0,PROCESADOR!O1532,\"\")","v":""}]
[{"$f":"IF(PROCESADOR!O1533>0,PROCESADOR!O1533,\"\")","v":""}]
[{"$f":"IF(PROCESADOR!O1534>0,PROCESADOR!O1534,\"\")","v":""}]
[{"$f":"IF(PROCESADOR!O1535>0,PROCESADOR!O1535,\"\")","v":""}]
[{"$f":"IF(PROCESADOR!O1536>0,PROCESADOR!O1536,\"\")","v":""}]
[{"$f":"IF(PROCESADOR!O1537>0,PROCESADOR!O1537,\"\")","v":""}]
[{"$f":"IF(PROCESADOR!O1538>0,PROCESADOR!O1538,\"\")","v":""}]
[{"$f":"IF(PROCESADOR!O1539>0,PROCESADOR!O1539,\"\")","v":""}]
[{"$f":"IF(PROCESADOR!O1540>0,PROCESADOR!O1540,\"\")","v":""}]
[{"$f":"IF(PROCESADOR!O1541>0,PROCESADOR!O1541,\"\")","v":""}]
[{"$f":"IF(PROCESADOR!O1542>0,PROCESADOR!O1542,\"\")","v":""}]
[{"$f":"IF(PROCESADOR!O1543>0,PROCESADOR!O1543,\"\")","v":""}]
[{"$f":"IF(PROCESADOR!O1544>0,PROCESADOR!O1544,\"\")","v":""}]
[{"$f":"IF(PROCESADOR!O1545>0,PROCESADOR!O1545,\"\")","v":""}]
[{"$f":"IF(PROCESADOR!O1546>0,PROCESADOR!O1546,\"\")","v":""}]
[{"$f":"IF(PROCESADOR!O1547>0,PROCESADOR!O1547,\"\")","v":""}]
[{"$f":"IF(PROCESADOR!O1548>0,PROCESADOR!O1548,\"\")","v":""}]
[{"$f":"IF(PROCESADOR!O1549>0,PROCESADOR!O1549,\"\")","v":""}]
[{"$f":"IF(PROCESADOR!O1550>0,PROCESADOR!O1550,\"\")","v":""}]
[{"$f":"IF(PROCESADOR!O1551>0,PROCESADOR!O1551,\"\")","v":""}]
[{"$f":"IF(PROCESADOR!O1552>0,PROCESADOR!O1552,\"\")","v":""}]
[{"$f":"IF(PROCESADOR!O1553>0,PROCESADOR!O1553,\"\")","v":""}]
[{"$f":"IF(PROCESADOR!O1554>0,PROCESADOR!O1554,\"\")","v":""}]
[{"$f":"IF(PROCESADOR!O1555>0,PROCESADOR!O1555,\"\")","v":""}]
[{"$f":"IF(PROCESADOR!O1556>0,PROCESADOR!O1556,\"\")","v":""}]
[{"$f":"IF(PROCESADOR!O1557>0,PROCESADOR!O1557,\"\")","v":""}]
[{"$f":"IF(PROCESADOR!O1558>0,PROCESADOR!O1558,\"\")","v":""}]
[{"$f":"IF(PROCESADOR!O1559>0,PROCESADOR!O1559,\"\")","v":""}]
[{"$f":"IF(PROCESADOR!O1560>0,PROCESADOR!O1560,\"\")","v":""}]
[{"$f":"IF(PROCESADOR!O1561>0,PROCESADOR!O1561,\"\")","v":""}]
[{"$f":"IF(PROCESADOR!O1562>0,PROCESADOR!O1562,\"\")","v":""}]
[{"$f":"IF(PROCESADOR!O1563>0,PROCESADOR!O1563,\"\")","v":""}]
[{"$f":"IF(PROCESADOR!O1564>0,PROCESADOR!O1564,\"\")","v":""}]
[{"$f":"IF(PROCESADOR!O1565>0,PROCESADOR!O1565,\"\")","v":""}]
[{"$f":"IF(PROCESADOR!O1566>0,PROCESADOR!O1566,\"\")","v":""}]
[{"$f":"IF(PROCESADOR!O1567>0,PROCESADOR!O1567,\"\")","v":""}]
[{"$f":"IF(PROCESADOR!O1568>0,PROCESADOR!O1568,\"\")","v":""}]
[{"$f":"IF(PROCESADOR!O1569>0,PROCESADOR!O1569,\"\")","v":""}]
[{"$f":"IF(PROCESADOR!O1570>0,PROCESADOR!O1570,\"\")","v":""}]
[{"$f":"IF(PROCESADOR!O1571>0,PROCESADOR!O1571,\"\")","v":""}]
[{"$f":"IF(PROCESADOR!O1572>0,PROCESADOR!O1572,\"\")","v":""}]
[{"$f":"IF(PROCESADOR!O1573>0,PROCESADOR!O1573,\"\")","v":""}]
[{"$f":"IF(PROCESADOR!O1574>0,PROCESADOR!O1574,\"\")","v":""}]
[{"$f":"IF(PROCESADOR!O1575>0,PROCESADOR!O1575,\"\")","v":""}]
[{"$f":"IF(PROCESADOR!O1576>0,PROCESADOR!O1576,\"\")","v":""}]
[{"$f":"IF(PROCESADOR!O1577>0,PROCESADOR!O1577,\"\")","v":""}]
[{"$f":"IF(PROCESADOR!O1578>0,PROCESADOR!O1578,\"\")","v":""}]
[{"$f":"IF(PROCESADOR!O1579>0,PROCESADOR!O1579,\"\")","v":""}]
[{"$f":"IF(PROCESADOR!O1580>0,PROCESADOR!O1580,\"\")","v":""}]
[{"$f":"IF(PROCESADOR!O1581>0,PROCESADOR!O1581,\"\")","v":""}]
[{"$f":"IF(PROCESADOR!O1582>0,PROCESADOR!O1582,\"\")","v":""}]
[{"$f":"IF(PROCESADOR!O1583>0,PROCESADOR!O1583,\"\")","v":""}]
[{"$f":"IF(PROCESADOR!O1584>0,PROCESADOR!O1584,\"\")","v":""}]
[{"$f":"IF(PROCESADOR!O1585>0,PROCESADOR!O1585,\"\")","v":""}]
[{"$f":"IF(PROCESADOR!O1586>0,PROCESADOR!O1586,\"\")","v":""}]
[{"$f":"IF(PROCESADOR!O1587>0,PROCESADOR!O1587,\"\")","v":""}]
[{"$f":"IF(PROCESADOR!O1588>0,PROCESADOR!O1588,\"\")","v":""}]
[{"$f":"IF(PROCESADOR!O1589>0,PROCESADOR!O1589,\"\")","v":""}]
[{"$f":"IF(PROCESADOR!O1590>0,PROCESADOR!O1590,\"\")","v":""}]
[{"$f":"IF(PROCESADOR!O1591>0,PROCESADOR!O1591,\"\")","v":""}]
[{"$f":"IF(PROCESADOR!O1592>0,PROCESADOR!O1592,\"\")","v":""}]
[{"$f":"IF(PROCESADOR!O1593>0,PROCESADOR!O1593,\"\")","v":""}]
[{"$f":"IF(PROCESADOR!O1594>0,PROCESADOR!O1594,\"\")","v":""}]
[{"$f":"IF(PROCESADOR!O1595>0,PROCESADOR!O1595,\"\")","v":""}]
[{"$f":"IF(PROCESADOR!O1596>0,PROCESADOR!O1596,\"\")","v":""}]
[{"$f":"IF(PROCESADOR!O1597>0,PROCESADOR!O1597,\"\")","v":""}]
[{"$f":"IF(PROCESADOR!O1598>0,PROCESADOR!O1598,\"\")","v":""}]
[{"$f":"IF(PROCESADOR!O1599>0,PROCESADOR!O1599,\"\")","v":""}]
[{"$f":"IF(PROCESADOR!O1600>0,PROCESADOR!O1600,\"\")","v":""}]
[{"$f":"IF(PROCESADOR!O1601>0,PROCESADOR!O1601,\"\")","v":""}]
[{"$f":"IF(PROCESADOR!O1602>0,PROCESADOR!O1602,\"\")","v":""}]
[{"$f":"IF(PROCESADOR!O1603>0,PROCESADOR!O1603,\"\")","v":""}]
[{"$f":"IF(PROCESADOR!O1604>0,PROCESADOR!O1604,\"\")","v":""}]
[{"$f":"IF(PROCESADOR!O1605>0,PROCESADOR!O1605,\"\")","v":""}]
[{"$f":"IF(PROCESADOR!O1606>0,PROCESADOR!O1606,\"\")","v":""}]
[{"$f":"IF(PROCESADOR!O1607>0,PROCESADOR!O1607,\"\")","v":""}]
[{"$f":"IF(PROCESADOR!O1608>0,PROCESADOR!O1608,\"\")","v":""}]
[{"$f":"IF(PROCESADOR!O1609>0,PROCESADOR!O1609,\"\")","v":""}]
[{"$f":"IF(PROCESADOR!O1610>0,PROCESADOR!O1610,\"\")","v":""}]
[{"$f":"IF(PROCESADOR!O1611>0,PROCESADOR!O1611,\"\")","v":""}]
[{"$f":"IF(PROCESADOR!O1612>0,PROCESADOR!O1612,\"\")","v":""}]
[{"$f":"IF(PROCESADOR!O1613>0,PROCESADOR!O1613,\"\")","v":""}]
[{"$f":"IF(PROCESADOR!O1614>0,PROCESADOR!O1614,\"\")","v":""}]
[{"$f":"IF(PROCESADOR!O1615>0,PROCESADOR!O1615,\"\")","v":""}]
[{"$f":"IF(PROCESADOR!O1616>0,PROCESADOR!O1616,\"\")","v":""}]
[{"$f":"IF(PROCESADOR!O1617>0,PROCESADOR!O1617,\"\")","v":""}]
[{"$f":"IF(PROCESADOR!O1618>0,PROCESADOR!O1618,\"\")","v":""}]
[{"$f":"IF(PROCESADOR!O1619>0,PROCESADOR!O1619,\"\")","v":""}]
[{"$f":"IF(PROCESADOR!O1620>0,PROCESADOR!O1620,\"\")","v":""}]
[{"$f":"IF(PROCESADOR!O1621>0,PROCESADOR!O1621,\"\")","v":""}]
[{"$f":"IF(PROCESADOR!O1622>0,PROCESADOR!O1622,\"\")","v":""}]
[{"$f":"IF(PROCESADOR!O1623>0,PROCESADOR!O1623,\"\")","v":""}]
[{"$f":"IF(PROCESADOR!O1624>0,PROCESADOR!O1624,\"\")","v":""}]
[{"$f":"IF(PROCESADOR!O1625>0,PROCESADOR!O1625,\"\")","v":""}]
[{"$f":"IF(PROCESADOR!O1626>0,PROCESADOR!O1626,\"\")","v":""}]
[{"$f":"IF(PROCESADOR!O1627>0,PROCESADOR!O1627,\"\")","v":""}]
[{"$f":"IF(PROCESADOR!O1628>0,PROCESADOR!O1628,\"\")","v":""}]
[{"$f":"IF(PROCESADOR!O1629>0,PROCESADOR!O1629,\"\")","v":""}]
[{"$f":"IF(PROCESADOR!O1630>0,PROCESADOR!O1630,\"\")","v":""}]
[{"$f":"IF(PROCESADOR!O1631>0,PROCESADOR!O1631,\"\")","v":""}]
[{"$f":"IF(PROCESADOR!O1632>0,PROCESADOR!O1632,\"\")","v":""}]
[{"$f":"IF(PROCESADOR!O1633>0,PROCESADOR!O1633,\"\")","v":""}]
[{"$f":"IF(PROCESADOR!O1634>0,PROCESADOR!O1634,\"\")","v":""}]
[{"$f":"IF(PROCESADOR!O1635>0,PROCESADOR!O1635,\"\")","v":""}]
[{"$f":"IF(PROCESADOR!O1636>0,PROCESADOR!O1636,\"\")","v":""}]
[{"$f":"IF(PROCESADOR!O1637>0,PROCESADOR!O1637,\"\")","v":""}]
[{"$f":"IF(PROCESADOR!O1638>0,PROCESADOR!O1638,\"\")","v":""}]
[{"$f":"IF(PROCESADOR!O1639>0,PROCESADOR!O1639,\"\")","v":""}]
[{"$f":"IF(PROCESADOR!O1640>0,PROCESADOR!O1640,\"\")","v":""}]
[{"$f":"IF(PROCESADOR!O1641>0,PROCESADOR!O1641,\"\")","v":""}]
[{"$f":"IF(PROCESADOR!O1642>0,PROCESADOR!O1642,\"\")","v":""}]
[{"$f":"IF(PROCESADOR!O1643>0,PROCESADOR!O1643,\"\")","v":""}]
[{"$f":"IF(PROCESADOR!O1644>0,PROCESADOR!O1644,\"\")","v":""}]
[{"$f":"IF(PROCESADOR!O1645>0,PROCESADOR!O1645,\"\")","v":""}]
[{"$f":"IF(PROCESADOR!O1646>0,PROCESADOR!O1646,\"\")","v":""}]
[{"$f":"IF(PROCESADOR!O1647>0,PROCESADOR!O1647,\"\")","v":""}]
[{"$f":"IF(PROCESADOR!O1648>0,PROCESADOR!O1648,\"\")","v":""}]
[{"$f":"IF(PROCESADOR!O1649>0,PROCESADOR!O1649,\"\")","v":""}]
[{"$f":"IF(PROCESADOR!O1650>0,PROCESADOR!O1650,\"\")","v":""}]
[{"$f":"IF(PROCESADOR!O1651>0,PROCESADOR!O1651,\"\")","v":""}]
[{"$f":"IF(PROCESADOR!O1652>0,PROCESADOR!O1652,\"\")","v":""}]
[{"$f":"IF(PROCESADOR!O1653>0,PROCESADOR!O1653,\"\")","v":""}]
[{"$f":"IF(PROCESADOR!O1654>0,PROCESADOR!O1654,\"\")","v":""}]
[{"$f":"IF(PROCESADOR!O1655>0,PROCESADOR!O1655,\"\")","v":""}]
[{"$f":"IF(PROCESADOR!O1656>0,PROCESADOR!O1656,\"\")","v":""}]
[{"$f":"IF(PROCESADOR!O1657>0,PROCESADOR!O1657,\"\")","v":""}]
[{"$f":"IF(PROCESADOR!O1658>0,PROCESADOR!O1658,\"\")","v":""}]
[{"$f":"IF(PROCESADOR!O1659>0,PROCESADOR!O1659,\"\")","v":""}]
[{"$f":"IF(PROCESADOR!O1660>0,PROCESADOR!O1660,\"\")","v":""}]
[{"$f":"IF(PROCESADOR!O1661>0,PROCESADOR!O1661,\"\")","v":""}]
[{"$f":"IF(PROCESADOR!O1662>0,PROCESADOR!O1662,\"\")","v":""}]
[{"$f":"IF(PROCESADOR!O1663>0,PROCESADOR!O1663,\"\")","v":""}]
[{"$f":"IF(PROCESADOR!O1664>0,PROCESADOR!O1664,\"\")","v":""}]
[{"$f":"IF(PROCESADOR!O1665>0,PROCESADOR!O1665,\"\")","v":""}]
[{"$f":"IF(PROCESADOR!O1666>0,PROCESADOR!O1666,\"\")","v":""}]
[{"$f":"IF(PROCESADOR!O1667>0,PROCESADOR!O1667,\"\")","v":""}]
[{"$f":"IF(PROCESADOR!O1668>0,PROCESADOR!O1668,\"\")","v":""}]
[{"$f":"IF(PROCESADOR!O1669>0,PROCESADOR!O1669,\"\")","v":""}]
[{"$f":"IF(PROCESADOR!O1670>0,PROCESADOR!O1670,\"\")","v":""}]
[{"$f":"IF(PROCESADOR!O1671>0,PROCESADOR!O1671,\"\")","v":""}]
[{"$f":"IF(PROCESADOR!O1672>0,PROCESADOR!O1672,\"\")","v":""}]
[{"$f":"IF(PROCESADOR!O1673>0,PROCESADOR!O1673,\"\")","v":""}]
[{"$f":"IF(PROCESADOR!O1674>0,PROCESADOR!O1674,\"\")","v":""}]
[{"$f":"IF(PROCESADOR!O1675>0,PROCESADOR!O1675,\"\")","v":""}]
[{"$f":"IF(PROCESADOR!O1676>0,PROCESADOR!O1676,\"\")","v":""}]
[{"$f":"IF(PROCESADOR!O1677>0,PROCESADOR!O1677,\"\")","v":""}]
[{"$f":"IF(PROCESADOR!O1678>0,PROCESADOR!O1678,\"\")","v":""}]
[{"$f":"IF(PROCESADOR!O1679>0,PROCESADOR!O1679,\"\")","v":""}]
[{"$f":"IF(PROCESADOR!O1680>0,PROCESADOR!O1680,\"\")","v":""}]
[{"$f":"IF(PROCESADOR!O1681>0,PROCESADOR!O1681,\"\")","v":""}]
[{"$f":"IF(PROCESADOR!O1682>0,PROCESADOR!O1682,\"\")","v":""}]
[{"$f":"IF(PROCESADOR!O1683>0,PROCESADOR!O1683,\"\")","v":""}]
[{"$f":"IF(PROCESADOR!O1684>0,PROCESADOR!O1684,\"\")","v":""}]
[{"$f":"IF(PROCESADOR!O1685>0,PROCESADOR!O1685,\"\")","v":""}]
[{"$f":"IF(PROCESADOR!O1686>0,PROCESADOR!O1686,\"\")","v":""}]
[{"$f":"IF(PROCESADOR!O1687>0,PROCESADOR!O1687,\"\")","v":""}]
[{"$f":"IF(PROCESADOR!O1688>0,PROCESADOR!O1688,\"\")","v":""}]
[{"$f":"IF(PROCESADOR!O1689>0,PROCESADOR!O1689,\"\")","v":""}]
[{"$f":"IF(PROCESADOR!O1690>0,PROCESADOR!O1690,\"\")","v":""}]
[{"$f":"IF(PROCESADOR!O1691>0,PROCESADOR!O1691,\"\")","v":""}]
[{"$f":"IF(PROCESADOR!O1692>0,PROCESADOR!O1692,\"\")","v":""}]
[{"$f":"IF(PROCESADOR!O1693>0,PROCESADOR!O1693,\"\")","v":""}]
[{"$f":"IF(PROCESADOR!O1694>0,PROCESADOR!O1694,\"\")","v":""}]
[{"$f":"IF(PROCESADOR!O1695>0,PROCESADOR!O1695,\"\")","v":""}]
[{"$f":"IF(PROCESADOR!O1696>0,PROCESADOR!O1696,\"\")","v":""}]
[{"$f":"IF(PROCESADOR!O1697>0,PROCESADOR!O1697,\"\")","v":""}]
[{"$f":"IF(PROCESADOR!O1698>0,PROCESADOR!O1698,\"\")","v":""}]
[{"$f":"IF(PROCESADOR!O1699>0,PROCESADOR!O1699,\"\")","v":""}]
[{"$f":"IF(PROCESADOR!O1700>0,PROCESADOR!O1700,\"\")","v":""}]
[{"$f":"IF(PROCESADOR!O1701>0,PROCESADOR!O1701,\"\")","v":""}]
[{"$f":"IF(PROCESADOR!O1702>0,PROCESADOR!O1702,\"\")","v":""}]
[{"$f":"IF(PROCESADOR!O1703>0,PROCESADOR!O1703,\"\")","v":""}]
[{"$f":"IF(PROCESADOR!O1704>0,PROCESADOR!O1704,\"\")","v":""}]
[{"$f":"IF(PROCESADOR!O1705>0,PROCESADOR!O1705,\"\")","v":""}]
[{"$f":"IF(PROCESADOR!O1706>0,PROCESADOR!O1706,\"\")","v":""}]
[{"$f":"IF(PROCESADOR!O1707>0,PROCESADOR!O1707,\"\")","v":""}]
[{"$f":"IF(PROCESADOR!O1708>0,PROCESADOR!O1708,\"\")","v":""}]
[{"$f":"IF(PROCESADOR!O1709>0,PROCESADOR!O1709,\"\")","v":""}]
[{"$f":"IF(PROCESADOR!O1710>0,PROCESADOR!O1710,\"\")","v":""}]
[{"$f":"IF(PROCESADOR!O1711>0,PROCESADOR!O1711,\"\")","v":""}]
[{"$f":"IF(PROCESADOR!O1712>0,PROCESADOR!O1712,\"\")","v":""}]
[{"$f":"IF(PROCESADOR!O1713>0,PROCESADOR!O1713,\"\")","v":""}]
[{"$f":"IF(PROCESADOR!O1714>0,PROCESADOR!O1714,\"\")","v":""}]
[{"$f":"IF(PROCESADOR!O1715>0,PROCESADOR!O1715,\"\")","v":""}]
[{"$f":"IF(PROCESADOR!O1716>0,PROCESADOR!O1716,\"\")","v":""}]
[{"$f":"IF(PROCESADOR!O1717>0,PROCESADOR!O1717,\"\")","v":""}]
[{"$f":"IF(PROCESADOR!O1718>0,PROCESADOR!O1718,\"\")","v":""}]
[{"$f":"IF(PROCESADOR!O1719>0,PROCESADOR!O1719,\"\")","v":""}]
[{"$f":"IF(PROCESADOR!O1720>0,PROCESADOR!O1720,\"\")","v":""}]
[{"$f":"IF(PROCESADOR!O1721>0,PROCESADOR!O1721,\"\")","v":""}]
[{"$f":"IF(PROCESADOR!O1722>0,PROCESADOR!O1722,\"\")","v":""}]
[{"$f":"IF(PROCESADOR!O1723>0,PROCESADOR!O1723,\"\")","v":""}]
[{"$f":"IF(PROCESADOR!O1724>0,PROCESADOR!O1724,\"\")","v":""}]
[{"$f":"IF(PROCESADOR!O1725>0,PROCESADOR!O1725,\"\")","v":""}]
[{"$f":"IF(PROCESADOR!O1726>0,PROCESADOR!O1726,\"\")","v":""}]
[{"$f":"IF(PROCESADOR!O1727>0,PROCESADOR!O1727,\"\")","v":""}]
[{"$f":"IF(PROCESADOR!O1728>0,PROCESADOR!O1728,\"\")","v":""}]
[{"$f":"IF(PROCESADOR!O1729>0,PROCESADOR!O1729,\"\")","v":""}]
[{"$f":"IF(PROCESADOR!O1730>0,PROCESADOR!O1730,\"\")","v":""}]
[{"$f":"IF(PROCESADOR!O1731>0,PROCESADOR!O1731,\"\")","v":""}]
[{"$f":"IF(PROCESADOR!O1732>0,PROCESADOR!O1732,\"\")","v":""}]
[{"$f":"IF(PROCESADOR!O1733>0,PROCESADOR!O1733,\"\")","v":""}]
[{"$f":"IF(PROCESADOR!O1734>0,PROCESADOR!O1734,\"\")","v":""}]
[{"$f":"IF(PROCESADOR!O1735>0,PROCESADOR!O1735,\"\")","v":""}]
[{"$f":"IF(PROCESADOR!O1736>0,PROCESADOR!O1736,\"\")","v":""}]
[{"$f":"IF(PROCESADOR!O1737>0,PROCESADOR!O1737,\"\")","v":""}]
[{"$f":"IF(PROCESADOR!O1738>0,PROCESADOR!O1738,\"\")","v":""}]
[{"$f":"IF(PROCESADOR!O1739>0,PROCESADOR!O1739,\"\")","v":""}]
[{"$f":"IF(PROCESADOR!O1740>0,PROCESADOR!O1740,\"\")","v":""}]
[{"$f":"IF(PROCESADOR!O1741>0,PROCESADOR!O1741,\"\")","v":""}]
[{"$f":"IF(PROCESADOR!O1742>0,PROCESADOR!O1742,\"\")","v":""}]
[{"$f":"IF(PROCESADOR!O1743>0,PROCESADOR!O1743,\"\")","v":""}]
[{"$f":"IF(PROCESADOR!O1744>0,PROCESADOR!O1744,\"\")","v":""}]
[{"$f":"IF(PROCESADOR!O1745>0,PROCESADOR!O1745,\"\")","v":""}]
[{"$f":"IF(PROCESADOR!O1746>0,PROCESADOR!O1746,\"\")","v":""}]
[{"$f":"IF(PROCESADOR!O1747>0,PROCESADOR!O1747,\"\")","v":""}]
[{"$f":"IF(PROCESADOR!O1748>0,PROCESADOR!O1748,\"\")","v":""}]
[{"$f":"IF(PROCESADOR!O1749>0,PROCESADOR!O1749,\"\")","v":""}]
[{"$f":"IF(PROCESADOR!O1750>0,PROCESADOR!O1750,\"\")","v":""}]
[{"$f":"IF(PROCESADOR!O1751>0,PROCESADOR!O1751,\"\")","v":""}]
[{"$f":"IF(PROCESADOR!O1752>0,PROCESADOR!O1752,\"\")","v":""}]
[{"$f":"IF(PROCESADOR!O1753>0,PROCESADOR!O1753,\"\")","v":""}]
[{"$f":"IF(PROCESADOR!O1754>0,PROCESADOR!O1754,\"\")","v":""}]
[{"$f":"IF(PROCESADOR!O1755>0,PROCESADOR!O1755,\"\")","v":""}]
[{"$f":"IF(PROCESADOR!O1756>0,PROCESADOR!O1756,\"\")","v":""}]
[{"$f":"IF(PROCESADOR!O1757>0,PROCESADOR!O1757,\"\")","v":""}]
[{"$f":"IF(PROCESADOR!O1758>0,PROCESADOR!O1758,\"\")","v":""}]
[{"$f":"IF(PROCESADOR!O1759>0,PROCESADOR!O1759,\"\")","v":""}]
[{"$f":"IF(PROCESADOR!O1760>0,PROCESADOR!O1760,\"\")","v":""}]
[{"$f":"IF(PROCESADOR!O1761>0,PROCESADOR!O1761,\"\")","v":""}]
[{"$f":"IF(PROCESADOR!O1762>0,PROCESADOR!O1762,\"\")","v":""}]
[{"$f":"IF(PROCESADOR!O1763>0,PROCESADOR!O1763,\"\")","v":""}]
[{"$f":"IF(PROCESADOR!O1764>0,PROCESADOR!O1764,\"\")","v":""}]
[{"$f":"IF(PROCESADOR!O1765>0,PROCESADOR!O1765,\"\")","v":""}]
[{"$f":"IF(PROCESADOR!O1766>0,PROCESADOR!O1766,\"\")","v":""}]
[{"$f":"IF(PROCESADOR!O1767>0,PROCESADOR!O1767,\"\")","v":""}]
[{"$f":"IF(PROCESADOR!O1768>0,PROCESADOR!O1768,\"\")","v":""}]
[{"$f":"IF(PROCESADOR!O1769>0,PROCESADOR!O1769,\"\")","v":""}]
[{"$f":"IF(PROCESADOR!O1770>0,PROCESADOR!O1770,\"\")","v":""}]
[{"$f":"IF(PROCESADOR!O1771>0,PROCESADOR!O1771,\"\")","v":""}]
[{"$f":"IF(PROCESADOR!O1772>0,PROCESADOR!O1772,\"\")","v":""}]
[{"$f":"IF(PROCESADOR!O1773>0,PROCESADOR!O1773,\"\")","v":""}]
[{"$f":"IF(PROCESADOR!O1774>0,PROCESADOR!O1774,\"\")","v":""}]
[{"$f":"IF(PROCESADOR!O1775>0,PROCESADOR!O1775,\"\")","v":""}]
[{"$f":"IF(PROCESADOR!O1776>0,PROCESADOR!O1776,\"\")","v":""}]
[{"$f":"IF(PROCESADOR!O1777>0,PROCESADOR!O1777,\"\")","v":""}]
[{"$f":"IF(PROCESADOR!O1778>0,PROCESADOR!O1778,\"\")","v":""}]
[{"$f":"IF(PROCESADOR!O1779>0,PROCESADOR!O1779,\"\")","v":""}]
[{"$f":"IF(PROCESADOR!O1780>0,PROCESADOR!O1780,\"\")","v":""}]
[{"$f":"IF(PROCESADOR!O1781>0,PROCESADOR!O1781,\"\")","v":""}]
[{"$f":"IF(PROCESADOR!O1782>0,PROCESADOR!O1782,\"\")","v":""}]
[{"$f":"IF(PROCESADOR!O1783>0,PROCESADOR!O1783,\"\")","v":""}]
[{"$f":"IF(PROCESADOR!O1784>0,PROCESADOR!O1784,\"\")","v":""}]
[{"$f":"IF(PROCESADOR!O1785>0,PROCESADOR!O1785,\"\")","v":""}]
[{"$f":"IF(PROCESADOR!O1786>0,PROCESADOR!O1786,\"\")","v":""}]
[{"$f":"IF(PROCESADOR!O1787>0,PROCESADOR!O1787,\"\")","v":""}]
[{"$f":"IF(PROCESADOR!O1788>0,PROCESADOR!O1788,\"\")","v":""}]
[{"$f":"IF(PROCESADOR!O1789>0,PROCESADOR!O1789,\"\")","v":""}]
[{"$f":"IF(PROCESADOR!O1790>0,PROCESADOR!O1790,\"\")","v":""}]
[{"$f":"IF(PROCESADOR!O1791>0,PROCESADOR!O1791,\"\")","v":""}]
[{"$f":"IF(PROCESADOR!O1792>0,PROCESADOR!O1792,\"\")","v":""}]
[{"$f":"IF(PROCESADOR!O1793>0,PROCESADOR!O1793,\"\")","v":""}]
[{"$f":"IF(PROCESADOR!O1794>0,PROCESADOR!O1794,\"\")","v":""}]
[{"$f":"IF(PROCESADOR!O1795>0,PROCESADOR!O1795,\"\")","v":""}]
[{"$f":"IF(PROCESADOR!O1796>0,PROCESADOR!O1796,\"\")","v":""}]
[{"$f":"IF(PROCESADOR!O1797>0,PROCESADOR!O1797,\"\")","v":""}]
[{"$f":"IF(PROCESADOR!O1798>0,PROCESADOR!O1798,\"\")","v":""}]
[{"$f":"IF(PROCESADOR!O1799>0,PROCESADOR!O1799,\"\")","v":""}]
[{"$f":"IF(PROCESADOR!O1800>0,PROCESADOR!O1800,\"\")","v":""}]
[{"$f":"IF(PROCESADOR!O1801>0,PROCESADOR!O1801,\"\")","v":""}]
[{"$f":"IF(PROCESADOR!O1802>0,PROCESADOR!O1802,\"\")","v":""}]
[{"$f":"IF(PROCESADOR!O1803>0,PROCESADOR!O1803,\"\")","v":""}]
[{"$f":"IF(PROCESADOR!O1804>0,PROCESADOR!O1804,\"\")","v":""}]
[{"$f":"IF(PROCESADOR!O1805>0,PROCESADOR!O1805,\"\")","v":""}]
[{"$f":"IF(PROCESADOR!O1806>0,PROCESADOR!O1806,\"\")","v":""}]
[{"$f":"IF(PROCESADOR!O1807>0,PROCESADOR!O1807,\"\")","v":""}]
[{"$f":"IF(PROCESADOR!O1808>0,PROCESADOR!O1808,\"\")","v":""}]
[{"$f":"IF(PROCESADOR!O1809>0,PROCESADOR!O1809,\"\")","v":""}]
[{"$f":"IF(PROCESADOR!O1810>0,PROCESADOR!O1810,\"\")","v":""}]
[{"$f":"IF(PROCESADOR!O1811>0,PROCESADOR!O1811,\"\")","v":""}]
[{"$f":"IF(PROCESADOR!O1812>0,PROCESADOR!O1812,\"\")","v":""}]
[{"$f":"IF(PROCESADOR!O1813>0,PROCESADOR!O1813,\"\")","v":""}]
[{"$f":"IF(PROCESADOR!O1814>0,PROCESADOR!O1814,\"\")","v":""}]
[{"$f":"IF(PROCESADOR!O1815>0,PROCESADOR!O1815,\"\")","v":""}]
[{"$f":"IF(PROCESADOR!O1816>0,PROCESADOR!O1816,\"\")","v":""}]
[{"$f":"IF(PROCESADOR!O1817>0,PROCESADOR!O1817,\"\")","v":""}]
[{"$f":"IF(PROCESADOR!O1818>0,PROCESADOR!O1818,\"\")","v":""}]
[{"$f":"IF(PROCESADOR!O1819>0,PROCESADOR!O1819,\"\")","v":""}]
[{"$f":"IF(PROCESADOR!O1820>0,PROCESADOR!O1820,\"\")","v":""}]
[{"$f":"IF(PROCESADOR!O1821>0,PROCESADOR!O1821,\"\")","v":""}]
[{"$f":"IF(PROCESADOR!O1822>0,PROCESADOR!O1822,\"\")","v":""}]
[{"$f":"IF(PROCESADOR!O1823>0,PROCESADOR!O1823,\"\")","v":""}]
[{"$f":"IF(PROCESADOR!O1824>0,PROCESADOR!O1824,\"\")","v":""}]
[{"$f":"IF(PROCESADOR!O1825>0,PROCESADOR!O1825,\"\")","v":""}]
[{"$f":"IF(PROCESADOR!O1826>0,PROCESADOR!O1826,\"\")","v":""}]
[{"$f":"IF(PROCESADOR!O1827>0,PROCESADOR!O1827,\"\")","v":""}]
[{"$f":"IF(PROCESADOR!O1828>0,PROCESADOR!O1828,\"\")","v":""}]
[{"$f":"IF(PROCESADOR!O1829>0,PROCESADOR!O1829,\"\")","v":""}]
[{"$f":"IF(PROCESADOR!O1830>0,PROCESADOR!O1830,\"\")","v":""}]
[{"$f":"IF(PROCESADOR!O1831>0,PROCESADOR!O1831,\"\")","v":""}]
[{"$f":"IF(PROCESADOR!O1832>0,PROCESADOR!O1832,\"\")","v":""}]
[{"$f":"IF(PROCESADOR!O1833>0,PROCESADOR!O1833,\"\")","v":""}]
[{"$f":"IF(PROCESADOR!O1834>0,PROCESADOR!O1834,\"\")","v":""}]
[{"$f":"IF(PROCESADOR!O1835>0,PROCESADOR!O1835,\"\")","v":""}]
[{"$f":"IF(PROCESADOR!O1836>0,PROCESADOR!O1836,\"\")","v":""}]
[{"$f":"IF(PROCESADOR!O1837>0,PROCESADOR!O1837,\"\")","v":""}]
[{"$f":"IF(PROCESADOR!O1838>0,PROCESADOR!O1838,\"\")","v":""}]
[{"$f":"IF(PROCESADOR!O1839>0,PROCESADOR!O1839,\"\")","v":""}]
[{"$f":"IF(PROCESADOR!O1840>0,PROCESADOR!O1840,\"\")","v":""}]
[{"$f":"IF(PROCESADOR!O1841>0,PROCESADOR!O1841,\"\")","v":""}]
[{"$f":"IF(PROCESADOR!O1842>0,PROCESADOR!O1842,\"\")","v":""}]
[{"$f":"IF(PROCESADOR!O1843>0,PROCESADOR!O1843,\"\")","v":""}]
[{"$f":"IF(PROCESADOR!O1844>0,PROCESADOR!O1844,\"\")","v":""}]
[{"$f":"IF(PROCESADOR!O1845>0,PROCESADOR!O1845,\"\")","v":""}]
[{"$f":"IF(PROCESADOR!O1846>0,PROCESADOR!O1846,\"\")","v":""}]
[{"$f":"IF(PROCESADOR!O1847>0,PROCESADOR!O1847,\"\")","v":""}]
[{"$f":"IF(PROCESADOR!O1848>0,PROCESADOR!O1848,\"\")","v":""}]
[{"$f":"IF(PROCESADOR!O1849>0,PROCESADOR!O1849,\"\")","v":""}]
[{"$f":"IF(PROCESADOR!O1850>0,PROCESADOR!O1850,\"\")","v":""}]
[{"$f":"IF(PROCESADOR!O1851>0,PROCESADOR!O1851,\"\")","v":""}]
[{"$f":"IF(PROCESADOR!O1852>0,PROCESADOR!O1852,\"\")","v":""}]
[{"$f":"IF(PROCESADOR!O1853>0,PROCESADOR!O1853,\"\")","v":""}]
[{"$f":"IF(PROCESADOR!O1854>0,PROCESADOR!O1854,\"\")","v":""}]
[{"$f":"IF(PROCESADOR!O1855>0,PROCESADOR!O1855,\"\")","v":""}]
[{"$f":"IF(PROCESADOR!O1856>0,PROCESADOR!O1856,\"\")","v":""}]
[{"$f":"IF(PROCESADOR!O1857>0,PROCESADOR!O1857,\"\")","v":""}]
[{"$f":"IF(PROCESADOR!O1858>0,PROCESADOR!O1858,\"\")","v":""}]
[{"$f":"IF(PROCESADOR!O1859>0,PROCESADOR!O1859,\"\")","v":""}]
[{"$f":"IF(PROCESADOR!O1860>0,PROCESADOR!O1860,\"\")","v":""}]
[{"$f":"IF(PROCESADOR!O1861>0,PROCESADOR!O1861,\"\")","v":""}]
[{"$f":"IF(PROCESADOR!O1862>0,PROCESADOR!O1862,\"\")","v":""}]
[{"$f":"IF(PROCESADOR!O1863>0,PROCESADOR!O1863,\"\")","v":""}]
[{"$f":"IF(PROCESADOR!O1864>0,PROCESADOR!O1864,\"\")","v":""}]
[{"$f":"IF(PROCESADOR!O1865>0,PROCESADOR!O1865,\"\")","v":""}]
[{"$f":"IF(PROCESADOR!O1866>0,PROCESADOR!O1866,\"\")","v":""}]
[{"$f":"IF(PROCESADOR!O1867>0,PROCESADOR!O1867,\"\")","v":""}]
[{"$f":"IF(PROCESADOR!O1868>0,PROCESADOR!O1868,\"\")","v":""}]
[{"$f":"IF(PROCESADOR!O1869>0,PROCESADOR!O1869,\"\")","v":""}]
[{"$f":"IF(PROCESADOR!O1870>0,PROCESADOR!O1870,\"\")","v":""}]
[{"$f":"IF(PROCESADOR!O1871>0,PROCESADOR!O1871,\"\")","v":""}]
[{"$f":"IF(PROCESADOR!O1872>0,PROCESADOR!O1872,\"\")","v":""}]
[{"$f":"IF(PROCESADOR!O1873>0,PROCESADOR!O1873,\"\")","v":""}]
[{"$f":"IF(PROCESADOR!O1874>0,PROCESADOR!O1874,\"\")","v":""}]
[{"$f":"IF(PROCESADOR!O1875>0,PROCESADOR!O1875,\"\")","v":""}]
[{"$f":"IF(PROCESADOR!O1876>0,PROCESADOR!O1876,\"\")","v":""}]
[{"$f":"IF(PROCESADOR!O1877>0,PROCESADOR!O1877,\"\")","v":""}]
[{"$f":"IF(PROCESADOR!O1878>0,PROCESADOR!O1878,\"\")","v":""}]
[{"$f":"IF(PROCESADOR!O1879>0,PROCESADOR!O1879,\"\")","v":""}]
[{"$f":"IF(PROCESADOR!O1880>0,PROCESADOR!O1880,\"\")","v":""}]
[{"$f":"IF(PROCESADOR!O1881>0,PROCESADOR!O1881,\"\")","v":""}]
[{"$f":"IF(PROCESADOR!O1882>0,PROCESADOR!O1882,\"\")","v":""}]
[{"$f":"IF(PROCESADOR!O1883>0,PROCESADOR!O1883,\"\")","v":""}]
[{"$f":"IF(PROCESADOR!O1884>0,PROCESADOR!O1884,\"\")","v":""}]
[{"$f":"IF(PROCESADOR!O1885>0,PROCESADOR!O1885,\"\")","v":""}]
[{"$f":"IF(PROCESADOR!O1886>0,PROCESADOR!O1886,\"\")","v":""}]
[{"$f":"IF(PROCESADOR!O1887>0,PROCESADOR!O1887,\"\")","v":""}]
[{"$f":"IF(PROCESADOR!O1888>0,PROCESADOR!O1888,\"\")","v":""}]
[{"$f":"IF(PROCESADOR!O1889>0,PROCESADOR!O1889,\"\")","v":""}]
[{"$f":"IF(PROCESADOR!O1890>0,PROCESADOR!O1890,\"\")","v":""}]
[{"$f":"IF(PROCESADOR!O1891>0,PROCESADOR!O1891,\"\")","v":""}]
[{"$f":"IF(PROCESADOR!O1892>0,PROCESADOR!O1892,\"\")","v":""}]
[{"$f":"IF(PROCESADOR!O1893>0,PROCESADOR!O1893,\"\")","v":""}]
[{"$f":"IF(PROCESADOR!O1894>0,PROCESADOR!O1894,\"\")","v":""}]
[{"$f":"IF(PROCESADOR!O1895>0,PROCESADOR!O1895,\"\")","v":""}]
[{"$f":"IF(PROCESADOR!O1896>0,PROCESADOR!O1896,\"\")","v":""}]
[{"$f":"IF(PROCESADOR!O1897>0,PROCESADOR!O1897,\"\")","v":""}]
[{"$f":"IF(PROCESADOR!O1898>0,PROCESADOR!O1898,\"\")","v":""}]
[{"$f":"IF(PROCESADOR!O1899>0,PROCESADOR!O1899,\"\")","v":""}]
[{"$f":"IF(PROCESADOR!O1900>0,PROCESADOR!O1900,\"\")","v":""}]
[{"$f":"IF(PROCESADOR!O1901>0,PROCESADOR!O1901,\"\")","v":""}]
[{"$f":"IF(PROCESADOR!O1902>0,PROCESADOR!O1902,\"\")","v":""}]
[{"$f":"IF(PROCESADOR!O1903>0,PROCESADOR!O1903,\"\")","v":""}]
[{"$f":"IF(PROCESADOR!O1904>0,PROCESADOR!O1904,\"\")","v":""}]
[{"$f":"IF(PROCESADOR!O1905>0,PROCESADOR!O1905,\"\")","v":""}]
[{"$f":"IF(PROCESADOR!O1906>0,PROCESADOR!O1906,\"\")","v":""}]
[{"$f":"IF(PROCESADOR!O1907>0,PROCESADOR!O1907,\"\")","v":""}]
[{"$f":"IF(PROCESADOR!O1908>0,PROCESADOR!O1908,\"\")","v":""}]
[{"$f":"IF(PROCESADOR!O1909>0,PROCESADOR!O1909,\"\")","v":""}]
[{"$f":"IF(PROCESADOR!O1910>0,PROCESADOR!O1910,\"\")","v":""}]
[{"$f":"IF(PROCESADOR!O1911>0,PROCESADOR!O1911,\"\")","v":""}]
[{"$f":"IF(PROCESADOR!O1912>0,PROCESADOR!O1912,\"\")","v":""}]
[{"$f":"IF(PROCESADOR!O1913>0,PROCESADOR!O1913,\"\")","v":""}]
[{"$f":"IF(PROCESADOR!O1914>0,PROCESADOR!O1914,\"\")","v":""}]
[{"$f":"IF(PROCESADOR!O1915>0,PROCESADOR!O1915,\"\")","v":""}]
[{"$f":"IF(PROCESADOR!O1916>0,PROCESADOR!O1916,\"\")","v":""}]
[{"$f":"IF(PROCESADOR!O1917>0,PROCESADOR!O1917,\"\")","v":""}]
[{"$f":"IF(PROCESADOR!O1918>0,PROCESADOR!O1918,\"\")","v":""}]
[{"$f":"IF(PROCESADOR!O1919>0,PROCESADOR!O1919,\"\")","v":""}]
[{"$f":"IF(PROCESADOR!O1920>0,PROCESADOR!O1920,\"\")","v":""}]
[{"$f":"IF(PROCESADOR!O1921>0,PROCESADOR!O1921,\"\")","v":""}]
[{"$f":"IF(PROCESADOR!O1922>0,PROCESADOR!O1922,\"\")","v":""}]
[{"$f":"IF(PROCESADOR!O1923>0,PROCESADOR!O1923,\"\")","v":""}]
[{"$f":"IF(PROCESADOR!O1924>0,PROCESADOR!O1924,\"\")","v":""}]
[{"$f":"IF(PROCESADOR!O1925>0,PROCESADOR!O1925,\"\")","v":""}]
[{"$f":"IF(PROCESADOR!O1926>0,PROCESADOR!O1926,\"\")","v":""}]
[{"$f":"IF(PROCESADOR!O1927>0,PROCESADOR!O1927,\"\")","v":""}]
[{"$f":"IF(PROCESADOR!O1928>0,PROCESADOR!O1928,\"\")","v":""}]
[{"$f":"IF(PROCESADOR!O1929>0,PROCESADOR!O1929,\"\")","v":""}]
[{"$f":"IF(PROCESADOR!O1930>0,PROCESADOR!O1930,\"\")","v":""}]
[{"$f":"IF(PROCESADOR!O1931>0,PROCESADOR!O1931,\"\")","v":""}]
[{"$f":"IF(PROCESADOR!O1932>0,PROCESADOR!O1932,\"\")","v":""}]
[{"$f":"IF(PROCESADOR!O1933>0,PROCESADOR!O1933,\"\")","v":""}]
[{"$f":"IF(PROCESADOR!O1934>0,PROCESADOR!O1934,\"\")","v":""}]
[{"$f":"IF(PROCESADOR!O1935>0,PROCESADOR!O1935,\"\")","v":""}]
[{"$f":"IF(PROCESADOR!O1936>0,PROCESADOR!O1936,\"\")","v":""}]
[{"$f":"IF(PROCESADOR!O1937>0,PROCESADOR!O1937,\"\")","v":""}]
[{"$f":"IF(PROCESADOR!O1938>0,PROCESADOR!O1938,\"\")","v":""}]
[{"$f":"IF(PROCESADOR!O1939>0,PROCESADOR!O1939,\"\")","v":""}]
[{"$f":"IF(PROCESADOR!O1940>0,PROCESADOR!O1940,\"\")","v":""}]
[{"$f":"IF(PROCESADOR!O1941>0,PROCESADOR!O1941,\"\")","v":""}]
[{"$f":"IF(PROCESADOR!O1942>0,PROCESADOR!O1942,\"\")","v":""}]
[{"$f":"IF(PROCESADOR!O1943>0,PROCESADOR!O1943,\"\")","v":""}]
[{"$f":"IF(PROCESADOR!O1944>0,PROCESADOR!O1944,\"\")","v":""}]
[{"$f":"IF(PROCESADOR!O1945>0,PROCESADOR!O1945,\"\")","v":""}]
[{"$f":"IF(PROCESADOR!O1946>0,PROCESADOR!O1946,\"\")","v":""}]
[{"$f":"IF(PROCESADOR!O1947>0,PROCESADOR!O1947,\"\")","v":""}]
[{"$f":"IF(PROCESADOR!O1948>0,PROCESADOR!O1948,\"\")","v":""}]
[{"$f":"IF(PROCESADOR!O1949>0,PROCESADOR!O1949,\"\")","v":""}]
[{"$f":"IF(PROCESADOR!O1950>0,PROCESADOR!O1950,\"\")","v":""}]
[{"$f":"IF(PROCESADOR!O1951>0,PROCESADOR!O1951,\"\")","v":""}]
[{"$f":"IF(PROCESADOR!O1952>0,PROCESADOR!O1952,\"\")","v":""}]
[{"$f":"IF(PROCESADOR!O1953>0,PROCESADOR!O1953,\"\")","v":""}]
[{"$f":"IF(PROCESADOR!O1954>0,PROCESADOR!O1954,\"\")","v":""}]
[{"$f":"IF(PROCESADOR!O1955>0,PROCESADOR!O1955,\"\")","v":""}]
[{"$f":"IF(PROCESADOR!O1956>0,PROCESADOR!O1956,\"\")","v":""}]
[{"$f":"IF(PROCESADOR!O1957>0,PROCESADOR!O1957,\"\")","v":""}]
[{"$f":"IF(PROCESADOR!O1958>0,PROCESADOR!O1958,\"\")","v":""}]
[{"$f":"IF(PROCESADOR!O1959>0,PROCESADOR!O1959,\"\")","v":""}]
[{"$f":"IF(PROCESADOR!O1960>0,PROCESADOR!O1960,\"\")","v":""}]
[{"$f":"IF(PROCESADOR!O1961>0,PROCESADOR!O1961,\"\")","v":""}]
[{"$f":"IF(PROCESADOR!O1962>0,PROCESADOR!O1962,\"\")","v":""}]
[{"$f":"IF(PROCESADOR!O1963>0,PROCESADOR!O1963,\"\")","v":""}]
[{"$f":"IF(PROCESADOR!O1964>0,PROCESADOR!O1964,\"\")","v":""}]
[{"$f":"IF(PROCESADOR!O1965>0,PROCESADOR!O1965,\"\")","v":""}]
[{"$f":"IF(PROCESADOR!O1966>0,PROCESADOR!O1966,\"\")","v":""}]
[{"$f":"IF(PROCESADOR!O1967>0,PROCESADOR!O1967,\"\")","v":""}]
[{"$f":"IF(PROCESADOR!O1968>0,PROCESADOR!O1968,\"\")","v":""}]
[{"$f":"IF(PROCESADOR!O1969>0,PROCESADOR!O1969,\"\")","v":""}]
[{"$f":"IF(PROCESADOR!O1970>0,PROCESADOR!O1970,\"\")","v":""}]
[{"$f":"IF(PROCESADOR!O1971>0,PROCESADOR!O1971,\"\")","v":""}]
[{"$f":"IF(PROCESADOR!O1972>0,PROCESADOR!O1972,\"\")","v":""}]
[{"$f":"IF(PROCESADOR!O1973>0,PROCESADOR!O1973,\"\")","v":""}]
[{"$f":"IF(PROCESADOR!O1974>0,PROCESADOR!O1974,\"\")","v":""}]
[{"$f":"IF(PROCESADOR!O1975>0,PROCESADOR!O1975,\"\")","v":""}]
[{"$f":"IF(PROCESADOR!O1976>0,PROCESADOR!O1976,\"\")","v":""}]
[{"$f":"IF(PROCESADOR!O1977>0,PROCESADOR!O1977,\"\")","v":""}]
[{"$f":"IF(PROCESADOR!O1978>0,PROCESADOR!O1978,\"\")","v":""}]
[{"$f":"IF(PROCESADOR!O1979>0,PROCESADOR!O1979,\"\")","v":""}]
[{"$f":"IF(PROCESADOR!O1980>0,PROCESADOR!O1980,\"\")","v":""}]
[{"$f":"IF(PROCESADOR!O1981>0,PROCESADOR!O1981,\"\")","v":""}]
[{"$f":"IF(PROCESADOR!O1982>0,PROCESADOR!O1982,\"\")","v":""}]
[{"$f":"IF(PROCESADOR!O1983>0,PROCESADOR!O1983,\"\")","v":""}]
[{"$f":"IF(PROCESADOR!O1984>0,PROCESADOR!O1984,\"\")","v":""}]
[{"$f":"IF(PROCESADOR!O1985>0,PROCESADOR!O1985,\"\")","v":""}]
[{"$f":"IF(PROCESADOR!O1986>0,PROCESADOR!O1986,\"\")","v":""}]
[{"$f":"IF(PROCESADOR!O1987>0,PROCESADOR!O1987,\"\")","v":""}]
[{"$f":"IF(PROCESADOR!O1988>0,PROCESADOR!O1988,\"\")","v":""}]
[{"$f":"IF(PROCESADOR!O1989>0,PROCESADOR!O1989,\"\")","v":""}]
[{"$f":"IF(PROCESADOR!O1990>0,PROCESADOR!O1990,\"\")","v":""}]
[{"$f":"IF(PROCESADOR!O1991>0,PROCESADOR!O1991,\"\")","v":""}]
[{"$f":"IF(PROCESADOR!O1992>0,PROCESADOR!O1992,\"\")","v":""}]
[{"$f":"IF(PROCESADOR!O1993>0,PROCESADOR!O1993,\"\")","v":""}]
[{"$f":"IF(PROCESADOR!O1994>0,PROCESADOR!O1994,\"\")","v":""}]
[{"$f":"IF(PROCESADOR!O1995>0,PROCESADOR!O1995,\"\")","v":""}]
[{"$f":"IF(PROCESADOR!O1996>0,PROCESADOR!O1996,\"\")","v":""}]
[{"$f":"IF(PROCESADOR!O1997>0,PROCESADOR!O1997,\"\")","v":""}]
[{"$f":"IF(PROCESADOR!O1998>0,PROCESADOR!O1998,\"\")","v":""}]
[{"$f":"IF(PROCESADOR!O1999>0,PROCESADOR!O1999,\"\")","v":""}]
[{"$f":"IF(PROCESADOR!O2000>0,PROCESADOR!O2000,\"\")","v":""}]
[{"$f":"IF(PROCESADOR!O2001>0,PROCESADOR!O2001,\"\")","v":""}]
[{"$f":"IF(PROCESADOR!O2002>0,PROCESADOR!O2002,\"\")","v":""}]
[{"$f":"IF(PROCESADOR!O2003>0,PROCESADOR!O2003,\"\")","v":""}]
[{"$f":"IF(PROCESADOR!O2004>0,PROCESADOR!O2004,\"\")","v":""}]
[{"$f":"IF(PROCESADOR!O2005>0,PROCESADOR!O2005,\"\")","v":""}]
[{"$f":"IF(PROCESADOR!O2006>0,PROCESADOR!O2006,\"\")","v":""}]
[{"$f":"IF(PROCESADOR!O2007>0,PROCESADOR!O2007,\"\")","v":""}]
[{"$f":"IF(PROCESADOR!O2008>0,PROCESADOR!O2008,\"\")","v":""}]
[{"$f":"IF(PROCESADOR!O2009>0,PROCESADOR!O2009,\"\")","v":""}]
[{"$f":"IF(PROCESADOR!O2010>0,PROCESADOR!O2010,\"\")","v":""}]
[{"$f":"IF(PROCESADOR!O2011>0,PROCESADOR!O2011,\"\")","v":""}]
[{"$f":"IF(PROCESADOR!O2012>0,PROCESADOR!O2012,\"\")","v":""}]
[{"$f":"IF(PROCESADOR!O2013>0,PROCESADOR!O2013,\"\")","v":""}]
[{"$f":"IF(PROCESADOR!O2014>0,PROCESADOR!O2014,\"\")","v":""}]
[{"$f":"IF(PROCESADOR!O2015>0,PROCESADOR!O2015,\"\")","v":""}]
[{"$f":"IF(PROCESADOR!O2016>0,PROCESADOR!O2016,\"\")","v":""}]
[{"$f":"IF(PROCESADOR!O2017>0,PROCESADOR!O2017,\"\")","v":""}]
[{"$f":"IF(PROCESADOR!O2018>0,PROCESADOR!O2018,\"\")","v":""}]
[{"$f":"IF(PROCESADOR!O2019>0,PROCESADOR!O2019,\"\")","v":""}]
[{"$f":"IF(PROCESADOR!O2020>0,PROCESADOR!O2020,\"\")","v":""}]
[{"$f":"IF(PROCESADOR!O2021>0,PROCESADOR!O2021,\"\")","v":""}]
[{"$f":"IF(PROCESADOR!O2022>0,PROCESADOR!O2022,\"\")","v":""}]
[{"$f":"IF(PROCESADOR!O2023>0,PROCESADOR!O2023,\"\")","v":""}]
[{"$f":"IF(PROCESADOR!O2024>0,PROCESADOR!O2024,\"\")","v":""}]
[{"$f":"IF(PROCESADOR!O2025>0,PROCESADOR!O2025,\"\")","v":""}]
[{"$f":"IF(PROCESADOR!O2026>0,PROCESADOR!O2026,\"\")","v":""}]
[{"$f":"IF(PROCESADOR!O2027>0,PROCESADOR!O2027,\"\")","v":""}]
[{"$f":"IF(PROCESADOR!O2028>0,PROCESADOR!O2028,\"\")","v":""}]
[{"$f":"IF(PROCESADOR!O2029>0,PROCESADOR!O2029,\"\")","v":""}]
[{"$f":"IF(PROCESADOR!O2030>0,PROCESADOR!O2030,\"\")","v":""}]
[{"$f":"IF(PROCESADOR!O2031>0,PROCESADOR!O2031,\"\")","v":""}]
[{"$f":"IF(PROCESADOR!O2032>0,PROCESADOR!O2032,\"\")","v":""}]
[{"$f":"IF(PROCESADOR!O2033>0,PROCESADOR!O2033,\"\")","v":""}]
[{"$f":"IF(PROCESADOR!O2034>0,PROCESADOR!O2034,\"\")","v":""}]
[{"$f":"IF(PROCESADOR!O2035>0,PROCESADOR!O2035,\"\")","v":""}]
[{"$f":"IF(PROCESADOR!O2036>0,PROCESADOR!O2036,\"\")","v":""}]
[{"$f":"IF(PROCESADOR!O2037>0,PROCESADOR!O2037,\"\")","v":""}]
[{"$f":"IF(PROCESADOR!O2038>0,PROCESADOR!O2038,\"\")","v":""}]
[{"$f":"IF(PROCESADOR!O2039>0,PROCESADOR!O2039,\"\")","v":""}]
[{"$f":"IF(PROCESADOR!O2040>0,PROCESADOR!O2040,\"\")","v":""}]
[{"$f":"IF(PROCESADOR!O2041>0,PROCESADOR!O2041,\"\")","v":""}]
[{"$f":"IF(PROCESADOR!O2042>0,PROCESADOR!O2042,\"\")","v":""}]
[{"$f":"IF(PROCESADOR!O2043>0,PROCESADOR!O2043,\"\")","v":""}]
[{"$f":"IF(PROCESADOR!O2044>0,PROCESADOR!O2044,\"\")","v":""}]
[{"$f":"IF(PROCESADOR!O2045>0,PROCESADOR!O2045,\"\")","v":""}]
[{"$f":"IF(PROCESADOR!O2046>0,PROCESADOR!O2046,\"\")","v":""}]
[{"$f":"IF(PROCESADOR!O2047>0,PROCESADOR!O2047,\"\")","v":""}]
[{"$f":"IF(PROCESADOR!O2048>0,PROCESADOR!O2048,\"\")","v":""}]
[{"$f":"IF(PROCESADOR!O2049>0,PROCESADOR!O2049,\"\")","v":""}]
[{"$f":"IF(PROCESADOR!O2050>0,PROCESADOR!O2050,\"\")","v":""}]
[{"$f":"IF(PROCESADOR!O2051>0,PROCESADOR!O2051,\"\")","v":""}]
[{"$f":"IF(PROCESADOR!O2052>0,PROCESADOR!O2052,\"\")","v":""}]
[{"$f":"IF(PROCESADOR!O2053>0,PROCESADOR!O2053,\"\")","v":""}]
[{"$f":"IF(PROCESADOR!O2054>0,PROCESADOR!O2054,\"\")","v":""}]
[{"$f":"IF(PROCESADOR!O2055>0,PROCESADOR!O2055,\"\")","v":""}]
[{"$f":"IF(PROCESADOR!O2056>0,PROCESADOR!O2056,\"\")","v":""}]
[{"$f":"IF(PROCESADOR!O2057>0,PROCESADOR!O2057,\"\")","v":""}]
[{"$f":"IF(PROCESADOR!O2058>0,PROCESADOR!O2058,\"\")","v":""}]
[{"$f":"IF(PROCESADOR!O2059>0,PROCESADOR!O2059,\"\")","v":""}]
[{"$f":"IF(PROCESADOR!O2060>0,PROCESADOR!O2060,\"\")","v":""}]
[{"$f":"IF(PROCESADOR!O2061>0,PROCESADOR!O2061,\"\")","v":""}]
[{"$f":"IF(PROCESADOR!O2062>0,PROCESADOR!O2062,\"\")","v":""}]
[{"$f":"IF(PROCESADOR!O2063>0,PROCESADOR!O2063,\"\")","v":""}]
[{"$f":"IF(PROCESADOR!O2064>0,PROCESADOR!O2064,\"\")","v":""}]
[{"$f":"IF(PROCESADOR!O2065>0,PROCESADOR!O2065,\"\")","v":""}]
[{"$f":"IF(PROCESADOR!O2066>0,PROCESADOR!O2066,\"\")","v":""}]
[{"$f":"IF(PROCESADOR!O2067>0,PROCESADOR!O2067,\"\")","v":""}]
[{"$f":"IF(PROCESADOR!O2068>0,PROCESADOR!O2068,\"\")","v":""}]
[{"$f":"IF(PROCESADOR!O2069>0,PROCESADOR!O2069,\"\")","v":""}]
[{"$f":"IF(PROCESADOR!O2070>0,PROCESADOR!O2070,\"\")","v":""}]
[{"$f":"IF(PROCESADOR!O2071>0,PROCESADOR!O2071,\"\")","v":""}]
[{"$f":"IF(PROCESADOR!O2072>0,PROCESADOR!O2072,\"\")","v":""}]
[{"$f":"IF(PROCESADOR!O2073>0,PROCESADOR!O2073,\"\")","v":""}]
[{"$f":"IF(PROCESADOR!O2074>0,PROCESADOR!O2074,\"\")","v":""}]
[{"$f":"IF(PROCESADOR!O2075>0,PROCESADOR!O2075,\"\")","v":""}]
[{"$f":"IF(PROCESADOR!O2076>0,PROCESADOR!O2076,\"\")","v":""}]
[{"$f":"IF(PROCESADOR!O2077>0,PROCESADOR!O2077,\"\")","v":""}]
[{"$f":"IF(PROCESADOR!O2078>0,PROCESADOR!O2078,\"\")","v":""}]
[{"$f":"IF(PROCESADOR!O2079>0,PROCESADOR!O2079,\"\")","v":""}]
[{"$f":"IF(PROCESADOR!O2080>0,PROCESADOR!O2080,\"\")","v":""}]
[{"$f":"IF(PROCESADOR!O2081>0,PROCESADOR!O2081,\"\")","v":""}]
[{"$f":"IF(PROCESADOR!O2082>0,PROCESADOR!O2082,\"\")","v":""}]
[{"$f":"IF(PROCESADOR!O2083>0,PROCESADOR!O2083,\"\")","v":""}]
[{"$f":"IF(PROCESADOR!O2084>0,PROCESADOR!O2084,\"\")","v":""}]
[{"$f":"IF(PROCESADOR!O2085>0,PROCESADOR!O2085,\"\")","v":""}]
[{"$f":"IF(PROCESADOR!O2086>0,PROCESADOR!O2086,\"\")","v":""}]
[{"$f":"IF(PROCESADOR!O2087>0,PROCESADOR!O2087,\"\")","v":""}]
[{"$f":"IF(PROCESADOR!O2088>0,PROCESADOR!O2088,\"\")","v":""}]
[{"$f":"IF(PROCESADOR!O2089>0,PROCESADOR!O2089,\"\")","v":""}]
[{"$f":"IF(PROCESADOR!O2090>0,PROCESADOR!O2090,\"\")","v":""}]
[{"$f":"IF(PROCESADOR!O2091>0,PROCESADOR!O2091,\"\")","v":""}]
[{"$f":"IF(PROCESADOR!O2092>0,PROCESADOR!O2092,\"\")","v":""}]
[{"$f":"IF(PROCESADOR!O2093>0,PROCESADOR!O2093,\"\")","v":""}]
[{"$f":"IF(PROCESADOR!O2094>0,PROCESADOR!O2094,\"\")","v":""}]
[{"$f":"IF(PROCESADOR!O2095>0,PROCESADOR!O2095,\"\")","v":""}]
[{"$f":"IF(PROCESADOR!O2096>0,PROCESADOR!O2096,\"\")","v":""}]
[{"$f":"IF(PROCESADOR!O2097>0,PROCESADOR!O2097,\"\")","v":""}]
[{"$f":"IF(PROCESADOR!O2098>0,PROCESADOR!O2098,\"\")","v":""}]
[{"$f":"IF(PROCESADOR!O2099>0,PROCESADOR!O2099,\"\")","v":""}]
[{"$f":"IF(PROCESADOR!O2100>0,PROCESADOR!O2100,\"\")","v":""}]
[{"$f":"IF(PROCESADOR!O2101>0,PROCESADOR!O2101,\"\")","v":""}]
[{"$f":"IF(PROCESADOR!O2102>0,PROCESADOR!O2102,\"\")","v":""}]
[{"$f":"IF(PROCESADOR!O2103>0,PROCESADOR!O2103,\"\")","v":""}]
[{"$f":"IF(PROCESADOR!O2104>0,PROCESADOR!O2104,\"\")","v":""}]
[{"$f":"IF(PROCESADOR!O2105>0,PROCESADOR!O2105,\"\")","v":""}]
[{"$f":"IF(PROCESADOR!O2106>0,PROCESADOR!O2106,\"\")","v":""}]
[{"$f":"IF(PROCESADOR!O2107>0,PROCESADOR!O2107,\"\")","v":""}]
[{"$f":"IF(PROCESADOR!O2108>0,PROCESADOR!O2108,\"\")","v":""}]
[{"$f":"IF(PROCESADOR!O2109>0,PROCESADOR!O2109,\"\")","v":""}]
[{"$f":"IF(PROCESADOR!O2110>0,PROCESADOR!O2110,\"\")","v":""}]
[{"$f":"IF(PROCESADOR!O2111>0,PROCESADOR!O2111,\"\")","v":""}]
[{"$f":"IF(PROCESADOR!O2112>0,PROCESADOR!O2112,\"\")","v":""}]
[{"$f":"IF(PROCESADOR!O2113>0,PROCESADOR!O2113,\"\")","v":""}]
[{"$f":"IF(PROCESADOR!O2114>0,PROCESADOR!O2114,\"\")","v":""}]
[{"$f":"IF(PROCESADOR!O2115>0,PROCESADOR!O2115,\"\")","v":""}]
[{"$f":"IF(PROCESADOR!O2116>0,PROCESADOR!O2116,\"\")","v":""}]
[{"$f":"IF(PROCESADOR!O2117>0,PROCESADOR!O2117,\"\")","v":""}]
[{"$f":"IF(PROCESADOR!O2118>0,PROCESADOR!O2118,\"\")","v":""}]
[{"$f":"IF(PROCESADOR!O2119>0,PROCESADOR!O2119,\"\")","v":""}]
[{"$f":"IF(PROCESADOR!O2120>0,PROCESADOR!O2120,\"\")","v":""}]
[{"$f":"IF(PROCESADOR!O2121>0,PROCESADOR!O2121,\"\")","v":""}]
[{"$f":"IF(PROCESADOR!O2122>0,PROCESADOR!O2122,\"\")","v":""}]
[{"$f":"IF(PROCESADOR!O2123>0,PROCESADOR!O2123,\"\")","v":""}]
[{"$f":"IF(PROCESADOR!O2124>0,PROCESADOR!O2124,\"\")","v":""}]
[{"$f":"IF(PROCESADOR!O2125>0,PROCESADOR!O2125,\"\")","v":""}]
[{"$f":"IF(PROCESADOR!O2126>0,PROCESADOR!O2126,\"\")","v":""}]
[{"$f":"IF(PROCESADOR!O2127>0,PROCESADOR!O2127,\"\")","v":""}]
[{"$f":"IF(PROCESADOR!O2128>0,PROCESADOR!O2128,\"\")","v":""}]
[{"$f":"IF(PROCESADOR!O2129>0,PROCESADOR!O2129,\"\")","v":""}]
[{"$f":"IF(PROCESADOR!O2130>0,PROCESADOR!O2130,\"\")","v":""}]
[{"$f":"IF(PROCESADOR!O2131>0,PROCESADOR!O2131,\"\")","v":""}]
[{"$f":"IF(PROCESADOR!O2132>0,PROCESADOR!O2132,\"\")","v":""}]
[{"$f":"IF(PROCESADOR!O2133>0,PROCESADOR!O2133,\"\")","v":""}]
[{"$f":"IF(PROCESADOR!O2134>0,PROCESADOR!O2134,\"\")","v":""}]
[{"$f":"IF(PROCESADOR!O2135>0,PROCESADOR!O2135,\"\")","v":""}]
[{"$f":"IF(PROCESADOR!O2136>0,PROCESADOR!O2136,\"\")","v":""}]
[{"$f":"IF(PROCESADOR!O2137>0,PROCESADOR!O2137,\"\")","v":""}]
[{"$f":"IF(PROCESADOR!O2138>0,PROCESADOR!O2138,\"\")","v":""}]
[{"$f":"IF(PROCESADOR!O2139>0,PROCESADOR!O2139,\"\")","v":""}]
[{"$f":"IF(PROCESADOR!O2140>0,PROCESADOR!O2140,\"\")","v":""}]
[{"$f":"IF(PROCESADOR!O2141>0,PROCESADOR!O2141,\"\")","v":""}]
[{"$f":"IF(PROCESADOR!O2142>0,PROCESADOR!O2142,\"\")","v":""}]
[{"$f":"IF(PROCESADOR!O2143>0,PROCESADOR!O2143,\"\")","v":""}]
[{"$f":"IF(PROCESADOR!O2144>0,PROCESADOR!O2144,\"\")","v":""}]
[{"$f":"IF(PROCESADOR!O2145>0,PROCESADOR!O2145,\"\")","v":""}]
[{"$f":"IF(PROCESADOR!O2146>0,PROCESADOR!O2146,\"\")","v":""}]
[{"$f":"IF(PROCESADOR!O2147>0,PROCESADOR!O2147,\"\")","v":""}]
[{"$f":"IF(PROCESADOR!O2148>0,PROCESADOR!O2148,\"\")","v":""}]
[{"$f":"IF(PROCESADOR!O2149>0,PROCESADOR!O2149,\"\")","v":""}]
[{"$f":"IF(PROCESADOR!O2150>0,PROCESADOR!O2150,\"\")","v":""}]
[{"$f":"IF(PROCESADOR!O2151>0,PROCESADOR!O2151,\"\")","v":""}]
[{"$f":"IF(PROCESADOR!O2152>0,PROCESADOR!O2152,\"\")","v":""}]
[{"$f":"IF(PROCESADOR!O2153>0,PROCESADOR!O2153,\"\")","v":""}]
[{"$f":"IF(PROCESADOR!O2154>0,PROCESADOR!O2154,\"\")","v":""}]
[{"$f":"IF(PROCESADOR!O2155>0,PROCESADOR!O2155,\"\")","v":""}]
[{"$f":"IF(PROCESADOR!O2156>0,PROCESADOR!O2156,\"\")","v":""}]
[{"$f":"IF(PROCESADOR!O2157>0,PROCESADOR!O2157,\"\")","v":""}]
[{"$f":"IF(PROCESADOR!O2158>0,PROCESADOR!O2158,\"\")","v":""}]
[{"$f":"IF(PROCESADOR!O2159>0,PROCESADOR!O2159,\"\")","v":""}]
[{"$f":"IF(PROCESADOR!O2160>0,PROCESADOR!O2160,\"\")","v":""}]
[{"$f":"IF(PROCESADOR!O2161>0,PROCESADOR!O2161,\"\")","v":""}]
[{"$f":"IF(PROCESADOR!O2162>0,PROCESADOR!O2162,\"\")","v":""}]
[{"$f":"IF(PROCESADOR!O2163>0,PROCESADOR!O2163,\"\")","v":""}]
[{"$f":"IF(PROCESADOR!O2164>0,PROCESADOR!O2164,\"\")","v":""}]
[{"$f":"IF(PROCESADOR!O2165>0,PROCESADOR!O2165,\"\")","v":""}]
[{"$f":"IF(PROCESADOR!O2166>0,PROCESADOR!O2166,\"\")","v":""}]
[{"$f":"IF(PROCESADOR!O2167>0,PROCESADOR!O2167,\"\")","v":""}]
[{"$f":"IF(PROCESADOR!O2168>0,PROCESADOR!O2168,\"\")","v":""}]
[{"$f":"IF(PROCESADOR!O2169>0,PROCESADOR!O2169,\"\")","v":""}]
[{"$f":"IF(PROCESADOR!O2170>0,PROCESADOR!O2170,\"\")","v":""}]
[{"$f":"IF(PROCESADOR!O2171>0,PROCESADOR!O2171,\"\")","v":""}]
[{"$f":"IF(PROCESADOR!O2172>0,PROCESADOR!O2172,\"\")","v":""}]
[{"$f":"IF(PROCESADOR!O2173>0,PROCESADOR!O2173,\"\")","v":""}]
[{"$f":"IF(PROCESADOR!O2174>0,PROCESADOR!O2174,\"\")","v":""}]
[{"$f":"IF(PROCESADOR!O2175>0,PROCESADOR!O2175,\"\")","v":""}]
[{"$f":"IF(PROCESADOR!O2176>0,PROCESADOR!O2176,\"\")","v":""}]
[{"$f":"IF(PROCESADOR!O2177>0,PROCESADOR!O2177,\"\")","v":""}]
[{"$f":"IF(PROCESADOR!O2178>0,PROCESADOR!O2178,\"\")","v":""}]
[{"$f":"IF(PROCESADOR!O2179>0,PROCESADOR!O2179,\"\")","v":""}]
[{"$f":"IF(PROCESADOR!O2180>0,PROCESADOR!O2180,\"\")","v":""}]
[{"$f":"IF(PROCESADOR!O2181>0,PROCESADOR!O2181,\"\")","v":""}]
[{"$f":"IF(PROCESADOR!O2182>0,PROCESADOR!O2182,\"\")","v":""}]
[{"$f":"IF(PROCESADOR!O2183>0,PROCESADOR!O2183,\"\")","v":""}]
[{"$f":"IF(PROCESADOR!O2184>0,PROCESADOR!O2184,\"\")","v":""}]
[{"$f":"IF(PROCESADOR!O2185>0,PROCESADOR!O2185,\"\")","v":""}]
[{"$f":"IF(PROCESADOR!O2186>0,PROCESADOR!O2186,\"\")","v":""}]
[{"$f":"IF(PROCESADOR!O2187>0,PROCESADOR!O2187,\"\")","v":""}]
[{"$f":"IF(PROCESADOR!O2188>0,PROCESADOR!O2188,\"\")","v":""}]
[{"$f":"IF(PROCESADOR!O2189>0,PROCESADOR!O2189,\"\")","v":""}]
[{"$f":"IF(PROCESADOR!O2190>0,PROCESADOR!O2190,\"\")","v":""}]
[{"$f":"IF(PROCESADOR!O2191>0,PROCESADOR!O2191,\"\")","v":""}]
[{"$f":"IF(PROCESADOR!O2192>0,PROCESADOR!O2192,\"\")","v":""}]
[{"$f":"IF(PROCESADOR!O2193>0,PROCESADOR!O2193,\"\")","v":""}]
[{"$f":"IF(PROCESADOR!O2194>0,PROCESADOR!O2194,\"\")","v":""}]
[{"$f":"IF(PROCESADOR!O2195>0,PROCESADOR!O2195,\"\")","v":""}]
[{"$f":"IF(PROCESADOR!O2196>0,PROCESADOR!O2196,\"\")","v":""}]
[{"$f":"IF(PROCESADOR!O2197>0,PROCESADOR!O2197,\"\")","v":""}]
[{"$f":"IF(PROCESADOR!O2198>0,PROCESADOR!O2198,\"\")","v":""}]
[{"$f":"IF(PROCESADOR!O2199>0,PROCESADOR!O2199,\"\")","v":""}]
[{"$f":"IF(PROCESADOR!O2200>0,PROCESADOR!O2200,\"\")","v":""}]
[{"$f":"IF(PROCESADOR!O2201>0,PROCESADOR!O2201,\"\")","v":""}]
[{"$f":"IF(PROCESADOR!O2202>0,PROCESADOR!O2202,\"\")","v":""}]
[{"$f":"IF(PROCESADOR!O2203>0,PROCESADOR!O2203,\"\")","v":""}]
[{"$f":"IF(PROCESADOR!O2204>0,PROCESADOR!O2204,\"\")","v":""}]
[{"$f":"IF(PROCESADOR!O2205>0,PROCESADOR!O2205,\"\")","v":""}]
[{"$f":"IF(PROCESADOR!O2206>0,PROCESADOR!O2206,\"\")","v":""}]
[{"$f":"IF(PROCESADOR!O2207>0,PROCESADOR!O2207,\"\")","v":""}]
[{"$f":"IF(PROCESADOR!O2208>0,PROCESADOR!O2208,\"\")","v":""}]
[{"$f":"IF(PROCESADOR!O2209>0,PROCESADOR!O2209,\"\")","v":""}]
[{"$f":"IF(PROCESADOR!O2210>0,PROCESADOR!O2210,\"\")","v":""}]
[{"$f":"IF(PROCESADOR!O2211>0,PROCESADOR!O2211,\"\")","v":""}]
[{"$f":"IF(PROCESADOR!O2212>0,PROCESADOR!O2212,\"\")","v":""}]
[{"$f":"IF(PROCESADOR!O2213>0,PROCESADOR!O2213,\"\")","v":""}]
[{"$f":"IF(PROCESADOR!O2214>0,PROCESADOR!O2214,\"\")","v":""}]
[{"$f":"IF(PROCESADOR!O2215>0,PROCESADOR!O2215,\"\")","v":""}]
[{"$f":"IF(PROCESADOR!O2216>0,PROCESADOR!O2216,\"\")","v":""}]
[{"$f":"IF(PROCESADOR!O2217>0,PROCESADOR!O2217,\"\")","v":""}]
[{"$f":"IF(PROCESADOR!O2218>0,PROCESADOR!O2218,\"\")","v":""}]
[{"$f":"IF(PROCESADOR!O2219>0,PROCESADOR!O2219,\"\")","v":""}]
[{"$f":"IF(PROCESADOR!O2220>0,PROCESADOR!O2220,\"\")","v":""}]
[{"$f":"IF(PROCESADOR!O2221>0,PROCESADOR!O2221,\"\")","v":""}]
[{"$f":"IF(PROCESADOR!O2222>0,PROCESADOR!O2222,\"\")","v":""}]
[{"$f":"IF(PROCESADOR!O2223>0,PROCESADOR!O2223,\"\")","v":""}]
[{"$f":"IF(PROCESADOR!O2224>0,PROCESADOR!O2224,\"\")","v":""}]
[{"$f":"IF(PROCESADOR!O2225>0,PROCESADOR!O2225,\"\")","v":""}]
[{"$f":"IF(PROCESADOR!O2226>0,PROCESADOR!O2226,\"\")","v":""}]
[{"$f":"IF(PROCESADOR!O2227>0,PROCESADOR!O2227,\"\")","v":""}]
[{"$f":"IF(PROCESADOR!O2228>0,PROCESADOR!O2228,\"\")","v":""}]
[{"$f":"IF(PROCESADOR!O2229>0,PROCESADOR!O2229,\"\")","v":""}]
[{"$f":"IF(PROCESADOR!O2230>0,PROCESADOR!O2230,\"\")","v":""}]
[{"$f":"IF(PROCESADOR!O2231>0,PROCESADOR!O2231,\"\")","v":""}]
[{"$f":"IF(PROCESADOR!O2232>0,PROCESADOR!O2232,\"\")","v":""}]
[{"$f":"IF(PROCESADOR!O2233>0,PROCESADOR!O2233,\"\")","v":""}]
[{"$f":"IF(PROCESADOR!O2234>0,PROCESADOR!O2234,\"\")","v":""}]
[{"$f":"IF(PROCESADOR!O2235>0,PROCESADOR!O2235,\"\")","v":""}]
[{"$f":"IF(PROCESADOR!O2236>0,PROCESADOR!O2236,\"\")","v":""}]
[{"$f":"IF(PROCESADOR!O2237>0,PROCESADOR!O2237,\"\")","v":""}]
[{"$f":"IF(PROCESADOR!O2238>0,PROCESADOR!O2238,\"\")","v":""}]
[{"$f":"IF(PROCESADOR!O2239>0,PROCESADOR!O2239,\"\")","v":""}]
[{"$f":"IF(PROCESADOR!O2240>0,PROCESADOR!O2240,\"\")","v":""}]
[{"$f":"IF(PROCESADOR!O2241>0,PROCESADOR!O2241,\"\")","v":""}]
[{"$f":"IF(PROCESADOR!O2242>0,PROCESADOR!O2242,\"\")","v":""}]
[{"$f":"IF(PROCESADOR!O2243>0,PROCESADOR!O2243,\"\")","v":""}]
[{"$f":"IF(PROCESADOR!O2244>0,PROCESADOR!O2244,\"\")","v":""}]
[{"$f":"IF(PROCESADOR!O2245>0,PROCESADOR!O2245,\"\")","v":""}]
[{"$f":"IF(PROCESADOR!O2246>0,PROCESADOR!O2246,\"\")","v":""}]
[{"$f":"IF(PROCESADOR!O2247>0,PROCESADOR!O2247,\"\")","v":""}]
[{"$f":"IF(PROCESADOR!O2248>0,PROCESADOR!O2248,\"\")","v":""}]
[{"$f":"IF(PROCESADOR!O2249>0,PROCESADOR!O2249,\"\")","v":""}]
[{"$f":"IF(PROCESADOR!O2250>0,PROCESADOR!O2250,\"\")","v":""}]
[{"$f":"IF(PROCESADOR!O2251>0,PROCESADOR!O2251,\"\")","v":""}]
[{"$f":"IF(PROCESADOR!O2252>0,PROCESADOR!O2252,\"\")","v":""}]
[{"$f":"IF(PROCESADOR!O2253>0,PROCESADOR!O2253,\"\")","v":""}]
[{"$f":"IF(PROCESADOR!O2254>0,PROCESADOR!O2254,\"\")","v":""}]
[{"$f":"IF(PROCESADOR!O2255>0,PROCESADOR!O2255,\"\")","v":""}]
[{"$f":"IF(PROCESADOR!O2256>0,PROCESADOR!O2256,\"\")","v":""}]
[{"$f":"IF(PROCESADOR!O2257>0,PROCESADOR!O2257,\"\")","v":""}]
[{"$f":"IF(PROCESADOR!O2258>0,PROCESADOR!O2258,\"\")","v":""}]
[{"$f":"IF(PROCESADOR!O2259>0,PROCESADOR!O2259,\"\")","v":""}]
[{"$f":"IF(PROCESADOR!O2260>0,PROCESADOR!O2260,\"\")","v":""}]
[{"$f":"IF(PROCESADOR!O2261>0,PROCESADOR!O2261,\"\")","v":""}]
[{"$f":"IF(PROCESADOR!O2262>0,PROCESADOR!O2262,\"\")","v":""}]
[{"$f":"IF(PROCESADOR!O2263>0,PROCESADOR!O2263,\"\")","v":""}]
[{"$f":"IF(PROCESADOR!O2264>0,PROCESADOR!O2264,\"\")","v":""}]
[{"$f":"IF(PROCESADOR!O2265>0,PROCESADOR!O2265,\"\")","v":""}]
[{"$f":"IF(PROCESADOR!O2266>0,PROCESADOR!O2266,\"\")","v":""}]
[{"$f":"IF(PROCESADOR!O2267>0,PROCESADOR!O2267,\"\")","v":""}]
[{"$f":"IF(PROCESADOR!O2268>0,PROCESADOR!O2268,\"\")","v":""}]
[{"$f":"IF(PROCESADOR!O2269>0,PROCESADOR!O2269,\"\")","v":""}]
[{"$f":"IF(PROCESADOR!O2270>0,PROCESADOR!O2270,\"\")","v":""}]
[{"$f":"IF(PROCESADOR!O2271>0,PROCESADOR!O2271,\"\")","v":""}]
[{"$f":"IF(PROCESADOR!O2272>0,PROCESADOR!O2272,\"\")","v":""}]
[{"$f":"IF(PROCESADOR!O2273>0,PROCESADOR!O2273,\"\")","v":""}]
[{"$f":"IF(PROCESADOR!O2274>0,PROCESADOR!O2274,\"\")","v":""}]
[{"$f":"IF(PROCESADOR!O2275>0,PROCESADOR!O2275,\"\")","v":""}]
[{"$f":"IF(PROCESADOR!O2276>0,PROCESADOR!O2276,\"\")","v":""}]
[{"$f":"IF(PROCESADOR!O2277>0,PROCESADOR!O2277,\"\")","v":""}]
[{"$f":"IF(PROCESADOR!O2278>0,PROCESADOR!O2278,\"\")","v":""}]
[{"$f":"IF(PROCESADOR!O2279>0,PROCESADOR!O2279,\"\")","v":""}]
[{"$f":"IF(PROCESADOR!O2280>0,PROCESADOR!O2280,\"\")","v":""}]
[{"$f":"IF(PROCESADOR!O2281>0,PROCESADOR!O2281,\"\")","v":""}]
[{"$f":"IF(PROCESADOR!O2282>0,PROCESADOR!O2282,\"\")","v":""}]
[{"$f":"IF(PROCESADOR!O2283>0,PROCESADOR!O2283,\"\")","v":""}]
[{"$f":"IF(PROCESADOR!O2284>0,PROCESADOR!O2284,\"\")","v":""}]
[{"$f":"IF(PROCESADOR!O2285>0,PROCESADOR!O2285,\"\")","v":""}]
[{"$f":"IF(PROCESADOR!O2286>0,PROCESADOR!O2286,\"\")","v":""}]
[{"$f":"IF(PROCESADOR!O2287>0,PROCESADOR!O2287,\"\")","v":""}]
[{"$f":"IF(PROCESADOR!O2288>0,PROCESADOR!O2288,\"\")","v":""}]
[{"$f":"IF(PROCESADOR!O2289>0,PROCESADOR!O2289,\"\")","v":""}]
[{"$f":"IF(PROCESADOR!O2290>0,PROCESADOR!O2290,\"\")","v":""}]
[{"$f":"IF(PROCESADOR!O2291>0,PROCESADOR!O2291,\"\")","v":""}]
[{"$f":"IF(PROCESADOR!O2292>0,PROCESADOR!O2292,\"\")","v":""}]
[{"$f":"IF(PROCESADOR!O2293>0,PROCESADOR!O2293,\"\")","v":""}]
[{"$f":"IF(PROCESADOR!O2294>0,PROCESADOR!O2294,\"\")","v":""}]
[{"$f":"IF(PROCESADOR!O2295>0,PROCESADOR!O2295,\"\")","v":""}]
[{"$f":"IF(PROCESADOR!O2296>0,PROCESADOR!O2296,\"\")","v":""}]
[{"$f":"IF(PROCESADOR!O2297>0,PROCESADOR!O2297,\"\")","v":""}]
[{"$f":"IF(PROCESADOR!O2298>0,PROCESADOR!O2298,\"\")","v":""}]
[{"$f":"IF(PROCESADOR!O2299>0,PROCESADOR!O2299,\"\")","v":""}]
[{"$f":"IF(PROCESADOR!O2300>0,PROCESADOR!O2300,\"\")","v":""}]
[{"$f":"IF(PROCESADOR!O2301>0,PROCESADOR!O2301,\"\")","v":""}]
[{"$f":"IF(PROCESADOR!O2302>0,PROCESADOR!O2302,\"\")","v":""}]
[{"$f":"IF(PROCESADOR!O2303>0,PROCESADOR!O2303,\"\")","v":""}]
[{"$f":"IF(PROCESADOR!O2304>0,PROCESADOR!O2304,\"\")","v":""}]
[{"$f":"IF(PROCESADOR!O2305>0,PROCESADOR!O2305,\"\")","v":""}]
[{"$f":"IF(PROCESADOR!O2306>0,PROCESADOR!O2306,\"\")","v":""}]
[{"$f":"IF(PROCESADOR!O2307>0,PROCESADOR!O2307,\"\")","v":""}]
[{"$f":"IF(PROCESADOR!O2308>0,PROCESADOR!O2308,\"\")","v":""}]
[{"$f":"IF(PROCESADOR!O2309>0,PROCESADOR!O2309,\"\")","v":""}]
[{"$f":"IF(PROCESADOR!O2310>0,PROCESADOR!O2310,\"\")","v":""}]
[{"$f":"IF(PROCESADOR!O2311>0,PROCESADOR!O2311,\"\")","v":""}]
[{"$f":"IF(PROCESADOR!O2312>0,PROCESADOR!O2312,\"\")","v":""}]
[{"$f":"IF(PROCESADOR!O2313>0,PROCESADOR!O2313,\"\")","v":""}]
[{"$f":"IF(PROCESADOR!O2314>0,PROCESADOR!O2314,\"\")","v":""}]
[{"$f":"IF(PROCESADOR!O2315>0,PROCESADOR!O2315,\"\")","v":""}]
[{"$f":"IF(PROCESADOR!O2316>0,PROCESADOR!O2316,\"\")","v":""}]
[{"$f":"IF(PROCESADOR!O2317>0,PROCESADOR!O2317,\"\")","v":""}]
[{"$f":"IF(PROCESADOR!O2318>0,PROCESADOR!O2318,\"\")","v":""}]
[{"$f":"IF(PROCESADOR!O2319>0,PROCESADOR!O2319,\"\")","v":""}]
[{"$f":"IF(PROCESADOR!O2320>0,PROCESADOR!O2320,\"\")","v":""}]
[{"$f":"IF(PROCESADOR!O2321>0,PROCESADOR!O2321,\"\")","v":""}]
[{"$f":"IF(PROCESADOR!O2322>0,PROCESADOR!O2322,\"\")","v":""}]
[{"$f":"IF(PROCESADOR!O2323>0,PROCESADOR!O2323,\"\")","v":""}]
[{"$f":"IF(PROCESADOR!O2324>0,PROCESADOR!O2324,\"\")","v":""}]
[{"$f":"IF(PROCESADOR!O2325>0,PROCESADOR!O2325,\"\")","v":""}]
[{"$f":"IF(PROCESADOR!O2326>0,PROCESADOR!O2326,\"\")","v":""}]
[{"$f":"IF(PROCESADOR!O2327>0,PROCESADOR!O2327,\"\")","v":""}]
[{"$f":"IF(PROCESADOR!O2328>0,PROCESADOR!O2328,\"\")","v":""}]
[{"$f":"IF(PROCESADOR!O2329>0,PROCESADOR!O2329,\"\")","v":""}]
[{"$f":"IF(PROCESADOR!O2330>0,PROCESADOR!O2330,\"\")","v":""}]
[{"$f":"IF(PROCESADOR!O2331>0,PROCESADOR!O2331,\"\")","v":""}]
[{"$f":"IF(PROCESADOR!O2332>0,PROCESADOR!O2332,\"\")","v":""}]
[{"$f":"IF(PROCESADOR!O2333>0,PROCESADOR!O2333,\"\")","v":""}]
[{"$f":"IF(PROCESADOR!O2334>0,PROCESADOR!O2334,\"\")","v":""}]
[{"$f":"IF(PROCESADOR!O2335>0,PROCESADOR!O2335,\"\")","v":""}]
[{"$f":"IF(PROCESADOR!O2336>0,PROCESADOR!O2336,\"\")","v":""}]
[{"$f":"IF(PROCESADOR!O2337>0,PROCESADOR!O2337,\"\")","v":""}]
[{"$f":"IF(PROCESADOR!O2338>0,PROCESADOR!O2338,\"\")","v":""}]
[{"$f":"IF(PROCESADOR!O2339>0,PROCESADOR!O2339,\"\")","v":""}]
[{"$f":"IF(PROCESADOR!O2340>0,PROCESADOR!O2340,\"\")","v":""}]
[{"$f":"IF(PROCESADOR!O2341>0,PROCESADOR!O2341,\"\")","v":""}]
[{"$f":"IF(PROCESADOR!O2342>0,PROCESADOR!O2342,\"\")","v":""}]
[{"$f":"IF(PROCESADOR!O2343>0,PROCESADOR!O2343,\"\")","v":""}]
[{"$f":"IF(PROCESADOR!O2344>0,PROCESADOR!O2344,\"\")","v":""}]
[{"$f":"IF(PROCESADOR!O2345>0,PROCESADOR!O2345,\"\")","v":""}]
[{"$f":"IF(PROCESADOR!O2346>0,PROCESADOR!O2346,\"\")","v":""}]
[{"$f":"IF(PROCESADOR!O2347>0,PROCESADOR!O2347,\"\")","v":""}]
[{"$f":"IF(PROCESADOR!O2348>0,PROCESADOR!O2348,\"\")","v":""}]
[{"$f":"IF(PROCESADOR!O2349>0,PROCESADOR!O2349,\"\")","v":""}]
[{"$f":"IF(PROCESADOR!O2350>0,PROCESADOR!O2350,\"\")","v":""}]
[{"$f":"IF(PROCESADOR!O2351>0,PROCESADOR!O2351,\"\")","v":""}]
[{"$f":"IF(PROCESADOR!O2352>0,PROCESADOR!O2352,\"\")","v":""}]
[{"$f":"IF(PROCESADOR!O2353>0,PROCESADOR!O2353,\"\")","v":""}]
[{"$f":"IF(PROCESADOR!O2354>0,PROCESADOR!O2354,\"\")","v":""}]
[{"$f":"IF(PROCESADOR!O2355>0,PROCESADOR!O2355,\"\")","v":""}]
[{"$f":"IF(PROCESADOR!O2356>0,PROCESADOR!O2356,\"\")","v":""}]
[{"$f":"IF(PROCESADOR!O2357>0,PROCESADOR!O2357,\"\")","v":""}]
[{"$f":"IF(PROCESADOR!O2358>0,PROCESADOR!O2358,\"\")","v":""}]
[{"$f":"IF(PROCESADOR!O2359>0,PROCESADOR!O2359,\"\")","v":""}]
[{"$f":"IF(PROCESADOR!O2360>0,PROCESADOR!O2360,\"\")","v":""}]
[{"$f":"IF(PROCESADOR!O2361>0,PROCESADOR!O2361,\"\")","v":""}]
[{"$f":"IF(PROCESADOR!O2362>0,PROCESADOR!O2362,\"\")","v":""}]
[{"$f":"IF(PROCESADOR!O2363>0,PROCESADOR!O2363,\"\")","v":""}]
[{"$f":"IF(PROCESADOR!O2364>0,PROCESADOR!O2364,\"\")","v":""}]
[{"$f":"IF(PROCESADOR!O2365>0,PROCESADOR!O2365,\"\")","v":""}]
[{"$f":"IF(PROCESADOR!O2366>0,PROCESADOR!O2366,\"\")","v":""}]
[{"$f":"IF(PROCESADOR!O2367>0,PROCESADOR!O2367,\"\")","v":""}]
[{"$f":"IF(PROCESADOR!O2368>0,PROCESADOR!O2368,\"\")","v":""}]
[{"$f":"IF(PROCESADOR!O2369>0,PROCESADOR!O2369,\"\")","v":""}]
[{"$f":"IF(PROCESADOR!O2370>0,PROCESADOR!O2370,\"\")","v":""}]
[{"$f":"IF(PROCESADOR!O2371>0,PROCESADOR!O2371,\"\")","v":""}]
[{"$f":"IF(PROCESADOR!O2372>0,PROCESADOR!O2372,\"\")","v":""}]
[{"$f":"IF(PROCESADOR!O2373>0,PROCESADOR!O2373,\"\")","v":""}]
[{"$f":"IF(PROCESADOR!O2374>0,PROCESADOR!O2374,\"\")","v":""}]
[{"$f":"IF(PROCESADOR!O2375>0,PROCESADOR!O2375,\"\")","v":""}]
[{"$f":"IF(PROCESADOR!O2376>0,PROCESADOR!O2376,\"\")","v":""}]
[{"$f":"IF(PROCESADOR!O2377>0,PROCESADOR!O2377,\"\")","v":""}]
[{"$f":"IF(PROCESADOR!O2378>0,PROCESADOR!O2378,\"\")","v":""}]
[{"$f":"IF(PROCESADOR!O2379>0,PROCESADOR!O2379,\"\")","v":""}]
[{"$f":"IF(PROCESADOR!O2380>0,PROCESADOR!O2380,\"\")","v":""}]
[{"$f":"IF(PROCESADOR!O2381>0,PROCESADOR!O2381,\"\")","v":""}]
[{"$f":"IF(PROCESADOR!O2382>0,PROCESADOR!O2382,\"\")","v":""}]
[{"$f":"IF(PROCESADOR!O2383>0,PROCESADOR!O2383,\"\")","v":""}]
[{"$f":"IF(PROCESADOR!O2384>0,PROCESADOR!O2384,\"\")","v":""}]
[{"$f":"IF(PROCESADOR!O2385>0,PROCESADOR!O2385,\"\")","v":""}]
[{"$f":"IF(PROCESADOR!O2386>0,PROCESADOR!O2386,\"\")","v":""}]
[{"$f":"IF(PROCESADOR!O2387>0,PROCESADOR!O2387,\"\")","v":""}]
[{"$f":"IF(PROCESADOR!O2388>0,PROCESADOR!O2388,\"\")","v":""}]
[{"$f":"IF(PROCESADOR!O2389>0,PROCESADOR!O2389,\"\")","v":""}]
[{"$f":"IF(PROCESADOR!O2390>0,PROCESADOR!O2390,\"\")","v":""}]
[{"$f":"IF(PROCESADOR!O2391>0,PROCESADOR!O2391,\"\")","v":""}]
[{"$f":"IF(PROCESADOR!O2392>0,PROCESADOR!O2392,\"\")","v":""}]
[{"$f":"IF(PROCESADOR!O2393>0,PROCESADOR!O2393,\"\")","v":""}]
[{"$f":"IF(PROCESADOR!O2394>0,PROCESADOR!O2394,\"\")","v":""}]
[{"$f":"IF(PROCESADOR!O2395>0,PROCESADOR!O2395,\"\")","v":""}]
[{"$f":"IF(PROCESADOR!O2396>0,PROCESADOR!O2396,\"\")","v":""}]
[{"$f":"IF(PROCESADOR!O2397>0,PROCESADOR!O2397,\"\")","v":""}]
[{"$f":"IF(PROCESADOR!O2398>0,PROCESADOR!O2398,\"\")","v":""}]
[{"$f":"IF(PROCESADOR!O2399>0,PROCESADOR!O2399,\"\")","v":""}]
[{"$f":"IF(PROCESADOR!O2400>0,PROCESADOR!O2400,\"\")","v":""}]
[{"$f":"IF(PROCESADOR!O2401>0,PROCESADOR!O2401,\"\")","v":""}]
[{"$f":"IF(PROCESADOR!O2402>0,PROCESADOR!O2402,\"\")","v":""}]
[{"$f":"IF(PROCESADOR!O2403>0,PROCESADOR!O2403,\"\")","v":""}]
[{"$f":"IF(PROCESADOR!O2404>0,PROCESADOR!O2404,\"\")","v":""}]
[{"$f":"IF(PROCESADOR!O2405>0,PROCESADOR!O2405,\"\")","v":""}]
[{"$f":"IF(PROCESADOR!O2406>0,PROCESADOR!O2406,\"\")","v":""}]
[{"$f":"IF(PROCESADOR!O2407>0,PROCESADOR!O2407,\"\")","v":""}]
[{"$f":"IF(PROCESADOR!O2408>0,PROCESADOR!O2408,\"\")","v":""}]
[{"$f":"IF(PROCESADOR!O2409>0,PROCESADOR!O2409,\"\")","v":""}]
[{"$f":"IF(PROCESADOR!O2410>0,PROCESADOR!O2410,\"\")","v":""}]
[{"$f":"IF(PROCESADOR!O2411>0,PROCESADOR!O2411,\"\")","v":""}]
[{"$f":"IF(PROCESADOR!O2412>0,PROCESADOR!O2412,\"\")","v":""}]
[{"$f":"IF(PROCESADOR!O2413>0,PROCESADOR!O2413,\"\")","v":""}]
[{"$f":"IF(PROCESADOR!O2414>0,PROCESADOR!O2414,\"\")","v":""}]
[{"$f":"IF(PROCESADOR!O2415>0,PROCESADOR!O2415,\"\")","v":""}]
[{"$f":"IF(PROCESADOR!O2416>0,PROCESADOR!O2416,\"\")","v":""}]
[{"$f":"IF(PROCESADOR!O2417>0,PROCESADOR!O2417,\"\")","v":""}]
[{"$f":"IF(PROCESADOR!O2418>0,PROCESADOR!O2418,\"\")","v":""}]
[{"$f":"IF(PROCESADOR!O2419>0,PROCESADOR!O2419,\"\")","v":""}]
[{"$f":"IF(PROCESADOR!O2420>0,PROCESADOR!O2420,\"\")","v":""}]
[{"$f":"IF(PROCESADOR!O2421>0,PROCESADOR!O2421,\"\")","v":""}]
[{"$f":"IF(PROCESADOR!O2422>0,PROCESADOR!O2422,\"\")","v":""}]
[{"$f":"IF(PROCESADOR!O2423>0,PROCESADOR!O2423,\"\")","v":""}]
[{"$f":"IF(PROCESADOR!O2424>0,PROCESADOR!O2424,\"\")","v":""}]
[{"$f":"IF(PROCESADOR!O2425>0,PROCESADOR!O2425,\"\")","v":""}]
[{"$f":"IF(PROCESADOR!O2426>0,PROCESADOR!O2426,\"\")","v":""}]
[{"$f":"IF(PROCESADOR!O2427>0,PROCESADOR!O2427,\"\")","v":""}]
[{"$f":"IF(PROCESADOR!O2428>0,PROCESADOR!O2428,\"\")","v":""}]
[{"$f":"IF(PROCESADOR!O2429>0,PROCESADOR!O2429,\"\")","v":""}]
[{"$f":"IF(PROCESADOR!O2430>0,PROCESADOR!O2430,\"\")","v":""}]
[{"$f":"IF(PROCESADOR!O2431>0,PROCESADOR!O2431,\"\")","v":""}]
[{"$f":"IF(PROCESADOR!O2432>0,PROCESADOR!O2432,\"\")","v":""}]
[{"$f":"IF(PROCESADOR!O2433>0,PROCESADOR!O2433,\"\")","v":""}]
[{"$f":"IF(PROCESADOR!O2434>0,PROCESADOR!O2434,\"\")","v":""}]
[{"$f":"IF(PROCESADOR!O2435>0,PROCESADOR!O2435,\"\")","v":""}]
[{"$f":"IF(PROCESADOR!O2436>0,PROCESADOR!O2436,\"\")","v":""}]
[{"$f":"IF(PROCESADOR!O2437>0,PROCESADOR!O2437,\"\")","v":""}]
[{"$f":"IF(PROCESADOR!O2438>0,PROCESADOR!O2438,\"\")","v":""}]
[{"$f":"IF(PROCESADOR!O2439>0,PROCESADOR!O2439,\"\")","v":""}]
[{"$f":"IF(PROCESADOR!O2440>0,PROCESADOR!O2440,\"\")","v":""}]
[{"$f":"IF(PROCESADOR!O2441>0,PROCESADOR!O2441,\"\")","v":""}]
[{"$f":"IF(PROCESADOR!O2442>0,PROCESADOR!O2442,\"\")","v":""}]
[{"$f":"IF(PROCESADOR!O2443>0,PROCESADOR!O2443,\"\")","v":""}]
[{"$f":"IF(PROCESADOR!O2444>0,PROCESADOR!O2444,\"\")","v":""}]
[{"$f":"IF(PROCESADOR!O2445>0,PROCESADOR!O2445,\"\")","v":""}]
[{"$f":"IF(PROCESADOR!O2446>0,PROCESADOR!O2446,\"\")","v":""}]
[{"$f":"IF(PROCESADOR!O2447>0,PROCESADOR!O2447,\"\")","v":""}]
[{"$f":"IF(PROCESADOR!O2448>0,PROCESADOR!O2448,\"\")","v":""}]
[{"$f":"IF(PROCESADOR!O2449>0,PROCESADOR!O2449,\"\")","v":""}]
[{"$f":"IF(PROCESADOR!O2450>0,PROCESADOR!O2450,\"\")","v":""}]
[{"$f":"IF(PROCESADOR!O2451>0,PROCESADOR!O2451,\"\")","v":""}]
[{"$f":"IF(PROCESADOR!O2452>0,PROCESADOR!O2452,\"\")","v":""}]
[{"$f":"IF(PROCESADOR!O2453>0,PROCESADOR!O2453,\"\")","v":""}]
[{"$f":"IF(PROCESADOR!O2454>0,PROCESADOR!O2454,\"\")","v":""}]
[{"$f":"IF(PROCESADOR!O2455>0,PROCESADOR!O2455,\"\")","v":""}]
[{"$f":"IF(PROCESADOR!O2456>0,PROCESADOR!O2456,\"\")","v":""}]
[{"$f":"IF(PROCESADOR!O2457>0,PROCESADOR!O2457,\"\")","v":""}]
[{"$f":"IF(PROCESADOR!O2458>0,PROCESADOR!O2458,\"\")","v":""}]
[{"$f":"IF(PROCESADOR!O2459>0,PROCESADOR!O2459,\"\")","v":""}]
[{"$f":"IF(PROCESADOR!O2460>0,PROCESADOR!O2460,\"\")","v":""}]
[{"$f":"IF(PROCESADOR!O2461>0,PROCESADOR!O2461,\"\")","v":""}]
[{"$f":"IF(PROCESADOR!O2462>0,PROCESADOR!O2462,\"\")","v":""}]
[{"$f":"IF(PROCESADOR!O2463>0,PROCESADOR!O2463,\"\")","v":""}]
[{"$f":"IF(PROCESADOR!O2464>0,PROCESADOR!O2464,\"\")","v":""}]
[{"$f":"IF(PROCESADOR!O2465>0,PROCESADOR!O2465,\"\")","v":""}]
[{"$f":"IF(PROCESADOR!O2466>0,PROCESADOR!O2466,\"\")","v":""}]
[{"$f":"IF(PROCESADOR!O2467>0,PROCESADOR!O2467,\"\")","v":""}]
[{"$f":"IF(PROCESADOR!O2468>0,PROCESADOR!O2468,\"\")","v":""}]
[{"$f":"IF(PROCESADOR!O2469>0,PROCESADOR!O2469,\"\")","v":""}]
[{"$f":"IF(PROCESADOR!O2470>0,PROCESADOR!O2470,\"\")","v":""}]
[{"$f":"IF(PROCESADOR!O2471>0,PROCESADOR!O2471,\"\")","v":""}]
[{"$f":"IF(PROCESADOR!O2472>0,PROCESADOR!O2472,\"\")","v":""}]
[{"$f":"IF(PROCESADOR!O2473>0,PROCESADOR!O2473,\"\")","v":""}]
[{"$f":"IF(PROCESADOR!O2474>0,PROCESADOR!O2474,\"\")","v":""}]
[{"$f":"IF(PROCESADOR!O2475>0,PROCESADOR!O2475,\"\")","v":""}]
[{"$f":"IF(PROCESADOR!O2476>0,PROCESADOR!O2476,\"\")","v":""}]
[{"$f":"IF(PROCESADOR!O2477>0,PROCESADOR!O2477,\"\")","v":""}]
[{"$f":"IF(PROCESADOR!O2478>0,PROCESADOR!O2478,\"\")","v":""}]
[{"$f":"IF(PROCESADOR!O2479>0,PROCESADOR!O2479,\"\")","v":""}]
[{"$f":"IF(PROCESADOR!O2480>0,PROCESADOR!O2480,\"\")","v":""}]
[{"$f":"IF(PROCESADOR!O2481>0,PROCESADOR!O2481,\"\")","v":""}]
[{"$f":"IF(PROCESADOR!O2482>0,PROCESADOR!O2482,\"\")","v":""}]
[{"$f":"IF(PROCESADOR!O2483>0,PROCESADOR!O2483,\"\")","v":""}]
[{"$f":"IF(PROCESADOR!O2484>0,PROCESADOR!O2484,\"\")","v":""}]
[{"$f":"IF(PROCESADOR!O2485>0,PROCESADOR!O2485,\"\")","v":""}]
[{"$f":"IF(PROCESADOR!O2486>0,PROCESADOR!O2486,\"\")","v":""}]
[{"$f":"IF(PROCESADOR!O2487>0,PROCESADOR!O2487,\"\")","v":""}]
[{"$f":"IF(PROCESADOR!O2488>0,PROCESADOR!O2488,\"\")","v":""}]
[{"$f":"IF(PROCESADOR!O2489>0,PROCESADOR!O2489,\"\")","v":""}]
[{"$f":"IF(PROCESADOR!O2490>0,PROCESADOR!O2490,\"\")","v":""}]
[{"$f":"IF(PROCESADOR!O2491>0,PROCESADOR!O2491,\"\")","v":""}]
[{"$f":"IF(PROCESADOR!O2492>0,PROCESADOR!O2492,\"\")","v":""}]
[{"$f":"IF(PROCESADOR!O2493>0,PROCESADOR!O2493,\"\")","v":""}]
[{"$f":"IF(PROCESADOR!O2494>0,PROCESADOR!O2494,\"\")","v":""}]
[{"$f":"IF(PROCESADOR!O2495>0,PROCESADOR!O2495,\"\")","v":""}]
[{"$f":"IF(PROCESADOR!O2496>0,PROCESADOR!O2496,\"\")","v":""}]
[{"$f":"IF(PROCESADOR!O2497>0,PROCESADOR!O2497,\"\")","v":""}]
[{"$f":"IF(PROCESADOR!O2498>0,PROCESADOR!O2498,\"\")","v":""}]
[{"$f":"IF(PROCESADOR!O2499>0,PROCESADOR!O2499,\"\")","v":""}]
[{"$f":"IF(PROCESADOR!O2500>0,PROCESADOR!O2500,\"\")","v":""}]
[{"$f":"IF(PROCESADOR!O2501>0,PROCESADOR!O2501,\"\")","v":""}]
[{"$f":"IF(PROCESADOR!O2502>0,PROCESADOR!O2502,\"\")","v":""}]
[{"$f":"IF(PROCESADOR!O2503>0,PROCESADOR!O2503,\"\")","v":""}]
[{"$f":"IF(PROCESADOR!O2504>0,PROCESADOR!O2504,\"\")","v":""}]
[{"$f":"IF(PROCESADOR!O2505>0,PROCESADOR!O2505,\"\")","v":""}]
[{"$f":"IF(PROCESADOR!O2506>0,PROCESADOR!O2506,\"\")","v":""}]
[{"$f":"IF(PROCESADOR!O2507>0,PROCESADOR!O2507,\"\")","v":""}]
[{"$f":"IF(PROCESADOR!O2508>0,PROCESADOR!O2508,\"\")","v":""}]
[{"$f":"IF(PROCESADOR!O2509>0,PROCESADOR!O2509,\"\")","v":""}]
[{"$f":"IF(PROCESADOR!O2510>0,PROCESADOR!O2510,\"\")","v":""}]
[{"$f":"IF(PROCESADOR!O2511>0,PROCESADOR!O2511,\"\")","v":""}]
[{"$f":"IF(PROCESADOR!O2512>0,PROCESADOR!O2512,\"\")","v":""}]
[{"$f":"IF(PROCESADOR!O2513>0,PROCESADOR!O2513,\"\")","v":""}]
[{"$f":"IF(PROCESADOR!O2514>0,PROCESADOR!O2514,\"\")","v":""}]
[{"$f":"IF(PROCESADOR!O2515>0,PROCESADOR!O2515,\"\")","v":""}]
[{"$f":"IF(PROCESADOR!O2516>0,PROCESADOR!O2516,\"\")","v":""}]
[{"$f":"IF(PROCESADOR!O2517>0,PROCESADOR!O2517,\"\")","v":""}]
[{"$f":"IF(PROCESADOR!O2518>0,PROCESADOR!O2518,\"\")","v":""}]
[{"$f":"IF(PROCESADOR!O2519>0,PROCESADOR!O2519,\"\")","v":""}]
[{"$f":"IF(PROCESADOR!O2520>0,PROCESADOR!O2520,\"\")","v":""}]
[{"$f":"IF(PROCESADOR!O2521>0,PROCESADOR!O2521,\"\")","v":""}]
[{"$f":"IF(PROCESADOR!O2522>0,PROCESADOR!O2522,\"\")","v":""}]
[{"$f":"IF(PROCESADOR!O2523>0,PROCESADOR!O2523,\"\")","v":""}]
[{"$f":"IF(PROCESADOR!O2524>0,PROCESADOR!O2524,\"\")","v":""}]
[{"$f":"IF(PROCESADOR!O2525>0,PROCESADOR!O2525,\"\")","v":""}]
[{"$f":"IF(PROCESADOR!O2526>0,PROCESADOR!O2526,\"\")","v":""}]
[{"$f":"IF(PROCESADOR!O2527>0,PROCESADOR!O2527,\"\")","v":""}]
[{"$f":"IF(PROCESADOR!O2528>0,PROCESADOR!O2528,\"\")","v":""}]
[{"$f":"IF(PROCESADOR!O2529>0,PROCESADOR!O2529,\"\")","v":""}]
[{"$f":"IF(PROCESADOR!O2530>0,PROCESADOR!O2530,\"\")","v":""}]
[{"$f":"IF(PROCESADOR!O2531>0,PROCESADOR!O2531,\"\")","v":""}]
[{"$f":"IF(PROCESADOR!O2532>0,PROCESADOR!O2532,\"\")","v":""}]
[{"$f":"IF(PROCESADOR!O2533>0,PROCESADOR!O2533,\"\")","v":""}]
[{"$f":"IF(PROCESADOR!O2534>0,PROCESADOR!O2534,\"\")","v":""}]
[{"$f":"IF(PROCESADOR!O2535>0,PROCESADOR!O2535,\"\")","v":""}]
[{"$f":"IF(PROCESADOR!O2536>0,PROCESADOR!O2536,\"\")","v":""}]
[{"$f":"IF(PROCESADOR!O2537>0,PROCESADOR!O2537,\"\")","v":""}]
[{"$f":"IF(PROCESADOR!O2538>0,PROCESADOR!O2538,\"\")","v":""}]
[{"$f":"IF(PROCESADOR!O2539>0,PROCESADOR!O2539,\"\")","v":""}]
[{"$f":"IF(PROCESADOR!O2540>0,PROCESADOR!O2540,\"\")","v":""}]
[{"$f":"IF(PROCESADOR!O2541>0,PROCESADOR!O2541,\"\")","v":""}]
[{"$f":"IF(PROCESADOR!O2542>0,PROCESADOR!O2542,\"\")","v":""}]
[{"$f":"IF(PROCESADOR!O2543>0,PROCESADOR!O2543,\"\")","v":""}]
[{"$f":"IF(PROCESADOR!O2544>0,PROCESADOR!O2544,\"\")","v":""}]
[{"$f":"IF(PROCESADOR!O2545>0,PROCESADOR!O2545,\"\")","v":""}]
[{"$f":"IF(PROCESADOR!O2546>0,PROCESADOR!O2546,\"\")","v":""}]
[{"$f":"IF(PROCESADOR!O2547>0,PROCESADOR!O2547,\"\")","v":""}]
[{"$f":"IF(PROCESADOR!O2548>0,PROCESADOR!O2548,\"\")","v":""}]
[{"$f":"IF(PROCESADOR!O2549>0,PROCESADOR!O2549,\"\")","v":""}]
[{"$f":"IF(PROCESADOR!O2550>0,PROCESADOR!O2550,\"\")","v":""}]
[{"$f":"IF(PROCESADOR!O2551>0,PROCESADOR!O2551,\"\")","v":""}]
[{"$f":"IF(PROCESADOR!O2552>0,PROCESADOR!O2552,\"\")","v":""}]
[{"$f":"IF(PROCESADOR!O2553>0,PROCESADOR!O2553,\"\")","v":""}]
[{"$f":"IF(PROCESADOR!O2554>0,PROCESADOR!O2554,\"\")","v":""}]
[{"$f":"IF(PROCESADOR!O2555>0,PROCESADOR!O2555,\"\")","v":""}]
[{"$f":"IF(PROCESADOR!O2556>0,PROCESADOR!O2556,\"\")","v":""}]
[{"$f":"IF(PROCESADOR!O2557>0,PROCESADOR!O2557,\"\")","v":""}]
[{"$f":"IF(PROCESADOR!O2558>0,PROCESADOR!O2558,\"\")","v":""}]
[{"$f":"IF(PROCESADOR!O2559>0,PROCESADOR!O2559,\"\")","v":""}]
[{"$f":"IF(PROCESADOR!O2560>0,PROCESADOR!O2560,\"\")","v":""}]
[{"$f":"IF(PROCESADOR!O2561>0,PROCESADOR!O2561,\"\")","v":""}]
[{"$f":"IF(PROCESADOR!O2562>0,PROCESADOR!O2562,\"\")","v":""}]
[{"$f":"IF(PROCESADOR!O2563>0,PROCESADOR!O2563,\"\")","v":""}]
[{"$f":"IF(PROCESADOR!O2564>0,PROCESADOR!O2564,\"\")","v":""}]
[{"$f":"IF(PROCESADOR!O2565>0,PROCESADOR!O2565,\"\")","v":""}]
[{"$f":"IF(PROCESADOR!O2566>0,PROCESADOR!O2566,\"\")","v":""}]
[{"$f":"IF(PROCESADOR!O2567>0,PROCESADOR!O2567,\"\")","v":""}]
[{"$f":"IF(PROCESADOR!O2568>0,PROCESADOR!O2568,\"\")","v":""}]
[{"$f":"IF(PROCESADOR!O2569>0,PROCESADOR!O2569,\"\")","v":""}]
[{"$f":"IF(PROCESADOR!O2570>0,PROCESADOR!O2570,\"\")","v":""}]
[{"$f":"IF(PROCESADOR!O2571>0,PROCESADOR!O2571,\"\")","v":""}]
[{"$f":"IF(PROCESADOR!O2572>0,PROCESADOR!O2572,\"\")","v":""}]
[{"$f":"IF(PROCESADOR!O2573>0,PROCESADOR!O2573,\"\")","v":""}]
[{"$f":"IF(PROCESADOR!O2574>0,PROCESADOR!O2574,\"\")","v":""}]
[{"$f":"IF(PROCESADOR!O2575>0,PROCESADOR!O2575,\"\")","v":""}]
[{"$f":"IF(PROCESADOR!O2576>0,PROCESADOR!O2576,\"\")","v":""}]
[{"$f":"IF(PROCESADOR!O2577>0,PROCESADOR!O2577,\"\")","v":""}]
[{"$f":"IF(PROCESADOR!O2578>0,PROCESADOR!O2578,\"\")","v":""}]
[{"$f":"IF(PROCESADOR!O2579>0,PROCESADOR!O2579,\"\")","v":""}]
[{"$f":"IF(PROCESADOR!O2580>0,PROCESADOR!O2580,\"\")","v":""}]
[{"$f":"IF(PROCESADOR!O2581>0,PROCESADOR!O2581,\"\")","v":""}]
[{"$f":"IF(PROCESADOR!O2582>0,PROCESADOR!O2582,\"\")","v":""}]
[{"$f":"IF(PROCESADOR!O2583>0,PROCESADOR!O2583,\"\")","v":""}]
[{"$f":"IF(PROCESADOR!O2584>0,PROCESADOR!O2584,\"\")","v":""}]
[{"$f":"IF(PROCESADOR!O2585>0,PROCESADOR!O2585,\"\")","v":""}]
[{"$f":"IF(PROCESADOR!O2586>0,PROCESADOR!O2586,\"\")","v":""}]
[{"$f":"IF(PROCESADOR!O2587>0,PROCESADOR!O2587,\"\")","v":""}]
[{"$f":"IF(PROCESADOR!O2588>0,PROCESADOR!O2588,\"\")","v":""}]
[{"$f":"IF(PROCESADOR!O2589>0,PROCESADOR!O2589,\"\")","v":""}]
[{"$f":"IF(PROCESADOR!O2590>0,PROCESADOR!O2590,\"\")","v":""}]
[{"$f":"IF(PROCESADOR!O2591>0,PROCESADOR!O2591,\"\")","v":""}]
[{"$f":"IF(PROCESADOR!O2592>0,PROCESADOR!O2592,\"\")","v":""}]
[{"$f":"IF(PROCESADOR!O2593>0,PROCESADOR!O2593,\"\")","v":""}]
[{"$f":"IF(PROCESADOR!O2594>0,PROCESADOR!O2594,\"\")","v":""}]
[{"$f":"IF(PROCESADOR!O2595>0,PROCESADOR!O2595,\"\")","v":""}]
[{"$f":"IF(PROCESADOR!O2596>0,PROCESADOR!O2596,\"\")","v":""}]
[{"$f":"IF(PROCESADOR!O2597>0,PROCESADOR!O2597,\"\")","v":""}]
[{"$f":"IF(PROCESADOR!O2598>0,PROCESADOR!O2598,\"\")","v":""}]
[{"$f":"IF(PROCESADOR!O2599>0,PROCESADOR!O2599,\"\")","v":""}]
[{"$f":"IF(PROCESADOR!O2600>0,PROCESADOR!O2600,\"\")","v":""}]
[{"$f":"IF(PROCESADOR!O2601>0,PROCESADOR!O2601,\"\")","v":""}]
[{"$f":"IF(PROCESADOR!O2602>0,PROCESADOR!O2602,\"\")","v":""}]
[{"$f":"IF(PROCESADOR!O2603>0,PROCESADOR!O2603,\"\")","v":""}]
[{"$f":"IF(PROCESADOR!O2604>0,PROCESADOR!O2604,\"\")","v":""}]
[{"$f":"IF(PROCESADOR!O2605>0,PROCESADOR!O2605,\"\")","v":""}]
[{"$f":"IF(PROCESADOR!O2606>0,PROCESADOR!O2606,\"\")","v":""}]
[{"$f":"IF(PROCESADOR!O2607>0,PROCESADOR!O2607,\"\")","v":""}]
[{"$f":"IF(PROCESADOR!O2608>0,PROCESADOR!O2608,\"\")","v":""}]
[{"$f":"IF(PROCESADOR!O2609>0,PROCESADOR!O2609,\"\")","v":""}]
[{"$f":"IF(PROCESADOR!O2610>0,PROCESADOR!O2610,\"\")","v":""}]
[{"$f":"IF(PROCESADOR!O2611>0,PROCESADOR!O2611,\"\")","v":""}]
[{"$f":"IF(PROCESADOR!O2612>0,PROCESADOR!O2612,\"\")","v":""}]
[{"$f":"IF(PROCESADOR!O2613>0,PROCESADOR!O2613,\"\")","v":""}]
[{"$f":"IF(PROCESADOR!O2614>0,PROCESADOR!O2614,\"\")","v":""}]
[{"$f":"IF(PROCESADOR!O2615>0,PROCESADOR!O2615,\"\")","v":""}]
[{"$f":"IF(PROCESADOR!O2616>0,PROCESADOR!O2616,\"\")","v":""}]
[{"$f":"IF(PROCESADOR!O2617>0,PROCESADOR!O2617,\"\")","v":""}]
[{"$f":"IF(PROCESADOR!O2618>0,PROCESADOR!O2618,\"\")","v":""}]
[{"$f":"IF(PROCESADOR!O2619>0,PROCESADOR!O2619,\"\")","v":""}]
[{"$f":"IF(PROCESADOR!O2620>0,PROCESADOR!O2620,\"\")","v":""}]
[{"$f":"IF(PROCESADOR!O2621>0,PROCESADOR!O2621,\"\")","v":""}]
[{"$f":"IF(PROCESADOR!O2622>0,PROCESADOR!O2622,\"\")","v":""}]
[{"$f":"IF(PROCESADOR!O2623>0,PROCESADOR!O2623,\"\")","v":""}]
[{"$f":"IF(PROCESADOR!O2624>0,PROCESADOR!O2624,\"\")","v":""}]
[{"$f":"IF(PROCESADOR!O2625>0,PROCESADOR!O2625,\"\")","v":""}]
[{"$f":"IF(PROCESADOR!O2626>0,PROCESADOR!O2626,\"\")","v":""}]
[{"$f":"IF(PROCESADOR!O2627>0,PROCESADOR!O2627,\"\")","v":""}]
[{"$f":"IF(PROCESADOR!O2628>0,PROCESADOR!O2628,\"\")","v":""}]
[{"$f":"IF(PROCESADOR!O2629>0,PROCESADOR!O2629,\"\")","v":""}]
[{"$f":"IF(PROCESADOR!O2630>0,PROCESADOR!O2630,\"\")","v":""}]
[{"$f":"IF(PROCESADOR!O2631>0,PROCESADOR!O2631,\"\")","v":""}]
[{"$f":"IF(PROCESADOR!O2632>0,PROCESADOR!O2632,\"\")","v":""}]
[{"$f":"IF(PROCESADOR!O2633>0,PROCESADOR!O2633,\"\")","v":""}]
[{"$f":"IF(PROCESADOR!O2634>0,PROCESADOR!O2634,\"\")","v":""}]
[{"$f":"IF(PROCESADOR!O2635>0,PROCESADOR!O2635,\"\")","v":""}]
[{"$f":"IF(PROCESADOR!O2636>0,PROCESADOR!O2636,\"\")","v":""}]
[{"$f":"IF(PROCESADOR!O2637>0,PROCESADOR!O2637,\"\")","v":""}]
[{"$f":"IF(PROCESADOR!O2638>0,PROCESADOR!O2638,\"\")","v":""}]
[{"$f":"IF(PROCESADOR!O2639>0,PROCESADOR!O2639,\"\")","v":""}]
[{"$f":"IF(PROCESADOR!O2640>0,PROCESADOR!O2640,\"\")","v":""}]
[{"$f":"IF(PROCESADOR!O2641>0,PROCESADOR!O2641,\"\")","v":""}]
[{"$f":"IF(PROCESADOR!O2642>0,PROCESADOR!O2642,\"\")","v":""}]
[{"$f":"IF(PROCESADOR!O2643>0,PROCESADOR!O2643,\"\")","v":""}]
[{"$f":"IF(PROCESADOR!O2644>0,PROCESADOR!O2644,\"\")","v":""}]
[{"$f":"IF(PROCESADOR!O2645>0,PROCESADOR!O2645,\"\")","v":""}]
[{"$f":"IF(PROCESADOR!O2646>0,PROCESADOR!O2646,\"\")","v":""}]
[{"$f":"IF(PROCESADOR!O2647>0,PROCESADOR!O2647,\"\")","v":""}]
[{"$f":"IF(PROCESADOR!O2648>0,PROCESADOR!O2648,\"\")","v":""}]
[{"$f":"IF(PROCESADOR!O2649>0,PROCESADOR!O2649,\"\")","v":""}]
[{"$f":"IF(PROCESADOR!O2650>0,PROCESADOR!O2650,\"\")","v":""}]
[{"$f":"IF(PROCESADOR!O2651>0,PROCESADOR!O2651,\"\")","v":""}]
[{"$f":"IF(PROCESADOR!O2652>0,PROCESADOR!O2652,\"\")","v":""}]
[{"$f":"IF(PROCESADOR!O2653>0,PROCESADOR!O2653,\"\")","v":""}]
[{"$f":"IF(PROCESADOR!O2654>0,PROCESADOR!O2654,\"\")","v":""}]
[{"$f":"IF(PROCESADOR!O2655>0,PROCESADOR!O2655,\"\")","v":""}]
[{"$f":"IF(PROCESADOR!O2656>0,PROCESADOR!O2656,\"\")","v":""}]
[{"$f":"IF(PROCESADOR!O2657>0,PROCESADOR!O2657,\"\")","v":""}]
[{"$f":"IF(PROCESADOR!O2658>0,PROCESADOR!O2658,\"\")","v":""}]
[{"$f":"IF(PROCESADOR!O2659>0,PROCESADOR!O2659,\"\")","v":""}]
[{"$f":"IF(PROCESADOR!O2660>0,PROCESADOR!O2660,\"\")","v":""}]
[{"$f":"IF(PROCESADOR!O2661>0,PROCESADOR!O2661,\"\")","v":""}]
[{"$f":"IF(PROCESADOR!O2662>0,PROCESADOR!O2662,\"\")","v":""}]
[{"$f":"IF(PROCESADOR!O2663>0,PROCESADOR!O2663,\"\")","v":""}]
[{"$f":"IF(PROCESADOR!O2664>0,PROCESADOR!O2664,\"\")","v":""}]
[{"$f":"IF(PROCESADOR!O2665>0,PROCESADOR!O2665,\"\")","v":""}]
[{"$f":"IF(PROCESADOR!O2666>0,PROCESADOR!O2666,\"\")","v":""}]
[{"$f":"IF(PROCESADOR!O2667>0,PROCESADOR!O2667,\"\")","v":""}]
[{"$f":"IF(PROCESADOR!O2668>0,PROCESADOR!O2668,\"\")","v":""}]
[{"$f":"IF(PROCESADOR!O2669>0,PROCESADOR!O2669,\"\")","v":""}]
[{"$f":"IF(PROCESADOR!O2670>0,PROCESADOR!O2670,\"\")","v":""}]
[{"$f":"IF(PROCESADOR!O2671>0,PROCESADOR!O2671,\"\")","v":""}]
[{"$f":"IF(PROCESADOR!O2672>0,PROCESADOR!O2672,\"\")","v":""}]
[{"$f":"IF(PROCESADOR!O2673>0,PROCESADOR!O2673,\"\")","v":""}]
[{"$f":"IF(PROCESADOR!O2674>0,PROCESADOR!O2674,\"\")","v":""}]
[{"$f":"IF(PROCESADOR!O2675>0,PROCESADOR!O2675,\"\")","v":""}]
[{"$f":"IF(PROCESADOR!O2676>0,PROCESADOR!O2676,\"\")","v":""}]
[{"$f":"IF(PROCESADOR!O2677>0,PROCESADOR!O2677,\"\")","v":""}]
[{"$f":"IF(PROCESADOR!O2678>0,PROCESADOR!O2678,\"\")","v":""}]
[{"$f":"IF(PROCESADOR!O2679>0,PROCESADOR!O2679,\"\")","v":""}]
[{"$f":"IF(PROCESADOR!O2680>0,PROCESADOR!O2680,\"\")","v":""}]
[{"$f":"IF(PROCESADOR!O2681>0,PROCESADOR!O2681,\"\")","v":""}]
[{"$f":"IF(PROCESADOR!O2682>0,PROCESADOR!O2682,\"\")","v":""}]
[{"$f":"IF(PROCESADOR!O2683>0,PROCESADOR!O2683,\"\")","v":""}]
[{"$f":"IF(PROCESADOR!O2684>0,PROCESADOR!O2684,\"\")","v":""}]
[{"$f":"IF(PROCESADOR!O2685>0,PROCESADOR!O2685,\"\")","v":""}]
[{"$f":"IF(PROCESADOR!O2686>0,PROCESADOR!O2686,\"\")","v":""}]
[{"$f":"IF(PROCESADOR!O2687>0,PROCESADOR!O2687,\"\")","v":""}]
[{"$f":"IF(PROCESADOR!O2688>0,PROCESADOR!O2688,\"\")","v":""}]
[{"$f":"IF(PROCESADOR!O2689>0,PROCESADOR!O2689,\"\")","v":""}]
[{"$f":"IF(PROCESADOR!O2690>0,PROCESADOR!O2690,\"\")","v":""}]
[{"$f":"IF(PROCESADOR!O2691>0,PROCESADOR!O2691,\"\")","v":""}]
[{"$f":"IF(PROCESADOR!O2692>0,PROCESADOR!O2692,\"\")","v":""}]
[{"$f":"IF(PROCESADOR!O2693>0,PROCESADOR!O2693,\"\")","v":""}]
[{"$f":"IF(PROCESADOR!O2694>0,PROCESADOR!O2694,\"\")","v":""}]
[{"$f":"IF(PROCESADOR!O2695>0,PROCESADOR!O2695,\"\")","v":""}]
[{"$f":"IF(PROCESADOR!O2696>0,PROCESADOR!O2696,\"\")","v":""}]
[{"$f":"IF(PROCESADOR!O2697>0,PROCESADOR!O2697,\"\")","v":""}]
[{"$f":"IF(PROCESADOR!O2698>0,PROCESADOR!O2698,\"\")","v":""}]
[{"$f":"IF(PROCESADOR!O2699>0,PROCESADOR!O2699,\"\")","v":""}]
[{"$f":"IF(PROCESADOR!O2700>0,PROCESADOR!O2700,\"\")","v":""}]
[{"$f":"IF(PROCESADOR!O2701>0,PROCESADOR!O2701,\"\")","v":""}]
[{"$f":"IF(PROCESADOR!O2702>0,PROCESADOR!O2702,\"\")","v":""}]
[{"$f":"IF(PROCESADOR!O2703>0,PROCESADOR!O2703,\"\")","v":""}]
[{"$f":"IF(PROCESADOR!O2704>0,PROCESADOR!O2704,\"\")","v":""}]
[{"$f":"IF(PROCESADOR!O2705>0,PROCESADOR!O2705,\"\")","v":""}]
[{"$f":"IF(PROCESADOR!O2706>0,PROCESADOR!O2706,\"\")","v":""}]
[{"$f":"IF(PROCESADOR!O2707>0,PROCESADOR!O2707,\"\")","v":""}]
[{"$f":"IF(PROCESADOR!O2708>0,PROCESADOR!O2708,\"\")","v":""}]
[{"$f":"IF(PROCESADOR!O2709>0,PROCESADOR!O2709,\"\")","v":""}]
[{"$f":"IF(PROCESADOR!O2710>0,PROCESADOR!O2710,\"\")","v":""}]
[{"$f":"IF(PROCESADOR!O2711>0,PROCESADOR!O2711,\"\")","v":""}]
[{"$f":"IF(PROCESADOR!O2712>0,PROCESADOR!O2712,\"\")","v":""}]
[{"$f":"IF(PROCESADOR!O2713>0,PROCESADOR!O2713,\"\")","v":""}]
[{"$f":"IF(PROCESADOR!O2714>0,PROCESADOR!O2714,\"\")","v":""}]
[{"$f":"IF(PROCESADOR!O2715>0,PROCESADOR!O2715,\"\")","v":""}]
[{"$f":"IF(PROCESADOR!O2716>0,PROCESADOR!O2716,\"\")","v":""}]
[{"$f":"IF(PROCESADOR!O2717>0,PROCESADOR!O2717,\"\")","v":""}]
[{"$f":"IF(PROCESADOR!O2718>0,PROCESADOR!O2718,\"\")","v":""}]
[{"$f":"IF(PROCESADOR!O2719>0,PROCESADOR!O2719,\"\")","v":""}]
[{"$f":"IF(PROCESADOR!O2720>0,PROCESADOR!O2720,\"\")","v":""}]
[{"$f":"IF(PROCESADOR!O2721>0,PROCESADOR!O2721,\"\")","v":""}]
[{"$f":"IF(PROCESADOR!O2722>0,PROCESADOR!O2722,\"\")","v":""}]
[{"$f":"IF(PROCESADOR!O2723>0,PROCESADOR!O2723,\"\")","v":""}]
[{"$f":"IF(PROCESADOR!O2724>0,PROCESADOR!O2724,\"\")","v":""}]
[{"$f":"IF(PROCESADOR!O2725>0,PROCESADOR!O2725,\"\")","v":""}]
[{"$f":"IF(PROCESADOR!O2726>0,PROCESADOR!O2726,\"\")","v":""}]
[{"$f":"IF(PROCESADOR!O2727>0,PROCESADOR!O2727,\"\")","v":""}]
[{"$f":"IF(PROCESADOR!O2728>0,PROCESADOR!O2728,\"\")","v":""}]
[{"$f":"IF(PROCESADOR!O2729>0,PROCESADOR!O2729,\"\")","v":""}]
[{"$f":"IF(PROCESADOR!O2730>0,PROCESADOR!O2730,\"\")","v":""}]
[{"$f":"IF(PROCESADOR!O2731>0,PROCESADOR!O2731,\"\")","v":""}]
[{"$f":"IF(PROCESADOR!O2732>0,PROCESADOR!O2732,\"\")","v":""}]
[{"$f":"IF(PROCESADOR!O2733>0,PROCESADOR!O2733,\"\")","v":""}]
[{"$f":"IF(PROCESADOR!O2734>0,PROCESADOR!O2734,\"\")","v":""}]
[{"$f":"IF(PROCESADOR!O2735>0,PROCESADOR!O2735,\"\")","v":""}]
[{"$f":"IF(PROCESADOR!O2736>0,PROCESADOR!O2736,\"\")","v":""}]
[{"$f":"IF(PROCESADOR!O2737>0,PROCESADOR!O2737,\"\")","v":""}]
[{"$f":"IF(PROCESADOR!O2738>0,PROCESADOR!O2738,\"\")","v":""}]
[{"$f":"IF(PROCESADOR!O2739>0,PROCESADOR!O2739,\"\")","v":""}]
[{"$f":"IF(PROCESADOR!O2740>0,PROCESADOR!O2740,\"\")","v":""}]
[{"$f":"IF(PROCESADOR!O2741>0,PROCESADOR!O2741,\"\")","v":""}]
[{"$f":"IF(PROCESADOR!O2742>0,PROCESADOR!O2742,\"\")","v":""}]
[{"$f":"IF(PROCESADOR!O2743>0,PROCESADOR!O2743,\"\")","v":""}]
[{"$f":"IF(PROCESADOR!O2744>0,PROCESADOR!O2744,\"\")","v":""}]
[{"$f":"IF(PROCESADOR!O2745>0,PROCESADOR!O2745,\"\")","v":""}]
[{"$f":"IF(PROCESADOR!O2746>0,PROCESADOR!O2746,\"\")","v":""}]
[{"$f":"IF(PROCESADOR!O2747>0,PROCESADOR!O2747,\"\")","v":""}]
[{"$f":"IF(PROCESADOR!O2748>0,PROCESADOR!O2748,\"\")","v":""}]
[{"$f":"IF(PROCESADOR!O2749>0,PROCESADOR!O2749,\"\")","v":""}]
[{"$f":"IF(PROCESADOR!O2750>0,PROCESADOR!O2750,\"\")","v":""}]
[{"$f":"IF(PROCESADOR!O2751>0,PROCESADOR!O2751,\"\")","v":""}]
[{"$f":"IF(PROCESADOR!O2752>0,PROCESADOR!O2752,\"\")","v":""}]
[{"$f":"IF(PROCESADOR!O2753>0,PROCESADOR!O2753,\"\")","v":""}]
[{"$f":"IF(PROCESADOR!O2754>0,PROCESADOR!O2754,\"\")","v":""}]
[{"$f":"IF(PROCESADOR!O2755>0,PROCESADOR!O2755,\"\")","v":""}]
[{"$f":"IF(PROCESADOR!O2756>0,PROCESADOR!O2756,\"\")","v":""}]
[{"$f":"IF(PROCESADOR!O2757>0,PROCESADOR!O2757,\"\")","v":""}]
[{"$f":"IF(PROCESADOR!O2758>0,PROCESADOR!O2758,\"\")","v":""}]
[{"$f":"IF(PROCESADOR!O2759>0,PROCESADOR!O2759,\"\")","v":""}]
[{"$f":"IF(PROCESADOR!O2760>0,PROCESADOR!O2760,\"\")","v":""}]
[{"$f":"IF(PROCESADOR!O2761>0,PROCESADOR!O2761,\"\")","v":""}]
[{"$f":"IF(PROCESADOR!O2762>0,PROCESADOR!O2762,\"\")","v":""}]
[{"$f":"IF(PROCESADOR!O2763>0,PROCESADOR!O2763,\"\")","v":""}]
[{"$f":"IF(PROCESADOR!O2764>0,PROCESADOR!O2764,\"\")","v":""}]
[{"$f":"IF(PROCESADOR!O2765>0,PROCESADOR!O2765,\"\")","v":""}]
[{"$f":"IF(PROCESADOR!O2766>0,PROCESADOR!O2766,\"\")","v":""}]
[{"$f":"IF(PROCESADOR!O2767>0,PROCESADOR!O2767,\"\")","v":""}]
[{"$f":"IF(PROCESADOR!O2768>0,PROCESADOR!O2768,\"\")","v":""}]
[{"$f":"IF(PROCESADOR!O2769>0,PROCESADOR!O2769,\"\")","v":""}]
[{"$f":"IF(PROCESADOR!O2770>0,PROCESADOR!O2770,\"\")","v":""}]
[{"$f":"IF(PROCESADOR!O2771>0,PROCESADOR!O2771,\"\")","v":""}]
[{"$f":"IF(PROCESADOR!O2772>0,PROCESADOR!O2772,\"\")","v":""}]
[{"$f":"IF(PROCESADOR!O2773>0,PROCESADOR!O2773,\"\")","v":""}]
[{"$f":"IF(PROCESADOR!O2774>0,PROCESADOR!O2774,\"\")","v":""}]
[{"$f":"IF(PROCESADOR!O2775>0,PROCESADOR!O2775,\"\")","v":""}]
[{"$f":"IF(PROCESADOR!O2776>0,PROCESADOR!O2776,\"\")","v":""}]
[{"$f":"IF(PROCESADOR!O2777>0,PROCESADOR!O2777,\"\")","v":""}]
[{"$f":"IF(PROCESADOR!O2778>0,PROCESADOR!O2778,\"\")","v":""}]
[{"$f":"IF(PROCESADOR!O2779>0,PROCESADOR!O2779,\"\")","v":""}]
[{"$f":"IF(PROCESADOR!O2780>0,PROCESADOR!O2780,\"\")","v":""}]
[{"$f":"IF(PROCESADOR!O2781>0,PROCESADOR!O2781,\"\")","v":""}]
[{"$f":"IF(PROCESADOR!O2782>0,PROCESADOR!O2782,\"\")","v":""}]
[{"$f":"IF(PROCESADOR!O2783>0,PROCESADOR!O2783,\"\")","v":""}]
[{"$f":"IF(PROCESADOR!O2784>0,PROCESADOR!O2784,\"\")","v":""}]
[{"$f":"IF(PROCESADOR!O2785>0,PROCESADOR!O2785,\"\")","v":""}]
[{"$f":"IF(PROCESADOR!O2786>0,PROCESADOR!O2786,\"\")","v":""}]
[{"$f":"IF(PROCESADOR!O2787>0,PROCESADOR!O2787,\"\")","v":""}]
[{"$f":"IF(PROCESADOR!O2788>0,PROCESADOR!O2788,\"\")","v":""}]
[{"$f":"IF(PROCESADOR!O2789>0,PROCESADOR!O2789,\"\")","v":""}]
[{"$f":"IF(PROCESADOR!O2790>0,PROCESADOR!O2790,\"\")","v":""}]
[{"$f":"IF(PROCESADOR!O2791>0,PROCESADOR!O2791,\"\")","v":""}]
[{"$f":"IF(PROCESADOR!O2792>0,PROCESADOR!O2792,\"\")","v":""}]
[{"$f":"IF(PROCESADOR!O2793>0,PROCESADOR!O2793,\"\")","v":""}]
[{"$f":"IF(PROCESADOR!O2794>0,PROCESADOR!O2794,\"\")","v":""}]
[{"$f":"IF(PROCESADOR!O2795>0,PROCESADOR!O2795,\"\")","v":""}]
[{"$f":"IF(PROCESADOR!O2796>0,PROCESADOR!O2796,\"\")","v":""}]
[{"$f":"IF(PROCESADOR!O2797>0,PROCESADOR!O2797,\"\")","v":""}]
[{"$f":"IF(PROCESADOR!O2798>0,PROCESADOR!O2798,\"\")","v":""}]
[{"$f":"IF(PROCESADOR!O2799>0,PROCESADOR!O2799,\"\")","v":""}]
[{"$f":"IF(PROCESADOR!O2800>0,PROCESADOR!O2800,\"\")","v":""}]
[{"$f":"IF(PROCESADOR!O2801>0,PROCESADOR!O2801,\"\")","v":""}]
[{"$f":"IF(PROCESADOR!O2802>0,PROCESADOR!O2802,\"\")","v":""}]
[{"$f":"IF(PROCESADOR!O2803>0,PROCESADOR!O2803,\"\")","v":""}]
[{"$f":"IF(PROCESADOR!O2804>0,PROCESADOR!O2804,\"\")","v":""}]
[{"$f":"IF(PROCESADOR!O2805>0,PROCESADOR!O2805,\"\")","v":""}]
[{"$f":"IF(PROCESADOR!O2806>0,PROCESADOR!O2806,\"\")","v":""}]
[{"$f":"IF(PROCESADOR!O2807>0,PROCESADOR!O2807,\"\")","v":""}]
[{"$f":"IF(PROCESADOR!O2808>0,PROCESADOR!O2808,\"\")","v":""}]
[{"$f":"IF(PROCESADOR!O2809>0,PROCESADOR!O2809,\"\")","v":""}]
[{"$f":"IF(PROCESADOR!O2810>0,PROCESADOR!O2810,\"\")","v":""}]
[{"$f":"IF(PROCESADOR!O2811>0,PROCESADOR!O2811,\"\")","v":""}]
[{"$f":"IF(PROCESADOR!O2812>0,PROCESADOR!O2812,\"\")","v":""}]
[{"$f":"IF(PROCESADOR!O2813>0,PROCESADOR!O2813,\"\")","v":""}]
[{"$f":"IF(PROCESADOR!O2814>0,PROCESADOR!O2814,\"\")","v":""}]
[{"$f":"IF(PROCESADOR!O2815>0,PROCESADOR!O2815,\"\")","v":""}]
[{"$f":"IF(PROCESADOR!O2816>0,PROCESADOR!O2816,\"\")","v":""}]
[{"$f":"IF(PROCESADOR!O2817>0,PROCESADOR!O2817,\"\")","v":""}]
[{"$f":"IF(PROCESADOR!O2818>0,PROCESADOR!O2818,\"\")","v":""}]
[{"$f":"IF(PROCESADOR!O2819>0,PROCESADOR!O2819,\"\")","v":""}]
[{"$f":"IF(PROCESADOR!O2820>0,PROCESADOR!O2820,\"\")","v":""}]
[{"$f":"IF(PROCESADOR!O2821>0,PROCESADOR!O2821,\"\")","v":""}]
[{"$f":"IF(PROCESADOR!O2822>0,PROCESADOR!O2822,\"\")","v":""}]
[{"$f":"IF(PROCESADOR!O2823>0,PROCESADOR!O2823,\"\")","v":""}]
[{"$f":"IF(PROCESADOR!O2824>0,PROCESADOR!O2824,\"\")","v":""}]
[{"$f":"IF(PROCESADOR!O2825>0,PROCESADOR!O2825,\"\")","v":""}]
[{"$f":"IF(PROCESADOR!O2826>0,PROCESADOR!O2826,\"\")","v":""}]
[{"$f":"IF(PROCESADOR!O2827>0,PROCESADOR!O2827,\"\")","v":""}]
[{"$f":"IF(PROCESADOR!O2828>0,PROCESADOR!O2828,\"\")","v":""}]
[{"$f":"IF(PROCESADOR!O2829>0,PROCESADOR!O2829,\"\")","v":""}]
[{"$f":"IF(PROCESADOR!O2830>0,PROCESADOR!O2830,\"\")","v":""}]
[{"$f":"IF(PROCESADOR!O2831>0,PROCESADOR!O2831,\"\")","v":""}]
[{"$f":"IF(PROCESADOR!O2832>0,PROCESADOR!O2832,\"\")","v":""}]
[{"$f":"IF(PROCESADOR!O2833>0,PROCESADOR!O2833,\"\")","v":""}]
[{"$f":"IF(PROCESADOR!O2834>0,PROCESADOR!O2834,\"\")","v":""}]
[{"$f":"IF(PROCESADOR!O2835>0,PROCESADOR!O2835,\"\")","v":""}]
[{"$f":"IF(PROCESADOR!O2836>0,PROCESADOR!O2836,\"\")","v":""}]
[{"$f":"IF(PROCESADOR!O2837>0,PROCESADOR!O2837,\"\")","v":""}]
[{"$f":"IF(PROCESADOR!O2838>0,PROCESADOR!O2838,\"\")","v":""}]
[{"$f":"IF(PROCESADOR!O2839>0,PROCESADOR!O2839,\"\")","v":""}]
[{"$f":"IF(PROCESADOR!O2840>0,PROCESADOR!O2840,\"\")","v":""}]
[{"$f":"IF(PROCESADOR!O2841>0,PROCESADOR!O2841,\"\")","v":""}]
[{"$f":"IF(PROCESADOR!O2842>0,PROCESADOR!O2842,\"\")","v":""}]
[{"$f":"IF(PROCESADOR!O2843>0,PROCESADOR!O2843,\"\")","v":""}]
[{"$f":"IF(PROCESADOR!O2844>0,PROCESADOR!O2844,\"\")","v":""}]
[{"$f":"IF(PROCESADOR!O2845>0,PROCESADOR!O2845,\"\")","v":""}]
[{"$f":"IF(PROCESADOR!O2846>0,PROCESADOR!O2846,\"\")","v":""}]
[{"$f":"IF(PROCESADOR!O2847>0,PROCESADOR!O2847,\"\")","v":""}]
[{"$f":"IF(PROCESADOR!O2848>0,PROCESADOR!O2848,\"\")","v":""}]
[{"$f":"IF(PROCESADOR!O2849>0,PROCESADOR!O2849,\"\")","v":""}]
[{"$f":"IF(PROCESADOR!O2850>0,PROCESADOR!O2850,\"\")","v":""}]
[{"$f":"IF(PROCESADOR!O2851>0,PROCESADOR!O2851,\"\")","v":""}]
[{"$f":"IF(PROCESADOR!O2852>0,PROCESADOR!O2852,\"\")","v":""}]
[{"$f":"IF(PROCESADOR!O2853>0,PROCESADOR!O2853,\"\")","v":""}]
[{"$f":"IF(PROCESADOR!O2854>0,PROCESADOR!O2854,\"\")","v":""}]
[{"$f":"IF(PROCESADOR!O2855>0,PROCESADOR!O2855,\"\")","v":""}]
[{"$f":"IF(PROCESADOR!O2856>0,PROCESADOR!O2856,\"\")","v":""}]
[{"$f":"IF(PROCESADOR!O2857>0,PROCESADOR!O2857,\"\")","v":""}]
[{"$f":"IF(PROCESADOR!O2858>0,PROCESADOR!O2858,\"\")","v":""}]
[{"$f":"IF(PROCESADOR!O2859>0,PROCESADOR!O2859,\"\")","v":""}]
[{"$f":"IF(PROCESADOR!O2860>0,PROCESADOR!O2860,\"\")","v":""}]
[{"$f":"IF(PROCESADOR!O2861>0,PROCESADOR!O2861,\"\")","v":""}]
[{"$f":"IF(PROCESADOR!O2862>0,PROCESADOR!O2862,\"\")","v":""}]
[{"$f":"IF(PROCESADOR!O2863>0,PROCESADOR!O2863,\"\")","v":""}]
[{"$f":"IF(PROCESADOR!O2864>0,PROCESADOR!O2864,\"\")","v":""}]
[{"$f":"IF(PROCESADOR!O2865>0,PROCESADOR!O2865,\"\")","v":""}]
[{"$f":"IF(PROCESADOR!O2866>0,PROCESADOR!O2866,\"\")","v":""}]
[{"$f":"IF(PROCESADOR!O2867>0,PROCESADOR!O2867,\"\")","v":""}]
[{"$f":"IF(PROCESADOR!O2868>0,PROCESADOR!O2868,\"\")","v":""}]
[{"$f":"IF(PROCESADOR!O2869>0,PROCESADOR!O2869,\"\")","v":""}]
[{"$f":"IF(PROCESADOR!O2870>0,PROCESADOR!O2870,\"\")","v":""}]
[{"$f":"IF(PROCESADOR!O2871>0,PROCESADOR!O2871,\"\")","v":""}]
[{"$f":"IF(PROCESADOR!O2872>0,PROCESADOR!O2872,\"\")","v":""}]
[{"$f":"IF(PROCESADOR!O2873>0,PROCESADOR!O2873,\"\")","v":""}]
[{"$f":"IF(PROCESADOR!O2874>0,PROCESADOR!O2874,\"\")","v":""}]
[{"$f":"IF(PROCESADOR!O2875>0,PROCESADOR!O2875,\"\")","v":""}]
[{"$f":"IF(PROCESADOR!O2876>0,PROCESADOR!O2876,\"\")","v":""}]
[{"$f":"IF(PROCESADOR!O2877>0,PROCESADOR!O2877,\"\")","v":""}]
[{"$f":"IF(PROCESADOR!O2878>0,PROCESADOR!O2878,\"\")","v":""}]
[{"$f":"IF(PROCESADOR!O2879>0,PROCESADOR!O2879,\"\")","v":""}]
[{"$f":"IF(PROCESADOR!O2880>0,PROCESADOR!O2880,\"\")","v":""}]
[{"$f":"IF(PROCESADOR!O2881>0,PROCESADOR!O2881,\"\")","v":""}]
[{"$f":"IF(PROCESADOR!O2882>0,PROCESADOR!O2882,\"\")","v":""}]
[{"$f":"IF(PROCESADOR!O2883>0,PROCESADOR!O2883,\"\")","v":""}]
[{"$f":"IF(PROCESADOR!O2884>0,PROCESADOR!O2884,\"\")","v":""}]
[{"$f":"IF(PROCESADOR!O2885>0,PROCESADOR!O2885,\"\")","v":""}]
[{"$f":"IF(PROCESADOR!O2886>0,PROCESADOR!O2886,\"\")","v":""}]
[{"$f":"IF(PROCESADOR!O2887>0,PROCESADOR!O2887,\"\")","v":""}]
[{"$f":"IF(PROCESADOR!O2888>0,PROCESADOR!O2888,\"\")","v":""}]
[{"$f":"IF(PROCESADOR!O2889>0,PROCESADOR!O2889,\"\")","v":""}]
[{"$f":"IF(PROCESADOR!O2890>0,PROCESADOR!O2890,\"\")","v":""}]
[{"$f":"IF(PROCESADOR!O2891>0,PROCESADOR!O2891,\"\")","v":""}]
[{"$f":"IF(PROCESADOR!O2892>0,PROCESADOR!O2892,\"\")","v":""}]
[{"$f":"IF(PROCESADOR!O2893>0,PROCESADOR!O2893,\"\")","v":""}]
[{"$f":"IF(PROCESADOR!O2894>0,PROCESADOR!O2894,\"\")","v":""}]
[{"$f":"IF(PROCESADOR!O2895>0,PROCESADOR!O2895,\"\")","v":""}]
[{"$f":"IF(PROCESADOR!O2896>0,PROCESADOR!O2896,\"\")","v":""}]
[{"$f":"IF(PROCESADOR!O2897>0,PROCESADOR!O2897,\"\")","v":""}]
[{"$f":"IF(PROCESADOR!O2898>0,PROCESADOR!O2898,\"\")","v":""}]
[{"$f":"IF(PROCESADOR!O2899>0,PROCESADOR!O2899,\"\")","v":""}]
[{"$f":"IF(PROCESADOR!O2900>0,PROCESADOR!O2900,\"\")","v":""}]
[{"$f":"IF(PROCESADOR!O2901>0,PROCESADOR!O2901,\"\")","v":""}]
[{"$f":"IF(PROCESADOR!O2902>0,PROCESADOR!O2902,\"\")","v":""}]
[{"$f":"IF(PROCESADOR!O2903>0,PROCESADOR!O2903,\"\")","v":""}]
[{"$f":"IF(PROCESADOR!O2904>0,PROCESADOR!O2904,\"\")","v":""}]
[{"$f":"IF(PROCESADOR!O2905>0,PROCESADOR!O2905,\"\")","v":""}]
[{"$f":"IF(PROCESADOR!O2906>0,PROCESADOR!O2906,\"\")","v":""}]
[{"$f":"IF(PROCESADOR!O2907>0,PROCESADOR!O2907,\"\")","v":""}]
[{"$f":"IF(PROCESADOR!O2908>0,PROCESADOR!O2908,\"\")","v":""}]
[{"$f":"IF(PROCESADOR!O2909>0,PROCESADOR!O2909,\"\")","v":""}]
[{"$f":"IF(PROCESADOR!O2910>0,PROCESADOR!O2910,\"\")","v":""}]
[{"$f":"IF(PROCESADOR!O2911>0,PROCESADOR!O2911,\"\")","v":""}]
[{"$f":"IF(PROCESADOR!O2912>0,PROCESADOR!O2912,\"\")","v":""}]
[{"$f":"IF(PROCESADOR!O2913>0,PROCESADOR!O2913,\"\")","v":""}]
[{"$f":"IF(PROCESADOR!O2914>0,PROCESADOR!O2914,\"\")","v":""}]
[{"$f":"IF(PROCESADOR!O2915>0,PROCESADOR!O2915,\"\")","v":""}]
[{"$f":"IF(PROCESADOR!O2916>0,PROCESADOR!O2916,\"\")","v":""}]
[{"$f":"IF(PROCESADOR!O2917>0,PROCESADOR!O2917,\"\")","v":""}]
[{"$f":"IF(PROCESADOR!O2918>0,PROCESADOR!O2918,\"\")","v":""}]
[{"$f":"IF(PROCESADOR!O2919>0,PROCESADOR!O2919,\"\")","v":""}]
[{"$f":"IF(PROCESADOR!O2920>0,PROCESADOR!O2920,\"\")","v":""}]
[{"$f":"IF(PROCESADOR!O2921>0,PROCESADOR!O2921,\"\")","v":""}]
[{"$f":"IF(PROCESADOR!O2922>0,PROCESADOR!O2922,\"\")","v":""}]
[{"$f":"IF(PROCESADOR!O2923>0,PROCESADOR!O2923,\"\")","v":""}]
[{"$f":"IF(PROCESADOR!O2924>0,PROCESADOR!O2924,\"\")","v":""}]
[{"$f":"IF(PROCESADOR!O2925>0,PROCESADOR!O2925,\"\")","v":""}]
[{"$f":"IF(PROCESADOR!O2926>0,PROCESADOR!O2926,\"\")","v":""}]
[{"$f":"IF(PROCESADOR!O2927>0,PROCESADOR!O2927,\"\")","v":""}]
[{"$f":"IF(PROCESADOR!O2928>0,PROCESADOR!O2928,\"\")","v":""}]
[{"$f":"IF(PROCESADOR!O2929>0,PROCESADOR!O2929,\"\")","v":""}]
[{"$f":"IF(PROCESADOR!O2930>0,PROCESADOR!O2930,\"\")","v":""}]
[{"$f":"IF(PROCESADOR!O2931>0,PROCESADOR!O2931,\"\")","v":""}]
[{"$f":"IF(PROCESADOR!O2932>0,PROCESADOR!O2932,\"\")","v":""}]
[{"$f":"IF(PROCESADOR!O2933>0,PROCESADOR!O2933,\"\")","v":""}]
[{"$f":"IF(PROCESADOR!O2934>0,PROCESADOR!O2934,\"\")","v":""}]
[{"$f":"IF(PROCESADOR!O2935>0,PROCESADOR!O2935,\"\")","v":""}]
[{"$f":"IF(PROCESADOR!O2936>0,PROCESADOR!O2936,\"\")","v":""}]
[{"$f":"IF(PROCESADOR!O2937>0,PROCESADOR!O2937,\"\")","v":""}]
[{"$f":"IF(PROCESADOR!O2938>0,PROCESADOR!O2938,\"\")","v":""}]
[{"$f":"IF(PROCESADOR!O2939>0,PROCESADOR!O2939,\"\")","v":""}]
[{"$f":"IF(PROCESADOR!O2940>0,PROCESADOR!O2940,\"\")","v":""}]
[{"$f":"IF(PROCESADOR!O2941>0,PROCESADOR!O2941,\"\")","v":""}]
[{"$f":"IF(PROCESADOR!O2942>0,PROCESADOR!O2942,\"\")","v":""}]
[{"$f":"IF(PROCESADOR!O2943>0,PROCESADOR!O2943,\"\")","v":""}]
[{"$f":"IF(PROCESADOR!O2944>0,PROCESADOR!O2944,\"\")","v":""}]
[{"$f":"IF(PROCESADOR!O2945>0,PROCESADOR!O2945,\"\")","v":""}]
[{"$f":"IF(PROCESADOR!O2946>0,PROCESADOR!O2946,\"\")","v":""}]
[{"$f":"IF(PROCESADOR!O2947>0,PROCESADOR!O2947,\"\")","v":""}]
[{"$f":"IF(PROCESADOR!O2948>0,PROCESADOR!O2948,\"\")","v":""}]
[{"$f":"IF(PROCESADOR!O2949>0,PROCESADOR!O2949,\"\")","v":""}]
[{"$f":"IF(PROCESADOR!O2950>0,PROCESADOR!O2950,\"\")","v":""}]
[{"$f":"IF(PROCESADOR!O2951>0,PROCESADOR!O2951,\"\")","v":""}]
[{"$f":"IF(PROCESADOR!O2952>0,PROCESADOR!O2952,\"\")","v":""}]
[{"$f":"IF(PROCESADOR!O2953>0,PROCESADOR!O2953,\"\")","v":""}]
[{"$f":"IF(PROCESADOR!O2954>0,PROCESADOR!O2954,\"\")","v":""}]
[{"$f":"IF(PROCESADOR!O2955>0,PROCESADOR!O2955,\"\")","v":""}]
[{"$f":"IF(PROCESADOR!O2956>0,PROCESADOR!O2956,\"\")","v":""}]
[{"$f":"IF(PROCESADOR!O2957>0,PROCESADOR!O2957,\"\")","v":""}]
[{"$f":"IF(PROCESADOR!O2958>0,PROCESADOR!O2958,\"\")","v":""}]
[{"$f":"IF(PROCESADOR!O2959>0,PROCESADOR!O2959,\"\")","v":""}]
[{"$f":"IF(PROCESADOR!O2960>0,PROCESADOR!O2960,\"\")","v":""}]
[{"$f":"IF(PROCESADOR!O2961>0,PROCESADOR!O2961,\"\")","v":""}]
[{"$f":"IF(PROCESADOR!O2962>0,PROCESADOR!O2962,\"\")","v":""}]
[{"$f":"IF(PROCESADOR!O2963>0,PROCESADOR!O2963,\"\")","v":""}]
[{"$f":"IF(PROCESADOR!O2964>0,PROCESADOR!O2964,\"\")","v":""}]
[{"$f":"IF(PROCESADOR!O2965>0,PROCESADOR!O2965,\"\")","v":""}]
[{"$f":"IF(PROCESADOR!O2966>0,PROCESADOR!O2966,\"\")","v":""}]
[{"$f":"IF(PROCESADOR!O2967>0,PROCESADOR!O2967,\"\")","v":""}]
[{"$f":"IF(PROCESADOR!O2968>0,PROCESADOR!O2968,\"\")","v":""}]
[{"$f":"IF(PROCESADOR!O2969>0,PROCESADOR!O2969,\"\")","v":""}]
[{"$f":"IF(PROCESADOR!O2970>0,PROCESADOR!O2970,\"\")","v":""}]
[{"$f":"IF(PROCESADOR!O2971>0,PROCESADOR!O2971,\"\")","v":""}]
[{"$f":"IF(PROCESADOR!O2972>0,PROCESADOR!O2972,\"\")","v":""}]
[{"$f":"IF(PROCESADOR!O2973>0,PROCESADOR!O2973,\"\")","v":""}]
[{"$f":"IF(PROCESADOR!O2974>0,PROCESADOR!O2974,\"\")","v":""}]
[{"$f":"IF(PROCESADOR!O2975>0,PROCESADOR!O2975,\"\")","v":""}]
[{"$f":"IF(PROCESADOR!O2976>0,PROCESADOR!O2976,\"\")","v":""}]
[{"$f":"IF(PROCESADOR!O2977>0,PROCESADOR!O2977,\"\")","v":""}]
[{"$f":"IF(PROCESADOR!O2978>0,PROCESADOR!O2978,\"\")","v":""}]
[{"$f":"IF(PROCESADOR!O2979>0,PROCESADOR!O2979,\"\")","v":""}]
[{"$f":"IF(PROCESADOR!O2980>0,PROCESADOR!O2980,\"\")","v":""}]
[{"$f":"IF(PROCESADOR!O2981>0,PROCESADOR!O2981,\"\")","v":""}]
[{"$f":"IF(PROCESADOR!O2982>0,PROCESADOR!O2982,\"\")","v":""}]
[{"$f":"IF(PROCESADOR!O2983>0,PROCESADOR!O2983,\"\")","v":""}]
[{"$f":"IF(PROCESADOR!O2984>0,PROCESADOR!O2984,\"\")","v":""}]
[{"$f":"IF(PROCESADOR!O2985>0,PROCESADOR!O2985,\"\")","v":""}]
[{"$f":"IF(PROCESADOR!O2986>0,PROCESADOR!O2986,\"\")","v":""}]
[{"$f":"IF(PROCESADOR!O2987>0,PROCESADOR!O2987,\"\")","v":""}]
[{"$f":"IF(PROCESADOR!O2988>0,PROCESADOR!O2988,\"\")","v":""}]
[{"$f":"IF(PROCESADOR!O2989>0,PROCESADOR!O2989,\"\")","v":""}]
[{"$f":"IF(PROCESADOR!O2990>0,PROCESADOR!O2990,\"\")","v":""}]
[{"$f":"IF(PROCESADOR!O2991>0,PROCESADOR!O2991,\"\")","v":""}]
[{"$f":"IF(PROCESADOR!O2992>0,PROCESADOR!O2992,\"\")","v":""}]
[{"$f":"IF(PROCESADOR!O2993>0,PROCESADOR!O2993,\"\")","v":""}]
[{"$f":"IF(PROCESADOR!O2994>0,PROCESADOR!O2994,\"\")","v":""}]
[{"$f":"IF(PROCESADOR!O2995>0,PROCESADOR!O2995,\"\")","v":""}]
[{"$f":"IF(PROCESADOR!O2996>0,PROCESADOR!O2996,\"\")","v":""}]
[{"$f":"IF(PROCESADOR!O2997>0,PROCESADOR!O2997,\"\")","v":""}]
[{"$f":"IF(PROCESADOR!O2998>0,PROCESADOR!O2998,\"\")","v":""}]
[{"$f":"IF(PROCESADOR!O2999>0,PROCESADOR!O2999,\"\")","v":""}]
[{"$f":"IF(PROCESADOR!O3000>0,PROCESADOR!O3000,\"\")","v":""}]
[{"$f":"IF(PROCESADOR!O3001>0,PROCESADOR!O3001,\"\")","v":""}]
[{"$f":"IF(PROCESADOR!O3002>0,PROCESADOR!O3002,\"\")","v":""}]
[{"$f":"IF(PROCESADOR!O3003>0,PROCESADOR!O3003,\"\")","v":""}]
[{"$f":"IF(PROCESADOR!O3004>0,PROCESADOR!O3004,\"\")","v":""}]
[{"$f":"IF(PROCESADOR!O3005>0,PROCESADOR!O3005,\"\")","v":""}]
[{"$f":"IF(PROCESADOR!O3006>0,PROCESADOR!O3006,\"\")","v":""}]
[{"$f":"IF(PROCESADOR!O3007>0,PROCESADOR!O3007,\"\")","v":""}]
[{"$f":"IF(PROCESADOR!O3008>0,PROCESADOR!O3008,\"\")","v":""}]
[{"$f":"IF(PROCESADOR!O3009>0,PROCESADOR!O3009,\"\")","v":""}]
[{"$f":"IF(PROCESADOR!O3010>0,PROCESADOR!O3010,\"\")","v":""}]
[{"$f":"IF(PROCESADOR!O3011>0,PROCESADOR!O3011,\"\")","v":""}]
[{"$f":"IF(PROCESADOR!O3012>0,PROCESADOR!O3012,\"\")","v":""}]
[{"$f":"IF(PROCESADOR!O3013>0,PROCESADOR!O3013,\"\")","v":""}]
[{"$f":"IF(PROCESADOR!O3014>0,PROCESADOR!O3014,\"\")","v":""}]
[{"$f":"IF(PROCESADOR!O3015>0,PROCESADOR!O3015,\"\")","v":""}]
[{"$f":"IF(PROCESADOR!O3016>0,PROCESADOR!O3016,\"\")","v":""}]
[{"$f":"IF(PROCESADOR!O3017>0,PROCESADOR!O3017,\"\")","v":""}]
[{"$f":"IF(PROCESADOR!O3018>0,PROCESADOR!O3018,\"\")","v":""}]
[{"$f":"IF(PROCESADOR!O3019>0,PROCESADOR!O3019,\"\")","v":""}]
[{"$f":"IF(PROCESADOR!O3020>0,PROCESADOR!O3020,\"\")","v":""}]
[{"$f":"IF(PROCESADOR!O3021>0,PROCESADOR!O3021,\"\")","v":""}]
[{"$f":"IF(PROCESADOR!O3022>0,PROCESADOR!O3022,\"\")","v":""}]
[{"$f":"IF(PROCESADOR!O3023>0,PROCESADOR!O3023,\"\")","v":""}]
[{"$f":"IF(PROCESADOR!O3024>0,PROCESADOR!O3024,\"\")","v":""}]
[{"$f":"IF(PROCESADOR!O3025>0,PROCESADOR!O3025,\"\")","v":""}]
[{"$f":"IF(PROCESADOR!O3026>0,PROCESADOR!O3026,\"\")","v":""}]
[{"$f":"IF(PROCESADOR!O3027>0,PROCESADOR!O3027,\"\")","v":""}]
[{"$f":"IF(PROCESADOR!O3028>0,PROCESADOR!O3028,\"\")","v":""}]
[{"$f":"IF(PROCESADOR!O3029>0,PROCESADOR!O3029,\"\")","v":""}]
[{"$f":"IF(PROCESADOR!O3030>0,PROCESADOR!O3030,\"\")","v":""}]
[{"$f":"IF(PROCESADOR!O3031>0,PROCESADOR!O3031,\"\")","v":""}]
[{"$f":"IF(PROCESADOR!O3032>0,PROCESADOR!O3032,\"\")","v":""}]
[{"$f":"IF(PROCESADOR!O3033>0,PROCESADOR!O3033,\"\")","v":""}]
[{"$f":"IF(PROCESADOR!O3034>0,PROCESADOR!O3034,\"\")","v":""}]
[{"$f":"IF(PROCESADOR!O3035>0,PROCESADOR!O3035,\"\")","v":""}]
[{"$f":"IF(PROCESADOR!O3036>0,PROCESADOR!O3036,\"\")","v":""}]
[{"$f":"IF(PROCESADOR!O3037>0,PROCESADOR!O3037,\"\")","v":""}]
[{"$f":"IF(PROCESADOR!O3038>0,PROCESADOR!O3038,\"\")","v":""}]
[{"$f":"IF(PROCESADOR!O3039>0,PROCESADOR!O3039,\"\")","v":""}]
[{"$f":"IF(PROCESADOR!O3040>0,PROCESADOR!O3040,\"\")","v":""}]
[{"$f":"IF(PROCESADOR!O3041>0,PROCESADOR!O3041,\"\")","v":""}]
[{"$f":"IF(PROCESADOR!O3042>0,PROCESADOR!O3042,\"\")","v":""}]
[{"$f":"IF(PROCESADOR!O3043>0,PROCESADOR!O3043,\"\")","v":""}]
[{"$f":"IF(PROCESADOR!O3044>0,PROCESADOR!O3044,\"\")","v":""}]
[{"$f":"IF(PROCESADOR!O3045>0,PROCESADOR!O3045,\"\")","v":""}]
[{"$f":"IF(PROCESADOR!O3046>0,PROCESADOR!O3046,\"\")","v":""}]
[{"$f":"IF(PROCESADOR!O3047>0,PROCESADOR!O3047,\"\")","v":""}]
[{"$f":"IF(PROCESADOR!O3048>0,PROCESADOR!O3048,\"\")","v":""}]
[{"$f":"IF(PROCESADOR!O3049>0,PROCESADOR!O3049,\"\")","v":""}]
[{"$f":"IF(PROCESADOR!O3050>0,PROCESADOR!O3050,\"\")","v":""}]
[{"$f":"IF(PROCESADOR!O3051>0,PROCESADOR!O3051,\"\")","v":""}]
[{"$f":"IF(PROCESADOR!O3052>0,PROCESADOR!O3052,\"\")","v":""}]
[{"$f":"IF(PROCESADOR!O3053>0,PROCESADOR!O3053,\"\")","v":""}]
[{"$f":"IF(PROCESADOR!O3054>0,PROCESADOR!O3054,\"\")","v":""}]
[{"$f":"IF(PROCESADOR!O3055>0,PROCESADOR!O3055,\"\")","v":""}]
[{"$f":"IF(PROCESADOR!O3056>0,PROCESADOR!O3056,\"\")","v":""}]
[{"$f":"IF(PROCESADOR!O3057>0,PROCESADOR!O3057,\"\")","v":""}]
[{"$f":"IF(PROCESADOR!O3058>0,PROCESADOR!O3058,\"\")","v":""}]
[{"$f":"IF(PROCESADOR!O3059>0,PROCESADOR!O3059,\"\")","v":""}]
[{"$f":"IF(PROCESADOR!O3060>0,PROCESADOR!O3060,\"\")","v":""}]
[{"$f":"IF(PROCESADOR!O3061>0,PROCESADOR!O3061,\"\")","v":""}]
[{"$f":"IF(PROCESADOR!O3062>0,PROCESADOR!O3062,\"\")","v":""}]
[{"$f":"IF(PROCESADOR!O3063>0,PROCESADOR!O3063,\"\")","v":""}]
[{"$f":"IF(PROCESADOR!O3064>0,PROCESADOR!O3064,\"\")","v":""}]
[{"$f":"IF(PROCESADOR!O3065>0,PROCESADOR!O3065,\"\")","v":""}]
[{"$f":"IF(PROCESADOR!O3066>0,PROCESADOR!O3066,\"\")","v":""}]
[{"$f":"IF(PROCESADOR!O3067>0,PROCESADOR!O3067,\"\")","v":""}]
[{"$f":"IF(PROCESADOR!O3068>0,PROCESADOR!O3068,\"\")","v":""}]
[{"$f":"IF(PROCESADOR!O3069>0,PROCESADOR!O3069,\"\")","v":""}]
[{"$f":"IF(PROCESADOR!O3070>0,PROCESADOR!O3070,\"\")","v":""}]
[{"$f":"IF(PROCESADOR!O3071>0,PROCESADOR!O3071,\"\")","v":""}]
[{"$f":"IF(PROCESADOR!O3072>0,PROCESADOR!O3072,\"\")","v":""}]
[{"$f":"IF(PROCESADOR!O3073>0,PROCESADOR!O3073,\"\")","v":""}]
[{"$f":"IF(PROCESADOR!O3074>0,PROCESADOR!O3074,\"\")","v":""}]
[{"$f":"IF(PROCESADOR!O3075>0,PROCESADOR!O3075,\"\")","v":""}]
[{"$f":"IF(PROCESADOR!O3076>0,PROCESADOR!O3076,\"\")","v":""}]
[{"$f":"IF(PROCESADOR!O3077>0,PROCESADOR!O3077,\"\")","v":""}]
[{"$f":"IF(PROCESADOR!O3078>0,PROCESADOR!O3078,\"\")","v":""}]
[{"$f":"IF(PROCESADOR!O3079>0,PROCESADOR!O3079,\"\")","v":""}]
[{"$f":"IF(PROCESADOR!O3080>0,PROCESADOR!O3080,\"\")","v":""}]
[{"$f":"IF(PROCESADOR!O3081>0,PROCESADOR!O3081,\"\")","v":""}]
[{"$f":"IF(PROCESADOR!O3082>0,PROCESADOR!O3082,\"\")","v":""}]
[{"$f":"IF(PROCESADOR!O3083>0,PROCESADOR!O3083,\"\")","v":""}]
[{"$f":"IF(PROCESADOR!O3084>0,PROCESADOR!O3084,\"\")","v":""}]
[{"$f":"IF(PROCESADOR!O3085>0,PROCESADOR!O3085,\"\")","v":""}]
[{"$f":"IF(PROCESADOR!O3086>0,PROCESADOR!O3086,\"\")","v":""}]
[{"$f":"IF(PROCESADOR!O3087>0,PROCESADOR!O3087,\"\")","v":""}]
[{"$f":"IF(PROCESADOR!O3088>0,PROCESADOR!O3088,\"\")","v":""}]
[{"$f":"IF(PROCESADOR!O3089>0,PROCESADOR!O3089,\"\")","v":""}]
[{"$f":"IF(PROCESADOR!O3090>0,PROCESADOR!O3090,\"\")","v":""}]
[{"$f":"IF(PROCESADOR!O3091>0,PROCESADOR!O3091,\"\")","v":""}]
[{"$f":"IF(PROCESADOR!O3092>0,PROCESADOR!O3092,\"\")","v":""}]
[{"$f":"IF(PROCESADOR!O3093>0,PROCESADOR!O3093,\"\")","v":""}]
[{"$f":"IF(PROCESADOR!O3094>0,PROCESADOR!O3094,\"\")","v":""}]
[{"$f":"IF(PROCESADOR!O3095>0,PROCESADOR!O3095,\"\")","v":""}]
[{"$f":"IF(PROCESADOR!O3096>0,PROCESADOR!O3096,\"\")","v":""}]
[{"$f":"IF(PROCESADOR!O3097>0,PROCESADOR!O3097,\"\")","v":""}]
[{"$f":"IF(PROCESADOR!O3098>0,PROCESADOR!O3098,\"\")","v":""}]
[{"$f":"IF(PROCESADOR!O3099>0,PROCESADOR!O3099,\"\")","v":""}]
[{"$f":"IF(PROCESADOR!O3100>0,PROCESADOR!O3100,\"\")","v":""}]
[{"$f":"IF(PROCESADOR!O3101>0,PROCESADOR!O3101,\"\")","v":""}]
[{"$f":"IF(PROCESADOR!O3102>0,PROCESADOR!O3102,\"\")","v":""}]
[{"$f":"IF(PROCESADOR!O3103>0,PROCESADOR!O3103,\"\")","v":""}]
[{"$f":"IF(PROCESADOR!O3104>0,PROCESADOR!O3104,\"\")","v":""}]
[{"$f":"IF(PROCESADOR!O3105>0,PROCESADOR!O3105,\"\")","v":""}]
[{"$f":"IF(PROCESADOR!O3106>0,PROCESADOR!O3106,\"\")","v":""}]
[{"$f":"IF(PROCESADOR!O3107>0,PROCESADOR!O3107,\"\")","v":""}]
[{"$f":"IF(PROCESADOR!O3108>0,PROCESADOR!O3108,\"\")","v":""}]
[{"$f":"IF(PROCESADOR!O3109>0,PROCESADOR!O3109,\"\")","v":""}]
[{"$f":"IF(PROCESADOR!O3110>0,PROCESADOR!O3110,\"\")","v":""}]
[{"$f":"IF(PROCESADOR!O3111>0,PROCESADOR!O3111,\"\")","v":""}]
[{"$f":"IF(PROCESADOR!O3112>0,PROCESADOR!O3112,\"\")","v":""}]
[{"$f":"IF(PROCESADOR!O3113>0,PROCESADOR!O3113,\"\")","v":""}]
[{"$f":"IF(PROCESADOR!O3114>0,PROCESADOR!O3114,\"\")","v":""}]
[{"$f":"IF(PROCESADOR!O3115>0,PROCESADOR!O3115,\"\")","v":""}]
[{"$f":"IF(PROCESADOR!O3116>0,PROCESADOR!O3116,\"\")","v":""}]
[{"$f":"IF(PROCESADOR!O3117>0,PROCESADOR!O3117,\"\")","v":""}]
[{"$f":"IF(PROCESADOR!O3118>0,PROCESADOR!O3118,\"\")","v":""}]
[{"$f":"IF(PROCESADOR!O3119>0,PROCESADOR!O3119,\"\")","v":""}]
[{"$f":"IF(PROCESADOR!O3120>0,PROCESADOR!O3120,\"\")","v":""}]
[{"$f":"IF(PROCESADOR!O3121>0,PROCESADOR!O3121,\"\")","v":""}]
[{"$f":"IF(PROCESADOR!O3122>0,PROCESADOR!O3122,\"\")","v":""}]
[{"$f":"IF(PROCESADOR!O3123>0,PROCESADOR!O3123,\"\")","v":""}]
[{"$f":"IF(PROCESADOR!O3124>0,PROCESADOR!O3124,\"\")","v":""}]
[{"$f":"IF(PROCESADOR!O3125>0,PROCESADOR!O3125,\"\")","v":""}]
[{"$f":"IF(PROCESADOR!O3126>0,PROCESADOR!O3126,\"\")","v":""}]
[{"$f":"IF(PROCESADOR!O3127>0,PROCESADOR!O3127,\"\")","v":""}]
[{"$f":"IF(PROCESADOR!O3128>0,PROCESADOR!O3128,\"\")","v":""}]
[{"$f":"IF(PROCESADOR!O3129>0,PROCESADOR!O3129,\"\")","v":""}]
[{"$f":"IF(PROCESADOR!O3130>0,PROCESADOR!O3130,\"\")","v":""}]
[{"$f":"IF(PROCESADOR!O3131>0,PROCESADOR!O3131,\"\")","v":""}]
[{"$f":"IF(PROCESADOR!O3132>0,PROCESADOR!O3132,\"\")","v":""}]
[{"$f":"IF(PROCESADOR!O3133>0,PROCESADOR!O3133,\"\")","v":""}]
[{"$f":"IF(PROCESADOR!O3134>0,PROCESADOR!O3134,\"\")","v":""}]
[{"$f":"IF(PROCESADOR!O3135>0,PROCESADOR!O3135,\"\")","v":""}]
[{"$f":"IF(PROCESADOR!O3136>0,PROCESADOR!O3136,\"\")","v":""}]
[{"$f":"IF(PROCESADOR!O3137>0,PROCESADOR!O3137,\"\")","v":""}]
[{"$f":"IF(PROCESADOR!O3138>0,PROCESADOR!O3138,\"\")","v":""}]
[{"$f":"IF(PROCESADOR!O3139>0,PROCESADOR!O3139,\"\")","v":""}]
[{"$f":"IF(PROCESADOR!O3140>0,PROCESADOR!O3140,\"\")","v":""}]
[{"$f":"IF(PROCESADOR!O3141>0,PROCESADOR!O3141,\"\")","v":""}]
[{"$f":"IF(PROCESADOR!O3142>0,PROCESADOR!O3142,\"\")","v":""}]
[{"$f":"IF(PROCESADOR!O3143>0,PROCESADOR!O3143,\"\")","v":""}]
[{"$f":"IF(PROCESADOR!O3144>0,PROCESADOR!O3144,\"\")","v":""}]
[{"$f":"IF(PROCESADOR!O3145>0,PROCESADOR!O3145,\"\")","v":""}]
[{"$f":"IF(PROCESADOR!O3146>0,PROCESADOR!O3146,\"\")","v":""}]
[{"$f":"IF(PROCESADOR!O3147>0,PROCESADOR!O3147,\"\")","v":""}]
[{"$f":"IF(PROCESADOR!O3148>0,PROCESADOR!O3148,\"\")","v":""}]
[{"$f":"IF(PROCESADOR!O3149>0,PROCESADOR!O3149,\"\")","v":""}]
[{"$f":"IF(PROCESADOR!O3150>0,PROCESADOR!O3150,\"\")","v":""}]
[{"$f":"IF(PROCESADOR!O3151>0,PROCESADOR!O3151,\"\")","v":""}]
[{"$f":"IF(PROCESADOR!O3152>0,PROCESADOR!O3152,\"\")","v":""}]
[{"$f":"IF(PROCESADOR!O3153>0,PROCESADOR!O3153,\"\")","v":""}]
[{"$f":"IF(PROCESADOR!O3154>0,PROCESADOR!O3154,\"\")","v":""}]
[{"$f":"IF(PROCESADOR!O3155>0,PROCESADOR!O3155,\"\")","v":""}]
[{"$f":"IF(PROCESADOR!O3156>0,PROCESADOR!O3156,\"\")","v":""}]
[{"$f":"IF(PROCESADOR!O3157>0,PROCESADOR!O3157,\"\")","v":""}]
[{"$f":"IF(PROCESADOR!O3158>0,PROCESADOR!O3158,\"\")","v":""}]
[{"$f":"IF(PROCESADOR!O3159>0,PROCESADOR!O3159,\"\")","v":""}]
[{"$f":"IF(PROCESADOR!O3160>0,PROCESADOR!O3160,\"\")","v":""}]
[{"$f":"IF(PROCESADOR!O3161>0,PROCESADOR!O3161,\"\")","v":""}]
[{"$f":"IF(PROCESADOR!O3162>0,PROCESADOR!O3162,\"\")","v":""}]
[{"$f":"IF(PROCESADOR!O3163>0,PROCESADOR!O3163,\"\")","v":""}]
[{"$f":"IF(PROCESADOR!O3164>0,PROCESADOR!O3164,\"\")","v":""}]
[{"$f":"IF(PROCESADOR!O3165>0,PROCESADOR!O3165,\"\")","v":""}]
[{"$f":"IF(PROCESADOR!O3166>0,PROCESADOR!O3166,\"\")","v":""}]
[{"$f":"IF(PROCESADOR!O3167>0,PROCESADOR!O3167,\"\")","v":""}]
[{"$f":"IF(PROCESADOR!O3168>0,PROCESADOR!O3168,\"\")","v":""}]
[{"$f":"IF(PROCESADOR!O3169>0,PROCESADOR!O3169,\"\")","v":""}]
[{"$f":"IF(PROCESADOR!O3170>0,PROCESADOR!O3170,\"\")","v":""}]
[{"$f":"IF(PROCESADOR!O3171>0,PROCESADOR!O3171,\"\")","v":""}]
[{"$f":"IF(PROCESADOR!O3172>0,PROCESADOR!O3172,\"\")","v":""}]
[{"$f":"IF(PROCESADOR!O3173>0,PROCESADOR!O3173,\"\")","v":""}]
[{"$f":"IF(PROCESADOR!O3174>0,PROCESADOR!O3174,\"\")","v":""}]
[{"$f":"IF(PROCESADOR!O3175>0,PROCESADOR!O3175,\"\")","v":""}]
[{"$f":"IF(PROCESADOR!O3176>0,PROCESADOR!O3176,\"\")","v":""}]
[{"$f":"IF(PROCESADOR!O3177>0,PROCESADOR!O3177,\"\")","v":""}]
[{"$f":"IF(PROCESADOR!O3178>0,PROCESADOR!O3178,\"\")","v":""}]
[{"$f":"IF(PROCESADOR!O3179>0,PROCESADOR!O3179,\"\")","v":""}]
[{"$f":"IF(PROCESADOR!O3180>0,PROCESADOR!O3180,\"\")","v":""}]
[{"$f":"IF(PROCESADOR!O3181>0,PROCESADOR!O3181,\"\")","v":""}]
[{"$f":"IF(PROCESADOR!O3182>0,PROCESADOR!O3182,\"\")","v":""}]
[{"$f":"IF(PROCESADOR!O3183>0,PROCESADOR!O3183,\"\")","v":""}]
[{"$f":"IF(PROCESADOR!O3184>0,PROCESADOR!O3184,\"\")","v":""}]
[{"$f":"IF(PROCESADOR!O3185>0,PROCESADOR!O3185,\"\")","v":""}]
[{"$f":"IF(PROCESADOR!O3186>0,PROCESADOR!O3186,\"\")","v":""}]
[{"$f":"IF(PROCESADOR!O3187>0,PROCESADOR!O3187,\"\")","v":""}]
[{"$f":"IF(PROCESADOR!O3188>0,PROCESADOR!O3188,\"\")","v":""}]
[{"$f":"IF(PROCESADOR!O3189>0,PROCESADOR!O3189,\"\")","v":""}]
[{"$f":"IF(PROCESADOR!O3190>0,PROCESADOR!O3190,\"\")","v":""}]
[{"$f":"IF(PROCESADOR!O3191>0,PROCESADOR!O3191,\"\")","v":""}]
[{"$f":"IF(PROCESADOR!O3192>0,PROCESADOR!O3192,\"\")","v":""}]
[{"$f":"IF(PROCESADOR!O3193>0,PROCESADOR!O3193,\"\")","v":""}]
[{"$f":"IF(PROCESADOR!O3194>0,PROCESADOR!O3194,\"\")","v":""}]
[{"$f":"IF(PROCESADOR!O3195>0,PROCESADOR!O3195,\"\")","v":""}]
[{"$f":"IF(PROCESADOR!O3196>0,PROCESADOR!O3196,\"\")","v":""}]
[{"$f":"IF(PROCESADOR!O3197>0,PROCESADOR!O3197,\"\")","v":""}]
[{"$f":"IF(PROCESADOR!O3198>0,PROCESADOR!O3198,\"\")","v":""}]
[{"$f":"IF(PROCESADOR!O3199>0,PROCESADOR!O3199,\"\")","v":""}]
[{"$f":"IF(PROCESADOR!O3200>0,PROCESADOR!O3200,\"\")","v":""}]
[{"$f":"IF(PROCESADOR!O3201>0,PROCESADOR!O3201,\"\")","v":""}]
[{"$f":"IF(PROCESADOR!O3202>0,PROCESADOR!O3202,\"\")","v":""}]
[{"$f":"IF(PROCESADOR!O3203>0,PROCESADOR!O3203,\"\")","v":""}]
[{"$f":"IF(PROCESADOR!O3204>0,PROCESADOR!O3204,\"\")","v":""}]
[{"$f":"IF(PROCESADOR!O3205>0,PROCESADOR!O3205,\"\")","v":""}]
[{"$f":"IF(PROCESADOR!O3206>0,PROCESADOR!O3206,\"\")","v":""}]
[{"$f":"IF(PROCESADOR!O3207>0,PROCESADOR!O3207,\"\")","v":""}]
[{"$f":"IF(PROCESADOR!O3208>0,PROCESADOR!O3208,\"\")","v":""}]
[{"$f":"IF(PROCESADOR!O3209>0,PROCESADOR!O3209,\"\")","v":""}]
[{"$f":"IF(PROCESADOR!O3210>0,PROCESADOR!O3210,\"\")","v":""}]
[{"$f":"IF(PROCESADOR!O3211>0,PROCESADOR!O3211,\"\")","v":""}]
[{"$f":"IF(PROCESADOR!O3212>0,PROCESADOR!O3212,\"\")","v":""}]
[{"$f":"IF(PROCESADOR!O3213>0,PROCESADOR!O3213,\"\")","v":""}]
[{"$f":"IF(PROCESADOR!O3214>0,PROCESADOR!O3214,\"\")","v":""}]
[{"$f":"IF(PROCESADOR!O3215>0,PROCESADOR!O3215,\"\")","v":""}]
[{"$f":"IF(PROCESADOR!O3216>0,PROCESADOR!O3216,\"\")","v":""}]
[{"$f":"IF(PROCESADOR!O3217>0,PROCESADOR!O3217,\"\")","v":""}]
[{"$f":"IF(PROCESADOR!O3218>0,PROCESADOR!O3218,\"\")","v":""}]
[{"$f":"IF(PROCESADOR!O3219>0,PROCESADOR!O3219,\"\")","v":""}]
[{"$f":"IF(PROCESADOR!O3220>0,PROCESADOR!O3220,\"\")","v":""}]
[{"$f":"IF(PROCESADOR!O3221>0,PROCESADOR!O3221,\"\")","v":""}]
[{"$f":"IF(PROCESADOR!O3222>0,PROCESADOR!O3222,\"\")","v":""}]
[{"$f":"IF(PROCESADOR!O3223>0,PROCESADOR!O3223,\"\")","v":""}]
[{"$f":"IF(PROCESADOR!O3224>0,PROCESADOR!O3224,\"\")","v":""}]
[{"$f":"IF(PROCESADOR!O3225>0,PROCESADOR!O3225,\"\")","v":""}]
[{"$f":"IF(PROCESADOR!O3226>0,PROCESADOR!O3226,\"\")","v":""}]
[{"$f":"IF(PROCESADOR!O3227>0,PROCESADOR!O3227,\"\")","v":""}]
[{"$f":"IF(PROCESADOR!O3228>0,PROCESADOR!O3228,\"\")","v":""}]
[{"$f":"IF(PROCESADOR!O3229>0,PROCESADOR!O3229,\"\")","v":""}]
[{"$f":"IF(PROCESADOR!O3230>0,PROCESADOR!O3230,\"\")","v":""}]
[{"$f":"IF(PROCESADOR!O3231>0,PROCESADOR!O3231,\"\")","v":""}]
[{"$f":"IF(PROCESADOR!O3232>0,PROCESADOR!O3232,\"\")","v":""}]
[{"$f":"IF(PROCESADOR!O3233>0,PROCESADOR!O3233,\"\")","v":""}]
[{"$f":"IF(PROCESADOR!O3234>0,PROCESADOR!O3234,\"\")","v":""}]
[{"$f":"IF(PROCESADOR!O3235>0,PROCESADOR!O3235,\"\")","v":""}]
[{"$f":"IF(PROCESADOR!O3236>0,PROCESADOR!O3236,\"\")","v":""}]
[{"$f":"IF(PROCESADOR!O3237>0,PROCESADOR!O3237,\"\")","v":""}]
[{"$f":"IF(PROCESADOR!O3238>0,PROCESADOR!O3238,\"\")","v":""}]
[{"$f":"IF(PROCESADOR!O3239>0,PROCESADOR!O3239,\"\")","v":""}]
[{"$f":"IF(PROCESADOR!O3240>0,PROCESADOR!O3240,\"\")","v":""}]
[{"$f":"IF(PROCESADOR!O3241>0,PROCESADOR!O3241,\"\")","v":""}]
[{"$f":"IF(PROCESADOR!O3242>0,PROCESADOR!O3242,\"\")","v":""}]
[{"$f":"IF(PROCESADOR!O3243>0,PROCESADOR!O3243,\"\")","v":""}]
[{"$f":"IF(PROCESADOR!O3244>0,PROCESADOR!O3244,\"\")","v":""}]
[{"$f":"IF(PROCESADOR!O3245>0,PROCESADOR!O3245,\"\")","v":""}]
[{"$f":"IF(PROCESADOR!O3246>0,PROCESADOR!O3246,\"\")","v":""}]
[{"$f":"IF(PROCESADOR!O3247>0,PROCESADOR!O3247,\"\")","v":""}]
[{"$f":"IF(PROCESADOR!O3248>0,PROCESADOR!O3248,\"\")","v":""}]
[{"$f":"IF(PROCESADOR!O3249>0,PROCESADOR!O3249,\"\")","v":""}]
[{"$f":"IF(PROCESADOR!O3250>0,PROCESADOR!O3250,\"\")","v":""}]
[{"$f":"IF(PROCESADOR!O3251>0,PROCESADOR!O3251,\"\")","v":""}]
[{"$f":"IF(PROCESADOR!O3252>0,PROCESADOR!O3252,\"\")","v":""}]
[{"$f":"IF(PROCESADOR!O3253>0,PROCESADOR!O3253,\"\")","v":""}]
[{"$f":"IF(PROCESADOR!O3254>0,PROCESADOR!O3254,\"\")","v":""}]
[{"$f":"IF(PROCESADOR!O3255>0,PROCESADOR!O3255,\"\")","v":""}]
[{"$f":"IF(PROCESADOR!O3256>0,PROCESADOR!O3256,\"\")","v":""}]
[{"$f":"IF(PROCESADOR!O3257>0,PROCESADOR!O3257,\"\")","v":""}]
[{"$f":"IF(PROCESADOR!O3258>0,PROCESADOR!O3258,\"\")","v":""}]
[{"$f":"IF(PROCESADOR!O3259>0,PROCESADOR!O3259,\"\")","v":""}]
[{"$f":"IF(PROCESADOR!O3260>0,PROCESADOR!O3260,\"\")","v":""}]
[{"$f":"IF(PROCESADOR!O3261>0,PROCESADOR!O3261,\"\")","v":""}]
[{"$f":"IF(PROCESADOR!O3262>0,PROCESADOR!O3262,\"\")","v":""}]
[{"$f":"IF(PROCESADOR!O3263>0,PROCESADOR!O3263,\"\")","v":""}]
[{"$f":"IF(PROCESADOR!O3264>0,PROCESADOR!O3264,\"\")","v":""}]
[{"$f":"IF(PROCESADOR!O3265>0,PROCESADOR!O3265,\"\")","v":""}]
[{"$f":"IF(PROCESADOR!O3266>0,PROCESADOR!O3266,\"\")","v":""}]
[{"$f":"IF(PROCESADOR!O3267>0,PROCESADOR!O3267,\"\")","v":""}]
[{"$f":"IF(PROCESADOR!O3268>0,PROCESADOR!O3268,\"\")","v":""}]
[{"$f":"IF(PROCESADOR!O3269>0,PROCESADOR!O3269,\"\")","v":""}]
[{"$f":"IF(PROCESADOR!O3270>0,PROCESADOR!O3270,\"\")","v":""}]
[{"$f":"IF(PROCESADOR!O3271>0,PROCESADOR!O3271,\"\")","v":""}]
[{"$f":"IF(PROCESADOR!O3272>0,PROCESADOR!O3272,\"\")","v":""}]
[{"$f":"IF(PROCESADOR!O3273>0,PROCESADOR!O3273,\"\")","v":""}]
[{"$f":"IF(PROCESADOR!O3274>0,PROCESADOR!O3274,\"\")","v":""}]
[{"$f":"IF(PROCESADOR!O3275>0,PROCESADOR!O3275,\"\")","v":""}]
[{"$f":"IF(PROCESADOR!O3276>0,PROCESADOR!O3276,\"\")","v":""}]
[{"$f":"IF(PROCESADOR!O3277>0,PROCESADOR!O3277,\"\")","v":""}]
[{"$f":"IF(PROCESADOR!O3278>0,PROCESADOR!O3278,\"\")","v":""}]
[{"$f":"IF(PROCESADOR!O3279>0,PROCESADOR!O3279,\"\")","v":""}]
[{"$f":"IF(PROCESADOR!O3280>0,PROCESADOR!O3280,\"\")","v":""}]
[{"$f":"IF(PROCESADOR!O3281>0,PROCESADOR!O3281,\"\")","v":""}]
[{"$f":"IF(PROCESADOR!O3282>0,PROCESADOR!O3282,\"\")","v":""}]
[{"$f":"IF(PROCESADOR!O3283>0,PROCESADOR!O3283,\"\")","v":""}]
[{"$f":"IF(PROCESADOR!O3284>0,PROCESADOR!O3284,\"\")","v":""}]
[{"$f":"IF(PROCESADOR!O3285>0,PROCESADOR!O3285,\"\")","v":""}]
[{"$f":"IF(PROCESADOR!O3286>0,PROCESADOR!O3286,\"\")","v":""}]
[{"$f":"IF(PROCESADOR!O3287>0,PROCESADOR!O3287,\"\")","v":""}]
[{"$f":"IF(PROCESADOR!O3288>0,PROCESADOR!O3288,\"\")","v":""}]
[{"$f":"IF(PROCESADOR!O3289>0,PROCESADOR!O3289,\"\")","v":""}]
[{"$f":"IF(PROCESADOR!O3290>0,PROCESADOR!O3290,\"\")","v":""}]
[{"$f":"IF(PROCESADOR!O3291>0,PROCESADOR!O3291,\"\")","v":""}]
[{"$f":"IF(PROCESADOR!O3292>0,PROCESADOR!O3292,\"\")","v":""}]
[{"$f":"IF(PROCESADOR!O3293>0,PROCESADOR!O3293,\"\")","v":""}]
[{"$f":"IF(PROCESADOR!O3294>0,PROCESADOR!O3294,\"\")","v":""}]
[{"$f":"IF(PROCESADOR!O3295>0,PROCESADOR!O3295,\"\")","v":""}]
[{"$f":"IF(PROCESADOR!O3296>0,PROCESADOR!O3296,\"\")","v":""}]
[{"$f":"IF(PROCESADOR!O3297>0,PROCESADOR!O3297,\"\")","v":""}]
[{"$f":"IF(PROCESADOR!O3298>0,PROCESADOR!O3298,\"\")","v":""}]
[{"$f":"IF(PROCESADOR!O3299>0,PROCESADOR!O3299,\"\")","v":""}]
[{"$f":"IF(PROCESADOR!O3300>0,PROCESADOR!O3300,\"\")","v":""}]
[{"$f":"IF(PROCESADOR!O3301>0,PROCESADOR!O3301,\"\")","v":""}]
[{"$f":"IF(PROCESADOR!O3302>0,PROCESADOR!O3302,\"\")","v":""}]
[{"$f":"IF(PROCESADOR!O3303>0,PROCESADOR!O3303,\"\")","v":""}]
[{"$f":"IF(PROCESADOR!O3304>0,PROCESADOR!O3304,\"\")","v":""}]
[{"$f":"IF(PROCESADOR!O3305>0,PROCESADOR!O3305,\"\")","v":""}]
[{"$f":"IF(PROCESADOR!O3306>0,PROCESADOR!O3306,\"\")","v":""}]
[{"$f":"IF(PROCESADOR!O3307>0,PROCESADOR!O3307,\"\")","v":""}]
[{"$f":"IF(PROCESADOR!O3308>0,PROCESADOR!O3308,\"\")","v":""}]
[{"$f":"IF(PROCESADOR!O3309>0,PROCESADOR!O3309,\"\")","v":""}]
[{"$f":"IF(PROCESADOR!O3310>0,PROCESADOR!O3310,\"\")","v":""}]
[{"$f":"IF(PROCESADOR!O3311>0,PROCESADOR!O3311,\"\")","v":""}]
[{"$f":"IF(PROCESADOR!O3312>0,PROCESADOR!O3312,\"\")","v":""}]
[{"$f":"IF(PROCESADOR!O3313>0,PROCESADOR!O3313,\"\")","v":""}]
[{"$f":"IF(PROCESADOR!O3314>0,PROCESADOR!O3314,\"\")","v":""}]
[{"$f":"IF(PROCESADOR!O3315>0,PROCESADOR!O3315,\"\")","v":""}]
[{"$f":"IF(PROCESADOR!O3316>0,PROCESADOR!O3316,\"\")","v":""}]
[{"$f":"IF(PROCESADOR!O3317>0,PROCESADOR!O3317,\"\")","v":""}]
[{"$f":"IF(PROCESADOR!O3318>0,PROCESADOR!O3318,\"\")","v":""}]
[{"$f":"IF(PROCESADOR!O3319>0,PROCESADOR!O3319,\"\")","v":""}]
[{"$f":"IF(PROCESADOR!O3320>0,PROCESADOR!O3320,\"\")","v":""}]
[{"$f":"IF(PROCESADOR!O3321>0,PROCESADOR!O3321,\"\")","v":""}]
[{"$f":"IF(PROCESADOR!O3322>0,PROCESADOR!O3322,\"\")","v":""}]
[{"$f":"IF(PROCESADOR!O3323>0,PROCESADOR!O3323,\"\")","v":""}]
[{"$f":"IF(PROCESADOR!O3324>0,PROCESADOR!O3324,\"\")","v":""}]
[{"$f":"IF(PROCESADOR!O3325>0,PROCESADOR!O3325,\"\")","v":""}]
[{"$f":"IF(PROCESADOR!O3326>0,PROCESADOR!O3326,\"\")","v":""}]
[{"$f":"IF(PROCESADOR!O3327>0,PROCESADOR!O3327,\"\")","v":""}]
[{"$f":"IF(PROCESADOR!O3328>0,PROCESADOR!O3328,\"\")","v":""}]
[{"$f":"IF(PROCESADOR!O3329>0,PROCESADOR!O3329,\"\")","v":""}]
[{"$f":"IF(PROCESADOR!O3330>0,PROCESADOR!O3330,\"\")","v":""}]
[{"$f":"IF(PROCESADOR!O3331>0,PROCESADOR!O3331,\"\")","v":""}]
[{"$f":"IF(PROCESADOR!O3332>0,PROCESADOR!O3332,\"\")","v":""}]
[{"$f":"IF(PROCESADOR!O3333>0,PROCESADOR!O3333,\"\")","v":""}]
[{"$f":"IF(PROCESADOR!O3334>0,PROCESADOR!O3334,\"\")","v":""}]
[{"$f":"IF(PROCESADOR!O3335>0,PROCESADOR!O3335,\"\")","v":""}]
[{"$f":"IF(PROCESADOR!O3336>0,PROCESADOR!O3336,\"\")","v":""}]
[{"$f":"IF(PROCESADOR!O3337>0,PROCESADOR!O3337,\"\")","v":""}]
[{"$f":"IF(PROCESADOR!O3338>0,PROCESADOR!O3338,\"\")","v":""}]
[{"$f":"IF(PROCESADOR!O3339>0,PROCESADOR!O3339,\"\")","v":""}]
[{"$f":"IF(PROCESADOR!O3340>0,PROCESADOR!O3340,\"\")","v":""}]
[{"$f":"IF(PROCESADOR!O3341>0,PROCESADOR!O3341,\"\")","v":""}]
[{"$f":"IF(PROCESADOR!O3342>0,PROCESADOR!O3342,\"\")","v":""}]
[{"$f":"IF(PROCESADOR!O3343>0,PROCESADOR!O3343,\"\")","v":""}]
[{"$f":"IF(PROCESADOR!O3344>0,PROCESADOR!O3344,\"\")","v":""}]
[{"$f":"IF(PROCESADOR!O3345>0,PROCESADOR!O3345,\"\")","v":""}]
[{"$f":"IF(PROCESADOR!O3346>0,PROCESADOR!O3346,\"\")","v":""}]
[{"$f":"IF(PROCESADOR!O3347>0,PROCESADOR!O3347,\"\")","v":""}]
[{"$f":"IF(PROCESADOR!O3348>0,PROCESADOR!O3348,\"\")","v":""}]
[{"$f":"IF(PROCESADOR!O3349>0,PROCESADOR!O3349,\"\")","v":""}]
[{"$f":"IF(PROCESADOR!O3350>0,PROCESADOR!O3350,\"\")","v":""}]
[{"$f":"IF(PROCESADOR!O3351>0,PROCESADOR!O3351,\"\")","v":""}]
[{"$f":"IF(PROCESADOR!O3352>0,PROCESADOR!O3352,\"\")","v":""}]
[{"$f":"IF(PROCESADOR!O3353>0,PROCESADOR!O3353,\"\")","v":""}]
[{"$f":"IF(PROCESADOR!O3354>0,PROCESADOR!O3354,\"\")","v":""}]
[{"$f":"IF(PROCESADOR!O3355>0,PROCESADOR!O3355,\"\")","v":""}]
[{"$f":"IF(PROCESADOR!O3356>0,PROCESADOR!O3356,\"\")","v":""}]
[{"$f":"IF(PROCESADOR!O3357>0,PROCESADOR!O3357,\"\")","v":""}]
[{"$f":"IF(PROCESADOR!O3358>0,PROCESADOR!O3358,\"\")","v":""}]
[{"$f":"IF(PROCESADOR!O3359>0,PROCESADOR!O3359,\"\")","v":""}]
[{"$f":"IF(PROCESADOR!O3360>0,PROCESADOR!O3360,\"\")","v":""}]
[{"$f":"IF(PROCESADOR!O3361>0,PROCESADOR!O3361,\"\")","v":""}]
[{"$f":"IF(PROCESADOR!O3362>0,PROCESADOR!O3362,\"\")","v":""}]
[{"$f":"IF(PROCESADOR!O3363>0,PROCESADOR!O3363,\"\")","v":""}]
[{"$f":"IF(PROCESADOR!O3364>0,PROCESADOR!O3364,\"\")","v":""}]
[{"$f":"IF(PROCESADOR!O3365>0,PROCESADOR!O3365,\"\")","v":""}]
[{"$f":"IF(PROCESADOR!O3366>0,PROCESADOR!O3366,\"\")","v":""}]
[{"$f":"IF(PROCESADOR!O3367>0,PROCESADOR!O3367,\"\")","v":""}]
[{"$f":"IF(PROCESADOR!O3368>0,PROCESADOR!O3368,\"\")","v":""}]
[{"$f":"IF(PROCESADOR!O3369>0,PROCESADOR!O3369,\"\")","v":""}]
[{"$f":"IF(PROCESADOR!O3370>0,PROCESADOR!O3370,\"\")","v":""}]
[{"$f":"IF(PROCESADOR!O3371>0,PROCESADOR!O3371,\"\")","v":""}]
[{"$f":"IF(PROCESADOR!O3372>0,PROCESADOR!O3372,\"\")","v":""}]
[{"$f":"IF(PROCESADOR!O3373>0,PROCESADOR!O3373,\"\")","v":""}]
[{"$f":"IF(PROCESADOR!O3374>0,PROCESADOR!O3374,\"\")","v":""}]
[{"$f":"IF(PROCESADOR!O3375>0,PROCESADOR!O3375,\"\")","v":""}]
[{"$f":"IF(PROCESADOR!O3376>0,PROCESADOR!O3376,\"\")","v":""}]
[{"$f":"IF(PROCESADOR!O3377>0,PROCESADOR!O3377,\"\")","v":""}]
[{"$f":"IF(PROCESADOR!O3378>0,PROCESADOR!O3378,\"\")","v":""}]
[{"$f":"IF(PROCESADOR!O3379>0,PROCESADOR!O3379,\"\")","v":""}]
[{"$f":"IF(PROCESADOR!O3380>0,PROCESADOR!O3380,\"\")","v":""}]
[{"$f":"IF(PROCESADOR!O3381>0,PROCESADOR!O3381,\"\")","v":""}]
[{"$f":"IF(PROCESADOR!O3382>0,PROCESADOR!O3382,\"\")","v":""}]
[{"$f":"IF(PROCESADOR!O3383>0,PROCESADOR!O3383,\"\")","v":""}]
[{"$f":"IF(PROCESADOR!O3384>0,PROCESADOR!O3384,\"\")","v":""}]
[{"$f":"IF(PROCESADOR!O3385>0,PROCESADOR!O3385,\"\")","v":""}]
[{"$f":"IF(PROCESADOR!O3386>0,PROCESADOR!O3386,\"\")","v":""}]
[{"$f":"IF(PROCESADOR!O3387>0,PROCESADOR!O3387,\"\")","v":""}]
[{"$f":"IF(PROCESADOR!O3388>0,PROCESADOR!O3388,\"\")","v":""}]
[{"$f":"IF(PROCESADOR!O3389>0,PROCESADOR!O3389,\"\")","v":""}]
[{"$f":"IF(PROCESADOR!O3390>0,PROCESADOR!O3390,\"\")","v":""}]
[{"$f":"IF(PROCESADOR!O3391>0,PROCESADOR!O3391,\"\")","v":""}]
[{"$f":"IF(PROCESADOR!O3392>0,PROCESADOR!O3392,\"\")","v":""}]
[{"$f":"IF(PROCESADOR!O3393>0,PROCESADOR!O3393,\"\")","v":""}]
[{"$f":"IF(PROCESADOR!O3394>0,PROCESADOR!O3394,\"\")","v":""}]
[{"$f":"IF(PROCESADOR!O3395>0,PROCESADOR!O3395,\"\")","v":""}]
[{"$f":"IF(PROCESADOR!O3396>0,PROCESADOR!O3396,\"\")","v":""}]
[{"$f":"IF(PROCESADOR!O3397>0,PROCESADOR!O3397,\"\")","v":""}]
[{"$f":"IF(PROCESADOR!O3398>0,PROCESADOR!O3398,\"\")","v":""}]
[{"$f":"IF(PROCESADOR!O3399>0,PROCESADOR!O3399,\"\")","v":""}]
[{"$f":"IF(PROCESADOR!O3400>0,PROCESADOR!O3400,\"\")","v":""}]
[{"$f":"IF(PROCESADOR!O3401>0,PROCESADOR!O3401,\"\")","v":""}]
[{"$f":"IF(PROCESADOR!O3402>0,PROCESADOR!O3402,\"\")","v":""}]
[{"$f":"IF(PROCESADOR!O3403>0,PROCESADOR!O3403,\"\")","v":""}]
[{"$f":"IF(PROCESADOR!O3404>0,PROCESADOR!O3404,\"\")","v":""}]
[{"$f":"IF(PROCESADOR!O3405>0,PROCESADOR!O3405,\"\")","v":""}]
[{"$f":"IF(PROCESADOR!O3406>0,PROCESADOR!O3406,\"\")","v":""}]
[{"$f":"IF(PROCESADOR!O3407>0,PROCESADOR!O3407,\"\")","v":""}]
[{"$f":"IF(PROCESADOR!O3408>0,PROCESADOR!O3408,\"\")","v":""}]
[{"$f":"IF(PROCESADOR!O3409>0,PROCESADOR!O3409,\"\")","v":""}]
[{"$f":"IF(PROCESADOR!O3410>0,PROCESADOR!O3410,\"\")","v":""}]
[{"$f":"IF(PROCESADOR!O3411>0,PROCESADOR!O3411,\"\")","v":""}]
[{"$f":"IF(PROCESADOR!O3412>0,PROCESADOR!O3412,\"\")","v":""}]
[{"$f":"IF(PROCESADOR!O3413>0,PROCESADOR!O3413,\"\")","v":""}]
[{"$f":"IF(PROCESADOR!O3414>0,PROCESADOR!O3414,\"\")","v":""}]
[{"$f":"IF(PROCESADOR!O3415>0,PROCESADOR!O3415,\"\")","v":""}]
[{"$f":"IF(PROCESADOR!O3416>0,PROCESADOR!O3416,\"\")","v":""}]
[{"$f":"IF(PROCESADOR!O3417>0,PROCESADOR!O3417,\"\")","v":""}]
[{"$f":"IF(PROCESADOR!O3418>0,PROCESADOR!O3418,\"\")","v":""}]
[{"$f":"IF(PROCESADOR!O3419>0,PROCESADOR!O3419,\"\")","v":""}]
[{"$f":"IF(PROCESADOR!O3420>0,PROCESADOR!O3420,\"\")","v":""}]
[{"$f":"IF(PROCESADOR!O3421>0,PROCESADOR!O3421,\"\")","v":""}]
[{"$f":"IF(PROCESADOR!O3422>0,PROCESADOR!O3422,\"\")","v":""}]
[{"$f":"IF(PROCESADOR!O3423>0,PROCESADOR!O3423,\"\")","v":""}]
[{"$f":"IF(PROCESADOR!O3424>0,PROCESADOR!O3424,\"\")","v":""}]
[{"$f":"IF(PROCESADOR!O3425>0,PROCESADOR!O3425,\"\")","v":""}]
[{"$f":"IF(PROCESADOR!O3426>0,PROCESADOR!O3426,\"\")","v":""}]
[{"$f":"IF(PROCESADOR!O3427>0,PROCESADOR!O3427,\"\")","v":""}]
[{"$f":"IF(PROCESADOR!O3428>0,PROCESADOR!O3428,\"\")","v":""}]
[{"$f":"IF(PROCESADOR!O3429>0,PROCESADOR!O3429,\"\")","v":""}]
[{"$f":"IF(PROCESADOR!O3430>0,PROCESADOR!O3430,\"\")","v":""}]
[{"$f":"IF(PROCESADOR!O3431>0,PROCESADOR!O3431,\"\")","v":""}]
[{"$f":"IF(PROCESADOR!O3432>0,PROCESADOR!O3432,\"\")","v":""}]
[{"$f":"IF(PROCESADOR!O3433>0,PROCESADOR!O3433,\"\")","v":""}]
[{"$f":"IF(PROCESADOR!O3434>0,PROCESADOR!O3434,\"\")","v":""}]
[{"$f":"IF(PROCESADOR!O3435>0,PROCESADOR!O3435,\"\")","v":""}]
[{"$f":"IF(PROCESADOR!O3436>0,PROCESADOR!O3436,\"\")","v":""}]
[{"$f":"IF(PROCESADOR!O3437>0,PROCESADOR!O3437,\"\")","v":""}]
[{"$f":"IF(PROCESADOR!O3438>0,PROCESADOR!O3438,\"\")","v":""}]
[{"$f":"IF(PROCESADOR!O3439>0,PROCESADOR!O3439,\"\")","v":""}]
[{"$f":"IF(PROCESADOR!O3440>0,PROCESADOR!O3440,\"\")","v":""}]
[{"$f":"IF(PROCESADOR!O3441>0,PROCESADOR!O3441,\"\")","v":""}]
[{"$f":"IF(PROCESADOR!O3442>0,PROCESADOR!O3442,\"\")","v":""}]
[{"$f":"IF(PROCESADOR!O3443>0,PROCESADOR!O3443,\"\")","v":""}]
[{"$f":"IF(PROCESADOR!O3444>0,PROCESADOR!O3444,\"\")","v":""}]
[{"$f":"IF(PROCESADOR!O3445>0,PROCESADOR!O3445,\"\")","v":""}]
[{"$f":"IF(PROCESADOR!O3446>0,PROCESADOR!O3446,\"\")","v":""}]
[{"$f":"IF(PROCESADOR!O3447>0,PROCESADOR!O3447,\"\")","v":""}]
[{"$f":"IF(PROCESADOR!O3448>0,PROCESADOR!O3448,\"\")","v":""}]
[{"$f":"IF(PROCESADOR!O3449>0,PROCESADOR!O3449,\"\")","v":""}]
[{"$f":"IF(PROCESADOR!O3450>0,PROCESADOR!O3450,\"\")","v":""}]
[{"$f":"IF(PROCESADOR!O3451>0,PROCESADOR!O3451,\"\")","v":""}]
[{"$f":"IF(PROCESADOR!O3452>0,PROCESADOR!O3452,\"\")","v":""}]
[{"$f":"IF(PROCESADOR!O3453>0,PROCESADOR!O3453,\"\")","v":""}]
[{"$f":"IF(PROCESADOR!O3454>0,PROCESADOR!O3454,\"\")","v":""}]
[{"$f":"IF(PROCESADOR!O3455>0,PROCESADOR!O3455,\"\")","v":""}]
[{"$f":"IF(PROCESADOR!O3456>0,PROCESADOR!O3456,\"\")","v":""}]
[{"$f":"IF(PROCESADOR!O3457>0,PROCESADOR!O3457,\"\")","v":""}]
[{"$f":"IF(PROCESADOR!O3458>0,PROCESADOR!O3458,\"\")","v":""}]
[{"$f":"IF(PROCESADOR!O3459>0,PROCESADOR!O3459,\"\")","v":""}]
[{"$f":"IF(PROCESADOR!O3460>0,PROCESADOR!O3460,\"\")","v":""}]
[{"$f":"IF(PROCESADOR!O3461>0,PROCESADOR!O3461,\"\")","v":""}]
[{"$f":"IF(PROCESADOR!O3462>0,PROCESADOR!O3462,\"\")","v":""}]
[{"$f":"IF(PROCESADOR!O3463>0,PROCESADOR!O3463,\"\")","v":""}]
[{"$f":"IF(PROCESADOR!O3464>0,PROCESADOR!O3464,\"\")","v":""}]
[{"$f":"IF(PROCESADOR!O3465>0,PROCESADOR!O3465,\"\")","v":""}]
[{"$f":"IF(PROCESADOR!O3466>0,PROCESADOR!O3466,\"\")","v":""}]
[{"$f":"IF(PROCESADOR!O3467>0,PROCESADOR!O3467,\"\")","v":""}]
[{"$f":"IF(PROCESADOR!O3468>0,PROCESADOR!O3468,\"\")","v":""}]
[{"$f":"IF(PROCESADOR!O3469>0,PROCESADOR!O3469,\"\")","v":""}]
[{"$f":"IF(PROCESADOR!O3470>0,PROCESADOR!O3470,\"\")","v":""}]
[{"$f":"IF(PROCESADOR!O3471>0,PROCESADOR!O3471,\"\")","v":""}]
[{"$f":"IF(PROCESADOR!O3472>0,PROCESADOR!O3472,\"\")","v":""}]
[{"$f":"IF(PROCESADOR!O3473>0,PROCESADOR!O3473,\"\")","v":""}]
[{"$f":"IF(PROCESADOR!O3474>0,PROCESADOR!O3474,\"\")","v":""}]
[{"$f":"IF(PROCESADOR!O3475>0,PROCESADOR!O3475,\"\")","v":""}]
[{"$f":"IF(PROCESADOR!O3476>0,PROCESADOR!O3476,\"\")","v":""}]
[{"$f":"IF(PROCESADOR!O3477>0,PROCESADOR!O3477,\"\")","v":""}]
[{"$f":"IF(PROCESADOR!O3478>0,PROCESADOR!O3478,\"\")","v":""}]
[{"$f":"IF(PROCESADOR!O3479>0,PROCESADOR!O3479,\"\")","v":""}]
[{"$f":"IF(PROCESADOR!O3480>0,PROCESADOR!O3480,\"\")","v":""}]
[{"$f":"IF(PROCESADOR!O3481>0,PROCESADOR!O3481,\"\")","v":""}]
[{"$f":"IF(PROCESADOR!O3482>0,PROCESADOR!O3482,\"\")","v":""}]
[{"$f":"IF(PROCESADOR!O3483>0,PROCESADOR!O3483,\"\")","v":""}]
[{"$f":"IF(PROCESADOR!O3484>0,PROCESADOR!O3484,\"\")","v":""}]
[{"$f":"IF(PROCESADOR!O3485>0,PROCESADOR!O3485,\"\")","v":""}]
[{"$f":"IF(PROCESADOR!O3486>0,PROCESADOR!O3486,\"\")","v":""}]
[{"$f":"IF(PROCESADOR!O3487>0,PROCESADOR!O3487,\"\")","v":""}]
[{"$f":"IF(PROCESADOR!O3488>0,PROCESADOR!O3488,\"\")","v":""}]
[{"$f":"IF(PROCESADOR!O3489>0,PROCESADOR!O3489,\"\")","v":""}]
[{"$f":"IF(PROCESADOR!O3490>0,PROCESADOR!O3490,\"\")","v":""}]
[{"$f":"IF(PROCESADOR!O3491>0,PROCESADOR!O3491,\"\")","v":""}]
[{"$f":"IF(PROCESADOR!O3492>0,PROCESADOR!O3492,\"\")","v":""}]
[{"$f":"IF(PROCESADOR!O3493>0,PROCESADOR!O3493,\"\")","v":""}]
[{"$f":"IF(PROCESADOR!O3494>0,PROCESADOR!O3494,\"\")","v":""}]
[{"$f":"IF(PROCESADOR!O3495>0,PROCESADOR!O3495,\"\")","v":""}]
[{"$f":"IF(PROCESADOR!O3496>0,PROCESADOR!O3496,\"\")","v":""}]
[{"$f":"IF(PROCESADOR!O3497>0,PROCESADOR!O3497,\"\")","v":""}]
[{"$f":"IF(PROCESADOR!O3498>0,PROCESADOR!O3498,\"\")","v":""}]
[{"$f":"IF(PROCESADOR!O3499>0,PROCESADOR!O3499,\"\")","v":""}]
[{"$f":"IF(PROCESADOR!O3500>0,PROCESADOR!O3500,\"\")","v":""}]
[{"$f":"IF(PROCESADOR!O3501>0,PROCESADOR!O3501,\"\")","v":""}]
[{"$f":"IF(PROCESADOR!O3502>0,PROCESADOR!O3502,\"\")","v":""}]
[{"$f":"IF(PROCESADOR!O3503>0,PROCESADOR!O3503,\"\")","v":""}]
[{"$f":"IF(PROCESADOR!O3504>0,PROCESADOR!O3504,\"\")","v":""}]
[{"$f":"IF(PROCESADOR!O3505>0,PROCESADOR!O3505,\"\")","v":""}]
[{"$f":"IF(PROCESADOR!O3506>0,PROCESADOR!O3506,\"\")","v":""}]
[{"$f":"IF(PROCESADOR!O3507>0,PROCESADOR!O3507,\"\")","v":""}]
[{"$f":"IF(PROCESADOR!O3508>0,PROCESADOR!O3508,\"\")","v":""}]
[{"$f":"IF(PROCESADOR!O3509>0,PROCESADOR!O3509,\"\")","v":""}]
[{"$f":"IF(PROCESADOR!O3510>0,PROCESADOR!O3510,\"\")","v":""}]
[{"$f":"IF(PROCESADOR!O3511>0,PROCESADOR!O3511,\"\")","v":""}]
[{"$f":"IF(PROCESADOR!O3512>0,PROCESADOR!O3512,\"\")","v":""}]
[{"$f":"IF(PROCESADOR!O3513>0,PROCESADOR!O3513,\"\")","v":""}]
[{"$f":"IF(PROCESADOR!O3514>0,PROCESADOR!O3514,\"\")","v":""}]
[{"$f":"IF(PROCESADOR!O3515>0,PROCESADOR!O3515,\"\")","v":""}]
[{"$f":"IF(PROCESADOR!O3516>0,PROCESADOR!O3516,\"\")","v":""}]
[{"$f":"IF(PROCESADOR!O3517>0,PROCESADOR!O3517,\"\")","v":""}]
[{"$f":"IF(PROCESADOR!O3518>0,PROCESADOR!O3518,\"\")","v":""}]
[{"$f":"IF(PROCESADOR!O3519>0,PROCESADOR!O3519,\"\")","v":""}]
[{"$f":"IF(PROCESADOR!O3520>0,PROCESADOR!O3520,\"\")","v":""}]
[{"$f":"IF(PROCESADOR!O3521>0,PROCESADOR!O3521,\"\")","v":""}]
[{"$f":"IF(PROCESADOR!O3522>0,PROCESADOR!O3522,\"\")","v":""}]
[{"$f":"IF(PROCESADOR!O3523>0,PROCESADOR!O3523,\"\")","v":""}]
[{"$f":"IF(PROCESADOR!O3524>0,PROCESADOR!O3524,\"\")","v":""}]
[{"$f":"IF(PROCESADOR!O3525>0,PROCESADOR!O3525,\"\")","v":""}]
[{"$f":"IF(PROCESADOR!O3526>0,PROCESADOR!O3526,\"\")","v":""}]
[{"$f":"IF(PROCESADOR!O3527>0,PROCESADOR!O3527,\"\")","v":""}]
[{"$f":"IF(PROCESADOR!O3528>0,PROCESADOR!O3528,\"\")","v":""}]
[{"$f":"IF(PROCESADOR!O3529>0,PROCESADOR!O3529,\"\")","v":""}]
[{"$f":"IF(PROCESADOR!O3530>0,PROCESADOR!O3530,\"\")","v":""}]
[{"$f":"IF(PROCESADOR!O3531>0,PROCESADOR!O3531,\"\")","v":""}]
[{"$f":"IF(PROCESADOR!O3532>0,PROCESADOR!O3532,\"\")","v":""}]
[{"$f":"IF(PROCESADOR!O3533>0,PROCESADOR!O3533,\"\")","v":""}]
[{"$f":"IF(PROCESADOR!O3534>0,PROCESADOR!O3534,\"\")","v":""}]
[{"$f":"IF(PROCESADOR!O3535>0,PROCESADOR!O3535,\"\")","v":""}]
[{"$f":"IF(PROCESADOR!O3536>0,PROCESADOR!O3536,\"\")","v":""}]
[{"$f":"IF(PROCESADOR!O3537>0,PROCESADOR!O3537,\"\")","v":""}]
[{"$f":"IF(PROCESADOR!O3538>0,PROCESADOR!O3538,\"\")","v":""}]
[{"$f":"IF(PROCESADOR!O3539>0,PROCESADOR!O3539,\"\")","v":""}]
[{"$f":"IF(PROCESADOR!O3540>0,PROCESADOR!O3540,\"\")","v":""}]
[{"$f":"IF(PROCESADOR!O3541>0,PROCESADOR!O3541,\"\")","v":""}]
[{"$f":"IF(PROCESADOR!O3542>0,PROCESADOR!O3542,\"\")","v":""}]
[{"$f":"IF(PROCESADOR!O3543>0,PROCESADOR!O3543,\"\")","v":""}]
[{"$f":"IF(PROCESADOR!O3544>0,PROCESADOR!O3544,\"\")","v":""}]
[{"$f":"IF(PROCESADOR!O3545>0,PROCESADOR!O3545,\"\")","v":""}]
[{"$f":"IF(PROCESADOR!O3546>0,PROCESADOR!O3546,\"\")","v":""}]
[{"$f":"IF(PROCESADOR!O3547>0,PROCESADOR!O3547,\"\")","v":""}]
[{"$f":"IF(PROCESADOR!O3548>0,PROCESADOR!O3548,\"\")","v":""}]
[{"$f":"IF(PROCESADOR!O3549>0,PROCESADOR!O3549,\"\")","v":""}]
[{"$f":"IF(PROCESADOR!O3550>0,PROCESADOR!O3550,\"\")","v":""}]
[{"$f":"IF(PROCESADOR!O3551>0,PROCESADOR!O3551,\"\")","v":""}]
[{"$f":"IF(PROCESADOR!O3552>0,PROCESADOR!O3552,\"\")","v":""}]
[{"$f":"IF(PROCESADOR!O3553>0,PROCESADOR!O3553,\"\")","v":""}]
[{"$f":"IF(PROCESADOR!O3554>0,PROCESADOR!O3554,\"\")","v":""}]
[{"$f":"IF(PROCESADOR!O3555>0,PROCESADOR!O3555,\"\")","v":""}]
[{"$f":"IF(PROCESADOR!O3556>0,PROCESADOR!O3556,\"\")","v":""}]
[{"$f":"IF(PROCESADOR!O3557>0,PROCESADOR!O3557,\"\")","v":""}]
[{"$f":"IF(PROCESADOR!O3558>0,PROCESADOR!O3558,\"\")","v":""}]
[{"$f":"IF(PROCESADOR!O3559>0,PROCESADOR!O3559,\"\")","v":""}]
[{"$f":"IF(PROCESADOR!O3560>0,PROCESADOR!O3560,\"\")","v":""}]
[{"$f":"IF(PROCESADOR!O3561>0,PROCESADOR!O3561,\"\")","v":""}]
[{"$f":"IF(PROCESADOR!O3562>0,PROCESADOR!O3562,\"\")","v":""}]
[{"$f":"IF(PROCESADOR!O3563>0,PROCESADOR!O3563,\"\")","v":""}]
[{"$f":"IF(PROCESADOR!O3564>0,PROCESADOR!O3564,\"\")","v":""}]
[{"$f":"IF(PROCESADOR!O3565>0,PROCESADOR!O3565,\"\")","v":""}]
[{"$f":"IF(PROCESADOR!O3566>0,PROCESADOR!O3566,\"\")","v":""}]
[{"$f":"IF(PROCESADOR!O3567>0,PROCESADOR!O3567,\"\")","v":""}]
[{"$f":"IF(PROCESADOR!O3568>0,PROCESADOR!O3568,\"\")","v":""}]
[{"$f":"IF(PROCESADOR!O3569>0,PROCESADOR!O3569,\"\")","v":""}]
[{"$f":"IF(PROCESADOR!O3570>0,PROCESADOR!O3570,\"\")","v":""}]
[{"$f":"IF(PROCESADOR!O3571>0,PROCESADOR!O3571,\"\")","v":""}]
[{"$f":"IF(PROCESADOR!O3572>0,PROCESADOR!O3572,\"\")","v":""}]
[{"$f":"IF(PROCESADOR!O3573>0,PROCESADOR!O3573,\"\")","v":""}]
[{"$f":"IF(PROCESADOR!O3574>0,PROCESADOR!O3574,\"\")","v":""}]
[{"$f":"IF(PROCESADOR!O3575>0,PROCESADOR!O3575,\"\")","v":""}]
[{"$f":"IF(PROCESADOR!O3576>0,PROCESADOR!O3576,\"\")","v":""}]
[{"$f":"IF(PROCESADOR!O3577>0,PROCESADOR!O3577,\"\")","v":""}]
[{"$f":"IF(PROCESADOR!O3578>0,PROCESADOR!O3578,\"\")","v":""}]
[{"$f":"IF(PROCESADOR!O3579>0,PROCESADOR!O3579,\"\")","v":""}]
[{"$f":"IF(PROCESADOR!O3580>0,PROCESADOR!O3580,\"\")","v":""}]
[{"$f":"IF(PROCESADOR!O3581>0,PROCESADOR!O3581,\"\")","v":""}]
[{"$f":"IF(PROCESADOR!O3582>0,PROCESADOR!O3582,\"\")","v":""}]
[{"$f":"IF(PROCESADOR!O3583>0,PROCESADOR!O3583,\"\")","v":""}]
[{"$f":"IF(PROCESADOR!O3584>0,PROCESADOR!O3584,\"\")","v":""}]
[{"$f":"IF(PROCESADOR!O3585>0,PROCESADOR!O3585,\"\")","v":""}]
[{"$f":"IF(PROCESADOR!O3586>0,PROCESADOR!O3586,\"\")","v":""}]
[{"$f":"IF(PROCESADOR!O3587>0,PROCESADOR!O3587,\"\")","v":""}]
[{"$f":"IF(PROCESADOR!O3588>0,PROCESADOR!O3588,\"\")","v":""}]
[{"$f":"IF(PROCESADOR!O3589>0,PROCESADOR!O3589,\"\")","v":""}]
[{"$f":"IF(PROCESADOR!O3590>0,PROCESADOR!O3590,\"\")","v":""}]
[{"$f":"IF(PROCESADOR!O3591>0,PROCESADOR!O3591,\"\")","v":""}]
[{"$f":"IF(PROCESADOR!O3592>0,PROCESADOR!O3592,\"\")","v":""}]
[{"$f":"IF(PROCESADOR!O3593>0,PROCESADOR!O3593,\"\")","v":""}]
[{"$f":"IF(PROCESADOR!O3594>0,PROCESADOR!O3594,\"\")","v":""}]
[{"$f":"IF(PROCESADOR!O3595>0,PROCESADOR!O3595,\"\")","v":""}]
[{"$f":"IF(PROCESADOR!O3596>0,PROCESADOR!O3596,\"\")","v":""}]
[{"$f":"IF(PROCESADOR!O3597>0,PROCESADOR!O3597,\"\")","v":""}]
[{"$f":"IF(PROCESADOR!O3598>0,PROCESADOR!O3598,\"\")","v":""}]
[{"$f":"IF(PROCESADOR!O3599>0,PROCESADOR!O3599,\"\")","v":""}]
[{"$f":"IF(PROCESADOR!O3600>0,PROCESADOR!O3600,\"\")","v":""}]
[{"$f":"IF(PROCESADOR!O3601>0,PROCESADOR!O3601,\"\")","v":""}]
[{"$f":"IF(PROCESADOR!O3602>0,PROCESADOR!O3602,\"\")","v":""}]
[{"$f":"IF(PROCESADOR!O3603>0,PROCESADOR!O3603,\"\")","v":""}]
[{"$f":"IF(PROCESADOR!O3604>0,PROCESADOR!O3604,\"\")","v":""}]
[{"$f":"IF(PROCESADOR!O3605>0,PROCESADOR!O3605,\"\")","v":""}]
[{"$f":"IF(PROCESADOR!O3606>0,PROCESADOR!O3606,\"\")","v":""}]
[{"$f":"IF(PROCESADOR!O3607>0,PROCESADOR!O3607,\"\")","v":""}]
[{"$f":"IF(PROCESADOR!O3608>0,PROCESADOR!O3608,\"\")","v":""}]
[{"$f":"IF(PROCESADOR!O3609>0,PROCESADOR!O3609,\"\")","v":""}]
[{"$f":"IF(PROCESADOR!O3610>0,PROCESADOR!O3610,\"\")","v":""}]
[{"$f":"IF(PROCESADOR!O3611>0,PROCESADOR!O3611,\"\")","v":""}]
[{"$f":"IF(PROCESADOR!O3612>0,PROCESADOR!O3612,\"\")","v":""}]
[{"$f":"IF(PROCESADOR!O3613>0,PROCESADOR!O3613,\"\")","v":""}]
[{"$f":"IF(PROCESADOR!O3614>0,PROCESADOR!O3614,\"\")","v":""}]
[{"$f":"IF(PROCESADOR!O3615>0,PROCESADOR!O3615,\"\")","v":""}]
[{"$f":"IF(PROCESADOR!O3616>0,PROCESADOR!O3616,\"\")","v":""}]
[{"$f":"IF(PROCESADOR!O3617>0,PROCESADOR!O3617,\"\")","v":""}]
[{"$f":"IF(PROCESADOR!O3618>0,PROCESADOR!O3618,\"\")","v":""}]
[{"$f":"IF(PROCESADOR!O3619>0,PROCESADOR!O3619,\"\")","v":""}]
[{"$f":"IF(PROCESADOR!O3620>0,PROCESADOR!O3620,\"\")","v":""}]
[{"$f":"IF(PROCESADOR!O3621>0,PROCESADOR!O3621,\"\")","v":""}]
[{"$f":"IF(PROCESADOR!O3622>0,PROCESADOR!O3622,\"\")","v":""}]
[{"$f":"IF(PROCESADOR!O3623>0,PROCESADOR!O3623,\"\")","v":""}]
[{"$f":"IF(PROCESADOR!O3624>0,PROCESADOR!O3624,\"\")","v":""}]
[{"$f":"IF(PROCESADOR!O3625>0,PROCESADOR!O3625,\"\")","v":""}]
[{"$f":"IF(PROCESADOR!O3626>0,PROCESADOR!O3626,\"\")","v":""}]
[{"$f":"IF(PROCESADOR!O3627>0,PROCESADOR!O3627,\"\")","v":""}]
[{"$f":"IF(PROCESADOR!O3628>0,PROCESADOR!O3628,\"\")","v":""}]
[{"$f":"IF(PROCESADOR!O3629>0,PROCESADOR!O3629,\"\")","v":""}]
[{"$f":"IF(PROCESADOR!O3630>0,PROCESADOR!O3630,\"\")","v":""}]
[{"$f":"IF(PROCESADOR!O3631>0,PROCESADOR!O3631,\"\")","v":""}]
[{"$f":"IF(PROCESADOR!O3632>0,PROCESADOR!O3632,\"\")","v":""}]
[{"$f":"IF(PROCESADOR!O3633>0,PROCESADOR!O3633,\"\")","v":""}]
[{"$f":"IF(PROCESADOR!O3634>0,PROCESADOR!O3634,\"\")","v":""}]
[{"$f":"IF(PROCESADOR!O3635>0,PROCESADOR!O3635,\"\")","v":""}]
[{"$f":"IF(PROCESADOR!O3636>0,PROCESADOR!O3636,\"\")","v":""}]
[{"$f":"IF(PROCESADOR!O3637>0,PROCESADOR!O3637,\"\")","v":""}]
[{"$f":"IF(PROCESADOR!O3638>0,PROCESADOR!O3638,\"\")","v":""}]
[{"$f":"IF(PROCESADOR!O3639>0,PROCESADOR!O3639,\"\")","v":""}]
[{"$f":"IF(PROCESADOR!O3640>0,PROCESADOR!O3640,\"\")","v":""}]
[{"$f":"IF(PROCESADOR!O3641>0,PROCESADOR!O3641,\"\")","v":""}]
[{"$f":"IF(PROCESADOR!O3642>0,PROCESADOR!O3642,\"\")","v":""}]
[{"$f":"IF(PROCESADOR!O3643>0,PROCESADOR!O3643,\"\")","v":""}]
[{"$f":"IF(PROCESADOR!O3644>0,PROCESADOR!O3644,\"\")","v":""}]
[{"$f":"IF(PROCESADOR!O3645>0,PROCESADOR!O3645,\"\")","v":""}]
[{"$f":"IF(PROCESADOR!O3646>0,PROCESADOR!O3646,\"\")","v":""}]
[{"$f":"IF(PROCESADOR!O3647>0,PROCESADOR!O3647,\"\")","v":""}]
[{"$f":"IF(PROCESADOR!O3648>0,PROCESADOR!O3648,\"\")","v":""}]
[{"$f":"IF(PROCESADOR!O3649>0,PROCESADOR!O3649,\"\")","v":""}]
[{"$f":"IF(PROCESADOR!O3650>0,PROCESADOR!O3650,\"\")","v":""}]
[{"$f":"IF(PROCESADOR!O3651>0,PROCESADOR!O3651,\"\")","v":""}]
[{"$f":"IF(PROCESADOR!O3652>0,PROCESADOR!O3652,\"\")","v":""}]
[{"$f":"IF(PROCESADOR!O3653>0,PROCESADOR!O3653,\"\")","v":""}]
[{"$f":"IF(PROCESADOR!O3654>0,PROCESADOR!O3654,\"\")","v":""}]
[{"$f":"IF(PROCESADOR!O3655>0,PROCESADOR!O3655,\"\")","v":""}]
[{"$f":"IF(PROCESADOR!O3656>0,PROCESADOR!O3656,\"\")","v":""}]
[{"$f":"IF(PROCESADOR!O3657>0,PROCESADOR!O3657,\"\")","v":""}]
[{"$f":"IF(PROCESADOR!O3658>0,PROCESADOR!O3658,\"\")","v":""}]
[{"$f":"IF(PROCESADOR!O3659>0,PROCESADOR!O3659,\"\")","v":""}]
[{"$f":"IF(PROCESADOR!O3660>0,PROCESADOR!O3660,\"\")","v":""}]
[{"$f":"IF(PROCESADOR!O3661>0,PROCESADOR!O3661,\"\")","v":""}]
[{"$f":"IF(PROCESADOR!O3662>0,PROCESADOR!O3662,\"\")","v":""}]
[{"$f":"IF(PROCESADOR!O3663>0,PROCESADOR!O3663,\"\")","v":""}]
[{"$f":"IF(PROCESADOR!O3664>0,PROCESADOR!O3664,\"\")","v":""}]
[{"$f":"IF(PROCESADOR!O3665>0,PROCESADOR!O3665,\"\")","v":""}]
[{"$f":"IF(PROCESADOR!O3666>0,PROCESADOR!O3666,\"\")","v":""}]
[{"$f":"IF(PROCESADOR!O3667>0,PROCESADOR!O3667,\"\")","v":""}]
[{"$f":"IF(PROCESADOR!O3668>0,PROCESADOR!O3668,\"\")","v":""}]
[{"$f":"IF(PROCESADOR!O3669>0,PROCESADOR!O3669,\"\")","v":""}]
[{"$f":"IF(PROCESADOR!O3670>0,PROCESADOR!O3670,\"\")","v":""}]
[{"$f":"IF(PROCESADOR!O3671>0,PROCESADOR!O3671,\"\")","v":""}]
[{"$f":"IF(PROCESADOR!O3672>0,PROCESADOR!O3672,\"\")","v":""}]
[{"$f":"IF(PROCESADOR!O3673>0,PROCESADOR!O3673,\"\")","v":""}]
[{"$f":"IF(PROCESADOR!O3674>0,PROCESADOR!O3674,\"\")","v":""}]
[{"$f":"IF(PROCESADOR!O3675>0,PROCESADOR!O3675,\"\")","v":""}]
[{"$f":"IF(PROCESADOR!O3676>0,PROCESADOR!O3676,\"\")","v":""}]
[{"$f":"IF(PROCESADOR!O3677>0,PROCESADOR!O3677,\"\")","v":""}]
[{"$f":"IF(PROCESADOR!O3678>0,PROCESADOR!O3678,\"\")","v":""}]
[{"$f":"IF(PROCESADOR!O3679>0,PROCESADOR!O3679,\"\")","v":""}]
[{"$f":"IF(PROCESADOR!O3680>0,PROCESADOR!O3680,\"\")","v":""}]
[{"$f":"IF(PROCESADOR!O3681>0,PROCESADOR!O3681,\"\")","v":""}]
[{"$f":"IF(PROCESADOR!O3682>0,PROCESADOR!O3682,\"\")","v":""}]
[{"$f":"IF(PROCESADOR!O3683>0,PROCESADOR!O3683,\"\")","v":""}]
[{"$f":"IF(PROCESADOR!O3684>0,PROCESADOR!O3684,\"\")","v":""}]
[{"$f":"IF(PROCESADOR!O3685>0,PROCESADOR!O3685,\"\")","v":""}]
[{"$f":"IF(PROCESADOR!O3686>0,PROCESADOR!O3686,\"\")","v":""}]
[{"$f":"IF(PROCESADOR!O3687>0,PROCESADOR!O3687,\"\")","v":""}]
[{"$f":"IF(PROCESADOR!O3688>0,PROCESADOR!O3688,\"\")","v":""}]
[{"$f":"IF(PROCESADOR!O3689>0,PROCESADOR!O3689,\"\")","v":""}]
[{"$f":"IF(PROCESADOR!O3690>0,PROCESADOR!O3690,\"\")","v":""}]
[{"$f":"IF(PROCESADOR!O3691>0,PROCESADOR!O3691,\"\")","v":""}]
[{"$f":"IF(PROCESADOR!O3692>0,PROCESADOR!O3692,\"\")","v":""}]
[{"$f":"IF(PROCESADOR!O3693>0,PROCESADOR!O3693,\"\")","v":""}]
[{"$f":"IF(PROCESADOR!O3694>0,PROCESADOR!O3694,\"\")","v":""}]
[{"$f":"IF(PROCESADOR!O3695>0,PROCESADOR!O3695,\"\")","v":""}]
[{"$f":"IF(PROCESADOR!O3696>0,PROCESADOR!O3696,\"\")","v":""}]
[{"$f":"IF(PROCESADOR!O3697>0,PROCESADOR!O3697,\"\")","v":""}]
[{"$f":"IF(PROCESADOR!O3698>0,PROCESADOR!O3698,\"\")","v":""}]
[{"$f":"IF(PROCESADOR!O3699>0,PROCESADOR!O3699,\"\")","v":""}]
[{"$f":"IF(PROCESADOR!O3700>0,PROCESADOR!O3700,\"\")","v":""}]
[{"$f":"IF(PROCESADOR!O3701>0,PROCESADOR!O3701,\"\")","v":""}]
[{"$f":"IF(PROCESADOR!O3702>0,PROCESADOR!O3702,\"\")","v":""}]
[{"$f":"IF(PROCESADOR!O3703>0,PROCESADOR!O3703,\"\")","v":""}]
[{"$f":"IF(PROCESADOR!O3704>0,PROCESADOR!O3704,\"\")","v":""}]
[{"$f":"IF(PROCESADOR!O3705>0,PROCESADOR!O3705,\"\")","v":""}]
[{"$f":"IF(PROCESADOR!O3706>0,PROCESADOR!O3706,\"\")","v":""}]
[{"$f":"IF(PROCESADOR!O3707>0,PROCESADOR!O3707,\"\")","v":""}]
[{"$f":"IF(PROCESADOR!O3708>0,PROCESADOR!O3708,\"\")","v":""}]
[{"$f":"IF(PROCESADOR!O3709>0,PROCESADOR!O3709,\"\")","v":""}]
[{"$f":"IF(PROCESADOR!O3710>0,PROCESADOR!O3710,\"\")","v":""}]
[{"$f":"IF(PROCESADOR!O3711>0,PROCESADOR!O3711,\"\")","v":""}]
[{"$f":"IF(PROCESADOR!O3712>0,PROCESADOR!O3712,\"\")","v":""}]
[{"$f":"IF(PROCESADOR!O3713>0,PROCESADOR!O3713,\"\")","v":""}]
[{"$f":"IF(PROCESADOR!O3714>0,PROCESADOR!O3714,\"\")","v":""}]
[{"$f":"IF(PROCESADOR!O3715>0,PROCESADOR!O3715,\"\")","v":""}]
[{"$f":"IF(PROCESADOR!O3716>0,PROCESADOR!O3716,\"\")","v":""}]
[{"$f":"IF(PROCESADOR!O3717>0,PROCESADOR!O3717,\"\")","v":""}]
[{"$f":"IF(PROCESADOR!O3718>0,PROCESADOR!O3718,\"\")","v":""}]
[{"$f":"IF(PROCESADOR!O3719>0,PROCESADOR!O3719,\"\")","v":""}]
[{"$f":"IF(PROCESADOR!O3720>0,PROCESADOR!O3720,\"\")","v":""}]
[{"$f":"IF(PROCESADOR!O3721>0,PROCESADOR!O3721,\"\")","v":""}]
[{"$f":"IF(PROCESADOR!O3722>0,PROCESADOR!O3722,\"\")","v":""}]
[{"$f":"IF(PROCESADOR!O3723>0,PROCESADOR!O3723,\"\")","v":""}]
[{"$f":"IF(PROCESADOR!O3724>0,PROCESADOR!O3724,\"\")","v":""}]
[{"$f":"IF(PROCESADOR!O3725>0,PROCESADOR!O3725,\"\")","v":""}]
[{"$f":"IF(PROCESADOR!O3726>0,PROCESADOR!O3726,\"\")","v":""}]
[{"$f":"IF(PROCESADOR!O3727>0,PROCESADOR!O3727,\"\")","v":""}]
[{"$f":"IF(PROCESADOR!O3728>0,PROCESADOR!O3728,\"\")","v":""}]
[{"$f":"IF(PROCESADOR!O3729>0,PROCESADOR!O3729,\"\")","v":""}]
[{"$f":"IF(PROCESADOR!O3730>0,PROCESADOR!O3730,\"\")","v":""}]
[{"$f":"IF(PROCESADOR!O3731>0,PROCESADOR!O3731,\"\")","v":""}]
[{"$f":"IF(PROCESADOR!O3732>0,PROCESADOR!O3732,\"\")","v":""}]
[{"$f":"IF(PROCESADOR!O3733>0,PROCESADOR!O3733,\"\")","v":""}]
[{"$f":"IF(PROCESADOR!O3734>0,PROCESADOR!O3734,\"\")","v":""}]
[{"$f":"IF(PROCESADOR!O3735>0,PROCESADOR!O3735,\"\")","v":""}]
[{"$f":"IF(PROCESADOR!O3736>0,PROCESADOR!O3736,\"\")","v":""}]
[{"$f":"IF(PROCESADOR!O3737>0,PROCESADOR!O3737,\"\")","v":""}]
[{"$f":"IF(PROCESADOR!O3738>0,PROCESADOR!O3738,\"\")","v":""}]
[{"$f":"IF(PROCESADOR!O3739>0,PROCESADOR!O3739,\"\")","v":""}]
[{"$f":"IF(PROCESADOR!O3740>0,PROCESADOR!O3740,\"\")","v":""}]
[{"$f":"IF(PROCESADOR!O3741>0,PROCESADOR!O3741,\"\")","v":""}]
[{"$f":"IF(PROCESADOR!O3742>0,PROCESADOR!O3742,\"\")","v":""}]
[{"$f":"IF(PROCESADOR!O3743>0,PROCESADOR!O3743,\"\")","v":""}]
[{"$f":"IF(PROCESADOR!O3744>0,PROCESADOR!O3744,\"\")","v":""}]
[{"$f":"IF(PROCESADOR!O3745>0,PROCESADOR!O3745,\"\")","v":""}]
[{"$f":"IF(PROCESADOR!O3746>0,PROCESADOR!O3746,\"\")","v":""}]
[{"$f":"IF(PROCESADOR!O3747>0,PROCESADOR!O3747,\"\")","v":""}]
[{"$f":"IF(PROCESADOR!O3748>0,PROCESADOR!O3748,\"\")","v":""}]
[{"$f":"IF(PROCESADOR!O3749>0,PROCESADOR!O3749,\"\")","v":""}]
[{"$f":"IF(PROCESADOR!O3750>0,PROCESADOR!O3750,\"\")","v":""}]
[{"$f":"IF(PROCESADOR!O3751>0,PROCESADOR!O3751,\"\")","v":""}]
[{"$f":"IF(PROCESADOR!O3752>0,PROCESADOR!O3752,\"\")","v":""}]
[{"$f":"IF(PROCESADOR!O3753>0,PROCESADOR!O3753,\"\")","v":""}]
[{"$f":"IF(PROCESADOR!O3754>0,PROCESADOR!O3754,\"\")","v":""}]
[{"$f":"IF(PROCESADOR!O3755>0,PROCESADOR!O3755,\"\")","v":""}]
[{"$f":"IF(PROCESADOR!O3756>0,PROCESADOR!O3756,\"\")","v":""}]
[{"$f":"IF(PROCESADOR!O3757>0,PROCESADOR!O3757,\"\")","v":""}]
[{"$f":"IF(PROCESADOR!O3758>0,PROCESADOR!O3758,\"\")","v":""}]
[{"$f":"IF(PROCESADOR!O3759>0,PROCESADOR!O3759,\"\")","v":""}]
[{"$f":"IF(PROCESADOR!O3760>0,PROCESADOR!O3760,\"\")","v":""}]
[{"$f":"IF(PROCESADOR!O3761>0,PROCESADOR!O3761,\"\")","v":""}]
[{"$f":"IF(PROCESADOR!O3762>0,PROCESADOR!O3762,\"\")","v":""}]
[{"$f":"IF(PROCESADOR!O3763>0,PROCESADOR!O3763,\"\")","v":""}]
[{"$f":"IF(PROCESADOR!O3764>0,PROCESADOR!O3764,\"\")","v":""}]
[{"$f":"IF(PROCESADOR!O3765>0,PROCESADOR!O3765,\"\")","v":""}]
[{"$f":"IF(PROCESADOR!O3766>0,PROCESADOR!O3766,\"\")","v":""}]
[{"$f":"IF(PROCESADOR!O3767>0,PROCESADOR!O3767,\"\")","v":""}]
[{"$f":"IF(PROCESADOR!O3768>0,PROCESADOR!O3768,\"\")","v":""}]
[{"$f":"IF(PROCESADOR!O3769>0,PROCESADOR!O3769,\"\")","v":""}]
[{"$f":"IF(PROCESADOR!O3770>0,PROCESADOR!O3770,\"\")","v":""}]
[{"$f":"IF(PROCESADOR!O3771>0,PROCESADOR!O3771,\"\")","v":""}]
[{"$f":"IF(PROCESADOR!O3772>0,PROCESADOR!O3772,\"\")","v":""}]
[{"$f":"IF(PROCESADOR!O3773>0,PROCESADOR!O3773,\"\")","v":""}]
[{"$f":"IF(PROCESADOR!O3774>0,PROCESADOR!O3774,\"\")","v":""}]
[{"$f":"IF(PROCESADOR!O3775>0,PROCESADOR!O3775,\"\")","v":""}]
[{"$f":"IF(PROCESADOR!O3776>0,PROCESADOR!O3776,\"\")","v":""}]
[{"$f":"IF(PROCESADOR!O3777>0,PROCESADOR!O3777,\"\")","v":""}]
[{"$f":"IF(PROCESADOR!O3778>0,PROCESADOR!O3778,\"\")","v":""}]
[{"$f":"IF(PROCESADOR!O3779>0,PROCESADOR!O3779,\"\")","v":""}]
[{"$f":"IF(PROCESADOR!O3780>0,PROCESADOR!O3780,\"\")","v":""}]
[{"$f":"IF(PROCESADOR!O3781>0,PROCESADOR!O3781,\"\")","v":""}]
[{"$f":"IF(PROCESADOR!O3782>0,PROCESADOR!O3782,\"\")","v":""}]
[{"$f":"IF(PROCESADOR!O3783>0,PROCESADOR!O3783,\"\")","v":""}]
[{"$f":"IF(PROCESADOR!O3784>0,PROCESADOR!O3784,\"\")","v":""}]
[{"$f":"IF(PROCESADOR!O3785>0,PROCESADOR!O3785,\"\")","v":""}]
[{"$f":"IF(PROCESADOR!O3786>0,PROCESADOR!O3786,\"\")","v":""}]
[{"$f":"IF(PROCESADOR!O3787>0,PROCESADOR!O3787,\"\")","v":""}]
[{"$f":"IF(PROCESADOR!O3788>0,PROCESADOR!O3788,\"\")","v":""}]
[{"$f":"IF(PROCESADOR!O3789>0,PROCESADOR!O3789,\"\")","v":""}]
[{"$f":"IF(PROCESADOR!O3790>0,PROCESADOR!O3790,\"\")","v":""}]
[{"$f":"IF(PROCESADOR!O3791>0,PROCESADOR!O3791,\"\")","v":""}]
[{"$f":"IF(PROCESADOR!O3792>0,PROCESADOR!O3792,\"\")","v":""}]
[{"$f":"IF(PROCESADOR!O3793>0,PROCESADOR!O3793,\"\")","v":""}]
[{"$f":"IF(PROCESADOR!O3794>0,PROCESADOR!O3794,\"\")","v":""}]
[{"$f":"IF(PROCESADOR!O3795>0,PROCESADOR!O3795,\"\")","v":""}]
[{"$f":"IF(PROCESADOR!O3796>0,PROCESADOR!O3796,\"\")","v":""}]
[{"$f":"IF(PROCESADOR!O3797>0,PROCESADOR!O3797,\"\")","v":""}]
[{"$f":"IF(PROCESADOR!O3798>0,PROCESADOR!O3798,\"\")","v":""}]
[{"$f":"IF(PROCESADOR!O3799>0,PROCESADOR!O3799,\"\")","v":""}]
[{"$f":"IF(PROCESADOR!O3800>0,PROCESADOR!O3800,\"\")","v":""}]
[{"$f":"IF(PROCESADOR!O3801>0,PROCESADOR!O3801,\"\")","v":""}]
[{"$f":"IF(PROCESADOR!O3802>0,PROCESADOR!O3802,\"\")","v":""}]
[{"$f":"IF(PROCESADOR!O3803>0,PROCESADOR!O3803,\"\")","v":""}]
[{"$f":"IF(PROCESADOR!O3804>0,PROCESADOR!O3804,\"\")","v":""}]
[{"$f":"IF(PROCESADOR!O3805>0,PROCESADOR!O3805,\"\")","v":""}]
[{"$f":"IF(PROCESADOR!O3806>0,PROCESADOR!O3806,\"\")","v":""}]
[{"$f":"IF(PROCESADOR!O3807>0,PROCESADOR!O3807,\"\")","v":""}]
[{"$f":"IF(PROCESADOR!O3808>0,PROCESADOR!O3808,\"\")","v":""}]
[{"$f":"IF(PROCESADOR!O3809>0,PROCESADOR!O3809,\"\")","v":""}]
[{"$f":"IF(PROCESADOR!O3810>0,PROCESADOR!O3810,\"\")","v":""}]
[{"$f":"IF(PROCESADOR!O3811>0,PROCESADOR!O3811,\"\")","v":""}]
[{"$f":"IF(PROCESADOR!O3812>0,PROCESADOR!O3812,\"\")","v":""}]
[{"$f":"IF(PROCESADOR!O3813>0,PROCESADOR!O3813,\"\")","v":""}]
[{"$f":"IF(PROCESADOR!O3814>0,PROCESADOR!O3814,\"\")","v":""}]
[{"$f":"IF(PROCESADOR!O3815>0,PROCESADOR!O3815,\"\")","v":""}]
[{"$f":"IF(PROCESADOR!O3816>0,PROCESADOR!O3816,\"\")","v":""}]
[{"$f":"IF(PROCESADOR!O3817>0,PROCESADOR!O3817,\"\")","v":""}]
[{"$f":"IF(PROCESADOR!O3818>0,PROCESADOR!O3818,\"\")","v":""}]
[{"$f":"IF(PROCESADOR!O3819>0,PROCESADOR!O3819,\"\")","v":""}]
[{"$f":"IF(PROCESADOR!O3820>0,PROCESADOR!O3820,\"\")","v":""}]
[{"$f":"IF(PROCESADOR!O3821>0,PROCESADOR!O3821,\"\")","v":""}]
[{"$f":"IF(PROCESADOR!O3822>0,PROCESADOR!O3822,\"\")","v":""}]
[{"$f":"IF(PROCESADOR!O3823>0,PROCESADOR!O3823,\"\")","v":""}]
[{"$f":"IF(PROCESADOR!O3824>0,PROCESADOR!O3824,\"\")","v":""}]
[{"$f":"IF(PROCESADOR!O3825>0,PROCESADOR!O3825,\"\")","v":""}]
[{"$f":"IF(PROCESADOR!O3826>0,PROCESADOR!O3826,\"\")","v":""}]
[{"$f":"IF(PROCESADOR!O3827>0,PROCESADOR!O3827,\"\")","v":""}]
[{"$f":"IF(PROCESADOR!O3828>0,PROCESADOR!O3828,\"\")","v":""}]
[{"$f":"IF(PROCESADOR!O3829>0,PROCESADOR!O3829,\"\")","v":""}]
[{"$f":"IF(PROCESADOR!O3830>0,PROCESADOR!O3830,\"\")","v":""}]
[{"$f":"IF(PROCESADOR!O3831>0,PROCESADOR!O3831,\"\")","v":""}]
[{"$f":"IF(PROCESADOR!O3832>0,PROCESADOR!O3832,\"\")","v":""}]
[{"$f":"IF(PROCESADOR!O3833>0,PROCESADOR!O3833,\"\")","v":""}]
[{"$f":"IF(PROCESADOR!O3834>0,PROCESADOR!O3834,\"\")","v":""}]
[{"$f":"IF(PROCESADOR!O3835>0,PROCESADOR!O3835,\"\")","v":""}]
[{"$f":"IF(PROCESADOR!O3836>0,PROCESADOR!O3836,\"\")","v":""}]
[{"$f":"IF(PROCESADOR!O3837>0,PROCESADOR!O3837,\"\")","v":""}]
[{"$f":"IF(PROCESADOR!O3838>0,PROCESADOR!O3838,\"\")","v":""}]
[{"$f":"IF(PROCESADOR!O3839>0,PROCESADOR!O3839,\"\")","v":""}]
[{"$f":"IF(PROCESADOR!O3840>0,PROCESADOR!O3840,\"\")","v":""}]
[{"$f":"IF(PROCESADOR!O3841>0,PROCESADOR!O3841,\"\")","v":""}]
[{"$f":"IF(PROCESADOR!O3842>0,PROCESADOR!O3842,\"\")","v":""}]
[{"$f":"IF(PROCESADOR!O3843>0,PROCESADOR!O3843,\"\")","v":""}]
[{"$f":"IF(PROCESADOR!O3844>0,PROCESADOR!O3844,\"\")","v":""}]
[{"$f":"IF(PROCESADOR!O3845>0,PROCESADOR!O3845,\"\")","v":""}]
[{"$f":"IF(PROCESADOR!O3846>0,PROCESADOR!O3846,\"\")","v":""}]
[{"$f":"IF(PROCESADOR!O3847>0,PROCESADOR!O3847,\"\")","v":""}]
[{"$f":"IF(PROCESADOR!O3848>0,PROCESADOR!O3848,\"\")","v":""}]
[{"$f":"IF(PROCESADOR!O3849>0,PROCESADOR!O3849,\"\")","v":""}]
[{"$f":"IF(PROCESADOR!O3850>0,PROCESADOR!O3850,\"\")","v":""}]
[{"$f":"IF(PROCESADOR!O3851>0,PROCESADOR!O3851,\"\")","v":""}]
[{"$f":"IF(PROCESADOR!O3852>0,PROCESADOR!O3852,\"\")","v":""}]
[{"$f":"IF(PROCESADOR!O3853>0,PROCESADOR!O3853,\"\")","v":""}]
[{"$f":"IF(PROCESADOR!O3854>0,PROCESADOR!O3854,\"\")","v":""}]
[{"$f":"IF(PROCESADOR!O3855>0,PROCESADOR!O3855,\"\")","v":""}]
[{"$f":"IF(PROCESADOR!O3856>0,PROCESADOR!O3856,\"\")","v":""}]
[{"$f":"IF(PROCESADOR!O3857>0,PROCESADOR!O3857,\"\")","v":""}]
[{"$f":"IF(PROCESADOR!O3858>0,PROCESADOR!O3858,\"\")","v":""}]
[{"$f":"IF(PROCESADOR!O3859>0,PROCESADOR!O3859,\"\")","v":""}]
[{"$f":"IF(PROCESADOR!O3860>0,PROCESADOR!O3860,\"\")","v":""}]
[{"$f":"IF(PROCESADOR!O3861>0,PROCESADOR!O3861,\"\")","v":""}]
[{"$f":"IF(PROCESADOR!O3862>0,PROCESADOR!O3862,\"\")","v":""}]
[{"$f":"IF(PROCESADOR!O3863>0,PROCESADOR!O3863,\"\")","v":""}]
[{"$f":"IF(PROCESADOR!O3864>0,PROCESADOR!O3864,\"\")","v":""}]
[{"$f":"IF(PROCESADOR!O3865>0,PROCESADOR!O3865,\"\")","v":""}]
[{"$f":"IF(PROCESADOR!O3866>0,PROCESADOR!O3866,\"\")","v":""}]
[{"$f":"IF(PROCESADOR!O3867>0,PROCESADOR!O3867,\"\")","v":""}]
[{"$f":"IF(PROCESADOR!O3868>0,PROCESADOR!O3868,\"\")","v":""}]
[{"$f":"IF(PROCESADOR!O3869>0,PROCESADOR!O3869,\"\")","v":""}]
[{"$f":"IF(PROCESADOR!O3870>0,PROCESADOR!O3870,\"\")","v":""}]
[{"$f":"IF(PROCESADOR!O3871>0,PROCESADOR!O3871,\"\")","v":""}]
[{"$f":"IF(PROCESADOR!O3872>0,PROCESADOR!O3872,\"\")","v":""}]
[{"$f":"IF(PROCESADOR!O3873>0,PROCESADOR!O3873,\"\")","v":""}]
[{"$f":"IF(PROCESADOR!O3874>0,PROCESADOR!O3874,\"\")","v":""}]
[{"$f":"IF(PROCESADOR!O3875>0,PROCESADOR!O3875,\"\")","v":""}]
[{"$f":"IF(PROCESADOR!O3876>0,PROCESADOR!O3876,\"\")","v":""}]
[{"$f":"IF(PROCESADOR!O3877>0,PROCESADOR!O3877,\"\")","v":""}]
[{"$f":"IF(PROCESADOR!O3878>0,PROCESADOR!O3878,\"\")","v":""}]
[{"$f":"IF(PROCESADOR!O3879>0,PROCESADOR!O3879,\"\")","v":""}]
[{"$f":"IF(PROCESADOR!O3880>0,PROCESADOR!O3880,\"\")","v":""}]
[{"$f":"IF(PROCESADOR!O3881>0,PROCESADOR!O3881,\"\")","v":""}]
[{"$f":"IF(PROCESADOR!O3882>0,PROCESADOR!O3882,\"\")","v":""}]
[{"$f":"IF(PROCESADOR!O3883>0,PROCESADOR!O3883,\"\")","v":""}]
[{"$f":"IF(PROCESADOR!O3884>0,PROCESADOR!O3884,\"\")","v":""}]
[{"$f":"IF(PROCESADOR!O3885>0,PROCESADOR!O3885,\"\")","v":""}]
[{"$f":"IF(PROCESADOR!O3886>0,PROCESADOR!O3886,\"\")","v":""}]
[{"$f":"IF(PROCESADOR!O3887>0,PROCESADOR!O3887,\"\")","v":""}]
[{"$f":"IF(PROCESADOR!O3888>0,PROCESADOR!O3888,\"\")","v":""}]
[{"$f":"IF(PROCESADOR!O3889>0,PROCESADOR!O3889,\"\")","v":""}]
[{"$f":"IF(PROCESADOR!O3890>0,PROCESADOR!O3890,\"\")","v":""}]
[{"$f":"IF(PROCESADOR!O3891>0,PROCESADOR!O3891,\"\")","v":""}]
[{"$f":"IF(PROCESADOR!O3892>0,PROCESADOR!O3892,\"\")","v":""}]
[{"$f":"IF(PROCESADOR!O3893>0,PROCESADOR!O3893,\"\")","v":""}]
[{"$f":"IF(PROCESADOR!O3894>0,PROCESADOR!O3894,\"\")","v":""}]
[{"$f":"IF(PROCESADOR!O3895>0,PROCESADOR!O3895,\"\")","v":""}]
[{"$f":"IF(PROCESADOR!O3896>0,PROCESADOR!O3896,\"\")","v":""}]
[{"$f":"IF(PROCESADOR!O3897>0,PROCESADOR!O3897,\"\")","v":""}]
[{"$f":"IF(PROCESADOR!O3898>0,PROCESADOR!O3898,\"\")","v":""}]
[{"$f":"IF(PROCESADOR!O3899>0,PROCESADOR!O3899,\"\")","v":""}]
[{"$f":"IF(PROCESADOR!O3900>0,PROCESADOR!O3900,\"\")","v":""}]
[{"$f":"IF(PROCESADOR!O3901>0,PROCESADOR!O3901,\"\")","v":""}]
[{"$f":"IF(PROCESADOR!O3902>0,PROCESADOR!O3902,\"\")","v":""}]
[{"$f":"IF(PROCESADOR!O3903>0,PROCESADOR!O3903,\"\")","v":""}]
[{"$f":"IF(PROCESADOR!O3904>0,PROCESADOR!O3904,\"\")","v":""}]
[{"$f":"IF(PROCESADOR!O3905>0,PROCESADOR!O3905,\"\")","v":""}]
[{"$f":"IF(PROCESADOR!O3906>0,PROCESADOR!O3906,\"\")","v":""}]
[{"$f":"IF(PROCESADOR!O3907>0,PROCESADOR!O3907,\"\")","v":""}]
[{"$f":"IF(PROCESADOR!O3908>0,PROCESADOR!O3908,\"\")","v":""}]
[{"$f":"IF(PROCESADOR!O3909>0,PROCESADOR!O3909,\"\")","v":""}]
[{"$f":"IF(PROCESADOR!O3910>0,PROCESADOR!O3910,\"\")","v":""}]
[{"$f":"IF(PROCESADOR!O3911>0,PROCESADOR!O3911,\"\")","v":""}]
[{"$f":"IF(PROCESADOR!O3912>0,PROCESADOR!O3912,\"\")","v":""}]
[{"$f":"IF(PROCESADOR!O3913>0,PROCESADOR!O3913,\"\")","v":""}]
[{"$f":"IF(PROCESADOR!O3914>0,PROCESADOR!O3914,\"\")","v":""}]
[{"$f":"IF(PROCESADOR!O3915>0,PROCESADOR!O3915,\"\")","v":""}]
[{"$f":"IF(PROCESADOR!O3916>0,PROCESADOR!O3916,\"\")","v":""}]
[{"$f":"IF(PROCESADOR!O3917>0,PROCESADOR!O3917,\"\")","v":""}]
[{"$f":"IF(PROCESADOR!O3918>0,PROCESADOR!O3918,\"\")","v":""}]
[{"$f":"IF(PROCESADOR!O3919>0,PROCESADOR!O3919,\"\")","v":""}]
[{"$f":"IF(PROCESADOR!O3920>0,PROCESADOR!O3920,\"\")","v":""}]
[{"$f":"IF(PROCESADOR!O3921>0,PROCESADOR!O3921,\"\")","v":""}]
[{"$f":"IF(PROCESADOR!O3922>0,PROCESADOR!O3922,\"\")","v":""}]
[{"$f":"IF(PROCESADOR!O3923>0,PROCESADOR!O3923,\"\")","v":""}]
[{"$f":"IF(PROCESADOR!O3924>0,PROCESADOR!O3924,\"\")","v":""}]
[{"$f":"IF(PROCESADOR!O3925>0,PROCESADOR!O3925,\"\")","v":""}]
[{"$f":"IF(PROCESADOR!O3926>0,PROCESADOR!O3926,\"\")","v":""}]
[{"$f":"IF(PROCESADOR!O3927>0,PROCESADOR!O3927,\"\")","v":""}]
[{"$f":"IF(PROCESADOR!O3928>0,PROCESADOR!O3928,\"\")","v":""}]
[{"$f":"IF(PROCESADOR!O3929>0,PROCESADOR!O3929,\"\")","v":""}]
[{"$f":"IF(PROCESADOR!O3930>0,PROCESADOR!O3930,\"\")","v":""}]
[{"$f":"IF(PROCESADOR!O3931>0,PROCESADOR!O3931,\"\")","v":""}]
[{"$f":"IF(PROCESADOR!O3932>0,PROCESADOR!O3932,\"\")","v":""}]
[{"$f":"IF(PROCESADOR!O3933>0,PROCESADOR!O3933,\"\")","v":""}]
[{"$f":"IF(PROCESADOR!O3934>0,PROCESADOR!O3934,\"\")","v":""}]
[{"$f":"IF(PROCESADOR!O3935>0,PROCESADOR!O3935,\"\")","v":""}]
[{"$f":"IF(PROCESADOR!O3936>0,PROCESADOR!O3936,\"\")","v":""}]
[{"$f":"IF(PROCESADOR!O3937>0,PROCESADOR!O3937,\"\")","v":""}]
[{"$f":"IF(PROCESADOR!O3938>0,PROCESADOR!O3938,\"\")","v":""}]
[{"$f":"IF(PROCESADOR!O3939>0,PROCESADOR!O3939,\"\")","v":""}]
[{"$f":"IF(PROCESADOR!O3940>0,PROCESADOR!O3940,\"\")","v":""}]
[{"$f":"IF(PROCESADOR!O3941>0,PROCESADOR!O3941,\"\")","v":""}]
[{"$f":"IF(PROCESADOR!O3942>0,PROCESADOR!O3942,\"\")","v":""}]
[{"$f":"IF(PROCESADOR!O3943>0,PROCESADOR!O3943,\"\")","v":""}]
[{"$f":"IF(PROCESADOR!O3944>0,PROCESADOR!O3944,\"\")","v":""}]
[{"$f":"IF(PROCESADOR!O3945>0,PROCESADOR!O3945,\"\")","v":""}]
[{"$f":"IF(PROCESADOR!O3946>0,PROCESADOR!O3946,\"\")","v":""}]
[{"$f":"IF(PROCESADOR!O3947>0,PROCESADOR!O3947,\"\")","v":""}]
[{"$f":"IF(PROCESADOR!O3948>0,PROCESADOR!O3948,\"\")","v":""}]
[{"$f":"IF(PROCESADOR!O3949>0,PROCESADOR!O3949,\"\")","v":""}]
[{"$f":"IF(PROCESADOR!O3950>0,PROCESADOR!O3950,\"\")","v":""}]
[{"$f":"IF(PROCESADOR!O3951>0,PROCESADOR!O3951,\"\")","v":""}]
[{"$f":"IF(PROCESADOR!O3952>0,PROCESADOR!O3952,\"\")","v":""}]
[{"$f":"IF(PROCESADOR!O3953>0,PROCESADOR!O3953,\"\")","v":""}]
[{"$f":"IF(PROCESADOR!O3954>0,PROCESADOR!O3954,\"\")","v":""}]
[{"$f":"IF(PROCESADOR!O3955>0,PROCESADOR!O3955,\"\")","v":""}]
[{"$f":"IF(PROCESADOR!O3956>0,PROCESADOR!O3956,\"\")","v":""}]
[{"$f":"IF(PROCESADOR!O3957>0,PROCESADOR!O3957,\"\")","v":""}]
[{"$f":"IF(PROCESADOR!O3958>0,PROCESADOR!O3958,\"\")","v":""}]
[{"$f":"IF(PROCESADOR!O3959>0,PROCESADOR!O3959,\"\")","v":""}]
[{"$f":"IF(PROCESADOR!O3960>0,PROCESADOR!O3960,\"\")","v":""}]
[{"$f":"IF(PROCESADOR!O3961>0,PROCESADOR!O3961,\"\")","v":""}]
[{"$f":"IF(PROCESADOR!O3962>0,PROCESADOR!O3962,\"\")","v":""}]
[{"$f":"IF(PROCESADOR!O3963>0,PROCESADOR!O3963,\"\")","v":""}]
[{"$f":"IF(PROCESADOR!O3964>0,PROCESADOR!O3964,\"\")","v":""}]
[{"$f":"IF(PROCESADOR!O3965>0,PROCESADOR!O3965,\"\")","v":""}]
[{"$f":"IF(PROCESADOR!O3966>0,PROCESADOR!O3966,\"\")","v":""}]
[{"$f":"IF(PROCESADOR!O3967>0,PROCESADOR!O3967,\"\")","v":""}]
[{"$f":"IF(PROCESADOR!O3968>0,PROCESADOR!O3968,\"\")","v":""}]
[{"$f":"IF(PROCESADOR!O3969>0,PROCESADOR!O3969,\"\")","v":""}]
[{"$f":"IF(PROCESADOR!O3970>0,PROCESADOR!O3970,\"\")","v":""}]
[{"$f":"IF(PROCESADOR!O3971>0,PROCESADOR!O3971,\"\")","v":""}]
[{"$f":"IF(PROCESADOR!O3972>0,PROCESADOR!O3972,\"\")","v":""}]
[{"$f":"IF(PROCESADOR!O3973>0,PROCESADOR!O3973,\"\")","v":""}]
[{"$f":"IF(PROCESADOR!O3974>0,PROCESADOR!O3974,\"\")","v":""}]
[{"$f":"IF(PROCESADOR!O3975>0,PROCESADOR!O3975,\"\")","v":""}]
[{"$f":"IF(PROCESADOR!O3976>0,PROCESADOR!O3976,\"\")","v":""}]
[{"$f":"IF(PROCESADOR!O3977>0,PROCESADOR!O3977,\"\")","v":""}]
[{"$f":"IF(PROCESADOR!O3978>0,PROCESADOR!O3978,\"\")","v":""}]
[{"$f":"IF(PROCESADOR!O3979>0,PROCESADOR!O3979,\"\")","v":""}]
[{"$f":"IF(PROCESADOR!O3980>0,PROCESADOR!O3980,\"\")","v":""}]
[{"$f":"IF(PROCESADOR!O3981>0,PROCESADOR!O3981,\"\")","v":""}]
[{"$f":"IF(PROCESADOR!O3982>0,PROCESADOR!O3982,\"\")","v":""}]
[{"$f":"IF(PROCESADOR!O3983>0,PROCESADOR!O3983,\"\")","v":""}]
[{"$f":"IF(PROCESADOR!O3984>0,PROCESADOR!O3984,\"\")","v":""}]
[{"$f":"IF(PROCESADOR!O3985>0,PROCESADOR!O3985,\"\")","v":""}]
[{"$f":"IF(PROCESADOR!O3986>0,PROCESADOR!O3986,\"\")","v":""}]
[{"$f":"IF(PROCESADOR!O3987>0,PROCESADOR!O3987,\"\")","v":""}]
[{"$f":"IF(PROCESADOR!O3988>0,PROCESADOR!O3988,\"\")","v":""}]
[{"$f":"IF(PROCESADOR!O3989>0,PROCESADOR!O3989,\"\")","v":""}]
[{"$f":"IF(PROCESADOR!O3990>0,PROCESADOR!O3990,\"\")","v":""}]
[{"$f":"IF(PROCESADOR!O3991>0,PROCESADOR!O3991,\"\")","v":""}]
[{"$f":"IF(PROCESADOR!O3992>0,PROCESADOR!O3992,\"\")","v":""}]
[{"$f":"IF(PROCESADOR!O3993>0,PROCESADOR!O3993,\"\")","v":""}]
[{"$f":"IF(PROCESADOR!O3994>0,PROCESADOR!O3994,\"\")","v":""}]
[{"$f":"IF(PROCESADOR!O3995>0,PROCESADOR!O3995,\"\")","v":""}]
[{"$f":"IF(PROCESADOR!O3996>0,PROCESADOR!O3996,\"\")","v":""}]
[{"$f":"IF(PROCESADOR!O3997>0,PROCESADOR!O3997,\"\")","v":""}]
[{"$f":"IF(PROCESADOR!O3998>0,PROCESADOR!O3998,\"\")","v":""}]
[{"$f":"IF(PROCESADOR!O3999>0,PROCESADOR!O3999,\"\")","v":""}]
[{"$f":"IF(PROCESADOR!O4000>0,PROCESADOR!O4000,\"\")","v":""}]
[{"$f":"IF(PROCESADOR!O4001>0,PROCESADOR!O4001,\"\")","v":""}]
[{"$f":"IF(PROCESADOR!O4002>0,PROCESADOR!O4002,\"\")","v":""}]
[{"$f":"IF(PROCESADOR!O4003>0,PROCESADOR!O4003,\"\")","v":""}]
[{"$f":"IF(PROCESADOR!O4004>0,PROCESADOR!O4004,\"\")","v":""}]
[{"$f":"IF(PROCESADOR!O4005>0,PROCESADOR!O4005,\"\")","v":""}]
[{"$f":"IF(PROCESADOR!O4006>0,PROCESADOR!O4006,\"\")","v":""}]
[{"$f":"IF(PROCESADOR!O4007>0,PROCESADOR!O4007,\"\")","v":""}]
[{"$f":"IF(PROCESADOR!O4008>0,PROCESADOR!O4008,\"\")","v":""}]
[{"$f":"IF(PROCESADOR!O4009>0,PROCESADOR!O4009,\"\")","v":""}]
[{"$f":"IF(PROCESADOR!O4010>0,PROCESADOR!O4010,\"\")","v":""}]
[{"$f":"IF(PROCESADOR!O4011>0,PROCESADOR!O4011,\"\")","v":""}]
[{"$f":"IF(PROCESADOR!O4012>0,PROCESADOR!O4012,\"\")","v":""}]
[{"$f":"IF(PROCESADOR!O4013>0,PROCESADOR!O4013,\"\")","v":""}]
[{"$f":"IF(PROCESADOR!O4014>0,PROCESADOR!O4014,\"\")","v":""}]
[{"$f":"IF(PROCESADOR!O4015>0,PROCESADOR!O4015,\"\")","v":""}]
[{"$f":"IF(PROCESADOR!O4016>0,PROCESADOR!O4016,\"\")","v":""}]
[{"$f":"IF(PROCESADOR!O4017>0,PROCESADOR!O4017,\"\")","v":""}]
[{"$f":"IF(PROCESADOR!O4018>0,PROCESADOR!O4018,\"\")","v":""}]
[{"$f":"IF(PROCESADOR!O4019>0,PROCESADOR!O4019,\"\")","v":""}]
[{"$f":"IF(PROCESADOR!O4020>0,PROCESADOR!O4020,\"\")","v":""}]
[{"$f":"IF(PROCESADOR!O4021>0,PROCESADOR!O4021,\"\")","v":""}]
[{"$f":"IF(PROCESADOR!O4022>0,PROCESADOR!O4022,\"\")","v":""}]
[{"$f":"IF(PROCESADOR!O4023>0,PROCESADOR!O4023,\"\")","v":""}]
[{"$f":"IF(PROCESADOR!O4024>0,PROCESADOR!O4024,\"\")","v":""}]
[{"$f":"IF(PROCESADOR!O4025>0,PROCESADOR!O4025,\"\")","v":""}]
[{"$f":"IF(PROCESADOR!O4026>0,PROCESADOR!O4026,\"\")","v":""}]
[{"$f":"IF(PROCESADOR!O4027>0,PROCESADOR!O4027,\"\")","v":""}]
[{"$f":"IF(PROCESADOR!O4028>0,PROCESADOR!O4028,\"\")","v":""}]
[{"$f":"IF(PROCESADOR!O4029>0,PROCESADOR!O4029,\"\")","v":""}]
[{"$f":"IF(PROCESADOR!O4030>0,PROCESADOR!O4030,\"\")","v":""}]
[{"$f":"IF(PROCESADOR!O4031>0,PROCESADOR!O4031,\"\")","v":""}]
[{"$f":"IF(PROCESADOR!O4032>0,PROCESADOR!O4032,\"\")","v":""}]
[{"$f":"IF(PROCESADOR!O4033>0,PROCESADOR!O4033,\"\")","v":""}]
[{"$f":"IF(PROCESADOR!O4034>0,PROCESADOR!O4034,\"\")","v":""}]
[{"$f":"IF(PROCESADOR!O4035>0,PROCESADOR!O4035,\"\")","v":""}]
[{"$f":"IF(PROCESADOR!O4036>0,PROCESADOR!O4036,\"\")","v":""}]
[{"$f":"IF(PROCESADOR!O4037>0,PROCESADOR!O4037,\"\")","v":""}]
[{"$f":"IF(PROCESADOR!O4038>0,PROCESADOR!O4038,\"\")","v":""}]
[{"$f":"IF(PROCESADOR!O4039>0,PROCESADOR!O4039,\"\")","v":""}]
[{"$f":"IF(PROCESADOR!O4040>0,PROCESADOR!O4040,\"\")","v":""}]
[{"$f":"IF(PROCESADOR!O4041>0,PROCESADOR!O4041,\"\")","v":""}]
[{"$f":"IF(PROCESADOR!O4042>0,PROCESADOR!O4042,\"\")","v":""}]
[{"$f":"IF(PROCESADOR!O4043>0,PROCESADOR!O4043,\"\")","v":""}]
[{"$f":"IF(PROCESADOR!O4044>0,PROCESADOR!O4044,\"\")","v":""}]
[{"$f":"IF(PROCESADOR!O4045>0,PROCESADOR!O4045,\"\")","v":""}]
[{"$f":"IF(PROCESADOR!O4046>0,PROCESADOR!O4046,\"\")","v":""}]
[{"$f":"IF(PROCESADOR!O4047>0,PROCESADOR!O4047,\"\")","v":""}]
[{"$f":"IF(PROCESADOR!O4048>0,PROCESADOR!O4048,\"\")","v":""}]
[{"$f":"IF(PROCESADOR!O4049>0,PROCESADOR!O4049,\"\")","v":""}]
[{"$f":"IF(PROCESADOR!O4050>0,PROCESADOR!O4050,\"\")","v":""}]
[{"$f":"IF(PROCESADOR!O4051>0,PROCESADOR!O4051,\"\")","v":""}]
[{"$f":"IF(PROCESADOR!O4052>0,PROCESADOR!O4052,\"\")","v":""}]
[{"$f":"IF(PROCESADOR!O4053>0,PROCESADOR!O4053,\"\")","v":""}]
[{"$f":"IF(PROCESADOR!O4054>0,PROCESADOR!O4054,\"\")","v":""}]
[{"$f":"IF(PROCESADOR!O4055>0,PROCESADOR!O4055,\"\")","v":""}]
[{"$f":"IF(PROCESADOR!O4056>0,PROCESADOR!O4056,\"\")","v":""}]
[{"$f":"IF(PROCESADOR!O4057>0,PROCESADOR!O4057,\"\")","v":""}]
[{"$f":"IF(PROCESADOR!O4058>0,PROCESADOR!O4058,\"\")","v":""}]
[{"$f":"IF(PROCESADOR!O4059>0,PROCESADOR!O4059,\"\")","v":""}]
[{"$f":"IF(PROCESADOR!O4060>0,PROCESADOR!O4060,\"\")","v":""}]
[{"$f":"IF(PROCESADOR!O4061>0,PROCESADOR!O4061,\"\")","v":""}]
[{"$f":"IF(PROCESADOR!O4062>0,PROCESADOR!O4062,\"\")","v":""}]
[{"$f":"IF(PROCESADOR!O4063>0,PROCESADOR!O4063,\"\")","v":""}]
[{"$f":"IF(PROCESADOR!O4064>0,PROCESADOR!O4064,\"\")","v":""}]
[{"$f":"IF(PROCESADOR!O4065>0,PROCESADOR!O4065,\"\")","v":""}]
[{"$f":"IF(PROCESADOR!O4066>0,PROCESADOR!O4066,\"\")","v":""}]
[{"$f":"IF(PROCESADOR!O4067>0,PROCESADOR!O4067,\"\")","v":""}]
[{"$f":"IF(PROCESADOR!O4068>0,PROCESADOR!O4068,\"\")","v":""}]
[{"$f":"IF(PROCESADOR!O4069>0,PROCESADOR!O4069,\"\")","v":""}]
[{"$f":"IF(PROCESADOR!O4070>0,PROCESADOR!O4070,\"\")","v":""}]
[{"$f":"IF(PROCESADOR!O4071>0,PROCESADOR!O4071,\"\")","v":""}]
[{"$f":"IF(PROCESADOR!O4072>0,PROCESADOR!O4072,\"\")","v":""}]
[{"$f":"IF(PROCESADOR!O4073>0,PROCESADOR!O4073,\"\")","v":""}]
[{"$f":"IF(PROCESADOR!O4074>0,PROCESADOR!O4074,\"\")","v":""}]
[{"$f":"IF(PROCESADOR!O4075>0,PROCESADOR!O4075,\"\")","v":""}]
[{"$f":"IF(PROCESADOR!O4076>0,PROCESADOR!O4076,\"\")","v":""}]
[{"$f":"IF(PROCESADOR!O4077>0,PROCESADOR!O4077,\"\")","v":""}]
[{"$f":"IF(PROCESADOR!O4078>0,PROCESADOR!O4078,\"\")","v":""}]
[{"$f":"IF(PROCESADOR!O4079>0,PROCESADOR!O4079,\"\")","v":""}]
[{"$f":"IF(PROCESADOR!O4080>0,PROCESADOR!O4080,\"\")","v":""}]
[{"$f":"IF(PROCESADOR!O4081>0,PROCESADOR!O4081,\"\")","v":""}]
[{"$f":"IF(PROCESADOR!O4082>0,PROCESADOR!O4082,\"\")","v":""}]
[{"$f":"IF(PROCESADOR!O4083>0,PROCESADOR!O4083,\"\")","v":""}]
[{"$f":"IF(PROCESADOR!O4084>0,PROCESADOR!O4084,\"\")","v":""}]
[{"$f":"IF(PROCESADOR!O4085>0,PROCESADOR!O4085,\"\")","v":""}]
[{"$f":"IF(PROCESADOR!O4086>0,PROCESADOR!O4086,\"\")","v":""}]
[{"$f":"IF(PROCESADOR!O4087>0,PROCESADOR!O4087,\"\")","v":""}]
[{"$f":"IF(PROCESADOR!O4088>0,PROCESADOR!O4088,\"\")","v":""}]
[{"$f":"IF(PROCESADOR!O4089>0,PROCESADOR!O4089,\"\")","v":""}]
[{"$f":"IF(PROCESADOR!O4090>0,PROCESADOR!O4090,\"\")","v":""}]
[{"$f":"IF(PROCESADOR!O4091>0,PROCESADOR!O4091,\"\")","v":""}]
[{"$f":"IF(PROCESADOR!O4092>0,PROCESADOR!O4092,\"\")","v":""}]
[{"$f":"IF(PROCESADOR!O4093>0,PROCESADOR!O4093,\"\")","v":""}]
[{"$f":"IF(PROCESADOR!O4094>0,PROCESADOR!O4094,\"\")","v":""}]
[{"$f":"IF(PROCESADOR!O4095>0,PROCESADOR!O4095,\"\")","v":""}]
[{"$f":"IF(PROCESADOR!O4096>0,PROCESADOR!O4096,\"\")","v":""}]
[{"$f":"IF(PROCESADOR!O4097>0,PROCESADOR!O4097,\"\")","v":""}]
[{"$f":"IF(PROCESADOR!O4098>0,PROCESADOR!O4098,\"\")","v":""}]
[{"$f":"IF(PROCESADOR!O4099>0,PROCESADOR!O4099,\"\")","v":""}]
[{"$f":"IF(PROCESADOR!O4100>0,PROCESADOR!O4100,\"\")","v":""}]
[{"$f":"IF(PROCESADOR!O4101>0,PROCESADOR!O4101,\"\")","v":""}]
[{"$f":"IF(PROCESADOR!O4102>0,PROCESADOR!O4102,\"\")","v":""}]
[{"$f":"IF(PROCESADOR!O4103>0,PROCESADOR!O4103,\"\")","v":""}]
[{"$f":"IF(PROCESADOR!O4104>0,PROCESADOR!O4104,\"\")","v":""}]
[{"$f":"IF(PROCESADOR!O4105>0,PROCESADOR!O4105,\"\")","v":""}]
[{"$f":"IF(PROCESADOR!O4106>0,PROCESADOR!O4106,\"\")","v":""}]
[{"$f":"IF(PROCESADOR!O4107>0,PROCESADOR!O4107,\"\")","v":""}]
[{"$f":"IF(PROCESADOR!O4108>0,PROCESADOR!O4108,\"\")","v":""}]
[{"$f":"IF(PROCESADOR!O4109>0,PROCESADOR!O4109,\"\")","v":""}]
[{"$f":"IF(PROCESADOR!O4110>0,PROCESADOR!O4110,\"\")","v":""}]
[{"$f":"IF(PROCESADOR!O4111>0,PROCESADOR!O4111,\"\")","v":""}]
[{"$f":"IF(PROCESADOR!O4112>0,PROCESADOR!O4112,\"\")","v":""}]
[{"$f":"IF(PROCESADOR!O4113>0,PROCESADOR!O4113,\"\")","v":""}]
[{"$f":"IF(PROCESADOR!O4114>0,PROCESADOR!O4114,\"\")","v":""}]
[{"$f":"IF(PROCESADOR!O4115>0,PROCESADOR!O4115,\"\")","v":""}]
[{"$f":"IF(PROCESADOR!O4116>0,PROCESADOR!O4116,\"\")","v":""}]
[{"$f":"IF(PROCESADOR!O4117>0,PROCESADOR!O4117,\"\")","v":""}]
[{"$f":"IF(PROCESADOR!O4118>0,PROCESADOR!O4118,\"\")","v":""}]
[{"$f":"IF(PROCESADOR!O4119>0,PROCESADOR!O4119,\"\")","v":""}]
[{"$f":"IF(PROCESADOR!O4120>0,PROCESADOR!O4120,\"\")","v":""}]
[{"$f":"IF(PROCESADOR!O4121>0,PROCESADOR!O4121,\"\")","v":""}]
[{"$f":"IF(PROCESADOR!O4122>0,PROCESADOR!O4122,\"\")","v":""}]
[{"$f":"IF(PROCESADOR!O4123>0,PROCESADOR!O4123,\"\")","v":""}]
[{"$f":"IF(PROCESADOR!O4124>0,PROCESADOR!O4124,\"\")","v":""}]
[{"$f":"IF(PROCESADOR!O4125>0,PROCESADOR!O4125,\"\")","v":""}]
[{"$f":"IF(PROCESADOR!O4126>0,PROCESADOR!O4126,\"\")","v":""}]
[{"$f":"IF(PROCESADOR!O4127>0,PROCESADOR!O4127,\"\")","v":""}]
[{"$f":"IF(PROCESADOR!O4128>0,PROCESADOR!O4128,\"\")","v":""}]
[{"$f":"IF(PROCESADOR!O4129>0,PROCESADOR!O4129,\"\")","v":""}]
[{"$f":"IF(PROCESADOR!O4130>0,PROCESADOR!O4130,\"\")","v":""}]
[{"$f":"IF(PROCESADOR!O4131>0,PROCESADOR!O4131,\"\")","v":""}]
[{"$f":"IF(PROCESADOR!O4132>0,PROCESADOR!O4132,\"\")","v":""}]
[{"$f":"IF(PROCESADOR!O4133>0,PROCESADOR!O4133,\"\")","v":""}]
[{"$f":"IF(PROCESADOR!O4134>0,PROCESADOR!O4134,\"\")","v":""}]
[{"$f":"IF(PROCESADOR!O4135>0,PROCESADOR!O4135,\"\")","v":""}]
[{"$f":"IF(PROCESADOR!O4136>0,PROCESADOR!O4136,\"\")","v":""}]
[{"$f":"IF(PROCESADOR!O4137>0,PROCESADOR!O4137,\"\")","v":""}]
[{"$f":"IF(PROCESADOR!O4138>0,PROCESADOR!O4138,\"\")","v":""}]
[{"$f":"IF(PROCESADOR!O4139>0,PROCESADOR!O4139,\"\")","v":""}]
[{"$f":"IF(PROCESADOR!O4140>0,PROCESADOR!O4140,\"\")","v":""}]
[{"$f":"IF(PROCESADOR!O4141>0,PROCESADOR!O4141,\"\")","v":""}]
[{"$f":"IF(PROCESADOR!O4142>0,PROCESADOR!O4142,\"\")","v":""}]
[{"$f":"IF(PROCESADOR!O4143>0,PROCESADOR!O4143,\"\")","v":""}]
[{"$f":"IF(PROCESADOR!O4144>0,PROCESADOR!O4144,\"\")","v":""}]
[{"$f":"IF(PROCESADOR!O4145>0,PROCESADOR!O4145,\"\")","v":""}]
[{"$f":"IF(PROCESADOR!O4146>0,PROCESADOR!O4146,\"\")","v":""}]
[{"$f":"IF(PROCESADOR!O4147>0,PROCESADOR!O4147,\"\")","v":""}]
[{"$f":"IF(PROCESADOR!O4148>0,PROCESADOR!O4148,\"\")","v":""}]
[{"$f":"IF(PROCESADOR!O4149>0,PROCESADOR!O4149,\"\")","v":""}]
[{"$f":"IF(PROCESADOR!O4150>0,PROCESADOR!O4150,\"\")","v":""}]
[{"$f":"IF(PROCESADOR!O4151>0,PROCESADOR!O4151,\"\")","v":""}]
[{"$f":"IF(PROCESADOR!O4152>0,PROCESADOR!O4152,\"\")","v":""}]
[{"$f":"IF(PROCESADOR!O4153>0,PROCESADOR!O4153,\"\")","v":""}]
[{"$f":"IF(PROCESADOR!O4154>0,PROCESADOR!O4154,\"\")","v":""}]
[{"$f":"IF(PROCESADOR!O4155>0,PROCESADOR!O4155,\"\")","v":""}]
[{"$f":"IF(PROCESADOR!O4156>0,PROCESADOR!O4156,\"\")","v":""}]
[{"$f":"IF(PROCESADOR!O4157>0,PROCESADOR!O4157,\"\")","v":""}]
[{"$f":"IF(PROCESADOR!O4158>0,PROCESADOR!O4158,\"\")","v":""}]
[{"$f":"IF(PROCESADOR!O4159>0,PROCESADOR!O4159,\"\")","v":""}]
[{"$f":"IF(PROCESADOR!O4160>0,PROCESADOR!O4160,\"\")","v":""}]
[{"$f":"IF(PROCESADOR!O4161>0,PROCESADOR!O4161,\"\")","v":""}]
[{"$f":"IF(PROCESADOR!O4162>0,PROCESADOR!O4162,\"\")","v":""}]
[{"$f":"IF(PROCESADOR!O4163>0,PROCESADOR!O4163,\"\")","v":""}]
[{"$f":"IF(PROCESADOR!O4164>0,PROCESADOR!O4164,\"\")","v":""}]
[{"$f":"IF(PROCESADOR!O4165>0,PROCESADOR!O4165,\"\")","v":""}]
[{"$f":"IF(PROCESADOR!O4166>0,PROCESADOR!O4166,\"\")","v":""}]
[{"$f":"IF(PROCESADOR!O4167>0,PROCESADOR!O4167,\"\")","v":""}]
[{"$f":"IF(PROCESADOR!O4168>0,PROCESADOR!O4168,\"\")","v":""}]
[{"$f":"IF(PROCESADOR!O4169>0,PROCESADOR!O4169,\"\")","v":""}]
[{"$f":"IF(PROCESADOR!O4170>0,PROCESADOR!O4170,\"\")","v":""}]
[{"$f":"IF(PROCESADOR!O4171>0,PROCESADOR!O4171,\"\")","v":""}]
[{"$f":"IF(PROCESADOR!O4172>0,PROCESADOR!O4172,\"\")","v":""}]
[{"$f":"IF(PROCESADOR!O4173>0,PROCESADOR!O4173,\"\")","v":""}]
[{"$f":"IF(PROCESADOR!O4174>0,PROCESADOR!O4174,\"\")","v":""}]
[{"$f":"IF(PROCESADOR!O4175>0,PROCESADOR!O4175,\"\")","v":""}]
[{"$f":"IF(PROCESADOR!O4176>0,PROCESADOR!O4176,\"\")","v":""}]
[{"$f":"IF(PROCESADOR!O4177>0,PROCESADOR!O4177,\"\")","v":""}]
[{"$f":"IF(PROCESADOR!O4178>0,PROCESADOR!O4178,\"\")","v":""}]
[{"$f":"IF(PROCESADOR!O4179>0,PROCESADOR!O4179,\"\")","v":""}]
[{"$f":"IF(PROCESADOR!O4180>0,PROCESADOR!O4180,\"\")","v":""}]
[{"$f":"IF(PROCESADOR!O4181>0,PROCESADOR!O4181,\"\")","v":""}]
[{"$f":"IF(PROCESADOR!O4182>0,PROCESADOR!O4182,\"\")","v":""}]
[{"$f":"IF(PROCESADOR!O4183>0,PROCESADOR!O4183,\"\")","v":""}]
[{"$f":"IF(PROCESADOR!O4184>0,PROCESADOR!O4184,\"\")","v":""}]
[{"$f":"IF(PROCESADOR!O4185>0,PROCESADOR!O4185,\"\")","v":""}]
[{"$f":"IF(PROCESADOR!O4186>0,PROCESADOR!O4186,\"\")","v":""}]
[{"$f":"IF(PROCESADOR!O4187>0,PROCESADOR!O4187,\"\")","v":""}]
[{"$f":"IF(PROCESADOR!O4188>0,PROCESADOR!O4188,\"\")","v":""}]
[{"$f":"IF(PROCESADOR!O4189>0,PROCESADOR!O4189,\"\")","v":""}]
[{"$f":"IF(PROCESADOR!O4190>0,PROCESADOR!O4190,\"\")","v":""}]
[{"$f":"IF(PROCESADOR!O4191>0,PROCESADOR!O4191,\"\")","v":""}]
[{"$f":"IF(PROCESADOR!O4192>0,PROCESADOR!O4192,\"\")","v":""}]
[{"$f":"IF(PROCESADOR!O4193>0,PROCESADOR!O4193,\"\")","v":""}]
[{"$f":"IF(PROCESADOR!O4194>0,PROCESADOR!O4194,\"\")","v":""}]
[{"$f":"IF(PROCESADOR!O4195>0,PROCESADOR!O4195,\"\")","v":""}]
[{"$f":"IF(PROCESADOR!O4196>0,PROCESADOR!O4196,\"\")","v":""}]
[{"$f":"IF(PROCESADOR!O4197>0,PROCESADOR!O4197,\"\")","v":""}]
[{"$f":"IF(PROCESADOR!O4198>0,PROCESADOR!O4198,\"\")","v":""}]
[{"$f":"IF(PROCESADOR!O4199>0,PROCESADOR!O4199,\"\")","v":""}]
[{"$f":"IF(PROCESADOR!O4200>0,PROCESADOR!O4200,\"\")","v":""}]
[{"$f":"IF(PROCESADOR!O4201>0,PROCESADOR!O4201,\"\")","v":""}]
[{"$f":"IF(PROCESADOR!O4202>0,PROCESADOR!O4202,\"\")","v":""}]
[{"$f":"IF(PROCESADOR!O4203>0,PROCESADOR!O4203,\"\")","v":""}]
[{"$f":"IF(PROCESADOR!O4204>0,PROCESADOR!O4204,\"\")","v":""}]
[{"$f":"IF(PROCESADOR!O4205>0,PROCESADOR!O4205,\"\")","v":""}]
[{"$f":"IF(PROCESADOR!O4206>0,PROCESADOR!O4206,\"\")","v":""}]
[{"$f":"IF(PROCESADOR!O4207>0,PROCESADOR!O4207,\"\")","v":""}]
[{"$f":"IF(PROCESADOR!O4208>0,PROCESADOR!O4208,\"\")","v":""}]
[{"$f":"IF(PROCESADOR!O4209>0,PROCESADOR!O4209,\"\")","v":""}]
[{"$f":"IF(PROCESADOR!O4210>0,PROCESADOR!O4210,\"\")","v":""}]
[{"$f":"IF(PROCESADOR!O4211>0,PROCESADOR!O4211,\"\")","v":""}]
[{"$f":"IF(PROCESADOR!O4212>0,PROCESADOR!O4212,\"\")","v":""}]
[{"$f":"IF(PROCESADOR!O4213>0,PROCESADOR!O4213,\"\")","v":""}]
[{"$f":"IF(PROCESADOR!O4214>0,PROCESADOR!O4214,\"\")","v":""}]
[{"$f":"IF(PROCESADOR!O4215>0,PROCESADOR!O4215,\"\")","v":""}]
[{"$f":"IF(PROCESADOR!O4216>0,PROCESADOR!O4216,\"\")","v":""}]
[{"$f":"IF(PROCESADOR!O4217>0,PROCESADOR!O4217,\"\")","v":""}]
[{"$f":"IF(PROCESADOR!O4218>0,PROCESADOR!O4218,\"\")","v":""}]
[{"$f":"IF(PROCESADOR!O4219>0,PROCESADOR!O4219,\"\")","v":""}]
[{"$f":"IF(PROCESADOR!O4220>0,PROCESADOR!O4220,\"\")","v":""}]
[{"$f":"IF(PROCESADOR!O4221>0,PROCESADOR!O4221,\"\")","v":""}]
[{"$f":"IF(PROCESADOR!O4222>0,PROCESADOR!O4222,\"\")","v":""}]
[{"$f":"IF(PROCESADOR!O4223>0,PROCESADOR!O4223,\"\")","v":""}]
[{"$f":"IF(PROCESADOR!O4224>0,PROCESADOR!O4224,\"\")","v":""}]
[{"$f":"IF(PROCESADOR!O4225>0,PROCESADOR!O4225,\"\")","v":""}]
[{"$f":"IF(PROCESADOR!O4226>0,PROCESADOR!O4226,\"\")","v":""}]
[{"$f":"IF(PROCESADOR!O4227>0,PROCESADOR!O4227,\"\")","v":""}]
[{"$f":"IF(PROCESADOR!O4228>0,PROCESADOR!O4228,\"\")","v":""}]
[{"$f":"IF(PROCESADOR!O4229>0,PROCESADOR!O4229,\"\")","v":""}]
[{"$f":"IF(PROCESADOR!O4230>0,PROCESADOR!O4230,\"\")","v":""}]
[{"$f":"IF(PROCESADOR!O4231>0,PROCESADOR!O4231,\"\")","v":""}]
[{"$f":"IF(PROCESADOR!O4232>0,PROCESADOR!O4232,\"\")","v":""}]
[{"$f":"IF(PROCESADOR!O4233>0,PROCESADOR!O4233,\"\")","v":""}]
[{"$f":"IF(PROCESADOR!O4234>0,PROCESADOR!O4234,\"\")","v":""}]
[{"$f":"IF(PROCESADOR!O4235>0,PROCESADOR!O4235,\"\")","v":""}]
[{"$f":"IF(PROCESADOR!O4236>0,PROCESADOR!O4236,\"\")","v":""}]
[{"$f":"IF(PROCESADOR!O4237>0,PROCESADOR!O4237,\"\")","v":""}]
[{"$f":"IF(PROCESADOR!O4238>0,PROCESADOR!O4238,\"\")","v":""}]
[{"$f":"IF(PROCESADOR!O4239>0,PROCESADOR!O4239,\"\")","v":""}]
[{"$f":"IF(PROCESADOR!O4240>0,PROCESADOR!O4240,\"\")","v":""}]
[{"$f":"IF(PROCESADOR!O4241>0,PROCESADOR!O4241,\"\")","v":""}]
[{"$f":"IF(PROCESADOR!O4242>0,PROCESADOR!O4242,\"\")","v":""}]
[{"$f":"IF(PROCESADOR!O4243>0,PROCESADOR!O4243,\"\")","v":""}]
[{"$f":"IF(PROCESADOR!O4244>0,PROCESADOR!O4244,\"\")","v":""}]
[{"$f":"IF(PROCESADOR!O4245>0,PROCESADOR!O4245,\"\")","v":""}]
[{"$f":"IF(PROCESADOR!O4246>0,PROCESADOR!O4246,\"\")","v":""}]
[{"$f":"IF(PROCESADOR!O4247>0,PROCESADOR!O4247,\"\")","v":""}]
[{"$f":"IF(PROCESADOR!O4248>0,PROCESADOR!O4248,\"\")","v":""}]
[{"$f":"IF(PROCESADOR!O4249>0,PROCESADOR!O4249,\"\")","v":""}]
[{"$f":"IF(PROCESADOR!O4250>0,PROCESADOR!O4250,\"\")","v":""}]
[{"$f":"IF(PROCESADOR!O4251>0,PROCESADOR!O4251,\"\")","v":""}]
[{"$f":"IF(PROCESADOR!O4252>0,PROCESADOR!O4252,\"\")","v":""}]
[{"$f":"IF(PROCESADOR!O4253>0,PROCESADOR!O4253,\"\")","v":""}]
[{"$f":"IF(PROCESADOR!O4254>0,PROCESADOR!O4254,\"\")","v":""}]
[{"$f":"IF(PROCESADOR!O4255>0,PROCESADOR!O4255,\"\")","v":""}]
[{"$f":"IF(PROCESADOR!O4256>0,PROCESADOR!O4256,\"\")","v":""}]
[{"$f":"IF(PROCESADOR!O4257>0,PROCESADOR!O4257,\"\")","v":""}]
[{"$f":"IF(PROCESADOR!O4258>0,PROCESADOR!O4258,\"\")","v":""}]
[{"$f":"IF(PROCESADOR!O4259>0,PROCESADOR!O4259,\"\")","v":""}]
[{"$f":"IF(PROCESADOR!O4260>0,PROCESADOR!O4260,\"\")","v":""}]
[{"$f":"IF(PROCESADOR!O4261>0,PROCESADOR!O4261,\"\")","v":""}]
[{"$f":"IF(PROCESADOR!O4262>0,PROCESADOR!O4262,\"\")","v":""}]
[{"$f":"IF(PROCESADOR!O4263>0,PROCESADOR!O4263,\"\")","v":""}]
[{"$f":"IF(PROCESADOR!O4264>0,PROCESADOR!O4264,\"\")","v":""}]
[{"$f":"IF(PROCESADOR!O4265>0,PROCESADOR!O4265,\"\")","v":""}]
[{"$f":"IF(PROCESADOR!O4266>0,PROCESADOR!O4266,\"\")","v":""}]
[{"$f":"IF(PROCESADOR!O4267>0,PROCESADOR!O4267,\"\")","v":""}]
[{"$f":"IF(PROCESADOR!O4268>0,PROCESADOR!O4268,\"\")","v":""}]
[{"$f":"IF(PROCESADOR!O4269>0,PROCESADOR!O4269,\"\")","v":""}]
[{"$f":"IF(PROCESADOR!O4270>0,PROCESADOR!O4270,\"\")","v":""}]
[{"$f":"IF(PROCESADOR!O4271>0,PROCESADOR!O4271,\"\")","v":""}]
[{"$f":"IF(PROCESADOR!O4272>0,PROCESADOR!O4272,\"\")","v":""}]
[{"$f":"IF(PROCESADOR!O4273>0,PROCESADOR!O4273,\"\")","v":""}]
[{"$f":"IF(PROCESADOR!O4274>0,PROCESADOR!O4274,\"\")","v":""}]
[{"$f":"IF(PROCESADOR!O4275>0,PROCESADOR!O4275,\"\")","v":""}]
[{"$f":"IF(PROCESADOR!O4276>0,PROCESADOR!O4276,\"\")","v":""}]
[{"$f":"IF(PROCESADOR!O4277>0,PROCESADOR!O4277,\"\")","v":""}]
[{"$f":"IF(PROCESADOR!O4278>0,PROCESADOR!O4278,\"\")","v":""}]
[{"$f":"IF(PROCESADOR!O4279>0,PROCESADOR!O4279,\"\")","v":""}]
[{"$f":"IF(PROCESADOR!O4280>0,PROCESADOR!O4280,\"\")","v":""}]
[{"$f":"IF(PROCESADOR!O4281>0,PROCESADOR!O4281,\"\")","v":""}]
[{"$f":"IF(PROCESADOR!O4282>0,PROCESADOR!O4282,\"\")","v":""}]
[{"$f":"IF(PROCESADOR!O4283>0,PROCESADOR!O4283,\"\")","v":""}]
[{"$f":"IF(PROCESADOR!O4284>0,PROCESADOR!O4284,\"\")","v":""}]
[{"$f":"IF(PROCESADOR!O4285>0,PROCESADOR!O4285,\"\")","v":""}]
[{"$f":"IF(PROCESADOR!O4286>0,PROCESADOR!O4286,\"\")","v":""}]
[{"$f":"IF(PROCESADOR!O4287>0,PROCESADOR!O4287,\"\")","v":""}]
[{"$f":"IF(PROCESADOR!O4288>0,PROCESADOR!O4288,\"\")","v":""}]
[{"$f":"IF(PROCESADOR!O4289>0,PROCESADOR!O4289,\"\")","v":""}]
[{"$f":"IF(PROCESADOR!O4290>0,PROCESADOR!O4290,\"\")","v":""}]
[{"$f":"IF(PROCESADOR!O4291>0,PROCESADOR!O4291,\"\")","v":""}]
[{"$f":"IF(PROCESADOR!O4292>0,PROCESADOR!O4292,\"\")","v":""}]
[{"$f":"IF(PROCESADOR!O4293>0,PROCESADOR!O4293,\"\")","v":""}]
[{"$f":"IF(PROCESADOR!O4294>0,PROCESADOR!O4294,\"\")","v":""}]
[{"$f":"IF(PROCESADOR!O4295>0,PROCESADOR!O4295,\"\")","v":""}]
[{"$f":"IF(PROCESADOR!O4296>0,PROCESADOR!O4296,\"\")","v":""}]
[{"$f":"IF(PROCESADOR!O4297>0,PROCESADOR!O4297,\"\")","v":""}]
[{"$f":"IF(PROCESADOR!O4298>0,PROCESADOR!O4298,\"\")","v":""}]
[{"$f":"IF(PROCESADOR!O4299>0,PROCESADOR!O4299,\"\")","v":""}]
[{"$f":"IF(PROCESADOR!O4300>0,PROCESADOR!O4300,\"\")","v":""}]
[{"$f":"IF(PROCESADOR!O4301>0,PROCESADOR!O4301,\"\")","v":""}]
[{"$f":"IF(PROCESADOR!O4302>0,PROCESADOR!O4302,\"\")","v":""}]
[{"$f":"IF(PROCESADOR!O4303>0,PROCESADOR!O4303,\"\")","v":""}]
[{"$f":"IF(PROCESADOR!O4304>0,PROCESADOR!O4304,\"\")","v":""}]
[{"$f":"IF(PROCESADOR!O4305>0,PROCESADOR!O4305,\"\")","v":""}]
[{"$f":"IF(PROCESADOR!O4306>0,PROCESADOR!O4306,\"\")","v":""}]
[{"$f":"IF(PROCESADOR!O4307>0,PROCESADOR!O4307,\"\")","v":""}]
[{"$f":"IF(PROCESADOR!O4308>0,PROCESADOR!O4308,\"\")","v":""}]
[{"$f":"IF(PROCESADOR!O4309>0,PROCESADOR!O4309,\"\")","v":""}]
[{"$f":"IF(PROCESADOR!O4310>0,PROCESADOR!O4310,\"\")","v":""}]
[{"$f":"IF(PROCESADOR!O4311>0,PROCESADOR!O4311,\"\")","v":""}]
[{"$f":"IF(PROCESADOR!O4312>0,PROCESADOR!O4312,\"\")","v":""}]
[{"$f":"IF(PROCESADOR!O4313>0,PROCESADOR!O4313,\"\")","v":""}]
[{"$f":"IF(PROCESADOR!O4314>0,PROCESADOR!O4314,\"\")","v":""}]
[{"$f":"IF(PROCESADOR!O4315>0,PROCESADOR!O4315,\"\")","v":""}]
[{"$f":"IF(PROCESADOR!O4316>0,PROCESADOR!O4316,\"\")","v":""}]
[{"$f":"IF(PROCESADOR!O4317>0,PROCESADOR!O4317,\"\")","v":""}]
[{"$f":"IF(PROCESADOR!O4318>0,PROCESADOR!O4318,\"\")","v":""}]
[{"$f":"IF(PROCESADOR!O4319>0,PROCESADOR!O4319,\"\")","v":""}]
[{"$f":"IF(PROCESADOR!O4320>0,PROCESADOR!O4320,\"\")","v":""}]
[{"$f":"IF(PROCESADOR!O4321>0,PROCESADOR!O4321,\"\")","v":""}]
[{"$f":"IF(PROCESADOR!O4322>0,PROCESADOR!O4322,\"\")","v":""}]
[{"$f":"IF(PROCESADOR!O4323>0,PROCESADOR!O4323,\"\")","v":""}]
[{"$f":"IF(PROCESADOR!O4324>0,PROCESADOR!O4324,\"\")","v":""}]
[{"$f":"IF(PROCESADOR!O4325>0,PROCESADOR!O4325,\"\")","v":""}]
[{"$f":"IF(PROCESADOR!O4326>0,PROCESADOR!O4326,\"\")","v":""}]
[{"$f":"IF(PROCESADOR!O4327>0,PROCESADOR!O4327,\"\")","v":""}]
[{"$f":"IF(PROCESADOR!O4328>0,PROCESADOR!O4328,\"\")","v":""}]
[{"$f":"IF(PROCESADOR!O4329>0,PROCESADOR!O4329,\"\")","v":""}]
[{"$f":"IF(PROCESADOR!O4330>0,PROCESADOR!O4330,\"\")","v":""}]
[{"$f":"IF(PROCESADOR!O4331>0,PROCESADOR!O4331,\"\")","v":""}]
[{"$f":"IF(PROCESADOR!O4332>0,PROCESADOR!O4332,\"\")","v":""}]
[{"$f":"IF(PROCESADOR!O4333>0,PROCESADOR!O4333,\"\")","v":""}]
[{"$f":"IF(PROCESADOR!O4334>0,PROCESADOR!O4334,\"\")","v":""}]
[{"$f":"IF(PROCESADOR!O4335>0,PROCESADOR!O4335,\"\")","v":""}]
[{"$f":"IF(PROCESADOR!O4336>0,PROCESADOR!O4336,\"\")","v":""}]
[{"$f":"IF(PROCESADOR!O4337>0,PROCESADOR!O4337,\"\")","v":""}]
[{"$f":"IF(PROCESADOR!O4338>0,PROCESADOR!O4338,\"\")","v":""}]
[{"$f":"IF(PROCESADOR!O4339>0,PROCESADOR!O4339,\"\")","v":""}]
[{"$f":"IF(PROCESADOR!O4340>0,PROCESADOR!O4340,\"\")","v":""}]
[{"$f":"IF(PROCESADOR!O4341>0,PROCESADOR!O4341,\"\")","v":""}]
[{"$f":"IF(PROCESADOR!O4342>0,PROCESADOR!O4342,\"\")","v":""}]
[{"$f":"IF(PROCESADOR!O4343>0,PROCESADOR!O4343,\"\")","v":""}]
[{"$f":"IF(PROCESADOR!O4344>0,PROCESADOR!O4344,\"\")","v":""}]
[{"$f":"IF(PROCESADOR!O4345>0,PROCESADOR!O4345,\"\")","v":""}]
[{"$f":"IF(PROCESADOR!O4346>0,PROCESADOR!O4346,\"\")","v":""}]
[{"$f":"IF(PROCESADOR!O4347>0,PROCESADOR!O4347,\"\")","v":""}]
[{"$f":"IF(PROCESADOR!O4348>0,PROCESADOR!O4348,\"\")","v":""}]
[{"$f":"IF(PROCESADOR!O4349>0,PROCESADOR!O4349,\"\")","v":""}]
[{"$f":"IF(PROCESADOR!O4350>0,PROCESADOR!O4350,\"\")","v":""}]
[{"$f":"IF(PROCESADOR!O4351>0,PROCESADOR!O4351,\"\")","v":""}]
[{"$f":"IF(PROCESADOR!O4352>0,PROCESADOR!O4352,\"\")","v":""}]
[{"$f":"IF(PROCESADOR!O4353>0,PROCESADOR!O4353,\"\")","v":""}]
[{"$f":"IF(PROCESADOR!O4354>0,PROCESADOR!O4354,\"\")","v":""}]
[{"$f":"IF(PROCESADOR!O4355>0,PROCESADOR!O4355,\"\")","v":""}]
[{"$f":"IF(PROCESADOR!O4356>0,PROCESADOR!O4356,\"\")","v":""}]
[{"$f":"IF(PROCESADOR!O4357>0,PROCESADOR!O4357,\"\")","v":""}]
[{"$f":"IF(PROCESADOR!O4358>0,PROCESADOR!O4358,\"\")","v":""}]
[{"$f":"IF(PROCESADOR!O4359>0,PROCESADOR!O4359,\"\")","v":""}]
[{"$f":"IF(PROCESADOR!O4360>0,PROCESADOR!O4360,\"\")","v":""}]
[{"$f":"IF(PROCESADOR!O4361>0,PROCESADOR!O4361,\"\")","v":""}]
[{"$f":"IF(PROCESADOR!O4362>0,PROCESADOR!O4362,\"\")","v":""}]
[{"$f":"IF(PROCESADOR!O4363>0,PROCESADOR!O4363,\"\")","v":""}]
[{"$f":"IF(PROCESADOR!O4364>0,PROCESADOR!O4364,\"\")","v":""}]
[{"$f":"IF(PROCESADOR!O4365>0,PROCESADOR!O4365,\"\")","v":""}]
[{"$f":"IF(PROCESADOR!O4366>0,PROCESADOR!O4366,\"\")","v":""}]
[{"$f":"IF(PROCESADOR!O4367>0,PROCESADOR!O4367,\"\")","v":""}]
[{"$f":"IF(PROCESADOR!O4368>0,PROCESADOR!O4368,\"\")","v":""}]
[{"$f":"IF(PROCESADOR!O4369>0,PROCESADOR!O4369,\"\")","v":""}]
[{"$f":"IF(PROCESADOR!O4370>0,PROCESADOR!O4370,\"\")","v":""}]
[{"$f":"IF(PROCESADOR!O4371>0,PROCESADOR!O4371,\"\")","v":""}]
[{"$f":"IF(PROCESADOR!O4372>0,PROCESADOR!O4372,\"\")","v":""}]
[{"$f":"IF(PROCESADOR!O4373>0,PROCESADOR!O4373,\"\")","v":""}]
[{"$f":"IF(PROCESADOR!O4374>0,PROCESADOR!O4374,\"\")","v":""}]
[{"$f":"IF(PROCESADOR!O4375>0,PROCESADOR!O4375,\"\")","v":""}]
[{"$f":"IF(PROCESADOR!O4376>0,PROCESADOR!O4376,\"\")","v":""}]
[{"$f":"IF(PROCESADOR!O4377>0,PROCESADOR!O4377,\"\")","v":""}]
[{"$f":"IF(PROCESADOR!O4378>0,PROCESADOR!O4378,\"\")","v":""}]
[{"$f":"IF(PROCESADOR!O4379>0,PROCESADOR!O4379,\"\")","v":""}]
[{"$f":"IF(PROCESADOR!O4380>0,PROCESADOR!O4380,\"\")","v":""}]
[{"$f":"IF(PROCESADOR!O4381>0,PROCESADOR!O4381,\"\")","v":""}]
[{"$f":"IF(PROCESADOR!O4382>0,PROCESADOR!O4382,\"\")","v":""}]
[{"$f":"IF(PROCESADOR!O4383>0,PROCESADOR!O4383,\"\")","v":""}]
[{"$f":"IF(PROCESADOR!O4384>0,PROCESADOR!O4384,\"\")","v":""}]
[{"$f":"IF(PROCESADOR!O4385>0,PROCESADOR!O4385,\"\")","v":""}]
[{"$f":"IF(PROCESADOR!O4386>0,PROCESADOR!O4386,\"\")","v":""}]
[{"$f":"IF(PROCESADOR!O4387>0,PROCESADOR!O4387,\"\")","v":""}]
[{"$f":"IF(PROCESADOR!O4388>0,PROCESADOR!O4388,\"\")","v":""}]
[{"$f":"IF(PROCESADOR!O4389>0,PROCESADOR!O4389,\"\")","v":""}]
[{"$f":"IF(PROCESADOR!O4390>0,PROCESADOR!O4390,\"\")","v":""}]
[{"$f":"IF(PROCESADOR!O4391>0,PROCESADOR!O4391,\"\")","v":""}]
[{"$f":"IF(PROCESADOR!O4392>0,PROCESADOR!O4392,\"\")","v":""}]
[{"$f":"IF(PROCESADOR!O4393>0,PROCESADOR!O4393,\"\")","v":""}]
[{"$f":"IF(PROCESADOR!O4394>0,PROCESADOR!O4394,\"\")","v":""}]
[{"$f":"IF(PROCESADOR!O4395>0,PROCESADOR!O4395,\"\")","v":""}]
[{"$f":"IF(PROCESADOR!O4396>0,PROCESADOR!O4396,\"\")","v":""}]
[{"$f":"IF(PROCESADOR!O4397>0,PROCESADOR!O4397,\"\")","v":""}]
[{"$f":"IF(PROCESADOR!O4398>0,PROCESADOR!O4398,\"\")","v":""}]
[{"$f":"IF(PROCESADOR!O4399>0,PROCESADOR!O4399,\"\")","v":""}]
[{"$f":"IF(PROCESADOR!O4400>0,PROCESADOR!O4400,\"\")","v":""}]
[{"$f":"IF(PROCESADOR!O4401>0,PROCESADOR!O4401,\"\")","v":""}]
[{"$f":"IF(PROCESADOR!O4402>0,PROCESADOR!O4402,\"\")","v":""}]
[{"$f":"IF(PROCESADOR!O4403>0,PROCESADOR!O4403,\"\")","v":""}]
[{"$f":"IF(PROCESADOR!O4404>0,PROCESADOR!O4404,\"\")","v":""}]
[{"$f":"IF(PROCESADOR!O4405>0,PROCESADOR!O4405,\"\")","v":""}]
[{"$f":"IF(PROCESADOR!O4406>0,PROCESADOR!O4406,\"\")","v":""}]
[{"$f":"IF(PROCESADOR!O4407>0,PROCESADOR!O4407,\"\")","v":""}]
[{"$f":"IF(PROCESADOR!O4408>0,PROCESADOR!O4408,\"\")","v":""}]
[{"$f":"IF(PROCESADOR!O4409>0,PROCESADOR!O4409,\"\")","v":""}]
[{"$f":"IF(PROCESADOR!O4410>0,PROCESADOR!O4410,\"\")","v":""}]
[{"$f":"IF(PROCESADOR!O4411>0,PROCESADOR!O4411,\"\")","v":""}]
[{"$f":"IF(PROCESADOR!O4412>0,PROCESADOR!O4412,\"\")","v":""}]
[{"$f":"IF(PROCESADOR!O4413>0,PROCESADOR!O4413,\"\")","v":""}]
[{"$f":"IF(PROCESADOR!O4414>0,PROCESADOR!O4414,\"\")","v":""}]
[{"$f":"IF(PROCESADOR!O4415>0,PROCESADOR!O4415,\"\")","v":""}]
[{"$f":"IF(PROCESADOR!O4416>0,PROCESADOR!O4416,\"\")","v":""}]
[{"$f":"IF(PROCESADOR!O4417>0,PROCESADOR!O4417,\"\")","v":""}]
[{"$f":"IF(PROCESADOR!O4418>0,PROCESADOR!O4418,\"\")","v":""}]
[{"$f":"IF(PROCESADOR!O4419>0,PROCESADOR!O4419,\"\")","v":""}]
[{"$f":"IF(PROCESADOR!O4420>0,PROCESADOR!O4420,\"\")","v":""}]
[{"$f":"IF(PROCESADOR!O4421>0,PROCESADOR!O4421,\"\")","v":""}]
[{"$f":"IF(PROCESADOR!O4422>0,PROCESADOR!O4422,\"\")","v":""}]
[{"$f":"IF(PROCESADOR!O4423>0,PROCESADOR!O4423,\"\")","v":""}]
[{"$f":"IF(PROCESADOR!O4424>0,PROCESADOR!O4424,\"\")","v":""}]
[{"$f":"IF(PROCESADOR!O4425>0,PROCESADOR!O4425,\"\")","v":""}]
[{"$f":"IF(PROCESADOR!O4426>0,PROCESADOR!O4426,\"\")","v":""}]
[{"$f":"IF(PROCESADOR!O4427>0,PROCESADOR!O4427,\"\")","v":""}]
[{"$f":"IF(PROCESADOR!O4428>0,PROCESADOR!O4428,\"\")","v":""}]
[{"$f":"IF(PROCESADOR!O4429>0,PROCESADOR!O4429,\"\")","v":""}]
[{"$f":"IF(PROCESADOR!O4430>0,PROCESADOR!O4430,\"\")","v":""}]
[{"$f":"IF(PROCESADOR!O4431>0,PROCESADOR!O4431,\"\")","v":""}]
[{"$f":"IF(PROCESADOR!O4432>0,PROCESADOR!O4432,\"\")","v":""}]
[{"$f":"IF(PROCESADOR!O4433>0,PROCESADOR!O4433,\"\")","v":""}]
[{"$f":"IF(PROCESADOR!O4434>0,PROCESADOR!O4434,\"\")","v":""}]
[{"$f":"IF(PROCESADOR!O4435>0,PROCESADOR!O4435,\"\")","v":""}]
[{"$f":"IF(PROCESADOR!O4436>0,PROCESADOR!O4436,\"\")","v":""}]
[{"$f":"IF(PROCESADOR!O4437>0,PROCESADOR!O4437,\"\")","v":""}]
[{"$f":"IF(PROCESADOR!O4438>0,PROCESADOR!O4438,\"\")","v":""}]
[{"$f":"IF(PROCESADOR!O4439>0,PROCESADOR!O4439,\"\")","v":""}]
[{"$f":"IF(PROCESADOR!O4440>0,PROCESADOR!O4440,\"\")","v":""}]
[{"$f":"IF(PROCESADOR!O4441>0,PROCESADOR!O4441,\"\")","v":""}]
[{"$f":"IF(PROCESADOR!O4442>0,PROCESADOR!O4442,\"\")","v":""}]
[{"$f":"IF(PROCESADOR!O4443>0,PROCESADOR!O4443,\"\")","v":""}]
[{"$f":"IF(PROCESADOR!O4444>0,PROCESADOR!O4444,\"\")","v":""}]
[{"$f":"IF(PROCESADOR!O4445>0,PROCESADOR!O4445,\"\")","v":""}]
[{"$f":"IF(PROCESADOR!O4446>0,PROCESADOR!O4446,\"\")","v":""}]
[{"$f":"IF(PROCESADOR!O4447>0,PROCESADOR!O4447,\"\")","v":""}]
[{"$f":"IF(PROCESADOR!O4448>0,PROCESADOR!O4448,\"\")","v":""}]
[{"$f":"IF(PROCESADOR!O4449>0,PROCESADOR!O4449,\"\")","v":""}]
[{"$f":"IF(PROCESADOR!O4450>0,PROCESADOR!O4450,\"\")","v":""}]
[{"$f":"IF(PROCESADOR!O4451>0,PROCESADOR!O4451,\"\")","v":""}]
[{"$f":"IF(PROCESADOR!O4452>0,PROCESADOR!O4452,\"\")","v":""}]
[{"$f":"IF(PROCESADOR!O4453>0,PROCESADOR!O4453,\"\")","v":""}]
[{"$f":"IF(PROCESADOR!O4454>0,PROCESADOR!O4454,\"\")","v":""}]
[{"$f":"IF(PROCESADOR!O4455>0,PROCESADOR!O4455,\"\")","v":""}]
[{"$f":"IF(PROCESADOR!O4456>0,PROCESADOR!O4456,\"\")","v":""}]
[{"$f":"IF(PROCESADOR!O4457>0,PROCESADOR!O4457,\"\")","v":""}]
[{"$f":"IF(PROCESADOR!O4458>0,PROCESADOR!O4458,\"\")","v":""}]
[{"$f":"IF(PROCESADOR!O4459>0,PROCESADOR!O4459,\"\")","v":""}]
[{"$f":"IF(PROCESADOR!O4460>0,PROCESADOR!O4460,\"\")","v":""}]
[{"$f":"IF(PROCESADOR!O4461>0,PROCESADOR!O4461,\"\")","v":""}]
[{"$f":"IF(PROCESADOR!O4462>0,PROCESADOR!O4462,\"\")","v":""}]
[{"$f":"IF(PROCESADOR!O4463>0,PROCESADOR!O4463,\"\")","v":""}]
[{"$f":"IF(PROCESADOR!O4464>0,PROCESADOR!O4464,\"\")","v":""}]
[{"$f":"IF(PROCESADOR!O4465>0,PROCESADOR!O4465,\"\")","v":""}]
[{"$f":"IF(PROCESADOR!O4466>0,PROCESADOR!O4466,\"\")","v":""}]
[{"$f":"IF(PROCESADOR!O4467>0,PROCESADOR!O4467,\"\")","v":""}]
[{"$f":"IF(PROCESADOR!O4468>0,PROCESADOR!O4468,\"\")","v":""}]
[{"$f":"IF(PROCESADOR!O4469>0,PROCESADOR!O4469,\"\")","v":""}]
[{"$f":"IF(PROCESADOR!O4470>0,PROCESADOR!O4470,\"\")","v":""}]
[{"$f":"IF(PROCESADOR!O4471>0,PROCESADOR!O4471,\"\")","v":""}]
[{"$f":"IF(PROCESADOR!O4472>0,PROCESADOR!O4472,\"\")","v":""}]
[{"$f":"IF(PROCESADOR!O4473>0,PROCESADOR!O4473,\"\")","v":""}]
[{"$f":"IF(PROCESADOR!O4474>0,PROCESADOR!O4474,\"\")","v":""}]
[{"$f":"IF(PROCESADOR!O4475>0,PROCESADOR!O4475,\"\")","v":""}]
[{"$f":"IF(PROCESADOR!O4476>0,PROCESADOR!O4476,\"\")","v":""}]
[{"$f":"IF(PROCESADOR!O4477>0,PROCESADOR!O4477,\"\")","v":""}]
[{"$f":"IF(PROCESADOR!O4478>0,PROCESADOR!O4478,\"\")","v":""}]
[{"$f":"IF(PROCESADOR!O4479>0,PROCESADOR!O4479,\"\")","v":""}]
[{"$f":"IF(PROCESADOR!O4480>0,PROCESADOR!O4480,\"\")","v":""}]
[{"$f":"IF(PROCESADOR!O4481>0,PROCESADOR!O4481,\"\")","v":""}]
[{"$f":"IF(PROCESADOR!O4482>0,PROCESADOR!O4482,\"\")","v":""}]
[{"$f":"IF(PROCESADOR!O4483>0,PROCESADOR!O4483,\"\")","v":""}]
[{"$f":"IF(PROCESADOR!O4484>0,PROCESADOR!O4484,\"\")","v":""}]
[{"$f":"IF(PROCESADOR!O4485>0,PROCESADOR!O4485,\"\")","v":""}]
[{"$f":"IF(PROCESADOR!O4486>0,PROCESADOR!O4486,\"\")","v":""}]
[{"$f":"IF(PROCESADOR!O4487>0,PROCESADOR!O4487,\"\")","v":""}]
[{"$f":"IF(PROCESADOR!O4488>0,PROCESADOR!O4488,\"\")","v":""}]
[{"$f":"IF(PROCESADOR!O4489>0,PROCESADOR!O4489,\"\")","v":""}]
[{"$f":"IF(PROCESADOR!O4490>0,PROCESADOR!O4490,\"\")","v":""}]
[{"$f":"IF(PROCESADOR!O4491>0,PROCESADOR!O4491,\"\")","v":""}]
[{"$f":"IF(PROCESADOR!O4492>0,PROCESADOR!O4492,\"\")","v":""}]
[{"$f":"IF(PROCESADOR!O4493>0,PROCESADOR!O4493,\"\")","v":""}]
[{"$f":"IF(PROCESADOR!O4494>0,PROCESADOR!O4494,\"\")","v":""}]
[{"$f":"IF(PROCESADOR!O4495>0,PROCESADOR!O4495,\"\")","v":""}]
[{"$f":"IF(PROCESADOR!O4496>0,PROCESADOR!O4496,\"\")","v":""}]
[{"$f":"IF(PROCESADOR!O4497>0,PROCESADOR!O4497,\"\")","v":""}]
[{"$f":"IF(PROCESADOR!O4498>0,PROCESADOR!O4498,\"\")","v":""}]
[{"$f":"IF(PROCESADOR!O4499>0,PROCESADOR!O4499,\"\")","v":""}]
[{"$f":"IF(PROCESADOR!O4500>0,PROCESADOR!O4500,\"\")","v":""}]
[{"$f":"IF(PROCESADOR!O4501>0,PROCESADOR!O4501,\"\")","v":""}]
[{"$f":"IF(PROCESADOR!O4502>0,PROCESADOR!O4502,\"\")","v":""}]
[{"$f":"IF(PROCESADOR!O4503>0,PROCESADOR!O4503,\"\")","v":""}]
[{"$f":"IF(PROCESADOR!O4504>0,PROCESADOR!O4504,\"\")","v":""}]
[{"$f":"IF(PROCESADOR!O4505>0,PROCESADOR!O4505,\"\")","v":""}]
[{"$f":"IF(PROCESADOR!O4506>0,PROCESADOR!O4506,\"\")","v":""}]
[{"$f":"IF(PROCESADOR!O4507>0,PROCESADOR!O4507,\"\")","v":""}]
[{"$f":"IF(PROCESADOR!O4508>0,PROCESADOR!O4508,\"\")","v":""}]
[{"$f":"IF(PROCESADOR!O4509>0,PROCESADOR!O4509,\"\")","v":""}]
[{"$f":"IF(PROCESADOR!O4510>0,PROCESADOR!O4510,\"\")","v":""}]
[{"$f":"IF(PROCESADOR!O4511>0,PROCESADOR!O4511,\"\")","v":""}]
[{"$f":"IF(PROCESADOR!O4512>0,PROCESADOR!O4512,\"\")","v":""}]
[{"$f":"IF(PROCESADOR!O4513>0,PROCESADOR!O4513,\"\")","v":""}]
[{"$f":"IF(PROCESADOR!O4514>0,PROCESADOR!O4514,\"\")","v":""}]
[{"$f":"IF(PROCESADOR!O4515>0,PROCESADOR!O4515,\"\")","v":""}]
[{"$f":"IF(PROCESADOR!O4516>0,PROCESADOR!O4516,\"\")","v":""}]
[{"$f":"IF(PROCESADOR!O4517>0,PROCESADOR!O4517,\"\")","v":""}]
[{"$f":"IF(PROCESADOR!O4518>0,PROCESADOR!O4518,\"\")","v":""}]
[{"$f":"IF(PROCESADOR!O4519>0,PROCESADOR!O4519,\"\")","v":""}]
[{"$f":"IF(PROCESADOR!O4520>0,PROCESADOR!O4520,\"\")","v":""}]
[{"$f":"IF(PROCESADOR!O4521>0,PROCESADOR!O4521,\"\")","v":""}]
[{"$f":"IF(PROCESADOR!O4522>0,PROCESADOR!O4522,\"\")","v":""}]
[{"$f":"IF(PROCESADOR!O4523>0,PROCESADOR!O4523,\"\")","v":""}]
[{"$f":"IF(PROCESADOR!O4524>0,PROCESADOR!O4524,\"\")","v":""}]
[{"$f":"IF(PROCESADOR!O4525>0,PROCESADOR!O4525,\"\")","v":""}]
[{"$f":"IF(PROCESADOR!O4526>0,PROCESADOR!O4526,\"\")","v":""}]
[{"$f":"IF(PROCESADOR!O4527>0,PROCESADOR!O4527,\"\")","v":""}]
[{"$f":"IF(PROCESADOR!O4528>0,PROCESADOR!O4528,\"\")","v":""}]
[{"$f":"IF(PROCESADOR!O4529>0,PROCESADOR!O4529,\"\")","v":""}]
[{"$f":"IF(PROCESADOR!O4530>0,PROCESADOR!O4530,\"\")","v":""}]
[{"$f":"IF(PROCESADOR!O4531>0,PROCESADOR!O4531,\"\")","v":""}]
[{"$f":"IF(PROCESADOR!O4532>0,PROCESADOR!O4532,\"\")","v":""}]
[{"$f":"IF(PROCESADOR!O4533>0,PROCESADOR!O4533,\"\")","v":""}]
[{"$f":"IF(PROCESADOR!O4534>0,PROCESADOR!O4534,\"\")","v":""}]
[{"$f":"IF(PROCESADOR!O4535>0,PROCESADOR!O4535,\"\")","v":""}]
[{"$f":"IF(PROCESADOR!O4536>0,PROCESADOR!O4536,\"\")","v":""}]
[{"$f":"IF(PROCESADOR!O4537>0,PROCESADOR!O4537,\"\")","v":""}]
[{"$f":"IF(PROCESADOR!O4538>0,PROCESADOR!O4538,\"\")","v":""}]
[{"$f":"IF(PROCESADOR!O4539>0,PROCESADOR!O4539,\"\")","v":""}]
[{"$f":"IF(PROCESADOR!O4540>0,PROCESADOR!O4540,\"\")","v":""}]
[{"$f":"IF(PROCESADOR!O4541>0,PROCESADOR!O4541,\"\")","v":""}]
[{"$f":"IF(PROCESADOR!O4542>0,PROCESADOR!O4542,\"\")","v":""}]
[{"$f":"IF(PROCESADOR!O4543>0,PROCESADOR!O4543,\"\")","v":""}]
[{"$f":"IF(PROCESADOR!O4544>0,PROCESADOR!O4544,\"\")","v":""}]
[{"$f":"IF(PROCESADOR!O4545>0,PROCESADOR!O4545,\"\")","v":""}]
[{"$f":"IF(PROCESADOR!O4546>0,PROCESADOR!O4546,\"\")","v":""}]
[{"$f":"IF(PROCESADOR!O4547>0,PROCESADOR!O4547,\"\")","v":""}]
[{"$f":"IF(PROCESADOR!O4548>0,PROCESADOR!O4548,\"\")","v":""}]
[{"$f":"IF(PROCESADOR!O4549>0,PROCESADOR!O4549,\"\")","v":""}]
[{"$f":"IF(PROCESADOR!O4550>0,PROCESADOR!O4550,\"\")","v":""}]
[{"$f":"IF(PROCESADOR!O4551>0,PROCESADOR!O4551,\"\")","v":""}]
[{"$f":"IF(PROCESADOR!O4552>0,PROCESADOR!O4552,\"\")","v":""}]
[{"$f":"IF(PROCESADOR!O4553>0,PROCESADOR!O4553,\"\")","v":""}]
[{"$f":"IF(PROCESADOR!O4554>0,PROCESADOR!O4554,\"\")","v":""}]
[{"$f":"IF(PROCESADOR!O4555>0,PROCESADOR!O4555,\"\")","v":""}]
[{"$f":"IF(PROCESADOR!O4556>0,PROCESADOR!O4556,\"\")","v":""}]
[{"$f":"IF(PROCESADOR!O4557>0,PROCESADOR!O4557,\"\")","v":""}]
[{"$f":"IF(PROCESADOR!O4558>0,PROCESADOR!O4558,\"\")","v":""}]
[{"$f":"IF(PROCESADOR!O4559>0,PROCESADOR!O4559,\"\")","v":""}]
[{"$f":"IF(PROCESADOR!O4560>0,PROCESADOR!O4560,\"\")","v":""}]
[{"$f":"IF(PROCESADOR!O4561>0,PROCESADOR!O4561,\"\")","v":""}]
[{"$f":"IF(PROCESADOR!O4562>0,PROCESADOR!O4562,\"\")","v":""}]
[{"$f":"IF(PROCESADOR!O4563>0,PROCESADOR!O4563,\"\")","v":""}]
[{"$f":"IF(PROCESADOR!O4564>0,PROCESADOR!O4564,\"\")","v":""}]
[{"$f":"IF(PROCESADOR!O4565>0,PROCESADOR!O4565,\"\")","v":""}]
[{"$f":"IF(PROCESADOR!O4566>0,PROCESADOR!O4566,\"\")","v":""}]
[{"$f":"IF(PROCESADOR!O4567>0,PROCESADOR!O4567,\"\")","v":""}]
[{"$f":"IF(PROCESADOR!O4568>0,PROCESADOR!O4568,\"\")","v":""}]
[{"$f":"IF(PROCESADOR!O4569>0,PROCESADOR!O4569,\"\")","v":""}]
[{"$f":"IF(PROCESADOR!O4570>0,PROCESADOR!O4570,\"\")","v":""}]
[{"$f":"IF(PROCESADOR!O4571>0,PROCESADOR!O4571,\"\")","v":""}]
[{"$f":"IF(PROCESADOR!O4572>0,PROCESADOR!O4572,\"\")","v":""}]
[{"$f":"IF(PROCESADOR!O4573>0,PROCESADOR!O4573,\"\")","v":""}]
[{"$f":"IF(PROCESADOR!O4574>0,PROCESADOR!O4574,\"\")","v":""}]
[{"$f":"IF(PROCESADOR!O4575>0,PROCESADOR!O4575,\"\")","v":""}]
[{"$f":"IF(PROCESADOR!O4576>0,PROCESADOR!O4576,\"\")","v":""}]
[{"$f":"IF(PROCESADOR!O4577>0,PROCESADOR!O4577,\"\")","v":""}]
[{"$f":"IF(PROCESADOR!O4578>0,PROCESADOR!O4578,\"\")","v":""}]
[{"$f":"IF(PROCESADOR!O4579>0,PROCESADOR!O4579,\"\")","v":""}]
[{"$f":"IF(PROCESADOR!O4580>0,PROCESADOR!O4580,\"\")","v":""}]
[{"$f":"IF(PROCESADOR!O4581>0,PROCESADOR!O4581,\"\")","v":""}]
[{"$f":"IF(PROCESADOR!O4582>0,PROCESADOR!O4582,\"\")","v":""}]
[{"$f":"IF(PROCESADOR!O4583>0,PROCESADOR!O4583,\"\")","v":""}]
[{"$f":"IF(PROCESADOR!O4584>0,PROCESADOR!O4584,\"\")","v":""}]
[{"$f":"IF(PROCESADOR!O4585>0,PROCESADOR!O4585,\"\")","v":""}]
[{"$f":"IF(PROCESADOR!O4586>0,PROCESADOR!O4586,\"\")","v":""}]
[{"$f":"IF(PROCESADOR!O4587>0,PROCESADOR!O4587,\"\")","v":""}]
[{"$f":"IF(PROCESADOR!O4588>0,PROCESADOR!O4588,\"\")","v":""}]
[{"$f":"IF(PROCESADOR!O4589>0,PROCESADOR!O4589,\"\")","v":""}]
[{"$f":"IF(PROCESADOR!O4590>0,PROCESADOR!O4590,\"\")","v":""}]
[{"$f":"IF(PROCESADOR!O4591>0,PROCESADOR!O4591,\"\")","v":""}]
[{"$f":"IF(PROCESADOR!O4592>0,PROCESADOR!O4592,\"\")","v":""}]
[{"$f":"IF(PROCESADOR!O4593>0,PROCESADOR!O4593,\"\")","v":""}]
[{"$f":"IF(PROCESADOR!O4594>0,PROCESADOR!O4594,\"\")","v":""}]
[{"$f":"IF(PROCESADOR!O4595>0,PROCESADOR!O4595,\"\")","v":""}]
[{"$f":"IF(PROCESADOR!O4596>0,PROCESADOR!O4596,\"\")","v":""}]
[{"$f":"IF(PROCESADOR!O4597>0,PROCESADOR!O4597,\"\")","v":""}]
[{"$f":"IF(PROCESADOR!O4598>0,PROCESADOR!O4598,\"\")","v":""}]
[{"$f":"IF(PROCESADOR!O4599>0,PROCESADOR!O4599,\"\")","v":""}]
[{"$f":"IF(PROCESADOR!O4600>0,PROCESADOR!O4600,\"\")","v":""}]
[{"$f":"IF(PROCESADOR!O4601>0,PROCESADOR!O4601,\"\")","v":""}]
[{"$f":"IF(PROCESADOR!O4602>0,PROCESADOR!O4602,\"\")","v":""}]
[{"$f":"IF(PROCESADOR!O4603>0,PROCESADOR!O4603,\"\")","v":""}]
[{"$f":"IF(PROCESADOR!O4604>0,PROCESADOR!O4604,\"\")","v":""}]
[{"$f":"IF(PROCESADOR!O4605>0,PROCESADOR!O4605,\"\")","v":""}]
[{"$f":"IF(PROCESADOR!O4606>0,PROCESADOR!O4606,\"\")","v":""}]
[{"$f":"IF(PROCESADOR!O4607>0,PROCESADOR!O4607,\"\")","v":""}]
[{"$f":"IF(PROCESADOR!O4608>0,PROCESADOR!O4608,\"\")","v":""}]
[{"$f":"IF(PROCESADOR!O4609>0,PROCESADOR!O4609,\"\")","v":""}]
[{"$f":"IF(PROCESADOR!O4610>0,PROCESADOR!O4610,\"\")","v":""}]
[{"$f":"IF(PROCESADOR!O4611>0,PROCESADOR!O4611,\"\")","v":""}]
[{"$f":"IF(PROCESADOR!O4612>0,PROCESADOR!O4612,\"\")","v":""}]
[{"$f":"IF(PROCESADOR!O4613>0,PROCESADOR!O4613,\"\")","v":""}]
[{"$f":"IF(PROCESADOR!O4614>0,PROCESADOR!O4614,\"\")","v":""}]
[{"$f":"IF(PROCESADOR!O4615>0,PROCESADOR!O4615,\"\")","v":""}]
[{"$f":"IF(PROCESADOR!O4616>0,PROCESADOR!O4616,\"\")","v":""}]
[{"$f":"IF(PROCESADOR!O4617>0,PROCESADOR!O4617,\"\")","v":""}]
[{"$f":"IF(PROCESADOR!O4618>0,PROCESADOR!O4618,\"\")","v":""}]
[{"$f":"IF(PROCESADOR!O4619>0,PROCESADOR!O4619,\"\")","v":""}]
[{"$f":"IF(PROCESADOR!O4620>0,PROCESADOR!O4620,\"\")","v":""}]
[{"$f":"IF(PROCESADOR!O4621>0,PROCESADOR!O4621,\"\")","v":""}]
[{"$f":"IF(PROCESADOR!O4622>0,PROCESADOR!O4622,\"\")","v":""}]
[{"$f":"IF(PROCESADOR!O4623>0,PROCESADOR!O4623,\"\")","v":""}]
[{"$f":"IF(PROCESADOR!O4624>0,PROCESADOR!O4624,\"\")","v":""}]
[{"$f":"IF(PROCESADOR!O4625>0,PROCESADOR!O4625,\"\")","v":""}]
[{"$f":"IF(PROCESADOR!O4626>0,PROCESADOR!O4626,\"\")","v":""}]
[{"$f":"IF(PROCESADOR!O4627>0,PROCESADOR!O4627,\"\")","v":""}]
[{"$f":"IF(PROCESADOR!O4628>0,PROCESADOR!O4628,\"\")","v":""}]
[{"$f":"IF(PROCESADOR!O4629>0,PROCESADOR!O4629,\"\")","v":""}]
[{"$f":"IF(PROCESADOR!O4630>0,PROCESADOR!O4630,\"\")","v":""}]
[{"$f":"IF(PROCESADOR!O4631>0,PROCESADOR!O4631,\"\")","v":""}]
[{"$f":"IF(PROCESADOR!O4632>0,PROCESADOR!O4632,\"\")","v":""}]
[{"$f":"IF(PROCESADOR!O4633>0,PROCESADOR!O4633,\"\")","v":""}]
[{"$f":"IF(PROCESADOR!O4634>0,PROCESADOR!O4634,\"\")","v":""}]
[{"$f":"IF(PROCESADOR!O4635>0,PROCESADOR!O4635,\"\")","v":""}]
[{"$f":"IF(PROCESADOR!O4636>0,PROCESADOR!O4636,\"\")","v":""}]
[{"$f":"IF(PROCESADOR!O4637>0,PROCESADOR!O4637,\"\")","v":""}]
[{"$f":"IF(PROCESADOR!O4638>0,PROCESADOR!O4638,\"\")","v":""}]
[{"$f":"IF(PROCESADOR!O4639>0,PROCESADOR!O4639,\"\")","v":""}]
[{"$f":"IF(PROCESADOR!O4640>0,PROCESADOR!O4640,\"\")","v":""}]
[{"$f":"IF(PROCESADOR!O4641>0,PROCESADOR!O4641,\"\")","v":""}]
[{"$f":"IF(PROCESADOR!O4642>0,PROCESADOR!O4642,\"\")","v":""}]
[{"$f":"IF(PROCESADOR!O4643>0,PROCESADOR!O4643,\"\")","v":""}]
[{"$f":"IF(PROCESADOR!O4644>0,PROCESADOR!O4644,\"\")","v":""}]
[{"$f":"IF(PROCESADOR!O4645>0,PROCESADOR!O4645,\"\")","v":""}]
[{"$f":"IF(PROCESADOR!O4646>0,PROCESADOR!O4646,\"\")","v":""}]
[{"$f":"IF(PROCESADOR!O4647>0,PROCESADOR!O4647,\"\")","v":""}]
[{"$f":"IF(PROCESADOR!O4648>0,PROCESADOR!O4648,\"\")","v":""}]
[{"$f":"IF(PROCESADOR!O4649>0,PROCESADOR!O4649,\"\")","v":""}]
[{"$f":"IF(PROCESADOR!O4650>0,PROCESADOR!O4650,\"\")","v":""}]
[{"$f":"IF(PROCESADOR!O4651>0,PROCESADOR!O4651,\"\")","v":""}]
[{"$f":"IF(PROCESADOR!O4652>0,PROCESADOR!O4652,\"\")","v":""}]
[{"$f":"IF(PROCESADOR!O4653>0,PROCESADOR!O4653,\"\")","v":""}]
[{"$f":"IF(PROCESADOR!O4654>0,PROCESADOR!O4654,\"\")","v":""}]
[{"$f":"IF(PROCESADOR!O4655>0,PROCESADOR!O4655,\"\")","v":""}]
[{"$f":"IF(PROCESADOR!O4656>0,PROCESADOR!O4656,\"\")","v":""}]
[{"$f":"IF(PROCESADOR!O4657>0,PROCESADOR!O4657,\"\")","v":""}]
[{"$f":"IF(PROCESADOR!O4658>0,PROCESADOR!O4658,\"\")","v":""}]
[{"$f":"IF(PROCESADOR!O4659>0,PROCESADOR!O4659,\"\")","v":""}]
[{"$f":"IF(PROCESADOR!O4660>0,PROCESADOR!O4660,\"\")","v":""}]
[{"$f":"IF(PROCESADOR!O4661>0,PROCESADOR!O4661,\"\")","v":""}]
[{"$f":"IF(PROCESADOR!O4662>0,PROCESADOR!O4662,\"\")","v":""}]
[{"$f":"IF(PROCESADOR!O4663>0,PROCESADOR!O4663,\"\")","v":""}]
[{"$f":"IF(PROCESADOR!O4664>0,PROCESADOR!O4664,\"\")","v":""}]
[{"$f":"IF(PROCESADOR!O4665>0,PROCESADOR!O4665,\"\")","v":""}]
[{"$f":"IF(PROCESADOR!O4666>0,PROCESADOR!O4666,\"\")","v":""}]
[{"$f":"IF(PROCESADOR!O4667>0,PROCESADOR!O4667,\"\")","v":""}]
[{"$f":"IF(PROCESADOR!O4668>0,PROCESADOR!O4668,\"\")","v":""}]
[{"$f":"IF(PROCESADOR!O4669>0,PROCESADOR!O4669,\"\")","v":""}]
[{"$f":"IF(PROCESADOR!O4670>0,PROCESADOR!O4670,\"\")","v":""}]
[{"$f":"IF(PROCESADOR!O4671>0,PROCESADOR!O4671,\"\")","v":""}]
[{"$f":"IF(PROCESADOR!O4672>0,PROCESADOR!O4672,\"\")","v":""}]
[{"$f":"IF(PROCESADOR!O4673>0,PROCESADOR!O4673,\"\")","v":""}]
[{"$f":"IF(PROCESADOR!O4674>0,PROCESADOR!O4674,\"\")","v":""}]
[{"$f":"IF(PROCESADOR!O4675>0,PROCESADOR!O4675,\"\")","v":""}]
[{"$f":"IF(PROCESADOR!O4676>0,PROCESADOR!O4676,\"\")","v":""}]
[{"$f":"IF(PROCESADOR!O4677>0,PROCESADOR!O4677,\"\")","v":""}]
[{"$f":"IF(PROCESADOR!O4678>0,PROCESADOR!O4678,\"\")","v":""}]
[{"$f":"IF(PROCESADOR!O4679>0,PROCESADOR!O4679,\"\")","v":""}]
[{"$f":"IF(PROCESADOR!O4680>0,PROCESADOR!O4680,\"\")","v":""}]
[{"$f":"IF(PROCESADOR!O4681>0,PROCESADOR!O4681,\"\")","v":""}]
[{"$f":"IF(PROCESADOR!O4682>0,PROCESADOR!O4682,\"\")","v":""}]
[{"$f":"IF(PROCESADOR!O4683>0,PROCESADOR!O4683,\"\")","v":""}]
[{"$f":"IF(PROCESADOR!O4684>0,PROCESADOR!O4684,\"\")","v":""}]
[{"$f":"IF(PROCESADOR!O4685>0,PROCESADOR!O4685,\"\")","v":""}]
[{"$f":"IF(PROCESADOR!O4686>0,PROCESADOR!O4686,\"\")","v":""}]
[{"$f":"IF(PROCESADOR!O4687>0,PROCESADOR!O4687,\"\")","v":""}]
[{"$f":"IF(PROCESADOR!O4688>0,PROCESADOR!O4688,\"\")","v":""}]
[{"$f":"IF(PROCESADOR!O4689>0,PROCESADOR!O4689,\"\")","v":""}]
[{"$f":"IF(PROCESADOR!O4690>0,PROCESADOR!O4690,\"\")","v":""}]
[{"$f":"IF(PROCESADOR!O4691>0,PROCESADOR!O4691,\"\")","v":""}]
[{"$f":"IF(PROCESADOR!O4692>0,PROCESADOR!O4692,\"\")","v":""}]
[{"$f":"IF(PROCESADOR!O4693>0,PROCESADOR!O4693,\"\")","v":""}]
[{"$f":"IF(PROCESADOR!O4694>0,PROCESADOR!O4694,\"\")","v":""}]
[{"$f":"IF(PROCESADOR!O4695>0,PROCESADOR!O4695,\"\")","v":""}]
[{"$f":"IF(PROCESADOR!O4696>0,PROCESADOR!O4696,\"\")","v":""}]
[{"$f":"IF(PROCESADOR!O4697>0,PROCESADOR!O4697,\"\")","v":""}]
[{"$f":"IF(PROCESADOR!O4698>0,PROCESADOR!O4698,\"\")","v":""}]
[{"$f":"IF(PROCESADOR!O4699>0,PROCESADOR!O4699,\"\")","v":""}]
[{"$f":"IF(PROCESADOR!O4700>0,PROCESADOR!O4700,\"\")","v":""}]
[{"$f":"IF(PROCESADOR!O4701>0,PROCESADOR!O4701,\"\")","v":""}]
[{"$f":"IF(PROCESADOR!O4702>0,PROCESADOR!O4702,\"\")","v":""}]
[{"$f":"IF(PROCESADOR!O4703>0,PROCESADOR!O4703,\"\")","v":""}]
[{"$f":"IF(PROCESADOR!O4704>0,PROCESADOR!O4704,\"\")","v":""}]
[{"$f":"IF(PROCESADOR!O4705>0,PROCESADOR!O4705,\"\")","v":""}]
[{"$f":"IF(PROCESADOR!O4706>0,PROCESADOR!O4706,\"\")","v":""}]
[{"$f":"IF(PROCESADOR!O4707>0,PROCESADOR!O4707,\"\")","v":""}]
[{"$f":"IF(PROCESADOR!O4708>0,PROCESADOR!O4708,\"\")","v":""}]
[{"$f":"IF(PROCESADOR!O4709>0,PROCESADOR!O4709,\"\")","v":""}]
[{"$f":"IF(PROCESADOR!O4710>0,PROCESADOR!O4710,\"\")","v":""}]
[{"$f":"IF(PROCESADOR!O4711>0,PROCESADOR!O4711,\"\")","v":""}]
[{"$f":"IF(PROCESADOR!O4712>0,PROCESADOR!O4712,\"\")","v":""}]
[{"$f":"IF(PROCESADOR!O4713>0,PROCESADOR!O4713,\"\")","v":""}]
[{"$f":"IF(PROCESADOR!O4714>0,PROCESADOR!O4714,\"\")","v":""}]
[{"$f":"IF(PROCESADOR!O4715>0,PROCESADOR!O4715,\"\")","v":""}]
[{"$f":"IF(PROCESADOR!O4716>0,PROCESADOR!O4716,\"\")","v":""}]
[{"$f":"IF(PROCESADOR!O4717>0,PROCESADOR!O4717,\"\")","v":""}]
[{"$f":"IF(PROCESADOR!O4718>0,PROCESADOR!O4718,\"\")","v":""}]
[{"$f":"IF(PROCESADOR!O4719>0,PROCESADOR!O4719,\"\")","v":""}]
[{"$f":"IF(PROCESADOR!O4720>0,PROCESADOR!O4720,\"\")","v":""}]
[{"$f":"IF(PROCESADOR!O4721>0,PROCESADOR!O4721,\"\")","v":""}]
[{"$f":"IF(PROCESADOR!O4722>0,PROCESADOR!O4722,\"\")","v":""}]
[{"$f":"IF(PROCESADOR!O4723>0,PROCESADOR!O4723,\"\")","v":""}]
[{"$f":"IF(PROCESADOR!O4724>0,PROCESADOR!O4724,\"\")","v":""}]
[{"$f":"IF(PROCESADOR!O4725>0,PROCESADOR!O4725,\"\")","v":""}]
[{"$f":"IF(PROCESADOR!O4726>0,PROCESADOR!O4726,\"\")","v":""}]
[{"$f":"IF(PROCESADOR!O4727>0,PROCESADOR!O4727,\"\")","v":""}]
[{"$f":"IF(PROCESADOR!O4728>0,PROCESADOR!O4728,\"\")","v":""}]
[{"$f":"IF(PROCESADOR!O4729>0,PROCESADOR!O4729,\"\")","v":""}]
[{"$f":"IF(PROCESADOR!O4730>0,PROCESADOR!O4730,\"\")","v":""}]
[{"$f":"IF(PROCESADOR!O4731>0,PROCESADOR!O4731,\"\")","v":""}]
[{"$f":"IF(PROCESADOR!O4732>0,PROCESADOR!O4732,\"\")","v":""}]
[{"$f":"IF(PROCESADOR!O4733>0,PROCESADOR!O4733,\"\")","v":""}]
[{"$f":"IF(PROCESADOR!O4734>0,PROCESADOR!O4734,\"\")","v":""}]
[{"$f":"IF(PROCESADOR!O4735>0,PROCESADOR!O4735,\"\")","v":""}]
[{"$f":"IF(PROCESADOR!O4736>0,PROCESADOR!O4736,\"\")","v":""}]
[{"$f":"IF(PROCESADOR!O4737>0,PROCESADOR!O4737,\"\")","v":""}]
[{"$f":"IF(PROCESADOR!O4738>0,PROCESADOR!O4738,\"\")","v":""}]
[{"$f":"IF(PROCESADOR!O4739>0,PROCESADOR!O4739,\"\")","v":""}]
[{"$f":"IF(PROCESADOR!O4740>0,PROCESADOR!O4740,\"\")","v":""}]
[{"$f":"IF(PROCESADOR!O4741>0,PROCESADOR!O4741,\"\")","v":""}]
[{"$f":"IF(PROCESADOR!O4742>0,PROCESADOR!O4742,\"\")","v":""}]
[{"$f":"IF(PROCESADOR!O4743>0,PROCESADOR!O4743,\"\")","v":""}]
[{"$f":"IF(PROCESADOR!O4744>0,PROCESADOR!O4744,\"\")","v":""}]
[{"$f":"IF(PROCESADOR!O4745>0,PROCESADOR!O4745,\"\")","v":""}]
[{"$f":"IF(PROCESADOR!O4746>0,PROCESADOR!O4746,\"\")","v":""}]
[{"$f":"IF(PROCESADOR!O4747>0,PROCESADOR!O4747,\"\")","v":""}]
[{"$f":"IF(PROCESADOR!O4748>0,PROCESADOR!O4748,\"\")","v":""}]
[{"$f":"IF(PROCESADOR!O4749>0,PROCESADOR!O4749,\"\")","v":""}]
[{"$f":"IF(PROCESADOR!O4750>0,PROCESADOR!O4750,\"\")","v":""}]
[{"$f":"IF(PROCESADOR!O4751>0,PROCESADOR!O4751,\"\")","v":""}]
[{"$f":"IF(PROCESADOR!O4752>0,PROCESADOR!O4752,\"\")","v":""}]
[{"$f":"IF(PROCESADOR!O4753>0,PROCESADOR!O4753,\"\")","v":""}]
[{"$f":"IF(PROCESADOR!O4754>0,PROCESADOR!O4754,\"\")","v":""}]
[{"$f":"IF(PROCESADOR!O4755>0,PROCESADOR!O4755,\"\")","v":""}]
[{"$f":"IF(PROCESADOR!O4756>0,PROCESADOR!O4756,\"\")","v":""}]
[{"$f":"IF(PROCESADOR!O4757>0,PROCESADOR!O4757,\"\")","v":""}]
[{"$f":"IF(PROCESADOR!O4758>0,PROCESADOR!O4758,\"\")","v":""}]
[{"$f":"IF(PROCESADOR!O4759>0,PROCESADOR!O4759,\"\")","v":""}]
[{"$f":"IF(PROCESADOR!O4760>0,PROCESADOR!O4760,\"\")","v":""}]
[{"$f":"IF(PROCESADOR!O4761>0,PROCESADOR!O4761,\"\")","v":""}]
[{"$f":"IF(PROCESADOR!O4762>0,PROCESADOR!O4762,\"\")","v":""}]
[{"$f":"IF(PROCESADOR!O4763>0,PROCESADOR!O4763,\"\")","v":""}]
[{"$f":"IF(PROCESADOR!O4764>0,PROCESADOR!O4764,\"\")","v":""}]
[{"$f":"IF(PROCESADOR!O4765>0,PROCESADOR!O4765,\"\")","v":""}]
[{"$f":"IF(PROCESADOR!O4766>0,PROCESADOR!O4766,\"\")","v":""}]
[{"$f":"IF(PROCESADOR!O4767>0,PROCESADOR!O4767,\"\")","v":""}]
[{"$f":"IF(PROCESADOR!O4768>0,PROCESADOR!O4768,\"\")","v":""}]
[{"$f":"IF(PROCESADOR!O4769>0,PROCESADOR!O4769,\"\")","v":""}]
[{"$f":"IF(PROCESADOR!O4770>0,PROCESADOR!O4770,\"\")","v":""}]
[{"$f":"IF(PROCESADOR!O4771>0,PROCESADOR!O4771,\"\")","v":""}]
[{"$f":"IF(PROCESADOR!O4772>0,PROCESADOR!O4772,\"\")","v":""}]
[{"$f":"IF(PROCESADOR!O4773>0,PROCESADOR!O4773,\"\")","v":""}]
[{"$f":"IF(PROCESADOR!O4774>0,PROCESADOR!O4774,\"\")","v":""}]
[{"$f":"IF(PROCESADOR!O4775>0,PROCESADOR!O4775,\"\")","v":""}]
[{"$f":"IF(PROCESADOR!O4776>0,PROCESADOR!O4776,\"\")","v":""}]
[{"$f":"IF(PROCESADOR!O4777>0,PROCESADOR!O4777,\"\")","v":""}]
[{"$f":"IF(PROCESADOR!O4778>0,PROCESADOR!O4778,\"\")","v":""}]
[{"$f":"IF(PROCESADOR!O4779>0,PROCESADOR!O4779,\"\")","v":""}]
[{"$f":"IF(PROCESADOR!O4780>0,PROCESADOR!O4780,\"\")","v":""}]
[{"$f":"IF(PROCESADOR!O4781>0,PROCESADOR!O4781,\"\")","v":""}]
[{"$f":"IF(PROCESADOR!O4782>0,PROCESADOR!O4782,\"\")","v":""}]
[{"$f":"IF(PROCESADOR!O4783>0,PROCESADOR!O4783,\"\")","v":""}]
[{"$f":"IF(PROCESADOR!O4784>0,PROCESADOR!O4784,\"\")","v":""}]
[{"$f":"IF(PROCESADOR!O4785>0,PROCESADOR!O4785,\"\")","v":""}]
[{"$f":"IF(PROCESADOR!O4786>0,PROCESADOR!O4786,\"\")","v":""}]
[{"$f":"IF(PROCESADOR!O4787>0,PROCESADOR!O4787,\"\")","v":""}]
[{"$f":"IF(PROCESADOR!O4788>0,PROCESADOR!O4788,\"\")","v":""}]
[{"$f":"IF(PROCESADOR!O4789>0,PROCESADOR!O4789,\"\")","v":""}]
[{"$f":"IF(PROCESADOR!O4790>0,PROCESADOR!O4790,\"\")","v":""}]
[{"$f":"IF(PROCESADOR!O4791>0,PROCESADOR!O4791,\"\")","v":""}]
[{"$f":"IF(PROCESADOR!O4792>0,PROCESADOR!O4792,\"\")","v":""}]
[{"$f":"IF(PROCESADOR!O4793>0,PROCESADOR!O4793,\"\")","v":""}]
[{"$f":"IF(PROCESADOR!O4794>0,PROCESADOR!O4794,\"\")","v":""}]
[{"$f":"IF(PROCESADOR!O4795>0,PROCESADOR!O4795,\"\")","v":""}]
[{"$f":"IF(PROCESADOR!O4796>0,PROCESADOR!O4796,\"\")","v":""}]
[{"$f":"IF(PROCESADOR!O4797>0,PROCESADOR!O4797,\"\")","v":""}]
[{"$f":"IF(PROCESADOR!O4798>0,PROCESADOR!O4798,\"\")","v":""}]
[{"$f":"IF(PROCESADOR!O4799>0,PROCESADOR!O4799,\"\")","v":""}]
[{"$f":"IF(PROCESADOR!O4800>0,PROCESADOR!O4800,\"\")","v":""}]
[{"$f":"IF(PROCESADOR!O4801>0,PROCESADOR!O4801,\"\")","v":""}]
[{"$f":"IF(PROCESADOR!O4802>0,PROCESADOR!O4802,\"\")","v":""}]
[{"$f":"IF(PROCESADOR!O4803>0,PROCESADOR!O4803,\"\")","v":""}]
[{"$f":"IF(PROCESADOR!O4804>0,PROCESADOR!O4804,\"\")","v":""}]
[{"$f":"IF(PROCESADOR!O4805>0,PROCESADOR!O4805,\"\")","v":""}]
[{"$f":"IF(PROCESADOR!O4806>0,PROCESADOR!O4806,\"\")","v":""}]
[{"$f":"IF(PROCESADOR!O4807>0,PROCESADOR!O4807,\"\")","v":""}]
[{"$f":"IF(PROCESADOR!O4808>0,PROCESADOR!O4808,\"\")","v":""}]
[{"$f":"IF(PROCESADOR!O4809>0,PROCESADOR!O4809,\"\")","v":""}]
[{"$f":"IF(PROCESADOR!O4810>0,PROCESADOR!O4810,\"\")","v":""}]
[{"$f":"IF(PROCESADOR!O4811>0,PROCESADOR!O4811,\"\")","v":""}]
[{"$f":"IF(PROCESADOR!O4812>0,PROCESADOR!O4812,\"\")","v":""}]
[{"$f":"IF(PROCESADOR!O4813>0,PROCESADOR!O4813,\"\")","v":""}]
[{"$f":"IF(PROCESADOR!O4814>0,PROCESADOR!O4814,\"\")","v":""}]
[{"$f":"IF(PROCESADOR!O4815>0,PROCESADOR!O4815,\"\")","v":""}]
[{"$f":"IF(PROCESADOR!O4816>0,PROCESADOR!O4816,\"\")","v":""}]
[{"$f":"IF(PROCESADOR!O4817>0,PROCESADOR!O4817,\"\")","v":""}]
[{"$f":"IF(PROCESADOR!O4818>0,PROCESADOR!O4818,\"\")","v":""}]
[{"$f":"IF(PROCESADOR!O4819>0,PROCESADOR!O4819,\"\")","v":""}]
[{"$f":"IF(PROCESADOR!O4820>0,PROCESADOR!O4820,\"\")","v":""}]
[{"$f":"IF(PROCESADOR!O4821>0,PROCESADOR!O4821,\"\")","v":""}]
[{"$f":"IF(PROCESADOR!O4822>0,PROCESADOR!O4822,\"\")","v":""}]
[{"$f":"IF(PROCESADOR!O4823>0,PROCESADOR!O4823,\"\")","v":""}]
[{"$f":"IF(PROCESADOR!O4824>0,PROCESADOR!O4824,\"\")","v":""}]
[{"$f":"IF(PROCESADOR!O4825>0,PROCESADOR!O4825,\"\")","v":""}]
[{"$f":"IF(PROCESADOR!O4826>0,PROCESADOR!O4826,\"\")","v":""}]
[{"$f":"IF(PROCESADOR!O4827>0,PROCESADOR!O4827,\"\")","v":""}]
[{"$f":"IF(PROCESADOR!O4828>0,PROCESADOR!O4828,\"\")","v":""}]
[{"$f":"IF(PROCESADOR!O4829>0,PROCESADOR!O4829,\"\")","v":""}]
[{"$f":"IF(PROCESADOR!O4830>0,PROCESADOR!O4830,\"\")","v":""}]
[{"$f":"IF(PROCESADOR!O4831>0,PROCESADOR!O4831,\"\")","v":""}]
[{"$f":"IF(PROCESADOR!O4832>0,PROCESADOR!O4832,\"\")","v":""}]
[{"$f":"IF(PROCESADOR!O4833>0,PROCESADOR!O4833,\"\")","v":""}]
[{"$f":"IF(PROCESADOR!O4834>0,PROCESADOR!O4834,\"\")","v":""}]
[{"$f":"IF(PROCESADOR!O4835>0,PROCESADOR!O4835,\"\")","v":""}]
[{"$f":"IF(PROCESADOR!O4836>0,PROCESADOR!O4836,\"\")","v":""}]
[{"$f":"IF(PROCESADOR!O4837>0,PROCESADOR!O4837,\"\")","v":""}]
[{"$f":"IF(PROCESADOR!O4838>0,PROCESADOR!O4838,\"\")","v":""}]
[{"$f":"IF(PROCESADOR!O4839>0,PROCESADOR!O4839,\"\")","v":""}]
[{"$f":"IF(PROCESADOR!O4840>0,PROCESADOR!O4840,\"\")","v":""}]
[{"$f":"IF(PROCESADOR!O4841>0,PROCESADOR!O4841,\"\")","v":""}]
[{"$f":"IF(PROCESADOR!O4842>0,PROCESADOR!O4842,\"\")","v":""}]
[{"$f":"IF(PROCESADOR!O4843>0,PROCESADOR!O4843,\"\")","v":""}]
[{"$f":"IF(PROCESADOR!O4844>0,PROCESADOR!O4844,\"\")","v":""}]
[{"$f":"IF(PROCESADOR!O4845>0,PROCESADOR!O4845,\"\")","v":""}]
[{"$f":"IF(PROCESADOR!O4846>0,PROCESADOR!O4846,\"\")","v":""}]
[{"$f":"IF(PROCESADOR!O4847>0,PROCESADOR!O4847,\"\")","v":""}]
[{"$f":"IF(PROCESADOR!O4848>0,PROCESADOR!O4848,\"\")","v":""}]
[{"$f":"IF(PROCESADOR!O4849>0,PROCESADOR!O4849,\"\")","v":""}]
[{"$f":"IF(PROCESADOR!O4850>0,PROCESADOR!O4850,\"\")","v":""}]
[{"$f":"IF(PROCESADOR!O4851>0,PROCESADOR!O4851,\"\")","v":""}]
[{"$f":"IF(PROCESADOR!O4852>0,PROCESADOR!O4852,\"\")","v":""}]
[{"$f":"IF(PROCESADOR!O4853>0,PROCESADOR!O4853,\"\")","v":""}]
[{"$f":"IF(PROCESADOR!O4854>0,PROCESADOR!O4854,\"\")","v":""}]
[{"$f":"IF(PROCESADOR!O4855>0,PROCESADOR!O4855,\"\")","v":""}]
[{"$f":"IF(PROCESADOR!O4856>0,PROCESADOR!O4856,\"\")","v":""}]
[{"$f":"IF(PROCESADOR!O4857>0,PROCESADOR!O4857,\"\")","v":""}]
[{"$f":"IF(PROCESADOR!O4858>0,PROCESADOR!O4858,\"\")","v":""}]
[{"$f":"IF(PROCESADOR!O4859>0,PROCESADOR!O4859,\"\")","v":""}]
[{"$f":"IF(PROCESADOR!O4860>0,PROCESADOR!O4860,\"\")","v":""}]
[{"$f":"IF(PROCESADOR!O4861>0,PROCESADOR!O4861,\"\")","v":""}]
[{"$f":"IF(PROCESADOR!O4862>0,PROCESADOR!O4862,\"\")","v":""}]
[{"$f":"IF(PROCESADOR!O4863>0,PROCESADOR!O4863,\"\")","v":""}]
[{"$f":"IF(PROCESADOR!O4864>0,PROCESADOR!O4864,\"\")","v":""}]
[{"$f":"IF(PROCESADOR!O4865>0,PROCESADOR!O4865,\"\")","v":""}]
[{"$f":"IF(PROCESADOR!O4866>0,PROCESADOR!O4866,\"\")","v":""}]
[{"$f":"IF(PROCESADOR!O4867>0,PROCESADOR!O4867,\"\")","v":""}]
[{"$f":"IF(PROCESADOR!O4868>0,PROCESADOR!O4868,\"\")","v":""}]
[{"$f":"IF(PROCESADOR!O4869>0,PROCESADOR!O4869,\"\")","v":""}]
[{"$f":"IF(PROCESADOR!O4870>0,PROCESADOR!O4870,\"\")","v":""}]
[{"$f":"IF(PROCESADOR!O4871>0,PROCESADOR!O4871,\"\")","v":""}]
[{"$f":"IF(PROCESADOR!O4872>0,PROCESADOR!O4872,\"\")","v":""}]
[{"$f":"IF(PROCESADOR!O4873>0,PROCESADOR!O4873,\"\")","v":""}]
[{"$f":"IF(PROCESADOR!O4874>0,PROCESADOR!O4874,\"\")","v":""}]
[{"$f":"IF(PROCESADOR!O4875>0,PROCESADOR!O4875,\"\")","v":""}]
[{"$f":"IF(PROCESADOR!O4876>0,PROCESADOR!O4876,\"\")","v":""}]
[{"$f":"IF(PROCESADOR!O4877>0,PROCESADOR!O4877,\"\")","v":""}]
[{"$f":"IF(PROCESADOR!O4878>0,PROCESADOR!O4878,\"\")","v":""}]
[{"$f":"IF(PROCESADOR!O4879>0,PROCESADOR!O4879,\"\")","v":""}]
[{"$f":"IF(PROCESADOR!O4880>0,PROCESADOR!O4880,\"\")","v":""}]
[{"$f":"IF(PROCESADOR!O4881>0,PROCESADOR!O4881,\"\")","v":""}]
[{"$f":"IF(PROCESADOR!O4882>0,PROCESADOR!O4882,\"\")","v":""}]
[{"$f":"IF(PROCESADOR!O4883>0,PROCESADOR!O4883,\"\")","v":""}]
[{"$f":"IF(PROCESADOR!O4884>0,PROCESADOR!O4884,\"\")","v":""}]
[{"$f":"IF(PROCESADOR!O4885>0,PROCESADOR!O4885,\"\")","v":""}]
[{"$f":"IF(PROCESADOR!O4886>0,PROCESADOR!O4886,\"\")","v":""}]
[{"$f":"IF(PROCESADOR!O4887>0,PROCESADOR!O4887,\"\")","v":""}]
[{"$f":"IF(PROCESADOR!O4888>0,PROCESADOR!O4888,\"\")","v":""}]
[{"$f":"IF(PROCESADOR!O4889>0,PROCESADOR!O4889,\"\")","v":""}]
[{"$f":"IF(PROCESADOR!O4890>0,PROCESADOR!O4890,\"\")","v":""}]
[{"$f":"IF(PROCESADOR!O4891>0,PROCESADOR!O4891,\"\")","v":""}]
[{"$f":"IF(PROCESADOR!O4892>0,PROCESADOR!O4892,\"\")","v":""}]
[{"$f":"IF(PROCESADOR!O4893>0,PROCESADOR!O4893,\"\")","v":""}]
[{"$f":"IF(PROCESADOR!O4894>0,PROCESADOR!O4894,\"\")","v":""}]
[{"$f":"IF(PROCESADOR!O4895>0,PROCESADOR!O4895,\"\")","v":""}]
[{"$f":"IF(PROCESADOR!O4896>0,PROCESADOR!O4896,\"\")","v":""}]
[{"$f":"IF(PROCESADOR!O4897>0,PROCESADOR!O4897,\"\")","v":""}]
[{"$f":"IF(PROCESADOR!O4898>0,PROCESADOR!O4898,\"\")","v":""}]
[{"$f":"IF(PROCESADOR!O4899>0,PROCESADOR!O4899,\"\")","v":""}]
[{"$f":"IF(PROCESADOR!O4900>0,PROCESADOR!O4900,\"\")","v":""}]
[{"$f":"IF(PROCESADOR!O4901>0,PROCESADOR!O4901,\"\")","v":""}]
[{"$f":"IF(PROCESADOR!O4902>0,PROCESADOR!O4902,\"\")","v":""}]
[{"$f":"IF(PROCESADOR!O4903>0,PROCESADOR!O4903,\"\")","v":""}]
[{"$f":"IF(PROCESADOR!O4904>0,PROCESADOR!O4904,\"\")","v":""}]
[{"$f":"IF(PROCESADOR!O4905>0,PROCESADOR!O4905,\"\")","v":""}]
[{"$f":"IF(PROCESADOR!O4906>0,PROCESADOR!O4906,\"\")","v":""}]
[{"$f":"IF(PROCESADOR!O4907>0,PROCESADOR!O4907,\"\")","v":""}]
[{"$f":"IF(PROCESADOR!O4908>0,PROCESADOR!O4908,\"\")","v":""}]
[{"$f":"IF(PROCESADOR!O4909>0,PROCESADOR!O4909,\"\")","v":""}]
[{"$f":"IF(PROCESADOR!O4910>0,PROCESADOR!O4910,\"\")","v":""}]
[{"$f":"IF(PROCESADOR!O4911>0,PROCESADOR!O4911,\"\")","v":""}]
[{"$f":"IF(PROCESADOR!O4912>0,PROCESADOR!O4912,\"\")","v":""}]
[{"$f":"IF(PROCESADOR!O4913>0,PROCESADOR!O4913,\"\")","v":""}]
[{"$f":"IF(PROCESADOR!O4914>0,PROCESADOR!O4914,\"\")","v":""}]
[{"$f":"IF(PROCESADOR!O4915>0,PROCESADOR!O4915,\"\")","v":""}]
[{"$f":"IF(PROCESADOR!O4916>0,PROCESADOR!O4916,\"\")","v":""}]
[{"$f":"IF(PROCESADOR!O4917>0,PROCESADOR!O4917,\"\")","v":""}]
[{"$f":"IF(PROCESADOR!O4918>0,PROCESADOR!O4918,\"\")","v":""}]
[{"$f":"IF(PROCESADOR!O4919>0,PROCESADOR!O4919,\"\")","v":""}]
[{"$f":"IF(PROCESADOR!O4920>0,PROCESADOR!O4920,\"\")","v":""}]
[{"$f":"IF(PROCESADOR!O4921>0,PROCESADOR!O4921,\"\")","v":""}]
[{"$f":"IF(PROCESADOR!O4922>0,PROCESADOR!O4922,\"\")","v":""}]
[{"$f":"IF(PROCESADOR!O4923>0,PROCESADOR!O4923,\"\")","v":""}]
[{"$f":"IF(PROCESADOR!O4924>0,PROCESADOR!O4924,\"\")","v":""}]
[{"$f":"IF(PROCESADOR!O4925>0,PROCESADOR!O4925,\"\")","v":""}]
[{"$f":"IF(PROCESADOR!O4926>0,PROCESADOR!O4926,\"\")","v":""}]
[{"$f":"IF(PROCESADOR!O4927>0,PROCESADOR!O4927,\"\")","v":""}]
[{"$f":"IF(PROCESADOR!O4928>0,PROCESADOR!O4928,\"\")","v":""}]
[{"$f":"IF(PROCESADOR!O4929>0,PROCESADOR!O4929,\"\")","v":""}]
[{"$f":"IF(PROCESADOR!O4930>0,PROCESADOR!O4930,\"\")","v":""}]
[{"$f":"IF(PROCESADOR!O4931>0,PROCESADOR!O4931,\"\")","v":""}]
[{"$f":"IF(PROCESADOR!O4932>0,PROCESADOR!O4932,\"\")","v":""}]
[{"$f":"IF(PROCESADOR!O4933>0,PROCESADOR!O4933,\"\")","v":""}]
[{"$f":"IF(PROCESADOR!O4934>0,PROCESADOR!O4934,\"\")","v":""}]
[{"$f":"IF(PROCESADOR!O4935>0,PROCESADOR!O4935,\"\")","v":""}]
[{"$f":"IF(PROCESADOR!O4936>0,PROCESADOR!O4936,\"\")","v":""}]
[{"$f":"IF(PROCESADOR!O4937>0,PROCESADOR!O4937,\"\")","v":""}]
[{"$f":"IF(PROCESADOR!O4938>0,PROCESADOR!O4938,\"\")","v":""}]
[{"$f":"IF(PROCESADOR!O4939>0,PROCESADOR!O4939,\"\")","v":""}]
[{"$f":"IF(PROCESADOR!O4940>0,PROCESADOR!O4940,\"\")","v":""}]
[{"$f":"IF(PROCESADOR!O4941>0,PROCESADOR!O4941,\"\")","v":""}]
[{"$f":"IF(PROCESADOR!O4942>0,PROCESADOR!O4942,\"\")","v":""}]
[{"$f":"IF(PROCESADOR!O4943>0,PROCESADOR!O4943,\"\")","v":""}]
[{"$f":"IF(PROCESADOR!O4944>0,PROCESADOR!O4944,\"\")","v":""}]
[{"$f":"IF(PROCESADOR!O4945>0,PROCESADOR!O4945,\"\")","v":""}]
[{"$f":"IF(PROCESADOR!O4946>0,PROCESADOR!O4946,\"\")","v":""}]
[{"$f":"IF(PROCESADOR!O4947>0,PROCESADOR!O4947,\"\")","v":""}]
[{"$f":"IF(PROCESADOR!O4948>0,PROCESADOR!O4948,\"\")","v":""}]
[{"$f":"IF(PROCESADOR!O4949>0,PROCESADOR!O4949,\"\")","v":""}]
[{"$f":"IF(PROCESADOR!O4950>0,PROCESADOR!O4950,\"\")","v":""}]
[{"$f":"IF(PROCESADOR!O4951>0,PROCESADOR!O4951,\"\")","v":""}]
[{"$f":"IF(PROCESADOR!O4952>0,PROCESADOR!O4952,\"\")","v":""}]
[{"$f":"IF(PROCESADOR!O4953>0,PROCESADOR!O4953,\"\")","v":""}]
[{"$f":"IF(PROCESADOR!O4954>0,PROCESADOR!O4954,\"\")","v":""}]
[{"$f":"IF(PROCESADOR!O4955>0,PROCESADOR!O4955,\"\")","v":""}]
[{"$f":"IF(PROCESADOR!O4956>0,PROCESADOR!O4956,\"\")","v":""}]
[{"$f":"IF(PROCESADOR!O4957>0,PROCESADOR!O4957,\"\")","v":""}]
[{"$f":"IF(PROCESADOR!O4958>0,PROCESADOR!O4958,\"\")","v":""}]
[{"$f":"IF(PROCESADOR!O4959>0,PROCESADOR!O4959,\"\")","v":""}]
[{"$f":"IF(PROCESADOR!O4960>0,PROCESADOR!O4960,\"\")","v":""}]
[{"$f":"IF(PROCESADOR!O4961>0,PROCESADOR!O4961,\"\")","v":""}]
[{"$f":"IF(PROCESADOR!O4962>0,PROCESADOR!O4962,\"\")","v":""}]
[{"$f":"IF(PROCESADOR!O4963>0,PROCESADOR!O4963,\"\")","v":""}]
[{"$f":"IF(PROCESADOR!O4964>0,PROCESADOR!O4964,\"\")","v":""}]
[{"$f":"IF(PROCESADOR!O4965>0,PROCESADOR!O4965,\"\")","v":""}]
[{"$f":"IF(PROCESADOR!O4966>0,PROCESADOR!O4966,\"\")","v":""}]
[{"$f":"IF(PROCESADOR!O4967>0,PROCESADOR!O4967,\"\")","v":""}]
[{"$f":"IF(PROCESADOR!O4968>0,PROCESADOR!O4968,\"\")","v":""}]
[{"$f":"IF(PROCESADOR!O4969>0,PROCESADOR!O4969,\"\")","v":""}]
[{"$f":"IF(PROCESADOR!O4970>0,PROCESADOR!O4970,\"\")","v":""}]
[{"$f":"IF(PROCESADOR!O4971>0,PROCESADOR!O4971,\"\")","v":""}]
[{"$f":"IF(PROCESADOR!O4972>0,PROCESADOR!O4972,\"\")","v":""}]
[{"$f":"IF(PROCESADOR!O4973>0,PROCESADOR!O4973,\"\")","v":""}]
[{"$f":"IF(PROCESADOR!O4974>0,PROCESADOR!O4974,\"\")","v":""}]
[{"$f":"IF(PROCESADOR!O4975>0,PROCESADOR!O4975,\"\")","v":""}]
[{"$f":"IF(PROCESADOR!O4976>0,PROCESADOR!O4976,\"\")","v":""}]
[{"$f":"IF(PROCESADOR!O4977>0,PROCESADOR!O4977,\"\")","v":""}]
[{"$f":"IF(PROCESADOR!O4978>0,PROCESADOR!O4978,\"\")","v":""}]
[{"$f":"IF(PROCESADOR!O4979>0,PROCESADOR!O4979,\"\")","v":""}]
[{"$f":"IF(PROCESADOR!O4980>0,PROCESADOR!O4980,\"\")","v":""}]
[{"$f":"IF(PROCESADOR!O4981>0,PROCESADOR!O4981,\"\")","v":""}]
[{"$f":"IF(PROCESADOR!O4982>0,PROCESADOR!O4982,\"\")","v":""}]
[{"$f":"IF(PROCESADOR!O4983>0,PROCESADOR!O4983,\"\")","v":""}]
[{"$f":"IF(PROCESADOR!O4984>0,PROCESADOR!O4984,\"\")","v":""}]
[{"$f":"IF(PROCESADOR!O4985>0,PROCESADOR!O4985,\"\")","v":""}]
[{"$f":"IF(PROCESADOR!O4986>0,PROCESADOR!O4986,\"\")","v":""}]
[{"$f":"IF(PROCESADOR!O4987>0,PROCESADOR!O4987,\"\")","v":""}]
[{"$f":"IF(PROCESADOR!O4988>0,PROCESADOR!O4988,\"\")","v":""}]
[{"$f":"IF(PROCESADOR!O4989>0,PROCESADOR!O4989,\"\")","v":""}]
[{"$f":"IF(PROCESADOR!O4990>0,PROCESADOR!O4990,\"\")","v":""}]
[{"$f":"IF(PROCESADOR!O4991>0,PROCESADOR!O4991,\"\")","v":""}]
[{"$f":"IF(PROCESADOR!O4992>0,PROCESADOR!O4992,\"\")","v":""}]
[{"$f":"IF(PROCESADOR!O4993>0,PROCESADOR!O4993,\"\")","v":""}]
[{"$f":"IF(PROCESADOR!O4994>0,PROCESADOR!O4994,\"\")","v":""}]
[{"$f":"IF(PROCESADOR!O4995>0,PROCESADOR!O4995,\"\")","v":""}]
[{"$f":"IF(PROCESADOR!O4996>0,PROCESADOR!O4996,\"\")","v":""}]
[{"$f":"IF(PROCESADOR!O4997>0,PROCESADOR!O4997,\"\")","v":""}]
[{"$f":"IF(PROCESADOR!O4998>0,PROCESADOR!O4998,\"\")","v":""}]
[{"$f":"IF(PROCESADOR!O4999>0,PROCESADOR!O4999,\"\")","v":""}]
[{"$f":"IF(PROCESADOR!O5000>0,PROCESADOR!O5000,\"\")","v":""}]
[{"$f":"IF(PROCESADOR!O5001>0,PROCESADOR!O5001,\"\")","v":""}]